{"text_format":"1","workbook":"xlsx","n_sheets":49,"sheets":["Home","Menu","Kriteria","Input","Data ","Pengetahuan","Ketrampilan","Cognitif","Skill","Attitude","4UTS","Obs 1","Sikap","Rekap C","Rekap","Obs","Obs2","AT-1","AT-2","N Diri-1","N Diri-2","Jurnal","UK-1","UK-2","UK-3","UK-4","PrJ-1","PrJ-2","PrJ-3","Pf-1","Sheet3","Pf-2","Kumulasi","Sheet1","Ct UK","Ct Pr","CT Pf","Spiritual","Jujur","Disiplin","TgJwb","Toleran","GR","Santun","PD","Ins Antar Teman","Ins Diri","Ins Jurnal","Cetak"],"not_rendered":{"charts":0,"images":4,"macros":1,"external_links":1,"defined_names":54,"comments":26,"pivot_tables":0},"unopened":[],"bounds":{"document_bytes":16777216,"sheet_cells":100000,"rows_first":2000,"rows_last":500,"rows_between":2000,"halvings":0,"cell_chars":16384,"cell_head_chars":4096},"cells_cut":0,"cells_raw":0,"read":"whole","date_system":"1900"}

{"sheet":"Home","index":0,"n_rows":28,"n_cols":12,"rows_kept":28,"cut":false,"hidden":false,"merged":[[8,5,10,7],[7,0,7,9],[6,0,6,10],[27,2,27,11],[19,2,19,4],[11,7,11,9],[21,7,21,9],[11,4,11,5],[13,4,13,5],[15,4,15,5],[17,4,17,5]]}
[]
[]
[]
[]
[]
[]
["Konversi Nilai dapat di SESUAIKAN, Nilai Ketrampilan > Nilai OPTIMUM, Nilai Sikap > Nilai MODUS",null,null,null,null,null,null,null,null,null,null,"Versi 11.14.50 (Fleksibel)"]
["Aplikasi Daftar Nilai untuk SMP/MTs, SMA/MA/MK, pasangan dari Aplikasi Raport SMP/MTs, SMA/SMK/MA"]
[]
[]
[]
[null,null,"Nama",":","Drs. Sarid Nugroho"]
[]
[null,null,"NIP/NIY/NUPTK",":","NIP. 19631223 198803 1 004"]
[]
[null,null,"Mata Pelajaran",":","PJOK"]
[]
[null,null,"Kelas",":","VII-A"]
[]
[null,null,"Capaian Kompetensi Minimal"]
[]
[null,null,"Pengetahuan",":",2.67,"B-"]
[]
[null,null,"Ketrampilan",":",2.67,"B-"]
[]
[null,null,"Sikap",":",3,"Baik (B)"]
[]
[null,"Ket:","Aplikasi ini diprotect untuk melindungi link antar sheet dan rumus perhitungan. Tidak melayani permintaan password.            Created by Purnawanto, S.Pd, M.Si"]

{"sheet":"Menu","index":1,"n_rows":65,"n_cols":55,"rows_kept":65,"cut":false,"hidden":true,"merged":[[13,49,13,51],[13,52,14,52],[13,28,13,30],[13,32,13,34],[13,36,13,37],[13,39,13,41],[13,43,13,45],[13,46,13,48],[3,1,3,2],[13,11,13,14],[13,16,13,19],[13,21,14,21],[13,24,13,26],[13,8,14,8],[13,9,14,9],[13,10,14,10]]}
[]
[]
[]
[null,"ASPEK SIKAP"]
[]
[]
[]
[]
[]
[]
[]
[]
[]
[null,null,null,null,null,null,null,null,"No.","Nama","NISN","Nilai Ulangan Harian",null,null,null,"Rerata","Nilai Tugas / PR",null,null,null,"Rerata","NP \n(NH)","Nilai","Nilai","Nilai",null,null,null,"Unjuk Kerja",null,null,"Rerata","Projek",null,null,"Rerata","Portofolio",null,"Rerata","Nilai",null,null,null,"Observasi",null,null,"Penilaian Diri",null,null,"Penilaian Teman",null,null,"Jurnal","Nilai","Nilai"]
[null,null,null,null,null,null,null,null,null,null,null,"UH1","UH2","UH3","UH4","NUH","T1","T2","T3","T4","Tg/PR",null,"UTS","UAS","0-100","0-4","Konversi",null,"UK 1","UK 2","UK 3","U.Kerja","Pr1","Pr2","Pr3","Projek","Pf1","Pf2","Porto","0-100","0-4","Konversi",null,"Ob1","Ob2","Rerata","Pd1","Pd2","Rerata","PT1","PT2","Rerata",null,"Raport","Konversi"]
[null,null,null,null,null,null,null,null,1,{"$f":"'Data '!D27","v":"AHMAD ALEK BRIYANSAPUTRA"},{"$f":"'Data '!B27","v":9025},{"$f":"Pengetahuan!C21","v":80},{"$f":"Pengetahuan!D21","v":80},{"$f":"Pengetahuan!E21","v":80},{"$f":"Pengetahuan!F21","v":80},{"$f":"Pengetahuan!H21","v":80},{"$f":"Pengetahuan!I21","v":80},{"$f":"Pengetahuan!J21","v":80},{"$f":"Pengetahuan!K21","v":80},{"$f":"Pengetahuan!L21","v":80},{"$f":"Pengetahuan!N21","v":80},{"$f":"Pengetahuan!O21","v":80},{"$f":"Pengetahuan!P21","v":75},{"$f":"Pengetahuan!Q21","v":75},{"$f":"Pengetahuan!R21","v":77.5},{"$f":"Pengetahuan!S21","v":3.1},{"$f":"Pengetahuan!T21","v":"B"},null,{"$f":"Ketrampilan!C21","v":80},{"$f":"Ketrampilan!D21","v":80},{"$f":"Ketrampilan!E21","v":80},{"$f":"Ketrampilan!G21","v":80},{"$f":"Ketrampilan!H21","v":80},{"$f":"Ketrampilan!I21","v":0},{"$f":"Ketrampilan!J21","v":0},{"$f":"Ketrampilan!K21","v":80},{"$f":"Ketrampilan!L21","v":80},{"$f":"Ketrampilan!M21","v":0},{"$f":"Ketrampilan!N21","v":80},{"$f":"Ketrampilan!O21","v":80},{"$f":"Ketrampilan!P21","v":3.2},{"$f":"Ketrampilan!Q21","v":"B+"},null,{"$f":"Sikap!C14","v":3},{"$f":"Sikap!D14","v":3},{"$f":"Sikap!E14","v":3},{"$f":"Sikap!F14","v":3},{"$f":"Sikap!G14","v":3},{"$f":"Sikap!H14","v":3},{"$f":"Sikap!I14","v":3},{"$f":"Sikap!J14","v":3},{"$f":"Sikap!K14","v":3},{"$f":"Sikap!L14","v":3},{"$f":"Sikap!M14","v":3},{"$f":"Sikap!N14","v":"B"}]
[null,null,null,null,null,null,null,null,2,{"$f":"'Data '!D28","v":"AULIA AYU FATINA"},{"$f":"'Data '!B28","v":9053},{"$f":"Pengetahuan!C22","v":80},{"$f":"Pengetahuan!D22","v":80},{"$f":"Pengetahuan!E22","v":80},{"$f":"Pengetahuan!F22","v":80},{"$f":"Pengetahuan!H22","v":80},{"$f":"Pengetahuan!I22","v":80},{"$f":"Pengetahuan!J22","v":80},{"$f":"Pengetahuan!K22","v":80},{"$f":"Pengetahuan!L22","v":80},{"$f":"Pengetahuan!N22","v":80},{"$f":"Pengetahuan!O22","v":80},{"$f":"Pengetahuan!P22","v":75},{"$f":"Pengetahuan!Q22","v":75},{"$f":"Pengetahuan!R22","v":77.5},{"$f":"Pengetahuan!S22","v":3.1},{"$f":"Pengetahuan!T22","v":"B"},null,{"$f":"Ketrampilan!C22","v":80},{"$f":"Ketrampilan!D22","v":80},{"$f":"Ketrampilan!E22","v":80},{"$f":"Ketrampilan!G22","v":80},{"$f":"Ketrampilan!H22","v":80},{"$f":"Ketrampilan!I22","v":0},{"$f":"Ketrampilan!J22","v":0},{"$f":"Ketrampilan!K22","v":80},{"$f":"Ketrampilan!L22","v":80},{"$f":"Ketrampilan!M22","v":0},{"$f":"Ketrampilan!N22","v":80},{"$f":"Ketrampilan!O22","v":80},{"$f":"Ketrampilan!P22","v":3.2},{"$f":"Ketrampilan!Q22","v":"B+"},null,{"$f":"Sikap!C15","v":3},{"$f":"Sikap!D15","v":3},{"$f":"Sikap!E15","v":3},{"$f":"Sikap!F15","v":3},{"$f":"Sikap!G15","v":3},{"$f":"Sikap!H15","v":3},{"$f":"Sikap!I15","v":3},{"$f":"Sikap!J15","v":3},{"$f":"Sikap!K15","v":3},{"$f":"Sikap!L15","v":3},{"$f":"Sikap!M15","v":3},{"$f":"Sikap!N15","v":"B"}]
[null,null,null,null,null,null,null,null,3,{"$f":"'Data '!D29","v":"BAGAS YULANDRA PUTRA"},{"$f":"'Data '!B29","v":9060},{"$f":"Pengetahuan!C23","v":80},{"$f":"Pengetahuan!D23","v":80},{"$f":"Pengetahuan!E23","v":80},{"$f":"Pengetahuan!F23","v":80},{"$f":"Pengetahuan!H23","v":80},{"$f":"Pengetahuan!I23","v":80},{"$f":"Pengetahuan!J23","v":80},{"$f":"Pengetahuan!K23","v":80},{"$f":"Pengetahuan!L23","v":80},{"$f":"Pengetahuan!N23","v":80},{"$f":"Pengetahuan!O23","v":80},{"$f":"Pengetahuan!P23","v":75},{"$f":"Pengetahuan!Q23","v":75},{"$f":"Pengetahuan!R23","v":77.5},{"$f":"Pengetahuan!S23","v":3.1},{"$f":"Pengetahuan!T23","v":"B"},null,{"$f":"Ketrampilan!C23","v":80},{"$f":"Ketrampilan!D23","v":80},{"$f":"Ketrampilan!E23","v":80},{"$f":"Ketrampilan!G23","v":80},{"$f":"Ketrampilan!H23","v":80},{"$f":"Ketrampilan!I23","v":0},{"$f":"Ketrampilan!J23","v":0},{"$f":"Ketrampilan!K23","v":80},{"$f":"Ketrampilan!L23","v":80},{"$f":"Ketrampilan!M23","v":0},{"$f":"Ketrampilan!N23","v":80},{"$f":"Ketrampilan!O23","v":80},{"$f":"Ketrampilan!P23","v":3.2},{"$f":"Ketrampilan!Q23","v":"B+"},null,{"$f":"Sikap!C16","v":3},{"$f":"Sikap!D16","v":3},{"$f":"Sikap!E16","v":3},{"$f":"Sikap!F16","v":3},{"$f":"Sikap!G16","v":3},{"$f":"Sikap!H16","v":3},{"$f":"Sikap!I16","v":3},{"$f":"Sikap!J16","v":3},{"$f":"Sikap!K16","v":3},{"$f":"Sikap!L16","v":3},{"$f":"Sikap!M16","v":3},{"$f":"Sikap!N16","v":"B"}]
[null,null,null,null,null,null,null,null,4,{"$f":"'Data '!D30","v":"CYNTIA AGUSTINA"},{"$f":"'Data '!B30","v":9068},{"$f":"Pengetahuan!C24","v":80},{"$f":"Pengetahuan!D24","v":80},{"$f":"Pengetahuan!E24","v":80},{"$f":"Pengetahuan!F24","v":80},{"$f":"Pengetahuan!H24","v":80},{"$f":"Pengetahuan!I24","v":80},{"$f":"Pengetahuan!J24","v":80},{"$f":"Pengetahuan!K24","v":80},{"$f":"Pengetahuan!L24","v":80},{"$f":"Pengetahuan!N24","v":80},{"$f":"Pengetahuan!O24","v":80},{"$f":"Pengetahuan!P24","v":75},{"$f":"Pengetahuan!Q24","v":75},{"$f":"Pengetahuan!R24","v":77.5},{"$f":"Pengetahuan!S24","v":3.1},{"$f":"Pengetahuan!T24","v":"B"},null,{"$f":"Ketrampilan!C24","v":80},{"$f":"Ketrampilan!D24","v":80},{"$f":"Ketrampilan!E24","v":80},{"$f":"Ketrampilan!G24","v":80},{"$f":"Ketrampilan!H24","v":80},{"$f":"Ketrampilan!I24","v":0},{"$f":"Ketrampilan!J24","v":0},{"$f":"Ketrampilan!K24","v":80},{"$f":"Ketrampilan!L24","v":80},{"$f":"Ketrampilan!M24","v":0},{"$f":"Ketrampilan!N24","v":80},{"$f":"Ketrampilan!O24","v":80},{"$f":"Ketrampilan!P24","v":3.2},{"$f":"Ketrampilan!Q24","v":"B+"},null,{"$f":"Sikap!C17","v":3},{"$f":"Sikap!D17","v":3},{"$f":"Sikap!E17","v":3},{"$f":"Sikap!F17","v":3},{"$f":"Sikap!G17","v":3},{"$f":"Sikap!H17","v":3},{"$f":"Sikap!I17","v":3},{"$f":"Sikap!J17","v":3},{"$f":"Sikap!K17","v":3},{"$f":"Sikap!L17","v":3},{"$f":"Sikap!M17","v":3},{"$f":"Sikap!N17","v":"B"}]
[null,null,null,null,null,null,null,null,5,{"$f":"'Data '!D31","v":"DAFFA KRISNA PRAMUDYA"},{"$f":"'Data '!B31","v":9069},{"$f":"Pengetahuan!C25","v":80},{"$f":"Pengetahuan!D25","v":80},{"$f":"Pengetahuan!E25","v":80},{"$f":"Pengetahuan!F25","v":80},{"$f":"Pengetahuan!H25","v":80},{"$f":"Pengetahuan!I25","v":80},{"$f":"Pengetahuan!J25","v":80},{"$f":"Pengetahuan!K25","v":80},{"$f":"Pengetahuan!L25","v":80},{"$f":"Pengetahuan!N25","v":80},{"$f":"Pengetahuan!O25","v":80},{"$f":"Pengetahuan!P25","v":75},{"$f":"Pengetahuan!Q25","v":75},{"$f":"Pengetahuan!R25","v":77.5},{"$f":"Pengetahuan!S25","v":3.1},{"$f":"Pengetahuan!T25","v":"B"},null,{"$f":"Ketrampilan!C25","v":80},{"$f":"Ketrampilan!D25","v":80},{"$f":"Ketrampilan!E25","v":80},{"$f":"Ketrampilan!G25","v":80},{"$f":"Ketrampilan!H25","v":80},{"$f":"Ketrampilan!I25","v":0},{"$f":"Ketrampilan!J25","v":0},{"$f":"Ketrampilan!K25","v":80},{"$f":"Ketrampilan!L25","v":80},{"$f":"Ketrampilan!M25","v":0},{"$f":"Ketrampilan!N25","v":80},{"$f":"Ketrampilan!O25","v":80},{"$f":"Ketrampilan!P25","v":3.2},{"$f":"Ketrampilan!Q25","v":"B+"},null,{"$f":"Sikap!C18","v":3},{"$f":"Sikap!D18","v":3},{"$f":"Sikap!E18","v":3},{"$f":"Sikap!F18","v":3},{"$f":"Sikap!G18","v":3},{"$f":"Sikap!H18","v":3},{"$f":"Sikap!I18","v":3},{"$f":"Sikap!J18","v":3},{"$f":"Sikap!K18","v":3},{"$f":"Sikap!L18","v":3},{"$f":"Sikap!M18","v":3},{"$f":"Sikap!N18","v":"B"}]
[null,null,null,null,null,null,null,null,6,{"$f":"'Data '!D32","v":"DANINDRA RAFIF IRAWAN"},{"$f":"'Data '!B32","v":9070},{"$f":"Pengetahuan!C26","v":80},{"$f":"Pengetahuan!D26","v":80},{"$f":"Pengetahuan!E26","v":80},{"$f":"Pengetahuan!F26","v":80},{"$f":"Pengetahuan!H26","v":80},{"$f":"Pengetahuan!I26","v":80},{"$f":"Pengetahuan!J26","v":80},{"$f":"Pengetahuan!K26","v":80},{"$f":"Pengetahuan!L26","v":80},{"$f":"Pengetahuan!N26","v":80},{"$f":"Pengetahuan!O26","v":80},{"$f":"Pengetahuan!P26","v":75},{"$f":"Pengetahuan!Q26","v":75},{"$f":"Pengetahuan!R26","v":77.5},{"$f":"Pengetahuan!S26","v":3.1},{"$f":"Pengetahuan!T26","v":"B"},null,{"$f":"Ketrampilan!C26","v":80},{"$f":"Ketrampilan!D26","v":80},{"$f":"Ketrampilan!E26","v":80},{"$f":"Ketrampilan!G26","v":80},{"$f":"Ketrampilan!H26","v":80},{"$f":"Ketrampilan!I26","v":0},{"$f":"Ketrampilan!J26","v":0},{"$f":"Ketrampilan!K26","v":80},{"$f":"Ketrampilan!L26","v":80},{"$f":"Ketrampilan!M26","v":0},{"$f":"Ketrampilan!N26","v":80},{"$f":"Ketrampilan!O26","v":80},{"$f":"Ketrampilan!P26","v":3.2},{"$f":"Ketrampilan!Q26","v":"B+"},null,{"$f":"Sikap!C19","v":3},{"$f":"Sikap!D19","v":3},{"$f":"Sikap!E19","v":3},{"$f":"Sikap!F19","v":3},{"$f":"Sikap!G19","v":3},{"$f":"Sikap!H19","v":3},{"$f":"Sikap!I19","v":3},{"$f":"Sikap!J19","v":3},{"$f":"Sikap!K19","v":3},{"$f":"Sikap!L19","v":3},{"$f":"Sikap!M19","v":3},{"$f":"Sikap!N19","v":"B"}]
[null,null,null,null,null,null,null,null,7,{"$f":"'Data '!D33","v":"DENI PRATAMA"},{"$f":"'Data '!B33","v":9074},{"$f":"Pengetahuan!C27","v":80},{"$f":"Pengetahuan!D27","v":80},{"$f":"Pengetahuan!E27","v":80},{"$f":"Pengetahuan!F27","v":80},{"$f":"Pengetahuan!H27","v":80},{"$f":"Pengetahuan!I27","v":80},{"$f":"Pengetahuan!J27","v":80},{"$f":"Pengetahuan!K27","v":80},{"$f":"Pengetahuan!L27","v":80},{"$f":"Pengetahuan!N27","v":80},{"$f":"Pengetahuan!O27","v":80},{"$f":"Pengetahuan!P27","v":75},{"$f":"Pengetahuan!Q27","v":75},{"$f":"Pengetahuan!R27","v":77.5},{"$f":"Pengetahuan!S27","v":3.1},{"$f":"Pengetahuan!T27","v":"B"},null,{"$f":"Ketrampilan!C27","v":80},{"$f":"Ketrampilan!D27","v":80},{"$f":"Ketrampilan!E27","v":80},{"$f":"Ketrampilan!G27","v":80},{"$f":"Ketrampilan!H27","v":80},{"$f":"Ketrampilan!I27","v":0},{"$f":"Ketrampilan!J27","v":0},{"$f":"Ketrampilan!K27","v":80},{"$f":"Ketrampilan!L27","v":80},{"$f":"Ketrampilan!M27","v":0},{"$f":"Ketrampilan!N27","v":80},{"$f":"Ketrampilan!O27","v":80},{"$f":"Ketrampilan!P27","v":3.2},{"$f":"Ketrampilan!Q27","v":"B+"},null,{"$f":"Sikap!C20","v":3},{"$f":"Sikap!D20","v":3},{"$f":"Sikap!E20","v":3},{"$f":"Sikap!F20","v":3},{"$f":"Sikap!G20","v":3},{"$f":"Sikap!H20","v":3},{"$f":"Sikap!I20","v":3},{"$f":"Sikap!J20","v":3},{"$f":"Sikap!K20","v":3},{"$f":"Sikap!L20","v":3},{"$f":"Sikap!M20","v":3},{"$f":"Sikap!N20","v":"B"}]
[null,null,null,null,null,null,null,null,8,{"$f":"'Data '!D34","v":"DIKA SUKMA AGUSTIN"},{"$f":"'Data '!B34","v":9081},{"$f":"Pengetahuan!C28","v":80},{"$f":"Pengetahuan!D28","v":80},{"$f":"Pengetahuan!E28","v":80},{"$f":"Pengetahuan!F28","v":80},{"$f":"Pengetahuan!H28","v":80},{"$f":"Pengetahuan!I28","v":80},{"$f":"Pengetahuan!J28","v":80},{"$f":"Pengetahuan!K28","v":80},{"$f":"Pengetahuan!L28","v":80},{"$f":"Pengetahuan!N28","v":80},{"$f":"Pengetahuan!O28","v":80},{"$f":"Pengetahuan!P28","v":75},{"$f":"Pengetahuan!Q28","v":75},{"$f":"Pengetahuan!R28","v":77.5},{"$f":"Pengetahuan!S28","v":3.1},{"$f":"Pengetahuan!T28","v":"B"},null,{"$f":"Ketrampilan!C28","v":80},{"$f":"Ketrampilan!D28","v":80},{"$f":"Ketrampilan!E28","v":80},{"$f":"Ketrampilan!G28","v":80},{"$f":"Ketrampilan!H28","v":80},{"$f":"Ketrampilan!I28","v":0},{"$f":"Ketrampilan!J28","v":0},{"$f":"Ketrampilan!K28","v":80},{"$f":"Ketrampilan!L28","v":80},{"$f":"Ketrampilan!M28","v":0},{"$f":"Ketrampilan!N28","v":80},{"$f":"Ketrampilan!O28","v":80},{"$f":"Ketrampilan!P28","v":3.2},{"$f":"Ketrampilan!Q28","v":"B+"},null,{"$f":"Sikap!C21","v":3},{"$f":"Sikap!D21","v":3},{"$f":"Sikap!E21","v":3},{"$f":"Sikap!F21","v":3},{"$f":"Sikap!G21","v":3},{"$f":"Sikap!H21","v":3},{"$f":"Sikap!I21","v":3},{"$f":"Sikap!J21","v":3},{"$f":"Sikap!K21","v":3},{"$f":"Sikap!L21","v":3},{"$f":"Sikap!M21","v":3},{"$f":"Sikap!N21","v":"B"}]
[null,null,null,null,null,null,null,null,9,{"$f":"'Data '!D35","v":"DIVA ADITYA"},{"$f":"'Data '!B35","v":9087},{"$f":"Pengetahuan!C29","v":80},{"$f":"Pengetahuan!D29","v":80},{"$f":"Pengetahuan!E29","v":80},{"$f":"Pengetahuan!F29","v":80},{"$f":"Pengetahuan!H29","v":80},{"$f":"Pengetahuan!I29","v":80},{"$f":"Pengetahuan!J29","v":80},{"$f":"Pengetahuan!K29","v":80},{"$f":"Pengetahuan!L29","v":80},{"$f":"Pengetahuan!N29","v":80},{"$f":"Pengetahuan!O29","v":80},{"$f":"Pengetahuan!P29","v":75},{"$f":"Pengetahuan!Q29","v":75},{"$f":"Pengetahuan!R29","v":77.5},{"$f":"Pengetahuan!S29","v":3.1},{"$f":"Pengetahuan!T29","v":"B"},null,{"$f":"Ketrampilan!C29","v":80},{"$f":"Ketrampilan!D29","v":80},{"$f":"Ketrampilan!E29","v":80},{"$f":"Ketrampilan!G29","v":80},{"$f":"Ketrampilan!H29","v":80},{"$f":"Ketrampilan!I29","v":0},{"$f":"Ketrampilan!J29","v":0},{"$f":"Ketrampilan!K29","v":80},{"$f":"Ketrampilan!L29","v":80},{"$f":"Ketrampilan!M29","v":0},{"$f":"Ketrampilan!N29","v":80},{"$f":"Ketrampilan!O29","v":80},{"$f":"Ketrampilan!P29","v":3.2},{"$f":"Ketrampilan!Q29","v":"B+"},null,{"$f":"Sikap!C22","v":3},{"$f":"Sikap!D22","v":3},{"$f":"Sikap!E22","v":3},{"$f":"Sikap!F22","v":3},{"$f":"Sikap!G22","v":3},{"$f":"Sikap!H22","v":3},{"$f":"Sikap!I22","v":3},{"$f":"Sikap!J22","v":3},{"$f":"Sikap!K22","v":3},{"$f":"Sikap!L22","v":3},{"$f":"Sikap!M22","v":3},{"$f":"Sikap!N22","v":"B"}]
[null,null,null,null,null,null,null,null,10,{"$f":"'Data '!D36","v":"EKO PRASTYO"},{"$f":"'Data '!B36","v":9098},{"$f":"Pengetahuan!C30","v":80},{"$f":"Pengetahuan!D30","v":80},{"$f":"Pengetahuan!E30","v":80},{"$f":"Pengetahuan!F30","v":80},{"$f":"Pengetahuan!H30","v":80},{"$f":"Pengetahuan!I30","v":80},{"$f":"Pengetahuan!J30","v":80},{"$f":"Pengetahuan!K30","v":80},{"$f":"Pengetahuan!L30","v":80},{"$f":"Pengetahuan!N30","v":80},{"$f":"Pengetahuan!O30","v":80},{"$f":"Pengetahuan!P30","v":75},{"$f":"Pengetahuan!Q30","v":75},{"$f":"Pengetahuan!R30","v":77.5},{"$f":"Pengetahuan!S30","v":3.1},{"$f":"Pengetahuan!T30","v":"B"},null,{"$f":"Ketrampilan!C30","v":80},{"$f":"Ketrampilan!D30","v":80},{"$f":"Ketrampilan!E30","v":80},{"$f":"Ketrampilan!G30","v":80},{"$f":"Ketrampilan!H30","v":80},{"$f":"Ketrampilan!I30","v":0},{"$f":"Ketrampilan!J30","v":0},{"$f":"Ketrampilan!K30","v":80},{"$f":"Ketrampilan!L30","v":80},{"$f":"Ketrampilan!M30","v":0},{"$f":"Ketrampilan!N30","v":80},{"$f":"Ketrampilan!O30","v":80},{"$f":"Ketrampilan!P30","v":3.2},{"$f":"Ketrampilan!Q30","v":"B+"},null,{"$f":"Sikap!C23","v":3},{"$f":"Sikap!D23","v":3},{"$f":"Sikap!E23","v":3},{"$f":"Sikap!F23","v":3},{"$f":"Sikap!G23","v":3},{"$f":"Sikap!H23","v":3},{"$f":"Sikap!I23","v":3},{"$f":"Sikap!J23","v":3},{"$f":"Sikap!K23","v":3},{"$f":"Sikap!L23","v":3},{"$f":"Sikap!M23","v":3},{"$f":"Sikap!N23","v":"B"}]
[null,null,null,null,null,null,null,null,11,{"$f":"'Data '!D37","v":"FAIQUR RIJAL HAMMAM"},{"$f":"'Data '!B37","v":9107},{"$f":"Pengetahuan!C31","v":80},{"$f":"Pengetahuan!D31","v":80},{"$f":"Pengetahuan!E31","v":80},{"$f":"Pengetahuan!F31","v":80},{"$f":"Pengetahuan!H31","v":80},{"$f":"Pengetahuan!I31","v":80},{"$f":"Pengetahuan!J31","v":80},{"$f":"Pengetahuan!K31","v":80},{"$f":"Pengetahuan!L31","v":80},{"$f":"Pengetahuan!N31","v":80},{"$f":"Pengetahuan!O31","v":80},{"$f":"Pengetahuan!P31","v":75},{"$f":"Pengetahuan!Q31","v":75},{"$f":"Pengetahuan!R31","v":77.5},{"$f":"Pengetahuan!S31","v":3.1},{"$f":"Pengetahuan!T31","v":"B"},null,{"$f":"Ketrampilan!C31","v":80},{"$f":"Ketrampilan!D31","v":80},{"$f":"Ketrampilan!E31","v":80},{"$f":"Ketrampilan!G31","v":80},{"$f":"Ketrampilan!H31","v":80},{"$f":"Ketrampilan!I31","v":0},{"$f":"Ketrampilan!J31","v":0},{"$f":"Ketrampilan!K31","v":80},{"$f":"Ketrampilan!L31","v":80},{"$f":"Ketrampilan!M31","v":0},{"$f":"Ketrampilan!N31","v":80},{"$f":"Ketrampilan!O31","v":80},{"$f":"Ketrampilan!P31","v":3.2},{"$f":"Ketrampilan!Q31","v":"B+"},null,{"$f":"Sikap!C24","v":3},{"$f":"Sikap!D24","v":3},{"$f":"Sikap!E24","v":3},{"$f":"Sikap!F24","v":3},{"$f":"Sikap!G24","v":3},{"$f":"Sikap!H24","v":3},{"$f":"Sikap!I24","v":3},{"$f":"Sikap!J24","v":3},{"$f":"Sikap!K24","v":3},{"$f":"Sikap!L24","v":3},{"$f":"Sikap!M24","v":3},{"$f":"Sikap!N24","v":"B"}]
[null,null,null,null,null,null,null,null,12,{"$f":"'Data '!D38","v":"FATESAR SARI PRASETYO"},{"$f":"'Data '!B38","v":9114},{"$f":"Pengetahuan!C32","v":80},{"$f":"Pengetahuan!D32","v":80},{"$f":"Pengetahuan!E32","v":80},{"$f":"Pengetahuan!F32","v":80},{"$f":"Pengetahuan!H32","v":80},{"$f":"Pengetahuan!I32","v":80},{"$f":"Pengetahuan!J32","v":80},{"$f":"Pengetahuan!K32","v":80},{"$f":"Pengetahuan!L32","v":80},{"$f":"Pengetahuan!N32","v":80},{"$f":"Pengetahuan!O32","v":80},{"$f":"Pengetahuan!P32","v":75},{"$f":"Pengetahuan!Q32","v":75},{"$f":"Pengetahuan!R32","v":77.5},{"$f":"Pengetahuan!S32","v":3.1},{"$f":"Pengetahuan!T32","v":"B"},null,{"$f":"Ketrampilan!C32","v":80},{"$f":"Ketrampilan!D32","v":80},{"$f":"Ketrampilan!E32","v":80},{"$f":"Ketrampilan!G32","v":80},{"$f":"Ketrampilan!H32","v":80},{"$f":"Ketrampilan!I32","v":0},{"$f":"Ketrampilan!J32","v":0},{"$f":"Ketrampilan!K32","v":80},{"$f":"Ketrampilan!L32","v":80},{"$f":"Ketrampilan!M32","v":0},{"$f":"Ketrampilan!N32","v":80},{"$f":"Ketrampilan!O32","v":80},{"$f":"Ketrampilan!P32","v":3.2},{"$f":"Ketrampilan!Q32","v":"B+"},null,{"$f":"Sikap!C25","v":3},{"$f":"Sikap!D25","v":3},{"$f":"Sikap!E25","v":3},{"$f":"Sikap!F25","v":3},{"$f":"Sikap!G25","v":3},{"$f":"Sikap!H25","v":3},{"$f":"Sikap!I25","v":3},{"$f":"Sikap!J25","v":3},{"$f":"Sikap!K25","v":3},{"$f":"Sikap!L25","v":3},{"$f":"Sikap!M25","v":3},{"$f":"Sikap!N25","v":"B"}]
[null,null,null,null,null,null,null,null,13,{"$f":"'Data '!D39","v":"FEBRI SULISTIYO"},{"$f":"'Data '!B39","v":9115},{"$f":"Pengetahuan!C33","v":80},{"$f":"Pengetahuan!D33","v":80},{"$f":"Pengetahuan!E33","v":80},{"$f":"Pengetahuan!F33","v":80},{"$f":"Pengetahuan!H33","v":80},{"$f":"Pengetahuan!I33","v":80},{"$f":"Pengetahuan!J33","v":80},{"$f":"Pengetahuan!K33","v":80},{"$f":"Pengetahuan!L33","v":80},{"$f":"Pengetahuan!N33","v":80},{"$f":"Pengetahuan!O33","v":80},{"$f":"Pengetahuan!P33","v":75},{"$f":"Pengetahuan!Q33","v":75},{"$f":"Pengetahuan!R33","v":77.5},{"$f":"Pengetahuan!S33","v":3.1},{"$f":"Pengetahuan!T33","v":"B"},null,{"$f":"Ketrampilan!C33","v":80},{"$f":"Ketrampilan!D33","v":80},{"$f":"Ketrampilan!E33","v":80},{"$f":"Ketrampilan!G33","v":80},{"$f":"Ketrampilan!H33","v":80},{"$f":"Ketrampilan!I33","v":0},{"$f":"Ketrampilan!J33","v":0},{"$f":"Ketrampilan!K33","v":80},{"$f":"Ketrampilan!L33","v":80},{"$f":"Ketrampilan!M33","v":0},{"$f":"Ketrampilan!N33","v":80},{"$f":"Ketrampilan!O33","v":80},{"$f":"Ketrampilan!P33","v":3.2},{"$f":"Ketrampilan!Q33","v":"B+"},null,{"$f":"Sikap!C26","v":3},{"$f":"Sikap!D26","v":3},{"$f":"Sikap!E26","v":3},{"$f":"Sikap!F26","v":3},{"$f":"Sikap!G26","v":3},{"$f":"Sikap!H26","v":3},{"$f":"Sikap!I26","v":3},{"$f":"Sikap!J26","v":3},{"$f":"Sikap!K26","v":3},{"$f":"Sikap!L26","v":3},{"$f":"Sikap!M26","v":3},{"$f":"Sikap!N26","v":"B"}]
[null,null,null,null,null,null,null,null,14,{"$f":"'Data '!D40","v":"FIONA NANDA FETRIAN"},{"$f":"'Data '!B40","v":9119},{"$f":"Pengetahuan!C34","v":80},{"$f":"Pengetahuan!D34","v":80},{"$f":"Pengetahuan!E34","v":80},{"$f":"Pengetahuan!F34","v":80},{"$f":"Pengetahuan!H34","v":80},{"$f":"Pengetahuan!I34","v":80},{"$f":"Pengetahuan!J34","v":80},{"$f":"Pengetahuan!K34","v":80},{"$f":"Pengetahuan!L34","v":80},{"$f":"Pengetahuan!N34","v":80},{"$f":"Pengetahuan!O34","v":80},{"$f":"Pengetahuan!P34","v":75},{"$f":"Pengetahuan!Q34","v":75},{"$f":"Pengetahuan!R34","v":77.5},{"$f":"Pengetahuan!S34","v":3.1},{"$f":"Pengetahuan!T34","v":"B"},null,{"$f":"Ketrampilan!C34","v":80},{"$f":"Ketrampilan!D34","v":80},{"$f":"Ketrampilan!E34","v":80},{"$f":"Ketrampilan!G34","v":80},{"$f":"Ketrampilan!H34","v":80},{"$f":"Ketrampilan!I34","v":0},{"$f":"Ketrampilan!J34","v":0},{"$f":"Ketrampilan!K34","v":80},{"$f":"Ketrampilan!L34","v":80},{"$f":"Ketrampilan!M34","v":0},{"$f":"Ketrampilan!N34","v":80},{"$f":"Ketrampilan!O34","v":80},{"$f":"Ketrampilan!P34","v":3.2},{"$f":"Ketrampilan!Q34","v":"B+"},null,{"$f":"Sikap!C27","v":3},{"$f":"Sikap!D27","v":3},{"$f":"Sikap!E27","v":3},{"$f":"Sikap!F27","v":3},{"$f":"Sikap!G27","v":3},{"$f":"Sikap!H27","v":3},{"$f":"Sikap!I27","v":3},{"$f":"Sikap!J27","v":3},{"$f":"Sikap!K27","v":3},{"$f":"Sikap!L27","v":3},{"$f":"Sikap!M27","v":3},{"$f":"Sikap!N27","v":"B"}]
[null,null,null,null,null,null,null,null,15,{"$f":"'Data '!D41","v":"GILANG SYAHRUL RAMADHAN"},{"$f":"'Data '!B41","v":9125},{"$f":"Pengetahuan!C35","v":80},{"$f":"Pengetahuan!D35","v":80},{"$f":"Pengetahuan!E35","v":80},{"$f":"Pengetahuan!F35","v":80},{"$f":"Pengetahuan!H35","v":80},{"$f":"Pengetahuan!I35","v":80},{"$f":"Pengetahuan!J35","v":80},{"$f":"Pengetahuan!K35","v":80},{"$f":"Pengetahuan!L35","v":80},{"$f":"Pengetahuan!N35","v":80},{"$f":"Pengetahuan!O35","v":80},{"$f":"Pengetahuan!P35","v":75},{"$f":"Pengetahuan!Q35","v":75},{"$f":"Pengetahuan!R35","v":77.5},{"$f":"Pengetahuan!S35","v":3.1},{"$f":"Pengetahuan!T35","v":"B"},null,{"$f":"Ketrampilan!C35","v":80},{"$f":"Ketrampilan!D35","v":80},{"$f":"Ketrampilan!E35","v":80},{"$f":"Ketrampilan!G35","v":80},{"$f":"Ketrampilan!H35","v":80},{"$f":"Ketrampilan!I35","v":0},{"$f":"Ketrampilan!J35","v":0},{"$f":"Ketrampilan!K35","v":80},{"$f":"Ketrampilan!L35","v":80},{"$f":"Ketrampilan!M35","v":0},{"$f":"Ketrampilan!N35","v":80},{"$f":"Ketrampilan!O35","v":80},{"$f":"Ketrampilan!P35","v":3.2},{"$f":"Ketrampilan!Q35","v":"B+"},null,{"$f":"Sikap!C28","v":3},{"$f":"Sikap!D28","v":3},{"$f":"Sikap!E28","v":3},{"$f":"Sikap!F28","v":3},{"$f":"Sikap!G28","v":3},{"$f":"Sikap!H28","v":3},{"$f":"Sikap!I28","v":3},{"$f":"Sikap!J28","v":3},{"$f":"Sikap!K28","v":3},{"$f":"Sikap!L28","v":3},{"$f":"Sikap!M28","v":3},{"$f":"Sikap!N28","v":"B"}]
[null,null,null,null,null,null,null,null,16,{"$f":"'Data '!D42","v":"IMAM AGUNG WAHYU PRATAMA"},{"$f":"'Data '!B42","v":9136},{"$f":"Pengetahuan!C36","v":80},{"$f":"Pengetahuan!D36","v":80},{"$f":"Pengetahuan!E36","v":80},{"$f":"Pengetahuan!F36","v":80},{"$f":"Pengetahuan!H36","v":80},{"$f":"Pengetahuan!I36","v":80},{"$f":"Pengetahuan!J36","v":80},{"$f":"Pengetahuan!K36","v":80},{"$f":"Pengetahuan!L36","v":80},{"$f":"Pengetahuan!N36","v":80},{"$f":"Pengetahuan!O36","v":80},{"$f":"Pengetahuan!P36","v":75},{"$f":"Pengetahuan!Q36","v":75},{"$f":"Pengetahuan!R36","v":77.5},{"$f":"Pengetahuan!S36","v":3.1},{"$f":"Pengetahuan!T36","v":"B"},null,{"$f":"Ketrampilan!C36","v":80},{"$f":"Ketrampilan!D36","v":80},{"$f":"Ketrampilan!E36","v":80},{"$f":"Ketrampilan!G36","v":80},{"$f":"Ketrampilan!H36","v":80},{"$f":"Ketrampilan!I36","v":0},{"$f":"Ketrampilan!J36","v":0},{"$f":"Ketrampilan!K36","v":80},{"$f":"Ketrampilan!L36","v":80},{"$f":"Ketrampilan!M36","v":0},{"$f":"Ketrampilan!N36","v":80},{"$f":"Ketrampilan!O36","v":80},{"$f":"Ketrampilan!P36","v":3.2},{"$f":"Ketrampilan!Q36","v":"B+"},null,{"$f":"Sikap!C29","v":3},{"$f":"Sikap!D29","v":3},{"$f":"Sikap!E29","v":3},{"$f":"Sikap!F29","v":3},{"$f":"Sikap!G29","v":3},{"$f":"Sikap!H29","v":3},{"$f":"Sikap!I29","v":3},{"$f":"Sikap!J29","v":3},{"$f":"Sikap!K29","v":3},{"$f":"Sikap!L29","v":3},{"$f":"Sikap!M29","v":3},{"$f":"Sikap!N29","v":"B"}]
[null,null,null,null,null,null,null,null,17,{"$f":"'Data '!D43","v":"JOHAN MAULANA"},{"$f":"'Data '!B43","v":9149},{"$f":"Pengetahuan!C37","v":80},{"$f":"Pengetahuan!D37","v":80},{"$f":"Pengetahuan!E37","v":80},{"$f":"Pengetahuan!F37","v":80},{"$f":"Pengetahuan!H37","v":80},{"$f":"Pengetahuan!I37","v":80},{"$f":"Pengetahuan!J37","v":80},{"$f":"Pengetahuan!K37","v":80},{"$f":"Pengetahuan!L37","v":80},{"$f":"Pengetahuan!N37","v":80},{"$f":"Pengetahuan!O37","v":80},{"$f":"Pengetahuan!P37","v":75},{"$f":"Pengetahuan!Q37","v":75},{"$f":"Pengetahuan!R37","v":77.5},{"$f":"Pengetahuan!S37","v":3.1},{"$f":"Pengetahuan!T37","v":"B"},null,{"$f":"Ketrampilan!C37","v":80},{"$f":"Ketrampilan!D37","v":80},{"$f":"Ketrampilan!E37","v":80},{"$f":"Ketrampilan!G37","v":80},{"$f":"Ketrampilan!H37","v":80},{"$f":"Ketrampilan!I37","v":0},{"$f":"Ketrampilan!J37","v":0},{"$f":"Ketrampilan!K37","v":80},{"$f":"Ketrampilan!L37","v":80},{"$f":"Ketrampilan!M37","v":0},{"$f":"Ketrampilan!N37","v":80},{"$f":"Ketrampilan!O37","v":80},{"$f":"Ketrampilan!P37","v":3.2},{"$f":"Ketrampilan!Q37","v":"B+"},null,{"$f":"Sikap!C30","v":3},{"$f":"Sikap!D30","v":3},{"$f":"Sikap!E30","v":3},{"$f":"Sikap!F30","v":3},{"$f":"Sikap!G30","v":3},{"$f":"Sikap!H30","v":3},{"$f":"Sikap!I30","v":3},{"$f":"Sikap!J30","v":3},{"$f":"Sikap!K30","v":3},{"$f":"Sikap!L30","v":3},{"$f":"Sikap!M30","v":3},{"$f":"Sikap!N30","v":"B"}]
[null,null,null,null,null,null,null,null,18,{"$f":"'Data '!D44","v":"JOKO SETIAWAN"},{"$f":"'Data '!B44","v":9150},{"$f":"Pengetahuan!C38","v":80},{"$f":"Pengetahuan!D38","v":80},{"$f":"Pengetahuan!E38","v":80},{"$f":"Pengetahuan!F38","v":80},{"$f":"Pengetahuan!H38","v":80},{"$f":"Pengetahuan!I38","v":80},{"$f":"Pengetahuan!J38","v":80},{"$f":"Pengetahuan!K38","v":80},{"$f":"Pengetahuan!L38","v":80},{"$f":"Pengetahuan!N38","v":80},{"$f":"Pengetahuan!O38","v":80},{"$f":"Pengetahuan!P38","v":75},{"$f":"Pengetahuan!Q38","v":75},{"$f":"Pengetahuan!R38","v":77.5},{"$f":"Pengetahuan!S38","v":3.1},{"$f":"Pengetahuan!T38","v":"B"},null,{"$f":"Ketrampilan!C38","v":80},{"$f":"Ketrampilan!D38","v":80},{"$f":"Ketrampilan!E38","v":80},{"$f":"Ketrampilan!G38","v":80},{"$f":"Ketrampilan!H38","v":80},{"$f":"Ketrampilan!I38","v":0},{"$f":"Ketrampilan!J38","v":0},{"$f":"Ketrampilan!K38","v":80},{"$f":"Ketrampilan!L38","v":80},{"$f":"Ketrampilan!M38","v":0},{"$f":"Ketrampilan!N38","v":80},{"$f":"Ketrampilan!O38","v":80},{"$f":"Ketrampilan!P38","v":3.2},{"$f":"Ketrampilan!Q38","v":"B+"},null,{"$f":"Sikap!C31","v":3},{"$f":"Sikap!D31","v":3},{"$f":"Sikap!E31","v":3},{"$f":"Sikap!F31","v":3},{"$f":"Sikap!G31","v":3},{"$f":"Sikap!H31","v":3},{"$f":"Sikap!I31","v":3},{"$f":"Sikap!J31","v":3},{"$f":"Sikap!K31","v":3},{"$f":"Sikap!L31","v":3},{"$f":"Sikap!M31","v":3},{"$f":"Sikap!N31","v":"B"}]
[null,null,null,null,null,null,null,null,19,{"$f":"'Data '!D45","v":"LISA OKTAVINASARI"},{"$f":"'Data '!B45","v":9159},{"$f":"Pengetahuan!C39","v":80},{"$f":"Pengetahuan!D39","v":80},{"$f":"Pengetahuan!E39","v":80},{"$f":"Pengetahuan!F39","v":80},{"$f":"Pengetahuan!H39","v":80},{"$f":"Pengetahuan!I39","v":80},{"$f":"Pengetahuan!J39","v":80},{"$f":"Pengetahuan!K39","v":80},{"$f":"Pengetahuan!L39","v":80},{"$f":"Pengetahuan!N39","v":80},{"$f":"Pengetahuan!O39","v":80},{"$f":"Pengetahuan!P39","v":75},{"$f":"Pengetahuan!Q39","v":75},{"$f":"Pengetahuan!R39","v":77.5},{"$f":"Pengetahuan!S39","v":3.1},{"$f":"Pengetahuan!T39","v":"B"},null,{"$f":"Ketrampilan!C39","v":80},{"$f":"Ketrampilan!D39","v":80},{"$f":"Ketrampilan!E39","v":80},{"$f":"Ketrampilan!G39","v":80},{"$f":"Ketrampilan!H39","v":80},{"$f":"Ketrampilan!I39","v":0},{"$f":"Ketrampilan!J39","v":0},{"$f":"Ketrampilan!K39","v":80},{"$f":"Ketrampilan!L39","v":80},{"$f":"Ketrampilan!M39","v":0},{"$f":"Ketrampilan!N39","v":80},{"$f":"Ketrampilan!O39","v":80},{"$f":"Ketrampilan!P39","v":3.2},{"$f":"Ketrampilan!Q39","v":"B+"},null,{"$f":"Sikap!C32","v":3},{"$f":"Sikap!D32","v":3},{"$f":"Sikap!E32","v":3},{"$f":"Sikap!F32","v":3},{"$f":"Sikap!G32","v":3},{"$f":"Sikap!H32","v":3},{"$f":"Sikap!I32","v":3},{"$f":"Sikap!J32","v":3},{"$f":"Sikap!K32","v":3},{"$f":"Sikap!L32","v":3},{"$f":"Sikap!M32","v":3},{"$f":"Sikap!N32","v":"B"}]
[null,null,null,null,null,null,null,null,20,{"$f":"'Data '!D46","v":"MARIA GILDA SIREGAR"},{"$f":"'Data '!B46","v":9163},{"$f":"Pengetahuan!C40","v":80},{"$f":"Pengetahuan!D40","v":80},{"$f":"Pengetahuan!E40","v":80},{"$f":"Pengetahuan!F40","v":80},{"$f":"Pengetahuan!H40","v":80},{"$f":"Pengetahuan!I40","v":80},{"$f":"Pengetahuan!J40","v":80},{"$f":"Pengetahuan!K40","v":80},{"$f":"Pengetahuan!L40","v":80},{"$f":"Pengetahuan!N40","v":80},{"$f":"Pengetahuan!O40","v":80},{"$f":"Pengetahuan!P40","v":75},{"$f":"Pengetahuan!Q40","v":75},{"$f":"Pengetahuan!R40","v":77.5},{"$f":"Pengetahuan!S40","v":3.1},{"$f":"Pengetahuan!T40","v":"B"},null,{"$f":"Ketrampilan!C40","v":80},{"$f":"Ketrampilan!D40","v":80},{"$f":"Ketrampilan!E40","v":80},{"$f":"Ketrampilan!G40","v":80},{"$f":"Ketrampilan!H40","v":80},{"$f":"Ketrampilan!I40","v":0},{"$f":"Ketrampilan!J40","v":0},{"$f":"Ketrampilan!K40","v":80},{"$f":"Ketrampilan!L40","v":80},{"$f":"Ketrampilan!M40","v":0},{"$f":"Ketrampilan!N40","v":80},{"$f":"Ketrampilan!O40","v":80},{"$f":"Ketrampilan!P40","v":3.2},{"$f":"Ketrampilan!Q40","v":"B+"},null,{"$f":"Sikap!C33","v":3},{"$f":"Sikap!D33","v":3},{"$f":"Sikap!E33","v":3},{"$f":"Sikap!F33","v":3},{"$f":"Sikap!G33","v":3},{"$f":"Sikap!H33","v":3},{"$f":"Sikap!I33","v":3},{"$f":"Sikap!J33","v":3},{"$f":"Sikap!K33","v":3},{"$f":"Sikap!L33","v":3},{"$f":"Sikap!M33","v":3},{"$f":"Sikap!N33","v":"B"}]
[null,null,null,null,null,null,null,null,21,{"$f":"'Data '!D47","v":"MOHAMMAD NURKHOLISH"},{"$f":"'Data '!B47","v":9178},{"$f":"Pengetahuan!C41","v":80},{"$f":"Pengetahuan!D41","v":80},{"$f":"Pengetahuan!E41","v":80},{"$f":"Pengetahuan!F41","v":80},{"$f":"Pengetahuan!H41","v":80},{"$f":"Pengetahuan!I41","v":80},{"$f":"Pengetahuan!J41","v":80},{"$f":"Pengetahuan!K41","v":80},{"$f":"Pengetahuan!L41","v":80},{"$f":"Pengetahuan!N41","v":80},{"$f":"Pengetahuan!O41","v":80},{"$f":"Pengetahuan!P41","v":75},{"$f":"Pengetahuan!Q41","v":75},{"$f":"Pengetahuan!R41","v":77.5},{"$f":"Pengetahuan!S41","v":3.1},{"$f":"Pengetahuan!T41","v":"B"},null,{"$f":"Ketrampilan!C41","v":80},{"$f":"Ketrampilan!D41","v":80},{"$f":"Ketrampilan!E41","v":80},{"$f":"Ketrampilan!G41","v":80},{"$f":"Ketrampilan!H41","v":80},{"$f":"Ketrampilan!I41","v":0},{"$f":"Ketrampilan!J41","v":0},{"$f":"Ketrampilan!K41","v":80},{"$f":"Ketrampilan!L41","v":80},{"$f":"Ketrampilan!M41","v":0},{"$f":"Ketrampilan!N41","v":80},{"$f":"Ketrampilan!O41","v":80},{"$f":"Ketrampilan!P41","v":3.2},{"$f":"Ketrampilan!Q41","v":"B+"},null,{"$f":"Sikap!C34","v":3},{"$f":"Sikap!D34","v":3},{"$f":"Sikap!E34","v":3},{"$f":"Sikap!F34","v":3},{"$f":"Sikap!G34","v":3},{"$f":"Sikap!H34","v":3},{"$f":"Sikap!I34","v":3},{"$f":"Sikap!J34","v":3},{"$f":"Sikap!K34","v":3},{"$f":"Sikap!L34","v":3},{"$f":"Sikap!M34","v":3},{"$f":"Sikap!N34","v":"B"}]
[null,null,null,null,null,null,null,null,22,{"$f":"'Data '!D48","v":"MUHAMAD FARIS ULIN NUHA"},{"$f":"'Data '!B48","v":9185},{"$f":"Pengetahuan!C42","v":80},{"$f":"Pengetahuan!D42","v":80},{"$f":"Pengetahuan!E42","v":80},{"$f":"Pengetahuan!F42","v":80},{"$f":"Pengetahuan!H42","v":80},{"$f":"Pengetahuan!I42","v":80},{"$f":"Pengetahuan!J42","v":80},{"$f":"Pengetahuan!K42","v":80},{"$f":"Pengetahuan!L42","v":80},{"$f":"Pengetahuan!N42","v":80},{"$f":"Pengetahuan!O42","v":80},{"$f":"Pengetahuan!P42","v":75},{"$f":"Pengetahuan!Q42","v":75},{"$f":"Pengetahuan!R42","v":77.5},{"$f":"Pengetahuan!S42","v":3.1},{"$f":"Pengetahuan!T42","v":"B"},null,{"$f":"Ketrampilan!C42","v":80},{"$f":"Ketrampilan!D42","v":80},{"$f":"Ketrampilan!E42","v":80},{"$f":"Ketrampilan!G42","v":80},{"$f":"Ketrampilan!H42","v":80},{"$f":"Ketrampilan!I42","v":0},{"$f":"Ketrampilan!J42","v":0},{"$f":"Ketrampilan!K42","v":80},{"$f":"Ketrampilan!L42","v":80},{"$f":"Ketrampilan!M42","v":0},{"$f":"Ketrampilan!N42","v":80},{"$f":"Ketrampilan!O42","v":80},{"$f":"Ketrampilan!P42","v":3.2},{"$f":"Ketrampilan!Q42","v":"B+"},null,{"$f":"Sikap!C35","v":3},{"$f":"Sikap!D35","v":3},{"$f":"Sikap!E35","v":3},{"$f":"Sikap!F35","v":3},{"$f":"Sikap!G35","v":3},{"$f":"Sikap!H35","v":3},{"$f":"Sikap!I35","v":3},{"$f":"Sikap!J35","v":3},{"$f":"Sikap!K35","v":3},{"$f":"Sikap!L35","v":3},{"$f":"Sikap!M35","v":3},{"$f":"Sikap!N35","v":"B"}]
[null,null,null,null,null,null,null,null,23,{"$f":"'Data '!D49","v":"MUHAMMAD MUSTOFA"},{"$f":"'Data '!B49","v":9322},{"$f":"Pengetahuan!C43","v":80},{"$f":"Pengetahuan!D43","v":80},{"$f":"Pengetahuan!E43","v":80},{"$f":"Pengetahuan!F43","v":80},{"$f":"Pengetahuan!H43","v":80},{"$f":"Pengetahuan!I43","v":80},{"$f":"Pengetahuan!J43","v":80},{"$f":"Pengetahuan!K43","v":80},{"$f":"Pengetahuan!L43","v":80},{"$f":"Pengetahuan!N43","v":80},{"$f":"Pengetahuan!O43","v":80},{"$f":"Pengetahuan!P43","v":75},{"$f":"Pengetahuan!Q43","v":75},{"$f":"Pengetahuan!R43","v":77.5},{"$f":"Pengetahuan!S43","v":3.1},{"$f":"Pengetahuan!T43","v":"B"},null,{"$f":"Ketrampilan!C43","v":80},{"$f":"Ketrampilan!D43","v":80},{"$f":"Ketrampilan!E43","v":80},{"$f":"Ketrampilan!G43","v":80},{"$f":"Ketrampilan!H43","v":80},{"$f":"Ketrampilan!I43","v":0},{"$f":"Ketrampilan!J43","v":0},{"$f":"Ketrampilan!K43","v":80},{"$f":"Ketrampilan!L43","v":80},{"$f":"Ketrampilan!M43","v":0},{"$f":"Ketrampilan!N43","v":80},{"$f":"Ketrampilan!O43","v":80},{"$f":"Ketrampilan!P43","v":3.2},{"$f":"Ketrampilan!Q43","v":"B+"},null,{"$f":"Sikap!C36","v":3},{"$f":"Sikap!D36","v":3},{"$f":"Sikap!E36","v":3},{"$f":"Sikap!F36","v":3},{"$f":"Sikap!G36","v":3},{"$f":"Sikap!H36","v":3},{"$f":"Sikap!I36","v":3},{"$f":"Sikap!J36","v":3},{"$f":"Sikap!K36","v":3},{"$f":"Sikap!L36","v":3},{"$f":"Sikap!M36","v":3},{"$f":"Sikap!N36","v":"B"}]
[null,null,null,null,null,null,null,null,24,{"$f":"'Data '!D50","v":"NANDA WINTYA PUTRI"},{"$f":"'Data '!B50","v":9204},{"$f":"Pengetahuan!C44","v":80},{"$f":"Pengetahuan!D44","v":80},{"$f":"Pengetahuan!E44","v":80},{"$f":"Pengetahuan!F44","v":80},{"$f":"Pengetahuan!H44","v":80},{"$f":"Pengetahuan!I44","v":80},{"$f":"Pengetahuan!J44","v":80},{"$f":"Pengetahuan!K44","v":80},{"$f":"Pengetahuan!L44","v":80},{"$f":"Pengetahuan!N44","v":80},{"$f":"Pengetahuan!O44","v":80},{"$f":"Pengetahuan!P44","v":75},{"$f":"Pengetahuan!Q44","v":75},{"$f":"Pengetahuan!R44","v":77.5},{"$f":"Pengetahuan!S44","v":3.1},{"$f":"Pengetahuan!T44","v":"B"},null,{"$f":"Ketrampilan!C44","v":80},{"$f":"Ketrampilan!D44","v":80},{"$f":"Ketrampilan!E44","v":80},{"$f":"Ketrampilan!G44","v":80},{"$f":"Ketrampilan!H44","v":80},{"$f":"Ketrampilan!I44","v":0},{"$f":"Ketrampilan!J44","v":0},{"$f":"Ketrampilan!K44","v":80},{"$f":"Ketrampilan!L44","v":80},{"$f":"Ketrampilan!M44","v":0},{"$f":"Ketrampilan!N44","v":80},{"$f":"Ketrampilan!O44","v":80},{"$f":"Ketrampilan!P44","v":3.2},{"$f":"Ketrampilan!Q44","v":"B+"},null,{"$f":"Sikap!C37","v":3},{"$f":"Sikap!D37","v":3},{"$f":"Sikap!E37","v":3},{"$f":"Sikap!F37","v":3},{"$f":"Sikap!G37","v":3},{"$f":"Sikap!H37","v":3},{"$f":"Sikap!I37","v":3},{"$f":"Sikap!J37","v":3},{"$f":"Sikap!K37","v":3},{"$f":"Sikap!L37","v":3},{"$f":"Sikap!M37","v":3},{"$f":"Sikap!N37","v":"B"}]
[null,null,null,null,null,null,null,null,25,{"$f":"'Data '!D51","v":"NI'MA NOVA NUR FADHILAH"},{"$f":"'Data '!B51","v":9210},{"$f":"Pengetahuan!C45","v":80},{"$f":"Pengetahuan!D45","v":80},{"$f":"Pengetahuan!E45","v":80},{"$f":"Pengetahuan!F45","v":80},{"$f":"Pengetahuan!H45","v":80},{"$f":"Pengetahuan!I45","v":80},{"$f":"Pengetahuan!J45","v":80},{"$f":"Pengetahuan!K45","v":80},{"$f":"Pengetahuan!L45","v":80},{"$f":"Pengetahuan!N45","v":80},{"$f":"Pengetahuan!O45","v":80},{"$f":"Pengetahuan!P45","v":75},{"$f":"Pengetahuan!Q45","v":75},{"$f":"Pengetahuan!R45","v":77.5},{"$f":"Pengetahuan!S45","v":3.1},{"$f":"Pengetahuan!T45","v":"B"},null,{"$f":"Ketrampilan!C45","v":80},{"$f":"Ketrampilan!D45","v":80},{"$f":"Ketrampilan!E45","v":80},{"$f":"Ketrampilan!G45","v":80},{"$f":"Ketrampilan!H45","v":80},{"$f":"Ketrampilan!I45","v":0},{"$f":"Ketrampilan!J45","v":0},{"$f":"Ketrampilan!K45","v":80},{"$f":"Ketrampilan!L45","v":80},{"$f":"Ketrampilan!M45","v":0},{"$f":"Ketrampilan!N45","v":80},{"$f":"Ketrampilan!O45","v":80},{"$f":"Ketrampilan!P45","v":3.2},{"$f":"Ketrampilan!Q45","v":"B+"},null,{"$f":"Sikap!C38","v":3},{"$f":"Sikap!D38","v":3},{"$f":"Sikap!E38","v":3},{"$f":"Sikap!F38","v":3},{"$f":"Sikap!G38","v":3},{"$f":"Sikap!H38","v":3},{"$f":"Sikap!I38","v":3},{"$f":"Sikap!J38","v":3},{"$f":"Sikap!K38","v":3},{"$f":"Sikap!L38","v":3},{"$f":"Sikap!M38","v":3},{"$f":"Sikap!N38","v":"B"}]
[null,null,null,null,null,null,null,null,26,{"$f":"'Data '!D52","v":"NITA ZUMROTUT TAQIYAH"},{"$f":"'Data '!B52","v":9212},{"$f":"Pengetahuan!C46","v":80},{"$f":"Pengetahuan!D46","v":80},{"$f":"Pengetahuan!E46","v":80},{"$f":"Pengetahuan!F46","v":80},{"$f":"Pengetahuan!H46","v":80},{"$f":"Pengetahuan!I46","v":80},{"$f":"Pengetahuan!J46","v":80},{"$f":"Pengetahuan!K46","v":80},{"$f":"Pengetahuan!L46","v":80},{"$f":"Pengetahuan!N46","v":80},{"$f":"Pengetahuan!O46","v":80},{"$f":"Pengetahuan!P46","v":75},{"$f":"Pengetahuan!Q46","v":75},{"$f":"Pengetahuan!R46","v":77.5},{"$f":"Pengetahuan!S46","v":3.1},{"$f":"Pengetahuan!T46","v":"B"},null,{"$f":"Ketrampilan!C46","v":80},{"$f":"Ketrampilan!D46","v":80},{"$f":"Ketrampilan!E46","v":80},{"$f":"Ketrampilan!G46","v":80},{"$f":"Ketrampilan!H46","v":80},{"$f":"Ketrampilan!I46","v":0},{"$f":"Ketrampilan!J46","v":0},{"$f":"Ketrampilan!K46","v":80},{"$f":"Ketrampilan!L46","v":80},{"$f":"Ketrampilan!M46","v":0},{"$f":"Ketrampilan!N46","v":80},{"$f":"Ketrampilan!O46","v":80},{"$f":"Ketrampilan!P46","v":3.2},{"$f":"Ketrampilan!Q46","v":"B+"},null,{"$f":"Sikap!C39","v":3},{"$f":"Sikap!D39","v":3},{"$f":"Sikap!E39","v":3},{"$f":"Sikap!F39","v":3},{"$f":"Sikap!G39","v":3},{"$f":"Sikap!H39","v":3},{"$f":"Sikap!I39","v":3},{"$f":"Sikap!J39","v":3},{"$f":"Sikap!K39","v":3},{"$f":"Sikap!L39","v":3},{"$f":"Sikap!M39","v":3},{"$f":"Sikap!N39","v":"B"}]
[null,null,null,null,null,null,null,null,27,{"$f":"'Data '!D53","v":"RACHMAT SAPUTRA ANDRIANSYAH"},{"$f":"'Data '!B53","v":9234},{"$f":"Pengetahuan!C47","v":80},{"$f":"Pengetahuan!D47","v":80},{"$f":"Pengetahuan!E47","v":80},{"$f":"Pengetahuan!F47","v":80},{"$f":"Pengetahuan!H47","v":80},{"$f":"Pengetahuan!I47","v":80},{"$f":"Pengetahuan!J47","v":80},{"$f":"Pengetahuan!K47","v":80},{"$f":"Pengetahuan!L47","v":80},{"$f":"Pengetahuan!N47","v":80},{"$f":"Pengetahuan!O47","v":80},{"$f":"Pengetahuan!P47","v":75},{"$f":"Pengetahuan!Q47","v":75},{"$f":"Pengetahuan!R47","v":77.5},{"$f":"Pengetahuan!S47","v":3.1},{"$f":"Pengetahuan!T47","v":"B"},null,{"$f":"Ketrampilan!C47","v":80},{"$f":"Ketrampilan!D47","v":80},{"$f":"Ketrampilan!E47","v":80},{"$f":"Ketrampilan!G47","v":80},{"$f":"Ketrampilan!H47","v":80},{"$f":"Ketrampilan!I47","v":0},{"$f":"Ketrampilan!J47","v":0},{"$f":"Ketrampilan!K47","v":80},{"$f":"Ketrampilan!L47","v":80},{"$f":"Ketrampilan!M47","v":0},{"$f":"Ketrampilan!N47","v":80},{"$f":"Ketrampilan!O47","v":80},{"$f":"Ketrampilan!P47","v":3.2},{"$f":"Ketrampilan!Q47","v":"B+"},null,{"$f":"Sikap!C40","v":3},{"$f":"Sikap!D40","v":3},{"$f":"Sikap!E40","v":3},{"$f":"Sikap!F40","v":3},{"$f":"Sikap!G40","v":3},{"$f":"Sikap!H40","v":3},{"$f":"Sikap!I40","v":3},{"$f":"Sikap!J40","v":3},{"$f":"Sikap!K40","v":3},{"$f":"Sikap!L40","v":3},{"$f":"Sikap!M40","v":3},{"$f":"Sikap!N40","v":"B"}]
[null,null,null,null,null,null,null,null,28,{"$f":"'Data '!D54","v":"RIZAL ANDRIYAN SAPUTRA"},{"$f":"'Data '!B54","v":9255},{"$f":"Pengetahuan!C48","v":80},{"$f":"Pengetahuan!D48","v":80},{"$f":"Pengetahuan!E48","v":80},{"$f":"Pengetahuan!F48","v":80},{"$f":"Pengetahuan!H48","v":80},{"$f":"Pengetahuan!I48","v":80},{"$f":"Pengetahuan!J48","v":80},{"$f":"Pengetahuan!K48","v":80},{"$f":"Pengetahuan!L48","v":80},{"$f":"Pengetahuan!N48","v":80},{"$f":"Pengetahuan!O48","v":80},{"$f":"Pengetahuan!P48","v":75},{"$f":"Pengetahuan!Q48","v":75},{"$f":"Pengetahuan!R48","v":77.5},{"$f":"Pengetahuan!S48","v":3.1},{"$f":"Pengetahuan!T48","v":"B"},null,{"$f":"Ketrampilan!C48","v":80},{"$f":"Ketrampilan!D48","v":80},{"$f":"Ketrampilan!E48","v":80},{"$f":"Ketrampilan!G48","v":80},{"$f":"Ketrampilan!H48","v":80},{"$f":"Ketrampilan!I48","v":0},{"$f":"Ketrampilan!J48","v":0},{"$f":"Ketrampilan!K48","v":80},{"$f":"Ketrampilan!L48","v":80},{"$f":"Ketrampilan!M48","v":0},{"$f":"Ketrampilan!N48","v":80},{"$f":"Ketrampilan!O48","v":80},{"$f":"Ketrampilan!P48","v":3.2},{"$f":"Ketrampilan!Q48","v":"B+"},null,{"$f":"Sikap!C41","v":3},{"$f":"Sikap!D41","v":3},{"$f":"Sikap!E41","v":3},{"$f":"Sikap!F41","v":3},{"$f":"Sikap!G41","v":3},{"$f":"Sikap!H41","v":3},{"$f":"Sikap!I41","v":3},{"$f":"Sikap!J41","v":3},{"$f":"Sikap!K41","v":3},{"$f":"Sikap!L41","v":3},{"$f":"Sikap!M41","v":3},{"$f":"Sikap!N41","v":"B"}]
[null,null,null,null,null,null,null,null,29,{"$f":"'Data '!D55","v":"SAIFUL ANNAS"},{"$f":"'Data '!B55","v":9265},{"$f":"Pengetahuan!C49","v":80},{"$f":"Pengetahuan!D49","v":80},{"$f":"Pengetahuan!E49","v":80},{"$f":"Pengetahuan!F49","v":80},{"$f":"Pengetahuan!H49","v":80},{"$f":"Pengetahuan!I49","v":80},{"$f":"Pengetahuan!J49","v":80},{"$f":"Pengetahuan!K49","v":80},{"$f":"Pengetahuan!L49","v":80},{"$f":"Pengetahuan!N49","v":80},{"$f":"Pengetahuan!O49","v":80},{"$f":"Pengetahuan!P49","v":75},{"$f":"Pengetahuan!Q49","v":75},{"$f":"Pengetahuan!R49","v":77.5},{"$f":"Pengetahuan!S49","v":3.1},{"$f":"Pengetahuan!T49","v":"B"},null,{"$f":"Ketrampilan!C49","v":80},{"$f":"Ketrampilan!D49","v":80},{"$f":"Ketrampilan!E49","v":80},{"$f":"Ketrampilan!G49","v":80},{"$f":"Ketrampilan!H49","v":80},{"$f":"Ketrampilan!I49","v":0},{"$f":"Ketrampilan!J49","v":0},{"$f":"Ketrampilan!K49","v":80},{"$f":"Ketrampilan!L49","v":80},{"$f":"Ketrampilan!M49","v":0},{"$f":"Ketrampilan!N49","v":80},{"$f":"Ketrampilan!O49","v":80},{"$f":"Ketrampilan!P49","v":3.2},{"$f":"Ketrampilan!Q49","v":"B+"},null,{"$f":"Sikap!C42","v":3},{"$f":"Sikap!D42","v":3},{"$f":"Sikap!E42","v":3},{"$f":"Sikap!F42","v":3},{"$f":"Sikap!G42","v":3},{"$f":"Sikap!H42","v":3},{"$f":"Sikap!I42","v":3},{"$f":"Sikap!J42","v":3},{"$f":"Sikap!K42","v":3},{"$f":"Sikap!L42","v":3},{"$f":"Sikap!M42","v":3},{"$f":"Sikap!N42","v":"B"}]
[null,null,null,null,null,null,null,null,30,{"$f":"'Data '!D56","v":"SELINA SEPTIANI"},{"$f":"'Data '!B56","v":9270},{"$f":"Pengetahuan!C50","v":80},{"$f":"Pengetahuan!D50","v":80},{"$f":"Pengetahuan!E50","v":80},{"$f":"Pengetahuan!F50","v":80},{"$f":"Pengetahuan!H50","v":80},{"$f":"Pengetahuan!I50","v":80},{"$f":"Pengetahuan!J50","v":80},{"$f":"Pengetahuan!K50","v":80},{"$f":"Pengetahuan!L50","v":80},{"$f":"Pengetahuan!N50","v":80},{"$f":"Pengetahuan!O50","v":80},{"$f":"Pengetahuan!P50","v":75},{"$f":"Pengetahuan!Q50","v":75},{"$f":"Pengetahuan!R50","v":77.5},{"$f":"Pengetahuan!S50","v":3.1},{"$f":"Pengetahuan!T50","v":"B"},null,{"$f":"Ketrampilan!C50","v":80},{"$f":"Ketrampilan!D50","v":80},{"$f":"Ketrampilan!E50","v":80},{"$f":"Ketrampilan!G50","v":80},{"$f":"Ketrampilan!H50","v":80},{"$f":"Ketrampilan!I50","v":0},{"$f":"Ketrampilan!J50","v":0},{"$f":"Ketrampilan!K50","v":80},{"$f":"Ketrampilan!L50","v":80},{"$f":"Ketrampilan!M50","v":0},{"$f":"Ketrampilan!N50","v":80},{"$f":"Ketrampilan!O50","v":80},{"$f":"Ketrampilan!P50","v":3.2},{"$f":"Ketrampilan!Q50","v":"B+"},null,{"$f":"Sikap!C43","v":3},{"$f":"Sikap!D43","v":3},{"$f":"Sikap!E43","v":3},{"$f":"Sikap!F43","v":3},{"$f":"Sikap!G43","v":3},{"$f":"Sikap!H43","v":3},{"$f":"Sikap!I43","v":3},{"$f":"Sikap!J43","v":3},{"$f":"Sikap!K43","v":3},{"$f":"Sikap!L43","v":3},{"$f":"Sikap!M43","v":3},{"$f":"Sikap!N43","v":"B"}]
[null,null,null,null,null,null,null,null,31,{"$f":"'Data '!D57","v":"SHALSABILA  SHINTA NIRMALA"},{"$f":"'Data '!B57","v":9275},{"$f":"Pengetahuan!C51","v":80},{"$f":"Pengetahuan!D51","v":80},{"$f":"Pengetahuan!E51","v":80},{"$f":"Pengetahuan!F51","v":80},{"$f":"Pengetahuan!H51","v":80},{"$f":"Pengetahuan!I51","v":80},{"$f":"Pengetahuan!J51","v":80},{"$f":"Pengetahuan!K51","v":80},{"$f":"Pengetahuan!L51","v":80},{"$f":"Pengetahuan!N51","v":80},{"$f":"Pengetahuan!O51","v":80},{"$f":"Pengetahuan!P51","v":75},{"$f":"Pengetahuan!Q51","v":75},{"$f":"Pengetahuan!R51","v":77.5},{"$f":"Pengetahuan!S51","v":3.1},{"$f":"Pengetahuan!T51","v":"B"},null,{"$f":"Ketrampilan!C51","v":80},{"$f":"Ketrampilan!D51","v":80},{"$f":"Ketrampilan!E51","v":80},{"$f":"Ketrampilan!G51","v":80},{"$f":"Ketrampilan!H51","v":80},{"$f":"Ketrampilan!I51","v":0},{"$f":"Ketrampilan!J51","v":0},{"$f":"Ketrampilan!K51","v":80},{"$f":"Ketrampilan!L51","v":80},{"$f":"Ketrampilan!M51","v":0},{"$f":"Ketrampilan!N51","v":80},{"$f":"Ketrampilan!O51","v":80},{"$f":"Ketrampilan!P51","v":3.2},{"$f":"Ketrampilan!Q51","v":"B+"},null,{"$f":"Sikap!C44","v":3},{"$f":"Sikap!D44","v":3},{"$f":"Sikap!E44","v":3},{"$f":"Sikap!F44","v":3},{"$f":"Sikap!G44","v":3},{"$f":"Sikap!H44","v":3},{"$f":"Sikap!I44","v":3},{"$f":"Sikap!J44","v":3},{"$f":"Sikap!K44","v":3},{"$f":"Sikap!L44","v":3},{"$f":"Sikap!M44","v":3},{"$f":"Sikap!N44","v":"B"}]
[null,null,null,null,null,null,null,null,32,{"$f":"'Data '!D58","v":"SITI CHOIRIATUS SA'ADAH"},{"$f":"'Data '!B58","v":9281},{"$f":"Pengetahuan!C52","v":80},{"$f":"Pengetahuan!D52","v":80},{"$f":"Pengetahuan!E52","v":80},{"$f":"Pengetahuan!F52","v":80},{"$f":"Pengetahuan!H52","v":80},{"$f":"Pengetahuan!I52","v":80},{"$f":"Pengetahuan!J52","v":80},{"$f":"Pengetahuan!K52","v":80},{"$f":"Pengetahuan!L52","v":80},{"$f":"Pengetahuan!N52","v":80},{"$f":"Pengetahuan!O52","v":80},{"$f":"Pengetahuan!P52","v":75},{"$f":"Pengetahuan!Q52","v":75},{"$f":"Pengetahuan!R52","v":77.5},{"$f":"Pengetahuan!S52","v":3.1},{"$f":"Pengetahuan!T52","v":"B"},null,{"$f":"Ketrampilan!C52","v":80},{"$f":"Ketrampilan!D52","v":80},{"$f":"Ketrampilan!E52","v":80},{"$f":"Ketrampilan!G52","v":80},{"$f":"Ketrampilan!H52","v":80},{"$f":"Ketrampilan!I52","v":0},{"$f":"Ketrampilan!J52","v":0},{"$f":"Ketrampilan!K52","v":80},{"$f":"Ketrampilan!L52","v":80},{"$f":"Ketrampilan!M52","v":0},{"$f":"Ketrampilan!N52","v":80},{"$f":"Ketrampilan!O52","v":80},{"$f":"Ketrampilan!P52","v":3.2},{"$f":"Ketrampilan!Q52","v":"B+"},null,{"$f":"Sikap!C45","v":3},{"$f":"Sikap!D45","v":3},{"$f":"Sikap!E45","v":3},{"$f":"Sikap!F45","v":3},{"$f":"Sikap!G45","v":3},{"$f":"Sikap!H45","v":3},{"$f":"Sikap!I45","v":3},{"$f":"Sikap!J45","v":3},{"$f":"Sikap!K45","v":3},{"$f":"Sikap!L45","v":3},{"$f":"Sikap!M45","v":3},{"$f":"Sikap!N45","v":"B"}]
[null,null,null,null,null,null,null,null,33,{"$f":"'Data '!D59","v":"SITI NURFAN AZIZAH"},{"$f":"'Data '!B59","v":9284},{"$f":"Pengetahuan!C53","v":80},{"$f":"Pengetahuan!D53","v":80},{"$f":"Pengetahuan!E53","v":80},{"$f":"Pengetahuan!F53","v":80},{"$f":"Pengetahuan!H53","v":80},{"$f":"Pengetahuan!I53","v":80},{"$f":"Pengetahuan!J53","v":80},{"$f":"Pengetahuan!K53","v":80},{"$f":"Pengetahuan!L53","v":80},{"$f":"Pengetahuan!N53","v":80},{"$f":"Pengetahuan!O53","v":80},{"$f":"Pengetahuan!P53","v":75},{"$f":"Pengetahuan!Q53","v":75},{"$f":"Pengetahuan!R53","v":77.5},{"$f":"Pengetahuan!S53","v":3.1},{"$f":"Pengetahuan!T53","v":"B"},null,{"$f":"Ketrampilan!C53","v":80},{"$f":"Ketrampilan!D53","v":80},{"$f":"Ketrampilan!E53","v":80},{"$f":"Ketrampilan!G53","v":80},{"$f":"Ketrampilan!H53","v":80},{"$f":"Ketrampilan!I53","v":0},{"$f":"Ketrampilan!J53","v":0},{"$f":"Ketrampilan!K53","v":80},{"$f":"Ketrampilan!L53","v":80},{"$f":"Ketrampilan!M53","v":0},{"$f":"Ketrampilan!N53","v":80},{"$f":"Ketrampilan!O53","v":80},{"$f":"Ketrampilan!P53","v":3.2},{"$f":"Ketrampilan!Q53","v":"B+"},null,{"$f":"Sikap!C46","v":3},{"$f":"Sikap!D46","v":3},{"$f":"Sikap!E46","v":3},{"$f":"Sikap!F46","v":3},{"$f":"Sikap!G46","v":3},{"$f":"Sikap!H46","v":3},{"$f":"Sikap!I46","v":3},{"$f":"Sikap!J46","v":3},{"$f":"Sikap!K46","v":3},{"$f":"Sikap!L46","v":3},{"$f":"Sikap!M46","v":3},{"$f":"Sikap!N46","v":"B"}]
[null,null,null,null,null,null,null,null,34,{"$f":"'Data '!D60","v":"SITI RAHAYU"},{"$f":"'Data '!B60","v":9286},{"$f":"Pengetahuan!C54","v":80},{"$f":"Pengetahuan!D54","v":80},{"$f":"Pengetahuan!E54","v":80},{"$f":"Pengetahuan!F54","v":80},{"$f":"Pengetahuan!H54","v":80},{"$f":"Pengetahuan!I54","v":80},{"$f":"Pengetahuan!J54","v":80},{"$f":"Pengetahuan!K54","v":80},{"$f":"Pengetahuan!L54","v":80},{"$f":"Pengetahuan!N54","v":80},{"$f":"Pengetahuan!O54","v":80},{"$f":"Pengetahuan!P54","v":75},{"$f":"Pengetahuan!Q54","v":75},{"$f":"Pengetahuan!R54","v":77.5},{"$f":"Pengetahuan!S54","v":3.1},{"$f":"Pengetahuan!T54","v":"B"},null,{"$f":"Ketrampilan!C54","v":80},{"$f":"Ketrampilan!D54","v":80},{"$f":"Ketrampilan!E54","v":80},{"$f":"Ketrampilan!G54","v":80},{"$f":"Ketrampilan!H54","v":80},{"$f":"Ketrampilan!I54","v":0},{"$f":"Ketrampilan!J54","v":0},{"$f":"Ketrampilan!K54","v":80},{"$f":"Ketrampilan!L54","v":80},{"$f":"Ketrampilan!M54","v":0},{"$f":"Ketrampilan!N54","v":80},{"$f":"Ketrampilan!O54","v":80},{"$f":"Ketrampilan!P54","v":3.2},{"$f":"Ketrampilan!Q54","v":"B+"},null,{"$f":"Sikap!C47","v":3},{"$f":"Sikap!D47","v":3},{"$f":"Sikap!E47","v":3},{"$f":"Sikap!F47","v":3},{"$f":"Sikap!G47","v":3},{"$f":"Sikap!H47","v":3},{"$f":"Sikap!I47","v":3},{"$f":"Sikap!J47","v":3},{"$f":"Sikap!K47","v":3},{"$f":"Sikap!L47","v":3},{"$f":"Sikap!M47","v":3},{"$f":"Sikap!N47","v":"B"}]
[null,null,null,null,null,null,null,null,35,{"$f":"'Data '!D61","v":"STEVIANA PUSPITA SARI"},{"$f":"'Data '!B61","v":9289},{"$f":"Pengetahuan!C55","v":80},{"$f":"Pengetahuan!D55","v":80},{"$f":"Pengetahuan!E55","v":80},{"$f":"Pengetahuan!F55","v":80},{"$f":"Pengetahuan!H55","v":80},{"$f":"Pengetahuan!I55","v":80},{"$f":"Pengetahuan!J55","v":80},{"$f":"Pengetahuan!K55","v":80},{"$f":"Pengetahuan!L55","v":80},{"$f":"Pengetahuan!N55","v":80},{"$f":"Pengetahuan!O55","v":80},{"$f":"Pengetahuan!P55","v":75},{"$f":"Pengetahuan!Q55","v":75},{"$f":"Pengetahuan!R55","v":77.5},{"$f":"Pengetahuan!S55","v":3.1},{"$f":"Pengetahuan!T55","v":"B"},null,{"$f":"Ketrampilan!C55","v":80},{"$f":"Ketrampilan!D55","v":80},{"$f":"Ketrampilan!E55","v":80},{"$f":"Ketrampilan!G55","v":80},{"$f":"Ketrampilan!H55","v":80},{"$f":"Ketrampilan!I55","v":0},{"$f":"Ketrampilan!J55","v":0},{"$f":"Ketrampilan!K55","v":80},{"$f":"Ketrampilan!L55","v":80},{"$f":"Ketrampilan!M55","v":0},{"$f":"Ketrampilan!N55","v":80},{"$f":"Ketrampilan!O55","v":80},{"$f":"Ketrampilan!P55","v":3.2},{"$f":"Ketrampilan!Q55","v":"B+"},null,{"$f":"Sikap!C48","v":3},{"$f":"Sikap!D48","v":3},{"$f":"Sikap!E48","v":3},{"$f":"Sikap!F48","v":3},{"$f":"Sikap!G48","v":3},{"$f":"Sikap!H48","v":3},{"$f":"Sikap!I48","v":3},{"$f":"Sikap!J48","v":3},{"$f":"Sikap!K48","v":3},{"$f":"Sikap!L48","v":3},{"$f":"Sikap!M48","v":3},{"$f":"Sikap!N48","v":"B"}]
[null,null,null,null,null,null,null,null,36,{"$f":"'Data '!D62","v":"TAN LINGGAR PRAMUDITA"},{"$f":"'Data '!B62","v":9290},{"$f":"Pengetahuan!C56","v":80},{"$f":"Pengetahuan!D56","v":80},{"$f":"Pengetahuan!E56","v":80},{"$f":"Pengetahuan!F56","v":80},{"$f":"Pengetahuan!H56","v":80},{"$f":"Pengetahuan!I56","v":80},{"$f":"Pengetahuan!J56","v":80},{"$f":"Pengetahuan!K56","v":80},{"$f":"Pengetahuan!L56","v":80},{"$f":"Pengetahuan!N56","v":80},{"$f":"Pengetahuan!O56","v":80},{"$f":"Pengetahuan!P56","v":75},{"$f":"Pengetahuan!Q56","v":75},{"$f":"Pengetahuan!R56","v":77.5},{"$f":"Pengetahuan!S56","v":3.1},{"$f":"Pengetahuan!T56","v":"B"},null,{"$f":"Ketrampilan!C56","v":80},{"$f":"Ketrampilan!D56","v":80},{"$f":"Ketrampilan!E56","v":80},{"$f":"Ketrampilan!G56","v":80},{"$f":"Ketrampilan!H56","v":80},{"$f":"Ketrampilan!I56","v":0},{"$f":"Ketrampilan!J56","v":0},{"$f":"Ketrampilan!K56","v":80},{"$f":"Ketrampilan!L56","v":80},{"$f":"Ketrampilan!M56","v":0},{"$f":"Ketrampilan!N56","v":80},{"$f":"Ketrampilan!O56","v":80},{"$f":"Ketrampilan!P56","v":3.2},{"$f":"Ketrampilan!Q56","v":"B+"},null,{"$f":"Sikap!C49","v":3},{"$f":"Sikap!D49","v":3},{"$f":"Sikap!E49","v":3},{"$f":"Sikap!F49","v":3},{"$f":"Sikap!G49","v":3},{"$f":"Sikap!H49","v":3},{"$f":"Sikap!I49","v":3},{"$f":"Sikap!J49","v":3},{"$f":"Sikap!K49","v":3},{"$f":"Sikap!L49","v":3},{"$f":"Sikap!M49","v":3},{"$f":"Sikap!N49","v":"B"}]
[null,null,null,null,null,null,null,null,37,{"$f":"'Data '!D63","v":"TAUFIK NUR AZIZ DANUARTA"},{"$f":"'Data '!B63","v":9291},{"$f":"Pengetahuan!C57","v":80},{"$f":"Pengetahuan!D57","v":80},{"$f":"Pengetahuan!E57","v":80},{"$f":"Pengetahuan!F57","v":80},{"$f":"Pengetahuan!H57","v":80},{"$f":"Pengetahuan!I57","v":80},{"$f":"Pengetahuan!J57","v":80},{"$f":"Pengetahuan!K57","v":80},{"$f":"Pengetahuan!L57","v":80},{"$f":"Pengetahuan!N57","v":80},{"$f":"Pengetahuan!O57","v":80},{"$f":"Pengetahuan!P57","v":75},{"$f":"Pengetahuan!Q57","v":75},{"$f":"Pengetahuan!R57","v":77.5},{"$f":"Pengetahuan!S57","v":3.1},{"$f":"Pengetahuan!T57","v":"B"},null,{"$f":"Ketrampilan!C57","v":80},{"$f":"Ketrampilan!D57","v":80},{"$f":"Ketrampilan!E57","v":80},{"$f":"Ketrampilan!G57","v":80},{"$f":"Ketrampilan!H57","v":80},{"$f":"Ketrampilan!I57","v":0},{"$f":"Ketrampilan!J57","v":0},{"$f":"Ketrampilan!K57","v":80},{"$f":"Ketrampilan!L57","v":80},{"$f":"Ketrampilan!M57","v":0},{"$f":"Ketrampilan!N57","v":80},{"$f":"Ketrampilan!O57","v":80},{"$f":"Ketrampilan!P57","v":3.2},{"$f":"Ketrampilan!Q57","v":"B+"},null,{"$f":"Sikap!C50","v":3},{"$f":"Sikap!D50","v":3},{"$f":"Sikap!E50","v":3},{"$f":"Sikap!F50","v":3},{"$f":"Sikap!G50","v":3},{"$f":"Sikap!H50","v":3},{"$f":"Sikap!I50","v":3},{"$f":"Sikap!J50","v":3},{"$f":"Sikap!K50","v":3},{"$f":"Sikap!L50","v":3},{"$f":"Sikap!M50","v":3},{"$f":"Sikap!N50","v":"B"}]
[null,null,null,null,null,null,null,null,38,{"$f":"'Data '!D64","v":"TIARA PUTRI AYUNINGTIAS"},{"$f":"'Data '!B64","v":9293},{"$f":"Pengetahuan!C58","v":80},{"$f":"Pengetahuan!D58","v":80},{"$f":"Pengetahuan!E58","v":80},{"$f":"Pengetahuan!F58","v":80},{"$f":"Pengetahuan!H58","v":80},{"$f":"Pengetahuan!I58","v":80},{"$f":"Pengetahuan!J58","v":80},{"$f":"Pengetahuan!K58","v":80},{"$f":"Pengetahuan!L58","v":80},{"$f":"Pengetahuan!N58","v":80},{"$f":"Pengetahuan!O58","v":80},{"$f":"Pengetahuan!P58","v":75},{"$f":"Pengetahuan!Q58","v":75},{"$f":"Pengetahuan!R58","v":77.5},{"$f":"Pengetahuan!S58","v":3.1},{"$f":"Pengetahuan!T58","v":"B"},null,{"$f":"Ketrampilan!C58","v":80},{"$f":"Ketrampilan!D58","v":80},{"$f":"Ketrampilan!E58","v":80},{"$f":"Ketrampilan!G58","v":80},{"$f":"Ketrampilan!H58","v":80},{"$f":"Ketrampilan!I58","v":0},{"$f":"Ketrampilan!J58","v":0},{"$f":"Ketrampilan!K58","v":80},{"$f":"Ketrampilan!L58","v":80},{"$f":"Ketrampilan!M58","v":0},{"$f":"Ketrampilan!N58","v":80},{"$f":"Ketrampilan!O58","v":80},{"$f":"Ketrampilan!P58","v":3.2},{"$f":"Ketrampilan!Q58","v":"B+"},null,{"$f":"Sikap!C51","v":3},{"$f":"Sikap!D51","v":3},{"$f":"Sikap!E51","v":3},{"$f":"Sikap!F51","v":3},{"$f":"Sikap!G51","v":3},{"$f":"Sikap!H51","v":3},{"$f":"Sikap!I51","v":3},{"$f":"Sikap!J51","v":3},{"$f":"Sikap!K51","v":3},{"$f":"Sikap!L51","v":3},{"$f":"Sikap!M51","v":3},{"$f":"Sikap!N51","v":"B"}]
[null,null,null,null,null,null,null,null,39,{"$f":"'Data '!D65","v":"TITANIA GAYATRI PRIANJANI"},{"$f":"'Data '!B65","v":9294},{"$f":"Pengetahuan!C59","v":80},{"$f":"Pengetahuan!D59","v":80},{"$f":"Pengetahuan!E59","v":80},{"$f":"Pengetahuan!F59","v":80},{"$f":"Pengetahuan!H59","v":80},{"$f":"Pengetahuan!I59","v":80},{"$f":"Pengetahuan!J59","v":80},{"$f":"Pengetahuan!K59","v":80},{"$f":"Pengetahuan!L59","v":80},{"$f":"Pengetahuan!N59","v":80},{"$f":"Pengetahuan!O59","v":80},{"$f":"Pengetahuan!P59","v":75},{"$f":"Pengetahuan!Q59","v":75},{"$f":"Pengetahuan!R59","v":77.5},{"$f":"Pengetahuan!S59","v":3.1},{"$f":"Pengetahuan!T59","v":"B"},null,{"$f":"Ketrampilan!C59","v":80},{"$f":"Ketrampilan!D59","v":80},{"$f":"Ketrampilan!E59","v":80},{"$f":"Ketrampilan!G59","v":80},{"$f":"Ketrampilan!H59","v":80},{"$f":"Ketrampilan!I59","v":0},{"$f":"Ketrampilan!J59","v":0},{"$f":"Ketrampilan!K59","v":80},{"$f":"Ketrampilan!L59","v":80},{"$f":"Ketrampilan!M59","v":0},{"$f":"Ketrampilan!N59","v":80},{"$f":"Ketrampilan!O59","v":80},{"$f":"Ketrampilan!P59","v":3.2},{"$f":"Ketrampilan!Q59","v":"B+"},null,{"$f":"Sikap!C52","v":3},{"$f":"Sikap!D52","v":3},{"$f":"Sikap!E52","v":3},{"$f":"Sikap!F52","v":3},{"$f":"Sikap!G52","v":3},{"$f":"Sikap!H52","v":3},{"$f":"Sikap!I52","v":3},{"$f":"Sikap!J52","v":3},{"$f":"Sikap!K52","v":3},{"$f":"Sikap!L52","v":3},{"$f":"Sikap!M52","v":3},{"$f":"Sikap!N52","v":"B"}]
[null,null,null,null,null,null,null,null,40,{"$f":"'Data '!D66","v":"ULFATUN NI'MAH"},{"$f":"'Data '!B66","v":9296},{"$f":"Pengetahuan!C60","v":80},{"$f":"Pengetahuan!D60","v":80},{"$f":"Pengetahuan!E60","v":80},{"$f":"Pengetahuan!F60","v":80},{"$f":"Pengetahuan!H60","v":80},{"$f":"Pengetahuan!I60","v":80},{"$f":"Pengetahuan!J60","v":80},{"$f":"Pengetahuan!K60","v":80},{"$f":"Pengetahuan!L60","v":80},{"$f":"Pengetahuan!N60","v":80},{"$f":"Pengetahuan!O60","v":80},{"$f":"Pengetahuan!P60","v":75},{"$f":"Pengetahuan!Q60","v":75},{"$f":"Pengetahuan!R60","v":77.5},{"$f":"Pengetahuan!S60","v":3.1},{"$f":"Pengetahuan!T60","v":"B"},null,{"$f":"Ketrampilan!C60","v":80},{"$f":"Ketrampilan!D60","v":80},{"$f":"Ketrampilan!E60","v":80},{"$f":"Ketrampilan!G60","v":80},{"$f":"Ketrampilan!H60","v":80},{"$f":"Ketrampilan!I60","v":0},{"$f":"Ketrampilan!J60","v":0},{"$f":"Ketrampilan!K60","v":80},{"$f":"Ketrampilan!L60","v":80},{"$f":"Ketrampilan!M60","v":0},{"$f":"Ketrampilan!N60","v":80},{"$f":"Ketrampilan!O60","v":80},{"$f":"Ketrampilan!P60","v":3.2},{"$f":"Ketrampilan!Q60","v":"B+"},null,{"$f":"Sikap!C53","v":3},{"$f":"Sikap!D53","v":3},{"$f":"Sikap!E53","v":3},{"$f":"Sikap!F53","v":3},{"$f":"Sikap!G53","v":3},{"$f":"Sikap!H53","v":3},{"$f":"Sikap!I53","v":3},{"$f":"Sikap!J53","v":3},{"$f":"Sikap!K53","v":3},{"$f":"Sikap!L53","v":3},{"$f":"Sikap!M53","v":3},{"$f":"Sikap!N53","v":"B"}]
[null,null,null,null,null,null,null,null,41,{"$f":"'Data '!D67","v":0},{"$f":"'Data '!B67","v":0},{"$f":"Pengetahuan!C61","v":0},{"$f":"Pengetahuan!D61","v":0},{"$f":"Pengetahuan!E61","v":0},{"$f":"Pengetahuan!F61","v":0},{"$f":"Pengetahuan!H61","v":""},{"$f":"Pengetahuan!I61","v":0},{"$f":"Pengetahuan!J61","v":0},{"$f":"Pengetahuan!K61","v":0},{"$f":"Pengetahuan!L61","v":0},{"$f":"Pengetahuan!N61","v":""},{"$f":"Pengetahuan!O61","v":""},{"$f":"Pengetahuan!P61","v":0},{"$f":"Pengetahuan!Q61","v":0},{"$f":"Pengetahuan!R61","v":""},{"$f":"Pengetahuan!S61","v":""},{"$f":"Pengetahuan!T61","v":""},null,{"$f":"Ketrampilan!C61","v":0},{"$f":"Ketrampilan!D61","v":0},{"$f":"Ketrampilan!E61","v":0},{"$f":"Ketrampilan!G61","v":0},{"$f":"Ketrampilan!H61","v":0},{"$f":"Ketrampilan!I61","v":0},{"$f":"Ketrampilan!J61","v":0},{"$f":"Ketrampilan!K61","v":0},{"$f":"Ketrampilan!L61","v":0},{"$f":"Ketrampilan!M61","v":0},{"$f":"Ketrampilan!N61","v":0},{"$f":"Ketrampilan!O61","v":0},{"$f":"Ketrampilan!P61","v":0},{"$f":"Ketrampilan!Q61","v":"D"},null,{"$f":"Sikap!C54","v":""},{"$f":"Sikap!D54","v":""},{"$f":"Sikap!E54","v":""},{"$f":"Sikap!F54","v":""},{"$f":"Sikap!G54","v":""},{"$f":"Sikap!H54","v":""},{"$f":"Sikap!I54","v":""},{"$f":"Sikap!J54","v":""},{"$f":"Sikap!K54","v":""},{"$f":"Sikap!L54","v":""},{"$f":"Sikap!M54","v":""},{"$f":"Sikap!N54","v":"SB"}]
[null,null,null,null,null,null,null,null,42,{"$f":"'Data '!D68","v":0},{"$f":"'Data '!B68","v":0},{"$f":"Pengetahuan!C62","v":0},{"$f":"Pengetahuan!D62","v":0},{"$f":"Pengetahuan!E62","v":0},{"$f":"Pengetahuan!F62","v":0},{"$f":"Pengetahuan!H62","v":""},{"$f":"Pengetahuan!I62","v":0},{"$f":"Pengetahuan!J62","v":0},{"$f":"Pengetahuan!K62","v":0},{"$f":"Pengetahuan!L62","v":0},{"$f":"Pengetahuan!N62","v":""},{"$f":"Pengetahuan!O62","v":""},{"$f":"Pengetahuan!P62","v":0},{"$f":"Pengetahuan!Q62","v":0},{"$f":"Pengetahuan!R62","v":""},{"$f":"Pengetahuan!S62","v":""},{"$f":"Pengetahuan!T62","v":""},null,{"$f":"Ketrampilan!C62","v":0},{"$f":"Ketrampilan!D62","v":0},{"$f":"Ketrampilan!E62","v":0},{"$f":"Ketrampilan!G62","v":0},{"$f":"Ketrampilan!H62","v":0},{"$f":"Ketrampilan!I62","v":0},{"$f":"Ketrampilan!J62","v":0},{"$f":"Ketrampilan!K62","v":0},{"$f":"Ketrampilan!L62","v":0},{"$f":"Ketrampilan!M62","v":0},{"$f":"Ketrampilan!N62","v":0},{"$f":"Ketrampilan!O62","v":0},{"$f":"Ketrampilan!P62","v":0},{"$f":"Ketrampilan!Q62","v":"D"},null,{"$f":"Sikap!C55","v":""},{"$f":"Sikap!D55","v":""},{"$f":"Sikap!E55","v":""},{"$f":"Sikap!F55","v":""},{"$f":"Sikap!G55","v":""},{"$f":"Sikap!H55","v":""},{"$f":"Sikap!I55","v":""},{"$f":"Sikap!J55","v":""},{"$f":"Sikap!K55","v":""},{"$f":"Sikap!L55","v":""},{"$f":"Sikap!M55","v":""},{"$f":"Sikap!N55","v":"SB"}]
[null,null,null,null,null,null,null,null,43,{"$f":"'Data '!D69","v":0},{"$f":"'Data '!B69","v":0},{"$f":"Pengetahuan!C63","v":0},{"$f":"Pengetahuan!D63","v":0},{"$f":"Pengetahuan!E63","v":0},{"$f":"Pengetahuan!F63","v":0},{"$f":"Pengetahuan!H63","v":""},{"$f":"Pengetahuan!I63","v":0},{"$f":"Pengetahuan!J63","v":0},{"$f":"Pengetahuan!K63","v":0},{"$f":"Pengetahuan!L63","v":0},{"$f":"Pengetahuan!N63","v":""},{"$f":"Pengetahuan!O63","v":""},{"$f":"Pengetahuan!P63","v":0},{"$f":"Pengetahuan!Q63","v":0},{"$f":"Pengetahuan!R63","v":""},{"$f":"Pengetahuan!S63","v":""},{"$f":"Pengetahuan!T63","v":""},null,{"$f":"Ketrampilan!C63","v":0},{"$f":"Ketrampilan!D63","v":0},{"$f":"Ketrampilan!E63","v":0},{"$f":"Ketrampilan!G63","v":0},{"$f":"Ketrampilan!H63","v":0},{"$f":"Ketrampilan!I63","v":0},{"$f":"Ketrampilan!J63","v":0},{"$f":"Ketrampilan!K63","v":0},{"$f":"Ketrampilan!L63","v":0},{"$f":"Ketrampilan!M63","v":0},{"$f":"Ketrampilan!N63","v":0},{"$f":"Ketrampilan!O63","v":0},{"$f":"Ketrampilan!P63","v":0},{"$f":"Ketrampilan!Q63","v":"D"},null,{"$f":"Sikap!C56","v":""},{"$f":"Sikap!D56","v":""},{"$f":"Sikap!E56","v":""},{"$f":"Sikap!F56","v":""},{"$f":"Sikap!G56","v":""},{"$f":"Sikap!H56","v":""},{"$f":"Sikap!I56","v":""},{"$f":"Sikap!J56","v":""},{"$f":"Sikap!K56","v":""},{"$f":"Sikap!L56","v":""},{"$f":"Sikap!M56","v":""},{"$f":"Sikap!N56","v":"SB"}]
[null,null,null,null,null,null,null,null,44,{"$f":"'Data '!D70","v":0},{"$f":"'Data '!B70","v":0},{"$f":"Pengetahuan!C64","v":0},{"$f":"Pengetahuan!D64","v":0},{"$f":"Pengetahuan!E64","v":0},{"$f":"Pengetahuan!F64","v":0},{"$f":"Pengetahuan!H64","v":""},{"$f":"Pengetahuan!I64","v":0},{"$f":"Pengetahuan!J64","v":0},{"$f":"Pengetahuan!K64","v":0},{"$f":"Pengetahuan!L64","v":0},{"$f":"Pengetahuan!N64","v":""},{"$f":"Pengetahuan!O64","v":""},{"$f":"Pengetahuan!P64","v":0},{"$f":"Pengetahuan!Q64","v":0},{"$f":"Pengetahuan!R64","v":""},{"$f":"Pengetahuan!S64","v":""},{"$f":"Pengetahuan!T64","v":""},null,{"$f":"Ketrampilan!C64","v":0},{"$f":"Ketrampilan!D64","v":0},{"$f":"Ketrampilan!E64","v":0},{"$f":"Ketrampilan!G64","v":0},{"$f":"Ketrampilan!H64","v":0},{"$f":"Ketrampilan!I64","v":0},{"$f":"Ketrampilan!J64","v":0},{"$f":"Ketrampilan!K64","v":0},{"$f":"Ketrampilan!L64","v":0},{"$f":"Ketrampilan!M64","v":0},{"$f":"Ketrampilan!N64","v":0},{"$f":"Ketrampilan!O64","v":0},{"$f":"Ketrampilan!P64","v":0},{"$f":"Ketrampilan!Q64","v":"D"},null,{"$f":"Sikap!C57","v":""},{"$f":"Sikap!D57","v":""},{"$f":"Sikap!E57","v":""},{"$f":"Sikap!F57","v":""},{"$f":"Sikap!G57","v":""},{"$f":"Sikap!H57","v":""},{"$f":"Sikap!I57","v":""},{"$f":"Sikap!J57","v":""},{"$f":"Sikap!K57","v":""},{"$f":"Sikap!L57","v":""},{"$f":"Sikap!M57","v":""},{"$f":"Sikap!N57","v":"SB"}]
[null,null,null,null,null,null,null,null,45,{"$f":"'Data '!D71","v":0},{"$f":"'Data '!B71","v":0},{"$f":"Pengetahuan!C65","v":0},{"$f":"Pengetahuan!D65","v":0},{"$f":"Pengetahuan!E65","v":0},{"$f":"Pengetahuan!F65","v":0},{"$f":"Pengetahuan!H65","v":""},{"$f":"Pengetahuan!I65","v":0},{"$f":"Pengetahuan!J65","v":0},{"$f":"Pengetahuan!K65","v":0},{"$f":"Pengetahuan!L65","v":0},{"$f":"Pengetahuan!N65","v":""},{"$f":"Pengetahuan!O65","v":""},{"$f":"Pengetahuan!P65","v":0},{"$f":"Pengetahuan!Q65","v":0},{"$f":"Pengetahuan!R65","v":""},{"$f":"Pengetahuan!S65","v":""},{"$f":"Pengetahuan!T65","v":""},null,{"$f":"Ketrampilan!C65","v":0},{"$f":"Ketrampilan!D65","v":0},{"$f":"Ketrampilan!E65","v":0},{"$f":"Ketrampilan!G65","v":0},{"$f":"Ketrampilan!H65","v":0},{"$f":"Ketrampilan!I65","v":0},{"$f":"Ketrampilan!J65","v":0},{"$f":"Ketrampilan!K65","v":0},{"$f":"Ketrampilan!L65","v":0},{"$f":"Ketrampilan!M65","v":0},{"$f":"Ketrampilan!N65","v":0},{"$f":"Ketrampilan!O65","v":0},{"$f":"Ketrampilan!P65","v":0},{"$f":"Ketrampilan!Q65","v":"D"},null,{"$f":"Sikap!C58","v":""},{"$f":"Sikap!D58","v":""},{"$f":"Sikap!E58","v":""},{"$f":"Sikap!F58","v":""},{"$f":"Sikap!G58","v":""},{"$f":"Sikap!H58","v":""},{"$f":"Sikap!I58","v":""},{"$f":"Sikap!J58","v":""},{"$f":"Sikap!K58","v":""},{"$f":"Sikap!L58","v":""},{"$f":"Sikap!M58","v":""},{"$f":"Sikap!N58","v":"SB"}]
[null,null,null,null,null,null,null,null,46,{"$f":"'Data '!D72","v":0},{"$f":"'Data '!B72","v":0},{"$f":"Pengetahuan!C66","v":0},{"$f":"Pengetahuan!D66","v":0},{"$f":"Pengetahuan!E66","v":0},{"$f":"Pengetahuan!F66","v":0},{"$f":"Pengetahuan!H66","v":""},{"$f":"Pengetahuan!I66","v":0},{"$f":"Pengetahuan!J66","v":0},{"$f":"Pengetahuan!K66","v":0},{"$f":"Pengetahuan!L66","v":0},{"$f":"Pengetahuan!N66","v":""},{"$f":"Pengetahuan!O66","v":""},{"$f":"Pengetahuan!P66","v":0},{"$f":"Pengetahuan!Q66","v":0},{"$f":"Pengetahuan!R66","v":""},{"$f":"Pengetahuan!S66","v":""},{"$f":"Pengetahuan!T66","v":""},null,{"$f":"Ketrampilan!C66","v":0},{"$f":"Ketrampilan!D66","v":0},{"$f":"Ketrampilan!E66","v":0},{"$f":"Ketrampilan!G66","v":0},{"$f":"Ketrampilan!H66","v":0},{"$f":"Ketrampilan!I66","v":0},{"$f":"Ketrampilan!J66","v":0},{"$f":"Ketrampilan!K66","v":0},{"$f":"Ketrampilan!L66","v":0},{"$f":"Ketrampilan!M66","v":0},{"$f":"Ketrampilan!N66","v":0},{"$f":"Ketrampilan!O66","v":0},{"$f":"Ketrampilan!P66","v":0},{"$f":"Ketrampilan!Q66","v":"D"},null,{"$f":"Sikap!C59","v":""},{"$f":"Sikap!D59","v":""},{"$f":"Sikap!E59","v":""},{"$f":"Sikap!F59","v":""},{"$f":"Sikap!G59","v":""},{"$f":"Sikap!H59","v":""},{"$f":"Sikap!I59","v":""},{"$f":"Sikap!J59","v":""},{"$f":"Sikap!K59","v":""},{"$f":"Sikap!L59","v":""},{"$f":"Sikap!M59","v":""},{"$f":"Sikap!N59","v":"SB"}]
[null,null,null,null,null,null,null,null,47,{"$f":"'Data '!D73","v":0},{"$f":"'Data '!B73","v":0},{"$f":"Pengetahuan!C67","v":0},{"$f":"Pengetahuan!D67","v":0},{"$f":"Pengetahuan!E67","v":0},{"$f":"Pengetahuan!F67","v":0},{"$f":"Pengetahuan!H67","v":""},{"$f":"Pengetahuan!I67","v":0},{"$f":"Pengetahuan!J67","v":0},{"$f":"Pengetahuan!K67","v":0},{"$f":"Pengetahuan!L67","v":0},{"$f":"Pengetahuan!N67","v":""},{"$f":"Pengetahuan!O67","v":""},{"$f":"Pengetahuan!P67","v":0},{"$f":"Pengetahuan!Q67","v":0},{"$f":"Pengetahuan!R67","v":""},{"$f":"Pengetahuan!S67","v":""},{"$f":"Pengetahuan!T67","v":""},null,{"$f":"Ketrampilan!C67","v":0},{"$f":"Ketrampilan!D67","v":0},{"$f":"Ketrampilan!E67","v":0},{"$f":"Ketrampilan!G67","v":0},{"$f":"Ketrampilan!H67","v":0},{"$f":"Ketrampilan!I67","v":0},{"$f":"Ketrampilan!J67","v":0},{"$f":"Ketrampilan!K67","v":0},{"$f":"Ketrampilan!L67","v":0},{"$f":"Ketrampilan!M67","v":0},{"$f":"Ketrampilan!N67","v":0},{"$f":"Ketrampilan!O67","v":0},{"$f":"Ketrampilan!P67","v":0},{"$f":"Ketrampilan!Q67","v":"D"},null,{"$f":"Sikap!C60","v":""},{"$f":"Sikap!D60","v":""},{"$f":"Sikap!E60","v":""},{"$f":"Sikap!F60","v":""},{"$f":"Sikap!G60","v":""},{"$f":"Sikap!H60","v":""},{"$f":"Sikap!I60","v":""},{"$f":"Sikap!J60","v":""},{"$f":"Sikap!K60","v":""},{"$f":"Sikap!L60","v":""},{"$f":"Sikap!M60","v":""},{"$f":"Sikap!N60","v":"SB"}]
[null,null,null,null,null,null,null,null,48,{"$f":"'Data '!D74","v":0},{"$f":"'Data '!B74","v":0},{"$f":"Pengetahuan!C68","v":0},{"$f":"Pengetahuan!D68","v":0},{"$f":"Pengetahuan!E68","v":0},{"$f":"Pengetahuan!F68","v":0},{"$f":"Pengetahuan!H68","v":""},{"$f":"Pengetahuan!I68","v":0},{"$f":"Pengetahuan!J68","v":0},{"$f":"Pengetahuan!K68","v":0},{"$f":"Pengetahuan!L68","v":0},{"$f":"Pengetahuan!N68","v":""},{"$f":"Pengetahuan!O68","v":""},{"$f":"Pengetahuan!P68","v":0},{"$f":"Pengetahuan!Q68","v":0},{"$f":"Pengetahuan!R68","v":""},{"$f":"Pengetahuan!S68","v":""},{"$f":"Pengetahuan!T68","v":""},null,{"$f":"Ketrampilan!C68","v":0},{"$f":"Ketrampilan!D68","v":0},{"$f":"Ketrampilan!E68","v":0},{"$f":"Ketrampilan!G68","v":0},{"$f":"Ketrampilan!H68","v":0},{"$f":"Ketrampilan!I68","v":0},{"$f":"Ketrampilan!J68","v":0},{"$f":"Ketrampilan!K68","v":0},{"$f":"Ketrampilan!L68","v":0},{"$f":"Ketrampilan!M68","v":0},{"$f":"Ketrampilan!N68","v":0},{"$f":"Ketrampilan!O68","v":0},{"$f":"Ketrampilan!P68","v":0},{"$f":"Ketrampilan!Q68","v":"D"},null,{"$f":"Sikap!C61","v":""},{"$f":"Sikap!D61","v":""},{"$f":"Sikap!E61","v":""},{"$f":"Sikap!F61","v":""},{"$f":"Sikap!G61","v":""},{"$f":"Sikap!H61","v":""},{"$f":"Sikap!I61","v":""},{"$f":"Sikap!J61","v":""},{"$f":"Sikap!K61","v":""},{"$f":"Sikap!L61","v":""},{"$f":"Sikap!M61","v":""},{"$f":"Sikap!N61","v":"SB"}]
[null,null,null,null,null,null,null,null,49,{"$f":"'Data '!D75","v":0},{"$f":"'Data '!B75","v":0},{"$f":"Pengetahuan!C69","v":0},{"$f":"Pengetahuan!D69","v":0},{"$f":"Pengetahuan!E69","v":0},{"$f":"Pengetahuan!F69","v":0},{"$f":"Pengetahuan!H69","v":""},{"$f":"Pengetahuan!I69","v":0},{"$f":"Pengetahuan!J69","v":0},{"$f":"Pengetahuan!K69","v":0},{"$f":"Pengetahuan!L69","v":0},{"$f":"Pengetahuan!N69","v":""},{"$f":"Pengetahuan!O69","v":""},{"$f":"Pengetahuan!P69","v":0},{"$f":"Pengetahuan!Q69","v":0},{"$f":"Pengetahuan!R69","v":""},{"$f":"Pengetahuan!S69","v":""},{"$f":"Pengetahuan!T69","v":""},null,{"$f":"Ketrampilan!C69","v":0},{"$f":"Ketrampilan!D69","v":0},{"$f":"Ketrampilan!E69","v":0},{"$f":"Ketrampilan!G69","v":0},{"$f":"Ketrampilan!H69","v":0},{"$f":"Ketrampilan!I69","v":0},{"$f":"Ketrampilan!J69","v":0},{"$f":"Ketrampilan!K69","v":0},{"$f":"Ketrampilan!L69","v":0},{"$f":"Ketrampilan!M69","v":0},{"$f":"Ketrampilan!N69","v":0},{"$f":"Ketrampilan!O69","v":0},{"$f":"Ketrampilan!P69","v":0},{"$f":"Ketrampilan!Q69","v":"D"},null,{"$f":"Sikap!C62","v":""},{"$f":"Sikap!D62","v":""},{"$f":"Sikap!E62","v":""},{"$f":"Sikap!F62","v":""},{"$f":"Sikap!G62","v":""},{"$f":"Sikap!H62","v":""},{"$f":"Sikap!I62","v":""},{"$f":"Sikap!J62","v":""},{"$f":"Sikap!K62","v":""},{"$f":"Sikap!L62","v":""},{"$f":"Sikap!M62","v":""},{"$f":"Sikap!N62","v":"SB"}]
[null,null,null,null,null,null,null,null,50,{"$f":"'Data '!D76","v":0},{"$f":"'Data '!B76","v":0},{"$f":"Pengetahuan!C70","v":67},{"$f":"Pengetahuan!D70","v":0},{"$f":"Pengetahuan!E70","v":0},{"$f":"Pengetahuan!F70","v":0},{"$f":"Pengetahuan!H70","v":67},{"$f":"Pengetahuan!I70","v":90},{"$f":"Pengetahuan!J70","v":0},{"$f":"Pengetahuan!K70","v":0},{"$f":"Pengetahuan!L70","v":0},{"$f":"Pengetahuan!N70","v":90},{"$f":"Pengetahuan!O70","v":78.5},{"$f":"Pengetahuan!P70","v":78},{"$f":"Pengetahuan!Q70","v":90},{"$f":"Pengetahuan!R70","v":81.25},{"$f":"Pengetahuan!S70","v":3.25},{"$f":"Pengetahuan!T70","v":"B+"},null,{"$f":"Ketrampilan!C70","v":56},{"$f":"Ketrampilan!D70","v":8},{"$f":"Ketrampilan!E70","v":0},{"$f":"Ketrampilan!G70","v":56},{"$f":"Ketrampilan!H70","v":90},{"$f":"Ketrampilan!I70","v":0},{"$f":"Ketrampilan!J70","v":0},{"$f":"Ketrampilan!K70","v":90},{"$f":"Ketrampilan!L70","v":78},{"$f":"Ketrampilan!M70","v":0},{"$f":"Ketrampilan!N70","v":78},{"$f":"Ketrampilan!O70","v":70},{"$f":"Ketrampilan!P70","v":2.8},{"$f":"Ketrampilan!Q70","v":"B-"},null,{"$f":"Sikap!C63","v":""},{"$f":"Sikap!D63","v":""},{"$f":"Sikap!E63","v":""},{"$f":"Sikap!F63","v":""},{"$f":"Sikap!G63","v":""},{"$f":"Sikap!H63","v":""},{"$f":"Sikap!I63","v":""},{"$f":"Sikap!J63","v":""},{"$f":"Sikap!K63","v":""},{"$f":"Sikap!L63","v":""},{"$f":"Sikap!M63","v":""},{"$f":"Sikap!N63","v":"SB"}]

{"sheet":"Kriteria","index":2,"n_rows":80,"n_cols":14,"rows_kept":80,"cut":false,"hidden":false,"merged":[[6,1,7,11],[8,1,8,11],[9,2,9,4],[9,5,9,7],[9,8,9,11],[9,13,20,13],[10,8,11,8],[10,9,11,9],[10,10,11,10],[10,11,11,11],[18,8,19,8],[18,9,19,9],[18,10,19,10],[18,11,19,11],[26,1,26,11],[27,2,27,4],[27,5,27,7],[27,8,27,11],[12,8,14,8],[12,9,14,9],[12,10,14,10],[12,11,14,11],[15,8,17,8],[15,9,17,9],[15,10,17,10],[15,11,17,11],[33,8,35,8],[33,9,35,9],[33,10,35,10],[33,11,35,11],[36,8,37,8],[36,9,37,9],[36,10,37,10],[36,11,37,11],[28,8,29,8],[28,9,29,9],[28,10,29,10],[28,11,29,11],[30,8,32,8],[30,9,32,9],[30,10,32,10],[30,11,32,11],[44,8,46,8],[44,9,46,9],[44,10,46,10],[44,11,46,11],[47,8,49,8],[47,9,49,9],[47,10,49,10],[47,11,49,11],[40,1,40,11],[41,2,41,4],[41,5,41,7],[41,8,41,11],[42,8,43,8],[42,9,43,9],[42,10,43,10],[42,11,43,11],[56,8,57,8],[56,9,57,9],[56,10,57,10],[56,11,57,11],[58,8,60,8],[58,9,60,9],[58,10,60,10],[58,11,60,11],[50,8,51,8],[50,9,51,9],[50,10,51,10],[50,11,51,11],[54,1,54,11],[55,2,55,4],[55,5,55,7],[55,8,55,11],[68,1,68,11],[69,2,69,4],[69,5,69,7],[69,8,69,11],[70,8,71,8],[70,9,71,9],[70,10,71,10],[70,11,71,11],[61,8,63,8],[61,9,63,9],[61,10,63,10],[61,11,63,11],[64,8,65,8],[64,9,65,9],[64,10,65,10],[64,11,65,11],[78,8,79,8],[78,9,79,9],[78,10,79,10],[78,11,79,11],[72,8,74,8],[72,9,74,9],[72,10,74,10],[72,11,74,11],[75,8,77,8],[75,9,77,9],[75,10,77,10],[75,11,77,11]]}
[]
[]
[]
[]
[]
[]
[null,"Tentukan Tabel Nilai Konversi berikut sesuai keperluan sekolah atau juknis yang berlaku/digunakan di sekolah."]
[]
[null,"KONVERSI NILAI"]
[null,"Nilai","Pengetahuan",null,null,"Ketrampilan",null,null,"Sikap",null,null,null,null,"Input Rentang Kriteria yang digunakan di Sekolah Bapak/Ibu. Rentang Kriteria ini harus sama dengan Rentang Kriteria pada Aplikasi Raport yang digunakan."]
[null,"A",3.84,"< x ≤ ",4,3.84,"< x ≤ ",4,4,"≤ x <","...","SB"]
[null,"A-",3.5,"< x ≤ ",3.84,3.5,"< x ≤ ",3.84]
[null,"B+",3.17,"< x ≤ ",3.5,3.17,"< x ≤ ",3.5,3,"≤ x <",4,"B"]
[null,"B",2.84,"< x ≤ ",3.17,2.84,"< x ≤ ",3.17]
[null,"B-",2.5,"< x ≤ ",2.84,2.5,"< x ≤ ",2.84]
[null,"C+",2.17,"< x ≤ ",2.5,2.17,"< x ≤ ",2.5,2,"≤ x <",3,"C"]
[null,"C",1.84,"< x ≤ ",2.17,1.84,"< x ≤ ",2.17]
[null,"C-",1.5,"< x ≤ ",1.84,1.5,"< x ≤ ",1.84]
[null,"D+",1.17,"< x ≤ ",1.5,1.17,"< x ≤ ",1.5,1,"≤ x <",2,"K"]
[null,"D",1,"< x ≤ ",1.17,1,"< x ≤ ",1.17]
[]
[]
[]
[]
[]
[]
[null,"KONVERSI NILAI BERDASARKAN PERMEN 104 Tahun 2014 Ttg Penilaian Hasil Belajar"]
[null,"Nilai","Pengetahuan",null,null,"Ketrampilan",null,null,"Sikap"]
[null,"A",3.84,"< x ≤ ",4,3.84,"< x ≤ ",4,4,"≤ x <","...","SB"]
[null,"A-",3.5,"< x ≤ ",3.84,3.5,"< x ≤ ",3.84]
[null,"B+",3.17,"< x ≤ ",3.5,3.17,"< x ≤ ",3.5,3,"≤ x <",4,"B"]
[null,"B",2.84,"< x ≤ ",3.17,2.84,"< x ≤ ",3.17]
[null,"B-",2.5,"< x ≤ ",2.84,2.5,"< x ≤ ",2.84]
[null,"C+",2.17,"< x ≤ ",2.5,2.17,"< x ≤ ",2.5,2,"≤ x <",3,"C"]
[null,"C",1.84,"< x ≤ ",2.17,1.84,"< x ≤ ",2.17]
[null,"C-",1.5,"< x ≤ ",1.84,1.5,"< x ≤ ",1.84]
[null,"D+",1.17,"< x ≤ ",1.5,1.17,"< x ≤ ",1.5,1,"≤ x <",2,"K"]
[null,"D",1,"< x ≤ ",1.17,1,"< x ≤ ",1.17]
[]
[]
[null,"KONVERSI NILAI BERDASARKAN LAMPIRAN 3 PERMEN 58/59/60 PMP PKn"]
[null,"Nilai","Pengetahuan",null,null,"Ketrampilan",null,null,"Sikap"]
[null,"A",3.83,"< x ≤ ",4,3.83,"< x ≤ ",4,3.5,"< x ≤ ",4,"SB"]
[null,"A-",3.5,"< x ≤ ",3.83,3.5,"< x ≤ ",3.83]
[null,"B+",3.17,"< x ≤ ",3.5,3.17,"< x ≤ ",3.5,2.5,"< x ≤ ",3.5,"B"]
[null,"B",2.83,"< x ≤ ",3.17,2.83,"< x ≤ ",3.17]
[null,"B-",2.5,"< x ≤ ",2.83,2.5,"< x ≤ ",2.83]
[null,"C+",2.17,"< x ≤ ",2.5,2.17,"< x ≤ ",2.5,1.5,"< x ≤ ",2.5,"C"]
[null,"C",1.83,"< x ≤ ",2.17,1.83,"< x ≤ ",2.17]
[null,"C-",1.5,"< x ≤ ",1.83,1.5,"< x ≤ ",1.83]
[null,"D+",1.17,"< x ≤ ",1.5,1.17,"< x ≤ ",1.5,1,"< x ≤ ",1.5,"K"]
[null,"D",1,"< x ≤ ",1.17,1,"< x ≤ ",1.17]
[]
[]
[null,"KONVERSI NILAI BERDASARKAN PERMEN 81 A"]
[null,"Nilai","Pengetahuan",null,null,"Ketrampilan",null,null,"Sikap"]
[null,"A",3.66,"< x ≤ ",4,3.66,"< x ≤ ",4,3.33,"< x ≤ ",4,"SB"]
[null,"A-",3.33,"< x ≤ ",3.66,3.33,"< x ≤ ",3.66]
[null,"B+",3,"< x ≤ ",3.33,3,"< x ≤ ",3.33,2.33,"< x ≤ ",3.5,"B"]
[null,"B",2.66,"< x ≤ ",3,2.66,"< x ≤ ",3]
[null,"B-",2.33,"< x ≤ ",2.66,2.33,"< x ≤ ",2.66]
[null,"C+",2,"< x ≤ ",2.33,2,"< x ≤ ",2.33,1.33,"< x ≤ ",2.5,"C"]
[null,"C",1.66,"< x ≤ ",2,1.66,"< x ≤ ",2]
[null,"C-",1.33,"< x ≤ ",1.66,1.33,"< x ≤ ",1.66]
[null,"D+",1,"< x ≤ ",1.33,1,"< x ≤ ",1.33,0,"< x ≤ ",1.5,"K"]
[null,"D",0,"< x ≤ ",1,0,"< x ≤ ",1]
[]
[]
[null,"KONVERSI NILAI BERDASARKAN .......???"]
[null,"Nilai","Pengetahuan",null,null,"Ketrampilan",null,null,"Sikap"]
[null,"A","???","< x ≤ ","???","???","< x ≤ ","???",null,"< x ≤ ",null,"SB"]
[null,"A-",null,"< x ≤ ",null,null,"< x ≤ "]
[null,"B+",null,"< x ≤ ",null,null,"< x ≤ ",null,null,"< x ≤ ",null,"B"]
[null,"B",null,"< x ≤ ",null,null,"< x ≤ "]
[null,"B-",null,"< x ≤ ",null,null,"< x ≤ "]
[null,"C+",null,"< x ≤ ",null,null,"< x ≤ ",null,null,"< x ≤ ",null,"C"]
[null,"C",null,"< x ≤ ",null,null,"< x ≤ "]
[null,"C-",null,"< x ≤ ",null,null,"< x ≤ "]
[null,"D+",null,"< x ≤ ",null,null,"< x ≤ ",null,null,"< x ≤ ",null,"K"]
[null,"D",null,"< x ≤ ",null,null,"< x ≤ "]

{"sheet":"Input","index":3,"n_rows":4,"n_cols":5,"rows_kept":4,"cut":false,"hidden":false,"merged":[[3,1,3,2],[3,4,3,5]]}
[]
[]
[]
[null,"ASPEK SIKAP",null,null,"ASPEK KETRAMPILAN"]

{"sheet":"Data ","index":4,"n_rows":77,"n_cols":16,"rows_kept":77,"cut":false,"hidden":false,"merged":[[21,15,23,15],[19,14,20,14],[21,12,23,12],[21,13,23,13],[21,14,23,14],[24,15,26,15],[27,15,28,15],[17,5,17,15],[5,0,5,1],[6,0,6,1],[7,0,7,1],[8,0,8,1],[10,0,10,1],[16,0,16,1],[20,0,20,1],[18,0,18,1],[19,0,19,1],[9,0,9,1],[11,0,11,1],[12,0,12,1],[13,0,13,1],[14,0,14,1],[15,0,15,1],[17,0,17,1],[19,12,20,12],[19,13,20,13],[18,12,18,15],[15,5,16,15],[18,6,18,8],[18,9,18,11],[19,15,20,15],[24,12,26,12],[24,13,26,13],[24,14,26,14],[27,12,28,12],[27,13,28,13],[27,14,28,14]]}
[]
[]
[]
[]
[]
["Nama Instansi",null,":","Dinas Pendidikan Pemuda dan Olahraga"]
["Nama Sekolah",null,":","SMP Negeri 6 Blora"]
["Alamat",null,":","Jl. A Yani No. 36A Blora"]
["Kecamatan",null,":","Blora Kota"]
["Kabupaten/Kota",null,null,"Pemerintah Kabupaten Blora"]
["Propinsi",null,":","Jawa Tengah"]
["Telp/Faks",null,":","0296 - 531288"]
["Tahun Pelajaran",null,":","2014/2015"]
["Semester",null,":","Ganjil"]
["Nama Kepala Sekolah",null,":","Suparno, S.Pd.,M.Hum"]
["NIP/NIY",null,":","NIP. 19620712 198403 1 012",null,"Tabel Nilai Konversi berikut sesuai keperluan sekolah atau juknis yang berlaku/digunakan di sekolah."]
["Nama Wali Kelas",null,":","Mundari, S.Pd."]
["Dokumen",null,":","Kurikulum",null,"KONVERSI NILAI"]
["Revisi",null,":","Juli 2014",null,"Nilai","Pengetahuan",null,null,"Ketrampilan",null,null,"Sikap"]
["Tgl. Efektif",null,":","01 Juli 2014",null,"A",{"$f":"Kriteria!C11","v":3.84},"< x ≤ ",{"$f":"Kriteria!E11","v":4},{"$f":"Kriteria!F11","v":3.84},"< x ≤ ",{"$f":"Kriteria!H11","v":4},{"$f":"Kriteria!I11","v":4},"< x ≤ ",{"$f":"Kriteria!K11","v":"..."},"SB"]
["Tanggal Daftar Nilai",null,":","Blora, 20 Desember 2014",null,"A-",{"$f":"Kriteria!C12","v":3.5},"< x ≤ ",{"$f":"Kriteria!E12","v":3.84},{"$f":"Kriteria!F12","v":3.5},"< x ≤ ",{"$f":"Kriteria!H12","v":3.84}]
[null,null,null,null,null,"B+",{"$f":"Kriteria!C13","v":3.17},"< x ≤ ",{"$f":"Kriteria!E13","v":3.5},{"$f":"Kriteria!F13","v":3.17},"< x ≤ ",{"$f":"Kriteria!H13","v":3.5},{"$f":"Kriteria!I13","v":3},"< x ≤ ",{"$f":"Kriteria!K13","v":4},"B"]
[null,null,null,null,null,"B",{"$f":"Kriteria!C14","v":2.84},"< x ≤ ",{"$f":"Kriteria!E14","v":3.17},{"$f":"Kriteria!F14","v":2.84},"< x ≤ ",{"$f":"Kriteria!H14","v":3.17}]
[null,null,null,null,null,"B-",{"$f":"Kriteria!C15","v":2.5},"< x ≤ ",{"$f":"Kriteria!E15","v":2.84},{"$f":"Kriteria!F15","v":2.5},"< x ≤ ",{"$f":"Kriteria!H15","v":2.84}]
[null,null,null,null,null,"C+",{"$f":"Kriteria!C16","v":2.17},"< x ≤ ",{"$f":"Kriteria!E16","v":2.5},{"$f":"Kriteria!F16","v":2.17},"< x ≤ ",{"$f":"Kriteria!H16","v":2.5},{"$f":"Kriteria!I16","v":2},"< x ≤ ",{"$f":"Kriteria!K16","v":3},"C"]
["No. ","NIS / NISN",null,"Nama ",null,"C",{"$f":"Kriteria!C17","v":1.84},"< x ≤ ",{"$f":"Kriteria!E17","v":2.17},{"$f":"Kriteria!F17","v":1.84},"< x ≤ ",{"$f":"Kriteria!H17","v":2.17}]
[1,9025,null,"AHMAD ALEK BRIYANSAPUTRA",null,"C-",{"$f":"Kriteria!C18","v":1.5},"< x ≤ ",{"$f":"Kriteria!E18","v":1.84},{"$f":"Kriteria!F18","v":1.5},"< x ≤ ",{"$f":"Kriteria!H18","v":1.84}]
[2,9053,null,"AULIA AYU FATINA",null,"D+",{"$f":"Kriteria!C19","v":1.17},"< x ≤ ",{"$f":"Kriteria!E19","v":1.5},{"$f":"Kriteria!F19","v":1.17},"< x ≤ ",{"$f":"Kriteria!H19","v":1.5},{"$f":"Kriteria!I19","v":1},"< x ≤ ",{"$f":"Kriteria!K19","v":2},"K"]
[3,9060,null,"BAGAS YULANDRA PUTRA",null,"D",{"$f":"Kriteria!C20","v":1},"< x ≤ ",{"$f":"Kriteria!E20","v":1.17},{"$f":"Kriteria!F20","v":1},"< x ≤ ",{"$f":"Kriteria!H20","v":1.17}]
[4,9068,null,"CYNTIA AGUSTINA"]
[5,9069,null,"DAFFA KRISNA PRAMUDYA"]
[6,9070,null,"DANINDRA RAFIF IRAWAN"]
[7,9074,null,"DENI PRATAMA"]
[8,9081,null,"DIKA SUKMA AGUSTIN"]
[9,9087,null,"DIVA ADITYA"]
[10,9098,null,"EKO PRASTYO"]
[11,9107,null,"FAIQUR RIJAL HAMMAM"]
[12,9114,null,"FATESAR SARI PRASETYO"]
[13,9115,null,"FEBRI SULISTIYO"]
[14,9119,null,"FIONA NANDA FETRIAN"]
[15,9125,null,"GILANG SYAHRUL RAMADHAN"]
[16,9136,null,"IMAM AGUNG WAHYU PRATAMA"]
[17,9149,null,"JOHAN MAULANA"]
[18,9150,null,"JOKO SETIAWAN"]
[19,9159,null,"LISA OKTAVINASARI"]
[20,9163,null,"MARIA GILDA SIREGAR"]
[21,9178,null,"MOHAMMAD NURKHOLISH"]
[22,9185,null,"MUHAMAD FARIS ULIN NUHA"]
[23,9322,null,"MUHAMMAD MUSTOFA"]
[24,9204,null,"NANDA WINTYA PUTRI"]
[25,9210,null,"NI'MA NOVA NUR FADHILAH"]
[26,9212,null,"NITA ZUMROTUT TAQIYAH"]
[27,9234,null,"RACHMAT SAPUTRA ANDRIANSYAH"]
[28,9255,null,"RIZAL ANDRIYAN SAPUTRA"]
[29,9265,null,"SAIFUL ANNAS"]
[30,9270,null,"SELINA SEPTIANI"]
[31,9275,null,"SHALSABILA  SHINTA NIRMALA"]
[32,9281,null,"SITI CHOIRIATUS SA'ADAH"]
[33,9284,null,"SITI NURFAN AZIZAH"]
[34,9286,null,"SITI RAHAYU"]
[35,9289,null,"STEVIANA PUSPITA SARI"]
[36,9290,null,"TAN LINGGAR PRAMUDITA"]
[37,9291,null,"TAUFIK NUR AZIZ DANUARTA"]
[38,9293,null,"TIARA PUTRI AYUNINGTIAS"]
[39,9294,null,"TITANIA GAYATRI PRIANJANI"]
[40,9296,null,"ULFATUN NI'MAH"]
[41]
[42]
[43]
[44]
[45]
[46]
[47]
[48]
[49]
[50]
[null,null,null,"Created by Purnawanto, M.Si"]

{"sheet":"Pengetahuan","index":5,"n_rows":142,"n_cols":40,"rows_kept":142,"cut":false,"hidden":false,"merged":[[18,31,19,33],[18,38,19,38],[18,29,19,29],[17,24,17,26],[8,2,8,7],[9,2,9,7],[8,9,8,11],[8,16,8,17],[18,14,19,14],[18,17,18,19],[8,18,8,20],[8,12,8,15],[11,1,11,12],[12,2,12,12],[13,2,13,12],[14,2,14,12],[18,8,18,12],[15,2,15,12],[16,2,16,12],[0,2,0,20],[1,2,1,20],[2,2,2,20],[7,16,7,17],[7,9,7,11],[7,2,7,7],[3,2,5,20],[7,12,7,15],[72,6,72,7],[72,2,72,3],[73,2,73,3],[18,0,19,0],[18,1,19,1],[18,2,18,6]]}
[null,null,{"$f":"UPPER('Data '!D10)","v":"PEMERINTAH KABUPATEN BLORA"}]
[null,null,{"$f":"UPPER('Data '!D6)","v":"DINAS PENDIDIKAN PEMUDA DAN OLAHRAGA"}]
[null,null,{"$f":"UPPER('Data '!D7)","v":"SMP NEGERI 6 BLORA"}]
[null,null,"DAFTAR   NILAI   SISWA ASPEK PENGETAHUAN (KI - 3)"]
[]
[]
[]
[null,"Mata Pelajaran :",{"$f":"Home!E16","v":"PJOK"},null,null,null,null,null,null,"Semester  :",null,null,{"$f":"'Data '!D14","v":"Ganjil"},null,null,null,"KKM :",null,{"$f":"Home!E22","v":2.67},{"$f":"S8*25","v":66.75}]
[null,"Kelas :",{"$f":"Home!E18","v":"VII-A"},null,null,null,null,null,null,"Tahun Pelajaran :",null,null,{"$f":"'Data '!D13","v":"2014/2015"},null,null,null,"Wali Kelas :",null,{"$f":"'Data '!D17","v":"Mundari, S.Pd."}]
[null,"Aspek :","Pengetahuan"]
[]
[null,"Ketikkan Materi Pokok dari KD agar deskripsi capaian tidak terlalu  panjang."]
[null,"KD/Materi Pokok UH 1","Atletik"]
[null,"KD/Materi Pokok UH 2","Senam"]
[null,"KD/Materi Pokok UH 3","Bola Volley"]
[null,"KD/Materi Pokok UH 4","Sepak Bola"]
[null,"KD/Materi Pokok UH 5"]
[]
["No. ","Nama","Nilai Ulangan Harian",null,null,null,null,"Rerata","Nilai Tugas / PR",null,null,null,null,"Rerata","NP \n(NH)","Nilai","Nilai","Nilai",null,null,"Ket",null,null,null,null,"0-4",null,null,null,null,null,"Tabel Konversi",null,null,null,null,null,null,"Nilai"]
[null,null,"KD1","KD2","KD3","KD4","KD5","NUH","KD1","KD2","KD3","KD4","KD5","Tg/PR",null,"UTS","UAS","0-100","1-4","Konversi","T/TT",null,null,null,{"$f":"IFERROR((O21*$E$74+P21*$F$74)/($I$74-$H$74),\"  \")","v":78.333333333333329},{"$f":"IFERROR((Y20/100)*4,\"  \")","v":3.1333333333333333},{"$f":"IF(Z20=\"  \",\"  \",IF(Z20>3.83,\"A\",IF(Z20>3.5,\"A-\",IF(Z20>3.17,\"B+\",IF(Z20>2.83,\"B\",IF(Z20>2.5,\"B-\",IF(Z20>2.17,\"C+\",IF(Z20>1.83,\"C\",IF(Z20>1.5,\"C-\",IF(Z20>1.17,\"D+\",\"D\"))))))))))","v":"B"}]
[1,{"$f":"'Data '!D27","v":"AHMAD ALEK BRIYANSAPUTRA"},80,80,80,80,null,{"$f":"IFERROR(AVERAGE(C21:G21),\"  \")","v":80},80,80,80,80,null,{"$f":"IFERROR(AVERAGE(I21:M21),\"  \")","v":80},{"$f":"IFERROR((H21+N21)/2,\"  \")","v":80},75,75,{"$f":"IFERROR((O21*$E$74+P21*$F$74+Q21*$H$74)/$I$74,\"  \")","v":77.5},{"$f":"IFERROR((R21/100)*4,\"  \")","v":3.1},{"$f":"IF(S21=\"  \",\"  \",IF(S21>$AF$21,\"A\",IF(S21>$AF$22,\"A-\",IF(S21>$AF$23,\"B+\",IF(S21>$AF$24,\"B\",IF(S21>$AF$25,\"B-\",IF(S21>$AF$26,\"C+\",IF(S21>$AF$27,\"C\",IF(S21>$AF$28,\"C-\",IF(S21>$AF$29,\"D+\",\"D\"))))))))))","v":"B"},{"$f":"IF(S21=\"  \",\"  \",IF(S21>=$S$8,\"Tuntas\",\"Tidak Tuntas\"))","v":"Tuntas"},null,null,null,{"$f":"IFERROR((O22*$E$74+P22*$F$74)/($I$74-$H$74),\"  \")","v":78.333333333333329},{"$f":"IFERROR((Y21/100)*4,\"  \")","v":3.1333333333333333},{"$f":"IF(Z21=\"  \",\"  \",IF(Z21>3.83,\"A\",IF(Z21>3.5,\"A-\",IF(Z21>3.17,\"B+\",IF(Z21>2.83,\"B\",IF(Z21>2.5,\"B-\",IF(Z21>2.17,\"C+\",IF(Z21>1.83,\"C\",IF(Z21>1.5,\"C-\",IF(Z21>1.17,\"D+\",\"D\"))))))))))","v":"B"},{"$f":"IF(Y20>$AF$22,\"Kompetensi pengetahuan rerata sangat baik. \",IF(Y20>$S$8,\"Kompetensi pengetahuan rerata baik. \",IF(Y20>$AF$28,\"Kompetensi pengetahuan rerata cukup. \",IF(Y20>$AF$30,\"Kompetensi pengetahuan rerata kurang. \",IF(Y20=\"  \",\"  \")))))","v":"Kompetensi pengetahuan rerata sangat baik. "},null,{"$f":"CONCATENATE(IF(S21>$AF$22,\"Kompetensi pengetahuan rerata sangat baik. \",IF(S21>$S$8,\"Kompetensi pengetahuan rerata baik. \",IF(S21>$AF$28,\"Kompetensi pengetahuan rerata cukup. \",IF(S21>1,\"Kompetensi pengetahuan rerata kurang. \",IF(S21=\"\",\"\"))))),IF(C21>$AN$22,\"Sangat menguasai \"&$C$13,IF(C21>$T$8,\"Menguasai \"&$C$13,IF(C21>$AN$28,\"Masih perlu latihan \"&$C$13,IF(C21>$AN$30,\"Perlu bimbingan \"&$C$13,IF(C21=\"\",\"\"))))),IF(D21>$AN$22,\", sangat menguasai \"&$C$14,IF(D21>$T$8,\", menguasai \"&$C$14,IF(D21>$AN$28,\", masih perlu latihan \"&$C$14,IF(D21>$AN$30,\", perlu bimbingan \"&$C$14,IF(D21=\"\",\"\"))))),IF(E21>$AN$22,\". Sangat menguasai \"&$C$15,IF(E21>$T$8,\". Menguasai \"&$C$15,IF(E21>$AN$28,\". Masih perlu latihan \"&$C$15,IF(E21>$AN$30,\". Perlu bimbingan \"&$C$15,IF(E21=\"\",\"\"))))),IF(F21>$AN$22,\", sangat menguasai \"&$C$16,IF(F21>$T$8,\", menguasai \"&$C$16,IF(F21>$AN$28,\", masih perlu latihan \"&$C$16,IF(F21>$AN$30,\", perlu bimbingan \"&$C$16,IF(F21=\"\",\"\"))))),IF(G21>$AN$22,\", sangat menguasai \"&$C$17,IF(G21>$T$8,\", menguasai \"&$C$17,IF(G21>$AN$28,\", masih perlu latihan \"&$C$17,IF(G21>$AN$30,\", perlu bimbingan \"&$C$17,IF(G21=\"\",\"\"))))))","v":"Kompetensi pengetahuan rerata baik. Menguasai Atletik, menguasai Senam. Menguasai Bola Volley, menguasai Sepak Bola"},"A",{"$f":"'Data '!G20","v":3.84},"< x ≤ ",{"$f":"'Data '!I20","v":4},null,null,null,null,"A",{"$f":"AF21*25","v":96}]
[2,{"$f":"'Data '!D28","v":"AULIA AYU FATINA"},80,80,80,80,null,{"$f":"IFERROR(AVERAGE(C22:G22),\"  \")","v":80},80,80,80,80,null,{"$f":"IFERROR(AVERAGE(I22:M22),\"  \")","v":80},{"$f":"IFERROR((H22+N22)/2,\"  \")","v":80},75,75,{"$f":"IFERROR((O22*$E$74+P22*$F$74+Q22*$H$74)/$I$74,\"  \")","v":77.5},{"$f":"IFERROR((R22/100)*4,\"  \")","v":3.1},{"$f":"IF(S22=\"  \",\"  \",IF(S22>$AF$21,\"A\",IF(S22>$AF$22,\"A-\",IF(S22>$AF$23,\"B+\",IF(S22>$AF$24,\"B\",IF(S22>$AF$25,\"B-\",IF(S22>$AF$26,\"C+\",IF(S22>$AF$27,\"C\",IF(S22>$AF$28,\"C-\",IF(S22>$AF$29,\"D+\",\"D\"))))))))))","v":"B"},{"$f":"IF(S22=\"  \",\"  \",IF(S22>=$S$8,\"Tuntas\",\"Tidak Tuntas\"))","v":"Tuntas"},null,null,null,{"$f":"IFERROR((O23*$E$74+P23*$F$74)/($I$74-$H$74),\"  \")","v":78.333333333333329},3.1333333333333333,"B",{"$f":"IF(Y21>$AF$22,\"Kompetensi pengetahuan rerata sangat baik. \",IF(Y21>$S$8,\"Kompetensi pengetahuan rerata baik. \",IF(Y21>$AF$28,\"Kompetensi pengetahuan rerata cukup. \",IF(Y21>$AF$30,\"Kompetensi pengetahuan rerata kurang. \",IF(Y21=\"  \",\"  \")))))","v":"Kompetensi pengetahuan rerata sangat baik. "},null,{"$f":"CONCATENATE(IF(S22>$AF$22,\"Kompetensi pengetahuan rerata sangat baik. \",IF(S22>$S$8,\"Kompetensi pengetahuan rerata baik. \",IF(S22>$AF$28,\"Kompetensi pengetahuan rerata cukup. \",IF(S22>1,\"Kompetensi pengetahuan rerata kurang. \",IF(S22=\"\",\"\"))))),IF(C22>$AN$22,\"Sangat menguasai \"&$C$13,IF(C22>$T$8,\"Menguasai \"&$C$13,IF(C22>$AN$28,\"Masih perlu latihan \"&$C$13,IF(C22>$AN$30,\"Perlu bimbingan \"&$C$13,IF(C22=\"\",\"\"))))),IF(D22>$AN$22,\", sangat menguasai \"&$C$14,IF(D22>$T$8,\", menguasai \"&$C$14,IF(D22>$AN$28,\", masih perlu latihan \"&$C$14,IF(D22>$AN$30,\", perlu bimbingan \"&$C$14,IF(D22=\"\",\"\"))))),IF(E22>$AN$22,\". Sangat menguasai \"&$C$15,IF(E22>$T$8,\". Menguasai \"&$C$15,IF(E22>$AN$28,\". Masih perlu latihan \"&$C$15,IF(E22>$AN$30,\". Perlu bimbingan \"&$C$15,IF(E22=\"\",\"\"))))),IF(F22>$AN$22,\", sangat menguasai \"&$C$16,IF(F22>$T$8,\", menguasai \"&$C$16,IF(F22>$AN$28,\", masih perlu latihan \"&$C$16,IF(F22>$AN$30,\", perlu bimbingan \"&$C$16,IF(F22=\"\",\"\"))))),IF(G22>$AN$22,\", sangat menguasai \"&$C$17,IF(G22>$T$8,\", menguasai \"&$C$17,IF(G22>$AN$28,\", masih perlu latihan \"&$C$17,IF(G22>$AN$30,\", perlu bimbingan \"&$C$17,IF(G22=\"\",\"\"))))))","v":"Kompetensi pengetahuan rerata baik. Menguasai Atletik, menguasai Senam. Menguasai Bola Volley, menguasai Sepak Bola"},"A-",{"$f":"'Data '!G21","v":3.5},"< x ≤ ",{"$f":"'Data '!I21","v":3.84},null,null,null,null,"A-",{"$f":"AF22*25","v":87.5}]
[3,{"$f":"'Data '!D29","v":"BAGAS YULANDRA PUTRA"},80,80,80,80,null,80,80,80,80,80,null,80,80,75,75,77.5,3.1,"B","Tuntas",null,null,null,78.333333333333329,3.1333333333333333,"B",{"$f":"IF(Y22>$AF$22,\"Kompetensi pengetahuan rerata sangat baik. \",IF(Y22>$S$8,\"Kompetensi pengetahuan rerata baik. \",IF(Y22>$AF$28,\"Kompetensi pengetahuan rerata cukup. \",IF(Y22>$AF$30,\"Kompetensi pengetahuan rerata kurang. \",IF(Y22=\"  \",\"  \")))))","v":"Kompetensi pengetahuan rerata sangat baik. "},null,"Kompetensi pengetahuan rerata baik. Menguasai Atletik, menguasai Senam. Menguasai Bola Volley, menguasai Sepak Bola","B+",{"$f":"'Data '!G22","v":3.17},"< x ≤ ",{"$f":"'Data '!I22","v":3.5},null,null,null,null,"B+",79.25]
[4,{"$f":"'Data '!D30","v":"CYNTIA AGUSTINA"},80,80,80,80,null,80,80,80,80,80,null,80,80,75,75,77.5,3.1,"B","Tuntas",null,null,null,78.333333333333329,3.1333333333333333,"B","Kompetensi pengetahuan rerata sangat baik. ",null,"Kompetensi pengetahuan rerata baik. Menguasai Atletik, menguasai Senam. Menguasai Bola Volley, menguasai Sepak Bola","B",{"$f":"'Data '!G23","v":2.84},"< x ≤ ",{"$f":"'Data '!I23","v":3.17},null,null,null,null,"B",71]
[5,{"$f":"'Data '!D31","v":"DAFFA KRISNA PRAMUDYA"},80,80,80,80,null,80,80,80,80,80,null,80,80,75,75,77.5,3.1,"B","Tuntas",null,null,null,78.333333333333329,3.1333333333333333,"B","Kompetensi pengetahuan rerata sangat baik. ",null,"Kompetensi pengetahuan rerata baik. Menguasai Atletik, menguasai Senam. Menguasai Bola Volley, menguasai Sepak Bola","B-",{"$f":"'Data '!G24","v":2.5},"< x ≤ ",{"$f":"'Data '!I24","v":2.84},null,null,null,null,"B-",62.5]
[6,{"$f":"'Data '!D32","v":"DANINDRA RAFIF IRAWAN"},80,80,80,80,null,80,80,80,80,80,null,80,80,75,75,77.5,3.1,"B","Tuntas",null,null,null,78.333333333333329,3.1333333333333333,"B","Kompetensi pengetahuan rerata sangat baik. ",null,"Kompetensi pengetahuan rerata baik. Menguasai Atletik, menguasai Senam. Menguasai Bola Volley, menguasai Sepak Bola","C+",{"$f":"'Data '!G25","v":2.17},"< x ≤ ",{"$f":"'Data '!I25","v":2.5},null,null,null,null,"C+",54.25]
[7,{"$f":"'Data '!D33","v":"DENI PRATAMA"},80,80,80,80,null,80,80,80,80,80,null,80,80,75,75,77.5,3.1,"B","Tuntas",null,null,null,78.333333333333329,3.1333333333333333,"B","Kompetensi pengetahuan rerata sangat baik. ",null,"Kompetensi pengetahuan rerata baik. Menguasai Atletik, menguasai Senam. Menguasai Bola Volley, menguasai Sepak Bola","C",{"$f":"'Data '!G26","v":1.84},"< x ≤ ",{"$f":"'Data '!I26","v":2.17},null,null,null,null,"C",46]
[8,{"$f":"'Data '!D34","v":"DIKA SUKMA AGUSTIN"},80,80,80,80,null,80,80,80,80,80,null,80,80,75,75,77.5,3.1,"B","Tuntas",null,null,null,78.333333333333329,3.1333333333333333,"B","Kompetensi pengetahuan rerata sangat baik. ",null,"Kompetensi pengetahuan rerata baik. Menguasai Atletik, menguasai Senam. Menguasai Bola Volley, menguasai Sepak Bola","C-",{"$f":"'Data '!G27","v":1.5},"< x ≤ ",{"$f":"'Data '!I27","v":1.84},null,null,null,null,"C-",37.5]
[9,{"$f":"'Data '!D35","v":"DIVA ADITYA"},80,80,80,80,null,80,80,80,80,80,null,80,80,75,75,77.5,3.1,"B","Tuntas",null,null,null,78.333333333333329,3.1333333333333333,"B","Kompetensi pengetahuan rerata sangat baik. ",null,"Kompetensi pengetahuan rerata baik. Menguasai Atletik, menguasai Senam. Menguasai Bola Volley, menguasai Sepak Bola","D+",{"$f":"'Data '!G28","v":1.17},"< x ≤ ",{"$f":"'Data '!I28","v":1.5},null,null,null,null,"D+",29.25]
[10,{"$f":"'Data '!D36","v":"EKO PRASTYO"},80,80,80,80,null,80,80,80,80,80,null,80,80,75,75,77.5,3.1,"B","Tuntas",null,null,null,78.333333333333329,3.1333333333333333,"B","Kompetensi pengetahuan rerata sangat baik. ",null,"Kompetensi pengetahuan rerata baik. Menguasai Atletik, menguasai Senam. Menguasai Bola Volley, menguasai Sepak Bola","D",{"$f":"'Data '!G29","v":1},"< x ≤ ",{"$f":"'Data '!I29","v":1.17},null,null,null,null,"D",25]
[11,{"$f":"'Data '!D37","v":"FAIQUR RIJAL HAMMAM"},80,80,80,80,null,80,80,80,80,80,null,80,80,75,75,77.5,3.1,"B","Tuntas",null,null,null,78.333333333333329,3.1333333333333333,"B","Kompetensi pengetahuan rerata sangat baik. ",null,"Kompetensi pengetahuan rerata baik. Menguasai Atletik, menguasai Senam. Menguasai Bola Volley, menguasai Sepak Bola"]
[12,{"$f":"'Data '!D38","v":"FATESAR SARI PRASETYO"},80,80,80,80,null,80,80,80,80,80,null,80,80,75,75,77.5,3.1,"B","Tuntas",null,null,null,78.333333333333329,3.1333333333333333,"B","Kompetensi pengetahuan rerata sangat baik. ",null,"Kompetensi pengetahuan rerata baik. Menguasai Atletik, menguasai Senam. Menguasai Bola Volley, menguasai Sepak Bola"]
[13,{"$f":"'Data '!D39","v":"FEBRI SULISTIYO"},80,80,80,80,null,80,80,80,80,80,null,80,80,75,75,77.5,3.1,"B","Tuntas",null,null,null,78.333333333333329,3.1333333333333333,"B","Kompetensi pengetahuan rerata sangat baik. ",null,"Kompetensi pengetahuan rerata baik. Menguasai Atletik, menguasai Senam. Menguasai Bola Volley, menguasai Sepak Bola"]
[14,{"$f":"'Data '!D40","v":"FIONA NANDA FETRIAN"},80,80,80,80,null,80,80,80,80,80,null,80,80,75,75,77.5,3.1,"B","Tuntas",null,null,null,78.333333333333329,3.1333333333333333,"B","Kompetensi pengetahuan rerata sangat baik. ",null,"Kompetensi pengetahuan rerata baik. Menguasai Atletik, menguasai Senam. Menguasai Bola Volley, menguasai Sepak Bola"]
[15,{"$f":"'Data '!D41","v":"GILANG SYAHRUL RAMADHAN"},80,80,80,80,null,80,80,80,80,80,null,80,80,75,75,77.5,3.1,"B","Tuntas",null,null,null,78.333333333333329,3.1333333333333333,"B","Kompetensi pengetahuan rerata sangat baik. ",null,"Kompetensi pengetahuan rerata baik. Menguasai Atletik, menguasai Senam. Menguasai Bola Volley, menguasai Sepak Bola"]
[16,{"$f":"'Data '!D42","v":"IMAM AGUNG WAHYU PRATAMA"},80,80,80,80,null,80,80,80,80,80,null,80,80,75,75,77.5,3.1,"B","Tuntas",null,null,null,78.333333333333329,3.1333333333333333,"B","Kompetensi pengetahuan rerata sangat baik. ",null,"Kompetensi pengetahuan rerata baik. Menguasai Atletik, menguasai Senam. Menguasai Bola Volley, menguasai Sepak Bola"]
[17,{"$f":"'Data '!D43","v":"JOHAN MAULANA"},80,80,80,80,null,80,80,80,80,80,null,80,80,75,75,77.5,3.1,"B","Tuntas",null,null,null,78.333333333333329,3.1333333333333333,"B","Kompetensi pengetahuan rerata sangat baik. ",null,"Kompetensi pengetahuan rerata baik. Menguasai Atletik, menguasai Senam. Menguasai Bola Volley, menguasai Sepak Bola"]
[18,{"$f":"'Data '!D44","v":"JOKO SETIAWAN"},80,80,80,80,null,80,80,80,80,80,null,80,80,75,75,77.5,3.1,"B","Tuntas",null,null,null,78.333333333333329,3.1333333333333333,"B","Kompetensi pengetahuan rerata sangat baik. ",null,"Kompetensi pengetahuan rerata baik. Menguasai Atletik, menguasai Senam. Menguasai Bola Volley, menguasai Sepak Bola"]
[19,{"$f":"'Data '!D45","v":"LISA OKTAVINASARI"},80,80,80,80,null,80,80,80,80,80,null,80,80,75,75,77.5,3.1,"B","Tuntas",null,null,null,78.333333333333329,3.1333333333333333,"B","Kompetensi pengetahuan rerata sangat baik. ",null,"Kompetensi pengetahuan rerata baik. Menguasai Atletik, menguasai Senam. Menguasai Bola Volley, menguasai Sepak Bola"]
[20,{"$f":"'Data '!D46","v":"MARIA GILDA SIREGAR"},80,80,80,80,null,80,80,80,80,80,null,80,80,75,75,77.5,3.1,"B","Tuntas",null,null,null,78.333333333333329,3.1333333333333333,"B","Kompetensi pengetahuan rerata sangat baik. ",null,"Kompetensi pengetahuan rerata baik. Menguasai Atletik, menguasai Senam. Menguasai Bola Volley, menguasai Sepak Bola"]
[21,{"$f":"'Data '!D47","v":"MOHAMMAD NURKHOLISH"},80,80,80,80,null,80,80,80,80,80,null,80,80,75,75,77.5,3.1,"B","Tuntas",null,null,null,78.333333333333329,3.1333333333333333,"B","Kompetensi pengetahuan rerata sangat baik. ",null,"Kompetensi pengetahuan rerata baik. Menguasai Atletik, menguasai Senam. Menguasai Bola Volley, menguasai Sepak Bola"]
[22,{"$f":"'Data '!D48","v":"MUHAMAD FARIS ULIN NUHA"},80,80,80,80,null,80,80,80,80,80,null,80,80,75,75,77.5,3.1,"B","Tuntas",null,null,null,78.333333333333329,3.1333333333333333,"B","Kompetensi pengetahuan rerata sangat baik. ",null,"Kompetensi pengetahuan rerata baik. Menguasai Atletik, menguasai Senam. Menguasai Bola Volley, menguasai Sepak Bola"]
[23,{"$f":"'Data '!D49","v":"MUHAMMAD MUSTOFA"},80,80,80,80,null,80,80,80,80,80,null,80,80,75,75,77.5,3.1,"B","Tuntas",null,null,null,78.333333333333329,3.1333333333333333,"B","Kompetensi pengetahuan rerata sangat baik. ",null,"Kompetensi pengetahuan rerata baik. Menguasai Atletik, menguasai Senam. Menguasai Bola Volley, menguasai Sepak Bola"]
[24,{"$f":"'Data '!D50","v":"NANDA WINTYA PUTRI"},80,80,80,80,null,80,80,80,80,80,null,80,80,75,75,77.5,3.1,"B","Tuntas",null,null,null,78.333333333333329,3.1333333333333333,"B","Kompetensi pengetahuan rerata sangat baik. ",null,"Kompetensi pengetahuan rerata baik. Menguasai Atletik, menguasai Senam. Menguasai Bola Volley, menguasai Sepak Bola"]
[25,{"$f":"'Data '!D51","v":"NI'MA NOVA NUR FADHILAH"},80,80,80,80,null,80,80,80,80,80,null,80,80,75,75,77.5,3.1,"B","Tuntas",null,null,null,78.333333333333329,3.1333333333333333,"B","Kompetensi pengetahuan rerata sangat baik. ",null,"Kompetensi pengetahuan rerata baik. Menguasai Atletik, menguasai Senam. Menguasai Bola Volley, menguasai Sepak Bola"]
[26,{"$f":"'Data '!D52","v":"NITA ZUMROTUT TAQIYAH"},80,80,80,80,null,80,80,80,80,80,null,80,80,75,75,77.5,3.1,"B","Tuntas",null,null,null,78.333333333333329,3.1333333333333333,"B","Kompetensi pengetahuan rerata sangat baik. ",null,"Kompetensi pengetahuan rerata baik. Menguasai Atletik, menguasai Senam. Menguasai Bola Volley, menguasai Sepak Bola"]
[27,{"$f":"'Data '!D53","v":"RACHMAT SAPUTRA ANDRIANSYAH"},80,80,80,80,null,80,80,80,80,80,null,80,80,75,75,77.5,3.1,"B","Tuntas",null,null,null,78.333333333333329,3.1333333333333333,"B","Kompetensi pengetahuan rerata sangat baik. ",null,"Kompetensi pengetahuan rerata baik. Menguasai Atletik, menguasai Senam. Menguasai Bola Volley, menguasai Sepak Bola"]
[28,{"$f":"'Data '!D54","v":"RIZAL ANDRIYAN SAPUTRA"},80,80,80,80,null,80,80,80,80,80,null,80,80,75,75,77.5,3.1,"B","Tuntas",null,null,null,78.333333333333329,3.1333333333333333,"B","Kompetensi pengetahuan rerata sangat baik. ",null,"Kompetensi pengetahuan rerata baik. Menguasai Atletik, menguasai Senam. Menguasai Bola Volley, menguasai Sepak Bola"]
[29,{"$f":"'Data '!D55","v":"SAIFUL ANNAS"},80,80,80,80,null,80,80,80,80,80,null,80,80,75,75,77.5,3.1,"B","Tuntas",null,null,null,78.333333333333329,3.1333333333333333,"B","Kompetensi pengetahuan rerata sangat baik. ",null,"Kompetensi pengetahuan rerata baik. Menguasai Atletik, menguasai Senam. Menguasai Bola Volley, menguasai Sepak Bola"]
[30,{"$f":"'Data '!D56","v":"SELINA SEPTIANI"},80,80,80,80,null,80,80,80,80,80,null,80,80,75,75,77.5,3.1,"B","Tuntas",null,null,null,78.333333333333329,3.1333333333333333,"B","Kompetensi pengetahuan rerata sangat baik. ",null,"Kompetensi pengetahuan rerata baik. Menguasai Atletik, menguasai Senam. Menguasai Bola Volley, menguasai Sepak Bola"]
[31,{"$f":"'Data '!D57","v":"SHALSABILA  SHINTA NIRMALA"},80,80,80,80,null,80,80,80,80,80,null,80,80,75,75,77.5,3.1,"B","Tuntas",null,null,null,78.333333333333329,3.1333333333333333,"B","Kompetensi pengetahuan rerata sangat baik. ",null,"Kompetensi pengetahuan rerata baik. Menguasai Atletik, menguasai Senam. Menguasai Bola Volley, menguasai Sepak Bola"]
[32,{"$f":"'Data '!D58","v":"SITI CHOIRIATUS SA'ADAH"},80,80,80,80,null,80,80,80,80,80,null,80,80,75,75,77.5,3.1,"B","Tuntas",null,null,null,78.333333333333329,3.1333333333333333,"B","Kompetensi pengetahuan rerata sangat baik. ",null,"Kompetensi pengetahuan rerata baik. Menguasai Atletik, menguasai Senam. Menguasai Bola Volley, menguasai Sepak Bola"]
[33,{"$f":"'Data '!D59","v":"SITI NURFAN AZIZAH"},80,80,80,80,null,80,80,80,80,80,null,80,80,75,75,77.5,3.1,"B","Tuntas",null,null,null,78.333333333333329,3.1333333333333333,"B","Kompetensi pengetahuan rerata sangat baik. ",null,"Kompetensi pengetahuan rerata baik. Menguasai Atletik, menguasai Senam. Menguasai Bola Volley, menguasai Sepak Bola"]
[34,{"$f":"'Data '!D60","v":"SITI RAHAYU"},80,80,80,80,null,80,80,80,80,80,null,80,80,75,75,77.5,3.1,"B","Tuntas",null,null,null,78.333333333333329,3.1333333333333333,"B","Kompetensi pengetahuan rerata sangat baik. ",null,"Kompetensi pengetahuan rerata baik. Menguasai Atletik, menguasai Senam. Menguasai Bola Volley, menguasai Sepak Bola"]
[35,{"$f":"'Data '!D61","v":"STEVIANA PUSPITA SARI"},80,80,80,80,null,80,80,80,80,80,null,80,80,75,75,77.5,3.1,"B","Tuntas",null,null,null,78.333333333333329,3.1333333333333333,"B","Kompetensi pengetahuan rerata sangat baik. ",null,"Kompetensi pengetahuan rerata baik. Menguasai Atletik, menguasai Senam. Menguasai Bola Volley, menguasai Sepak Bola"]
[36,{"$f":"'Data '!D62","v":"TAN LINGGAR PRAMUDITA"},80,80,80,80,null,80,80,80,80,80,null,80,80,75,75,77.5,3.1,"B","Tuntas",null,null,null,78.333333333333329,3.1333333333333333,"B","Kompetensi pengetahuan rerata sangat baik. ",null,"Kompetensi pengetahuan rerata baik. Menguasai Atletik, menguasai Senam. Menguasai Bola Volley, menguasai Sepak Bola"]
[37,{"$f":"'Data '!D63","v":"TAUFIK NUR AZIZ DANUARTA"},80,80,80,80,null,80,80,80,80,80,null,80,80,75,75,77.5,3.1,"B","Tuntas",null,null,null,78.333333333333329,3.1333333333333333,"B","Kompetensi pengetahuan rerata sangat baik. ",null,"Kompetensi pengetahuan rerata baik. Menguasai Atletik, menguasai Senam. Menguasai Bola Volley, menguasai Sepak Bola"]
[38,{"$f":"'Data '!D64","v":"TIARA PUTRI AYUNINGTIAS"},80,80,80,80,null,80,80,80,80,80,null,80,80,75,75,77.5,3.1,"B","Tuntas",null,null,null,78.333333333333329,3.1333333333333333,"B","Kompetensi pengetahuan rerata sangat baik. ",null,"Kompetensi pengetahuan rerata baik. Menguasai Atletik, menguasai Senam. Menguasai Bola Volley, menguasai Sepak Bola"]
[39,{"$f":"'Data '!D65","v":"TITANIA GAYATRI PRIANJANI"},80,80,80,80,null,80,80,80,80,80,null,80,80,75,75,77.5,3.1,"B","Tuntas",null,null,null,78.333333333333329,3.1333333333333333,"B","Kompetensi pengetahuan rerata sangat baik. ",null,"Kompetensi pengetahuan rerata baik. Menguasai Atletik, menguasai Senam. Menguasai Bola Volley, menguasai Sepak Bola"]
[40,{"$f":"'Data '!D66","v":"ULFATUN NI'MAH"},80,80,80,80,null,80,80,80,80,80,null,80,80,75,75,77.5,3.1,"B","Tuntas",null,null,null,"","","","Kompetensi pengetahuan rerata sangat baik. ",null,"Kompetensi pengetahuan rerata baik. Menguasai Atletik, menguasai Senam. Menguasai Bola Volley, menguasai Sepak Bola"]
[41,{"$f":"'Data '!D67","v":0},null,null,null,null,null,"",null,null,null,null,null,"",{"$f":"IFERROR((H61+N61)/2,\"  \")","v":""},null,null,"",{"$f":"IFERROR((R61/100)*4,\"  \")","v":""},"",{"$f":"IF(S61=\"  \",\"  \",IF(S61>=$S$8,\"Tuntas\",\"Tidak Tuntas\"))","v":""},null,null,null,"","","","Kompetensi pengetahuan rerata sangat baik. ",null,"Kompetensi pengetahuan rerata sangat baik. "]
[42,{"$f":"'Data '!D68","v":0},null,null,null,null,null,"",null,null,null,null,null,"","",null,null,"","","","",null,null,null,"","","","Kompetensi pengetahuan rerata sangat baik. ",null,"Kompetensi pengetahuan rerata sangat baik. "]
[43,{"$f":"'Data '!D69","v":0},null,null,null,null,null,"",null,null,null,null,null,"","",null,null,"","","","",null,null,null,"","","","Kompetensi pengetahuan rerata sangat baik. ",null,"Kompetensi pengetahuan rerata sangat baik. "]
[44,{"$f":"'Data '!D70","v":0},null,null,null,null,null,"",null,null,null,null,null,"","",null,null,"","","","",null,null,null,"","","","Kompetensi pengetahuan rerata sangat baik. ",null,"Kompetensi pengetahuan rerata sangat baik. "]
[45,{"$f":"'Data '!D71","v":0},null,null,null,null,null,"",null,null,null,null,null,"","",null,null,"","","","",null,null,null,{"$f":"IFERROR((O66*$E$74+P66*$F$74)/($I$74-$H$74),\"  \")","v":""},{"$f":"IFERROR((Y65/100)*4,\"  \")","v":""},{"$f":"IF(Z65=\"  \",\"  \",IF(Z65>3.83,\"A\",IF(Z65>3.5,\"A-\",IF(Z65>3.17,\"B+\",IF(Z65>2.83,\"B\",IF(Z65>2.5,\"B-\",IF(Z65>2.17,\"C+\",IF(Z65>1.83,\"C\",IF(Z65>1.5,\"C-\",IF(Z65>1.17,\"D+\",\"D\"))))))))))","v":""},"Kompetensi pengetahuan rerata sangat baik. ",null,"Kompetensi pengetahuan rerata sangat baik. "]
[46,{"$f":"'Data '!D72","v":0},null,null,null,null,null,"",null,null,null,null,null,"",{"$f":"IFERROR((H66+N66)/2,\"  \")","v":""},null,null,{"$f":"IFERROR((O66*$E$74+P66*$F$74+Q66*$H$74)/$I$74,\"  \")","v":""},{"$f":"IFERROR((R66/100)*4,\"  \")","v":""},"",{"$f":"IF(S66=\"  \",\"  \",IF(S66>=$S$8,\"Tuntas\",\"Tidak Tuntas\"))","v":""},null,null,null,"","","","Kompetensi pengetahuan rerata sangat baik. ",null,"Kompetensi pengetahuan rerata sangat baik. "]
[47,{"$f":"'Data '!D73","v":0},null,null,null,null,null,"",null,null,null,null,null,"","",null,null,"","","","",null,null,null,"","","","Kompetensi pengetahuan rerata sangat baik. ",null,"Kompetensi pengetahuan rerata sangat baik. "]
[48,{"$f":"'Data '!D74","v":0},null,null,null,null,null,"",null,null,null,null,null,"","",null,null,"","","","",null,null,null,"","","","Kompetensi pengetahuan rerata sangat baik. ",null,"Kompetensi pengetahuan rerata sangat baik. "]
[49,{"$f":"'Data '!D75","v":0},null,null,null,null,null,"",null,null,null,null,null,"","",null,null,"","","","",null,null,null,78.333333333333329,3.1333333333333333,"B","Kompetensi pengetahuan rerata sangat baik. ",null,"Kompetensi pengetahuan rerata sangat baik. "]
[50,{"$f":"'Data '!D76","v":0},67,null,null,null,null,67,90,null,null,null,null,90,78.5,78,90,81.25,3.25,"B+","Tuntas",null,null,null,{"$f":"IFERROR(AVERAGE(Y20:Y69),\" \")","v":78.333333333333357},{"$f":"IFERROR(AVERAGE(Z20:Z69),\" \")","v":3.133333333333336},null,"Kompetensi pengetahuan rerata sangat baik. ",null,"Kompetensi pengetahuan rerata baik. Menguasai Atletik"]
[null,"Nilai Rata-rata",{"$f":"IFERROR(AVERAGE(C21:C70),\" \")","v":79.682926829268297},{"$f":"IFERROR(AVERAGE(D21:D70),\" \")","v":80},80,80,null,79.682926829268297,80.243902439024396,80,80,80,null,80.243902439024396,79.963414634146346,75.073170731707322,75.365853658536579,77.591463414634148,3.1036585365853639]
[]
[null,null,"Jenis",null,"NP","UTS","UAS",null,"Jlh"]
[null,null,"Bobot",null,2,1,null,1,{"$f":"SUM(E74:H74)","v":4}]
[]
[null,"Mengetahui:",null,null,null,null,null,null,null,null,null,null,null,null,null,null,null,null,{"$f":"'Data '!D21","v":"Blora, 20 Desember 2014"}]
[null,{"$f":"\"Ka. \" &'Data '!D7","v":"Ka. SMP Negeri 6 Blora"},null,null,null,null,null,null,null,null,null,null,null,null,null,null,null,null,"Guru Mata Pelajaran"]
[]
[]
[]
[null,{"$f":"'Data '!D15","v":"Suparno, S.Pd.,M.Hum"},null,null,null,null,null,null,null,null,null,null,null,null,null,null,null,null,{"$f":"Home!E12","v":"Drs. Sarid Nugroho"}]
[null,{"$f":"'Data '!D16","v":"NIP. 19620712 198403 1 012"},null,null,null,null,null,null,null,null,null,null,null,null,null,null,null,null,{"$f":"Home!E14","v":"NIP. 19631223 198803 1 004"}]
[]
[]
[]
[]
[]
[]
[]
[]
[]
[]
[]
[]
[]
[]
[]
[]
[]
[]
[]
[]
[]
[]
[]
[]
[]
[]
[]
[]
[]
[]
[]
[]
[]
[]
[]
[]
[]
[]
[]
[]
[]
[]
[]
[]
[]
[]
[]
[]
[]
[]
[]
[]
[]
[]
[]
[]
[]
[]
[]
[null,null,null,null,null,null,null,null,null,null,null,null,null,null,null,null,null,null,null,null,null,null,null,"Batas Halaman"]

{"sheet":"Ketrampilan","index":6,"n_rows":82,"n_cols":53,"rows_kept":82,"cut":false,"hidden":false,"merged":[[0,2,0,17],[1,2,1,17],[31,33,31,34],[30,32,30,35],[18,52,19,52],[7,2,7,6],[7,10,7,11],[7,13,7,14],[8,2,8,6],[18,11,18,12],[8,10,8,11],[8,13,8,14],[8,15,8,17],[12,2,12,12],[13,2,13,12],[14,2,14,12],[18,32,19,35],[18,0,19,0],[18,1,19,1],[18,7,18,9],[9,2,9,6],[2,2,2,17],[18,14,18,16],[7,7,7,9],[8,7,8,9],[18,2,18,5],[3,2,5,17],[11,1,11,12],[15,2,15,12]]}
[null,null,{"$f":"UPPER('Data '!D10)","v":"PEMERINTAH KABUPATEN BLORA"}]
[null,null,{"$f":"UPPER('Data '!D6)","v":"DINAS PENDIDIKAN PEMUDA DAN OLAHRAGA"}]
[null,null,{"$f":"UPPER('Data '!D7)","v":"SMP NEGERI 6 BLORA"}]
[null,null,"DAFTAR   NILAI   SISWA  ASPEK KETRAMPILAN (KI - 4)"]
[]
[]
[]
[null,"Mata Pelajaran :",{"$f":"Home!E16","v":"PJOK"},null,null,null,null,"Semester   :",null,null,{"$f":"'Data '!D14","v":"Ganjil"},null,null," KKM  :",null,{"$f":"Home!E24","v":2.67},{"$f":"P8*25","v":66.75}]
[null,"Kelas :",{"$f":"Home!E18","v":"VII-A"},null,null,null,null,"Tahun Pelajaran :",null,null,{"$f":"'Data '!D13","v":"2014/2015"},null,null,"Wali Kelas :",null,{"$f":"'Data '!D17","v":"Mundari, S.Pd."}]
[null,"Aspek :","Ketrampilan"]
[]
[null,"KOMPETENSI DASAR ASPEK KETRAMPILAN (KI - 4)"]
[null,"KD/Materi Pokok UK 1","Atletik"]
[null,"KD/Materi Pokok UK 2","Senam"]
[null,"KD/Materi Pokok UK 3","Bola Volley"]
[null,"KD/Materi Pokok UK 4","Sepak Bola"]
[]
[]
["No. ","Nama","Unjuk Kerja",null,null,null,"Rerata","Projek",null,null,"Rerata","Portofolio",null,"Rerata","Nilai",null,null,"Ket",null,null,null,null,null,null,null,null,null,null,null,null,null,null,"TABEL KONVERSI"]
[null,null,"KD1","KD2","KD3","KD4","Ujk Kerja","Pr1","Pr2","Pr3","Projek","Pf1","Pf2","Porto","0-100","1-4","Konversi","T/TT",null,null,null,null,null,null,null,null,null,null,null,null,null,null,null,null,null,null,null,"KD1"]
[1,{"$f":"'Data '!D27","v":"AHMAD ALEK BRIYANSAPUTRA"},80,80,80,80,{"$f":"IFERROR(MAX(C21:F21),\"  \")","v":80},80,null,{"$f":"'PrJ-3'!K25","v":0},{"$f":"IFERROR(MAX(H21:J21),\"  \")","v":80},80,{"$f":"'Pf-2'!K25","v":0},{"$f":"IFERROR(MAX(L21:M21),\"  \")","v":80},{"$f":"IFERROR((G21*$D$74+K21*$E$74+N21*$G$74)/$H$74,\"  \")","v":80},{"$f":"IFERROR((O21/100)*4,\"  \")","v":3.2},{"$f":"IF(P21=\"  \",\"  \",IF(P21>$AG$21,\"A\",IF(P21>$AG$22,\"A-\",IF(P21>$AG$23,\"B+\",IF(P21>$AG$24,\"B\",IF(P21>$AG$25,\"B-\",IF(P21>$AG$26,\"C+\",IF(P21>$AG$27,\"C\",IF(P21>$AG$28,\"C-\",IF(P21>$AG$29,\"D+\",\"D\"))))))))))","v":"B+"},{"$f":"IF(P21=\"  \",\"  \",IF(P21>=$P$8,\"Tuntas\",\"Tidak Tuntas\"))","v":"Tuntas"},null,null,null,null,null,null,null,null,{"$f":"IF(P21>$AG$22,\"Kompetensi ketrampilan rerata sangat baik. \",IF(P21>$P$8,\"Kompetensi ketrampilan rerata baik. \",IF(P21>$AG$28,\"Kompetensi ketrampilan rerata cukup. \",IF(P21>$AG$30,\"Kompetensi ketrampilan rerata kurang. \",\" \"))))","v":"Kompetensi ketrampilan rerata baik. "},null,null,null,null,null,{"$f":"'Data '!J20","v":3.84},"< x ≤ ",{"$f":"'Data '!L20","v":4},"A",null,{"$f":"AG21*25","v":96},null,null,null,null,null,null,null,null,null,null,null,null,null,null,{"$f":"CONCATENATE(IF(P21>$AG$22,\"Kompetensi ketrampilan rerata sangat baik. \",IF(P21>$P$8,\"Kompetensi ketrampilan rerata baik. \",IF(P21>$AG$28,\"Kompetensi ketrampilan rerata cukup. \",IF(P21>$AG$30,\"Kompetensi ketrampilan rerata kurang. \",\" \")))),IF(C21>$AL$22,\"Sangat trampil \"&$C$13,IF(C21>$Q$8,\"Sudah trampil \"&$C$13,IF(C21>$AL$28,\"Masih perlu latihan \"&$C$13,IF(C21>$AL$30,\"Perlu bimbingan \"&$C$13,IF(C21=\"\",\"\"))))),IF(D21>$AL$22,\", sangat trampil \"&$C$14,IF(D21>$Q$8,\", sudah trampil \"&$C$14,IF(D21>$AL$28,\", masih perlu latihan \"&$C$14,IF(D21>$AL$30,\", perlu bimbingan \"&$C$14,IF(D21=\"\",\"\"))))),IF(E21>$AL$22,\", sangat trampil \"&$C$15,IF(E21>$Q$8,\", sudah trampil \"&$C$15,IF(E21>$AL$28,\", masih perlu latihan \"&$C$15,IF(E21>$AL$30,\", perlu bimbingan \"&$C$15,IF(E21=\"\",\"\"))))),IF(F21>$AL$22,\", sangat trampil \"&$C$16,IF(F21>$Q$8,\", sudah trampil \"&$C$16,IF(F21>$AL$28,\", masih perlu latihan \"&$C$16,IF(F21>$AL$30,\", perlu bimbingan \"&$C$16,IF(F21=\"\",\"\"))))))","v":"Kompetensi ketrampilan rerata baik. Sudah trampil Atletik, sudah trampil Senam, sudah trampil Bola Volley, sudah trampil Sepak Bola"}]
[2,{"$f":"'Data '!D28","v":"AULIA AYU FATINA"},80,80,80,80,{"$f":"IFERROR(MAX(C22:F22),\"  \")","v":80},80,{"$f":"'PrJ-2'!K26","v":0},{"$f":"'PrJ-3'!K26","v":0},{"$f":"IFERROR(MAX(H22:J22),\"  \")","v":80},80,{"$f":"'Pf-2'!K26","v":0},{"$f":"IFERROR(MAX(L22:M22),\"  \")","v":80},{"$f":"IFERROR((G22*$D$74+K22*$E$74+N22*$G$74)/$H$74,\"  \")","v":80},{"$f":"IFERROR((O22/100)*4,\"  \")","v":3.2},{"$f":"IF(P22=\"  \",\"  \",IF(P22>$AG$21,\"A\",IF(P22>$AG$22,\"A-\",IF(P22>$AG$23,\"B+\",IF(P22>$AG$24,\"B\",IF(P22>$AG$25,\"B-\",IF(P22>$AG$26,\"C+\",IF(P22>$AG$27,\"C\",IF(P22>$AG$28,\"C-\",IF(P22>$AG$29,\"D+\",\"D\"))))))))))","v":"B+"},{"$f":"IF(P22=\"  \",\"  \",IF(P22>=$P$8,\"Tuntas\",\"Tidak Tuntas\"))","v":"Tuntas"},null,null,null,null,null,null,null,null,{"$f":"IF(P22>$AG$22,\"Kompetensi ketrampilan rerata sangat baik. \",IF(P22>$P$8,\"Kompetensi ketrampilan rerata baik. \",IF(P22>$AG$28,\"Kompetensi ketrampilan rerata cukup. \",IF(P22>$AG$30,\"Kompetensi ketrampilan rerata kurang. \",\" \"))))","v":"Kompetensi ketrampilan rerata baik. "},null,null,null,null,null,{"$f":"'Data '!J21","v":3.5},"< x ≤ ",{"$f":"'Data '!L21","v":3.84},"A-",null,{"$f":"AG22*25","v":87.5},null,null,null,null,null,null,null,null,null,null,null,null,null,null,{"$f":"CONCATENATE(IF(P22>$AG$22,\"Kompetensi ketrampilan rerata sangat baik. \",IF(P22>$P$8,\"Kompetensi ketrampilan rerata baik. \",IF(P22>$AG$28,\"Kompetensi ketrampilan rerata cukup. \",IF(P22>$AG$30,\"Kompetensi ketrampilan rerata kurang. \",\" \")))),IF(C22>$AL$22,\"Sangat trampil \"&$C$13,IF(C22>$Q$8,\"Sudah trampil \"&$C$13,IF(C22>$AL$28,\"Masih perlu latihan \"&$C$13,IF(C22>$AL$30,\"Perlu bimbingan \"&$C$13,IF(C22=\"\",\"\"))))),IF(D22>$AL$22,\", sangat trampil \"&$C$14,IF(D22>$Q$8,\", sudah trampil \"&$C$14,IF(D22>$AL$28,\", masih perlu latihan \"&$C$14,IF(D22>$AL$30,\", perlu bimbingan \"&$C$14,IF(D22=\"\",\"\"))))),IF(E22>$AL$22,\", sangat trampil \"&$C$15,IF(E22>$Q$8,\", sudah trampil \"&$C$15,IF(E22>$AL$28,\", masih perlu latihan \"&$C$15,IF(E22>$AL$30,\", perlu bimbingan \"&$C$15,IF(E22=\"\",\"\"))))),IF(F22>$AL$22,\", sangat trampil \"&$C$16,IF(F22>$Q$8,\", sudah trampil \"&$C$16,IF(F22>$AL$28,\", masih perlu latihan \"&$C$16,IF(F22>$AL$30,\", perlu bimbingan \"&$C$16,IF(F22=\"\",\"\"))))))","v":"Kompetensi ketrampilan rerata baik. Sudah trampil Atletik, sudah trampil Senam, sudah trampil Bola Volley, sudah trampil Sepak Bola"}]
[3,{"$f":"'Data '!D29","v":"BAGAS YULANDRA PUTRA"},80,80,80,80,80,80,{"$f":"'PrJ-2'!K27","v":0},{"$f":"'PrJ-3'!K27","v":0},80,80,{"$f":"'Pf-2'!K27","v":0},80,80,3.2,"B+","Tuntas",null,null,null,null,null,null,null,null,"Kompetensi ketrampilan rerata baik. ",null,null,null,null,null,{"$f":"'Data '!J22","v":3.17},"< x ≤ ",{"$f":"'Data '!L22","v":3.5},"B+",null,79.25,null,null,null,null,null,null,null,null,null,null,null,null,null,null,"Kompetensi ketrampilan rerata baik. Sudah trampil Atletik, sudah trampil Senam, sudah trampil Bola Volley, sudah trampil Sepak Bola"]
[4,{"$f":"'Data '!D30","v":"CYNTIA AGUSTINA"},80,80,80,80,80,80,{"$f":"'PrJ-2'!K28","v":0},{"$f":"'PrJ-3'!K28","v":0},80,80,{"$f":"'Pf-2'!K28","v":0},80,80,3.2,"B+","Tuntas",null,null,null,null,null,null,null,null,"Kompetensi ketrampilan rerata baik. ",null,null,null,null,null,{"$f":"'Data '!J23","v":2.84},"< x ≤ ",{"$f":"'Data '!L23","v":3.17},"B",null,71,null,null,null,null,null,null,null,null,null,null,null,null,null,null,"Kompetensi ketrampilan rerata baik. Sudah trampil Atletik, sudah trampil Senam, sudah trampil Bola Volley, sudah trampil Sepak Bola"]
[5,{"$f":"'Data '!D31","v":"DAFFA KRISNA PRAMUDYA"},80,80,80,80,80,80,{"$f":"'PrJ-2'!K29","v":0},{"$f":"'PrJ-3'!K29","v":0},80,80,{"$f":"'Pf-2'!K29","v":0},80,80,3.2,"B+","Tuntas",null,null,null,null,null,null,null,null,"Kompetensi ketrampilan rerata baik. ",null,null,null,null,null,{"$f":"'Data '!J24","v":2.5},"< x ≤ ",{"$f":"'Data '!L24","v":2.84},"B-",null,62.5,null,null,null,null,null,null,null,null,null,null,null,null,null,null,"Kompetensi ketrampilan rerata baik. Sudah trampil Atletik, sudah trampil Senam, sudah trampil Bola Volley, sudah trampil Sepak Bola"]
[6,{"$f":"'Data '!D32","v":"DANINDRA RAFIF IRAWAN"},80,80,80,80,80,80,{"$f":"'PrJ-2'!K30","v":0},{"$f":"'PrJ-3'!K30","v":0},80,80,{"$f":"'Pf-2'!K30","v":0},80,80,3.2,"B+","Tuntas",null,null,null,null,null,null,null,null,"Kompetensi ketrampilan rerata baik. ",null,null,null,null,null,{"$f":"'Data '!J25","v":2.17},"< x ≤ ",{"$f":"'Data '!L25","v":2.5},"C+",null,54.25,null,null,null,null,null,null,null,null,null,null,null,null,null,null,"Kompetensi ketrampilan rerata baik. Sudah trampil Atletik, sudah trampil Senam, sudah trampil Bola Volley, sudah trampil Sepak Bola"]
[7,{"$f":"'Data '!D33","v":"DENI PRATAMA"},80,80,80,80,80,80,{"$f":"'PrJ-2'!K31","v":0},{"$f":"'PrJ-3'!K31","v":0},80,80,{"$f":"'Pf-2'!K31","v":0},80,80,3.2,"B+","Tuntas",null,null,null,null,null,null,null,null,"Kompetensi ketrampilan rerata baik. ",null,null,null,null,null,{"$f":"'Data '!J26","v":1.84},"< x ≤ ",{"$f":"'Data '!L26","v":2.17},"C",null,46,null,null,null,null,null,null,null,null,null,null,null,null,null,null,"Kompetensi ketrampilan rerata baik. Sudah trampil Atletik, sudah trampil Senam, sudah trampil Bola Volley, sudah trampil Sepak Bola"]
[8,{"$f":"'Data '!D34","v":"DIKA SUKMA AGUSTIN"},80,80,80,80,80,80,{"$f":"'PrJ-2'!K32","v":0},{"$f":"'PrJ-3'!K32","v":0},80,80,{"$f":"'Pf-2'!K32","v":0},80,80,3.2,"B+","Tuntas",null,null,null,null,null,null,null,null,"Kompetensi ketrampilan rerata baik. ",null,null,null,null,null,{"$f":"'Data '!J27","v":1.5},"< x ≤ ",{"$f":"'Data '!L27","v":1.84},"C-",null,37.5,null,null,null,null,null,null,null,null,null,null,null,null,null,null,"Kompetensi ketrampilan rerata baik. Sudah trampil Atletik, sudah trampil Senam, sudah trampil Bola Volley, sudah trampil Sepak Bola"]
[9,{"$f":"'Data '!D35","v":"DIVA ADITYA"},80,80,80,80,80,80,{"$f":"'PrJ-2'!K33","v":0},{"$f":"'PrJ-3'!K33","v":0},80,80,{"$f":"'Pf-2'!K33","v":0},80,80,3.2,"B+","Tuntas",null,null,null,null,null,null,null,null,"Kompetensi ketrampilan rerata baik. ",null,null,null,null,null,{"$f":"'Data '!J28","v":1.17},"< x ≤ ",{"$f":"'Data '!L28","v":1.5},"D+",null,29.25,null,null,null,null,null,null,null,null,null,null,null,null,null,null,"Kompetensi ketrampilan rerata baik. Sudah trampil Atletik, sudah trampil Senam, sudah trampil Bola Volley, sudah trampil Sepak Bola"]
[10,{"$f":"'Data '!D36","v":"EKO PRASTYO"},80,80,80,80,80,80,{"$f":"'PrJ-2'!K34","v":0},{"$f":"'PrJ-3'!K34","v":0},80,80,{"$f":"'Pf-2'!K34","v":0},80,80,3.2,"B+","Tuntas",null,null,null,null,null,null,null,null,"Kompetensi ketrampilan rerata baik. ",null,null,null,null,null,{"$f":"'Data '!J29","v":1},"< x ≤ ",{"$f":"'Data '!L29","v":1.17},"D",null,25,null,null,null,null,null,null,null,null,null,null,null,null,null,null,"Kompetensi ketrampilan rerata baik. Sudah trampil Atletik, sudah trampil Senam, sudah trampil Bola Volley, sudah trampil Sepak Bola"]
[11,{"$f":"'Data '!D37","v":"FAIQUR RIJAL HAMMAM"},80,80,80,80,80,80,{"$f":"'PrJ-2'!K35","v":0},{"$f":"'PrJ-3'!K35","v":0},80,80,{"$f":"'Pf-2'!K35","v":0},80,80,3.2,"B+","Tuntas",null,null,null,null,null,null,null,null,"Kompetensi ketrampilan rerata baik. ",null,null,null,null,null,null,null,null,null,null,null,null,null,null,null,null,null,null,null,null,null,null,null,null,null,"Kompetensi ketrampilan rerata baik. Sudah trampil Atletik, sudah trampil Senam, sudah trampil Bola Volley, sudah trampil Sepak Bola"]
[12,{"$f":"'Data '!D38","v":"FATESAR SARI PRASETYO"},80,80,80,80,80,80,{"$f":"'PrJ-2'!K36","v":0},{"$f":"'PrJ-3'!K36","v":0},80,80,{"$f":"'Pf-2'!K36","v":0},80,80,3.2,"B+","Tuntas",null,null,null,null,null,null,null,null,"Kompetensi ketrampilan rerata baik. ",null,null,null,null,null,null,null,null,null,null,null,null,null,null,null,null,null,null,null,null,null,null,null,null,null,"Kompetensi ketrampilan rerata baik. Sudah trampil Atletik, sudah trampil Senam, sudah trampil Bola Volley, sudah trampil Sepak Bola"]
[13,{"$f":"'Data '!D39","v":"FEBRI SULISTIYO"},80,80,80,80,80,80,{"$f":"'PrJ-2'!K37","v":0},{"$f":"'PrJ-3'!K37","v":0},80,80,{"$f":"'Pf-2'!K37","v":0},80,80,3.2,"B+","Tuntas",null,null,null,null,null,"halaman 2",null,null,"Kompetensi ketrampilan rerata baik. ",null,null,null,null,null,null,null,null,null,null,null,null,null,null,null,null,null,null,null,null,null,null,null,null,null,"Kompetensi ketrampilan rerata baik. Sudah trampil Atletik, sudah trampil Senam, sudah trampil Bola Volley, sudah trampil Sepak Bola"]
[14,{"$f":"'Data '!D40","v":"FIONA NANDA FETRIAN"},80,80,80,80,80,80,{"$f":"'PrJ-2'!K38","v":0},{"$f":"'PrJ-3'!K38","v":0},80,80,{"$f":"'Pf-2'!K38","v":0},80,80,3.2,"B+","Tuntas",null,null,null,null,null,null,null,null,"Kompetensi ketrampilan rerata baik. ",null,null,null,null,null,null,null,null,null,null,null,null,null,null,null,null,null,null,null,null,null,null,null,null,null,"Kompetensi ketrampilan rerata baik. Sudah trampil Atletik, sudah trampil Senam, sudah trampil Bola Volley, sudah trampil Sepak Bola"]
[15,{"$f":"'Data '!D41","v":"GILANG SYAHRUL RAMADHAN"},80,80,80,80,80,80,{"$f":"'PrJ-2'!K39","v":0},{"$f":"'PrJ-3'!K39","v":0},80,80,{"$f":"'Pf-2'!K39","v":0},80,80,3.2,"B+","Tuntas",null,null,null,null,null,null,null,null,"Kompetensi ketrampilan rerata baik. ",null,null,null,null,null,null,null,null,null,null,null,null,null,null,null,null,null,null,null,null,null,null,null,null,null,"Kompetensi ketrampilan rerata baik. Sudah trampil Atletik, sudah trampil Senam, sudah trampil Bola Volley, sudah trampil Sepak Bola"]
[16,{"$f":"'Data '!D42","v":"IMAM AGUNG WAHYU PRATAMA"},80,80,80,80,80,80,{"$f":"'PrJ-2'!K40","v":0},{"$f":"'PrJ-3'!K40","v":0},80,80,{"$f":"'Pf-2'!K40","v":0},80,80,3.2,"B+","Tuntas",null,null,null,null,null,null,null,null,"Kompetensi ketrampilan rerata baik. ",null,null,null,null,null,null,null,null,null,null,null,null,null,null,null,null,null,null,null,null,null,null,null,null,null,"Kompetensi ketrampilan rerata baik. Sudah trampil Atletik, sudah trampil Senam, sudah trampil Bola Volley, sudah trampil Sepak Bola"]
[17,{"$f":"'Data '!D43","v":"JOHAN MAULANA"},80,80,80,80,80,80,{"$f":"'PrJ-2'!K41","v":0},{"$f":"'PrJ-3'!K41","v":0},80,80,{"$f":"'Pf-2'!K41","v":0},80,80,3.2,"B+","Tuntas",null,null,null,null,null,null,null,null,"Kompetensi ketrampilan rerata baik. ",null,null,null,null,null,null,null,null,null,null,null,null,null,null,null,null,null,null,null,null,null,null,null,null,null,"Kompetensi ketrampilan rerata baik. Sudah trampil Atletik, sudah trampil Senam, sudah trampil Bola Volley, sudah trampil Sepak Bola"]
[18,{"$f":"'Data '!D44","v":"JOKO SETIAWAN"},80,80,80,80,80,80,{"$f":"'PrJ-2'!K42","v":0},{"$f":"'PrJ-3'!K42","v":0},80,80,{"$f":"'Pf-2'!K42","v":0},80,80,3.2,"B+","Tuntas",null,null,null,null,null,null,null,null,"Kompetensi ketrampilan rerata baik. ",null,null,null,null,null,null,null,null,null,null,null,null,null,null,null,null,null,null,null,null,null,null,null,null,null,"Kompetensi ketrampilan rerata baik. Sudah trampil Atletik, sudah trampil Senam, sudah trampil Bola Volley, sudah trampil Sepak Bola"]
[19,{"$f":"'Data '!D45","v":"LISA OKTAVINASARI"},80,80,80,80,80,80,{"$f":"'PrJ-2'!K43","v":0},{"$f":"'PrJ-3'!K43","v":0},80,80,{"$f":"'Pf-2'!K43","v":0},80,80,3.2,"B+","Tuntas",null,null,null,null,null,null,null,null,"Kompetensi ketrampilan rerata baik. ",null,null,null,null,null,null,null,null,null,null,null,null,null,null,null,null,null,null,null,null,null,null,null,null,null,"Kompetensi ketrampilan rerata baik. Sudah trampil Atletik, sudah trampil Senam, sudah trampil Bola Volley, sudah trampil Sepak Bola"]
[20,{"$f":"'Data '!D46","v":"MARIA GILDA SIREGAR"},80,80,80,80,80,80,{"$f":"'PrJ-2'!K44","v":0},{"$f":"'PrJ-3'!K44","v":0},80,80,{"$f":"'Pf-2'!K44","v":0},80,80,3.2,"B+","Tuntas",null,null,null,null,null,null,null,null,"Kompetensi ketrampilan rerata baik. ",null,null,null,null,null,null,null,null,null,null,null,null,null,null,null,null,null,null,null,null,null,null,null,null,null,"Kompetensi ketrampilan rerata baik. Sudah trampil Atletik, sudah trampil Senam, sudah trampil Bola Volley, sudah trampil Sepak Bola"]
[21,{"$f":"'Data '!D47","v":"MOHAMMAD NURKHOLISH"},80,80,80,80,80,80,{"$f":"'PrJ-2'!K45","v":0},{"$f":"'PrJ-3'!K45","v":0},80,80,{"$f":"'Pf-2'!K45","v":0},80,80,3.2,"B+","Tuntas",null,null,null,null,null,null,null,null,"Kompetensi ketrampilan rerata baik. ",null,null,null,null,null,null,null,null,null,null,null,null,null,null,null,null,null,null,null,null,null,null,null,null,null,"Kompetensi ketrampilan rerata baik. Sudah trampil Atletik, sudah trampil Senam, sudah trampil Bola Volley, sudah trampil Sepak Bola"]
[22,{"$f":"'Data '!D48","v":"MUHAMAD FARIS ULIN NUHA"},80,80,80,80,80,80,{"$f":"'PrJ-2'!K46","v":0},{"$f":"'PrJ-3'!K46","v":0},80,80,{"$f":"'Pf-2'!K46","v":0},80,80,3.2,"B+","Tuntas",null,null,null,null,null,null,null,null,"Kompetensi ketrampilan rerata baik. ",null,null,null,null,null,null,null,null,null,null,null,null,null,null,null,null,null,null,null,null,null,null,null,null,null,"Kompetensi ketrampilan rerata baik. Sudah trampil Atletik, sudah trampil Senam, sudah trampil Bola Volley, sudah trampil Sepak Bola"]
[23,{"$f":"'Data '!D49","v":"MUHAMMAD MUSTOFA"},80,80,80,80,80,80,{"$f":"'PrJ-2'!K47","v":0},{"$f":"'PrJ-3'!K47","v":0},80,80,{"$f":"'Pf-2'!K47","v":0},80,80,3.2,"B+","Tuntas",null,null,null,null,null,null,null,null,"Kompetensi ketrampilan rerata baik. ",null,null,null,null,null,null,null,null,null,null,null,null,null,null,null,null,null,null,null,null,null,null,null,null,null,"Kompetensi ketrampilan rerata baik. Sudah trampil Atletik, sudah trampil Senam, sudah trampil Bola Volley, sudah trampil Sepak Bola"]
[24,{"$f":"'Data '!D50","v":"NANDA WINTYA PUTRI"},80,80,80,80,80,80,{"$f":"'PrJ-2'!K48","v":0},{"$f":"'PrJ-3'!K48","v":0},80,80,{"$f":"'Pf-2'!K48","v":0},80,80,3.2,"B+","Tuntas",null,null,null,null,null,null,null,null,"Kompetensi ketrampilan rerata baik. ",null,null,null,null,null,null,null,null,null,null,null,null,null,null,null,null,null,null,null,null,null,null,null,null,null,"Kompetensi ketrampilan rerata baik. Sudah trampil Atletik, sudah trampil Senam, sudah trampil Bola Volley, sudah trampil Sepak Bola"]
[25,{"$f":"'Data '!D51","v":"NI'MA NOVA NUR FADHILAH"},80,80,80,80,80,80,{"$f":"'PrJ-2'!K49","v":0},{"$f":"'PrJ-3'!K49","v":0},80,80,{"$f":"'Pf-2'!K49","v":0},80,80,3.2,"B+","Tuntas",null,null,null,null,null,null,null,null,"Kompetensi ketrampilan rerata baik. ",null,null,null,null,null,null,null,null,null,null,null,null,null,null,null,null,null,null,null,null,null,null,null,null,null,"Kompetensi ketrampilan rerata baik. Sudah trampil Atletik, sudah trampil Senam, sudah trampil Bola Volley, sudah trampil Sepak Bola"]
[26,{"$f":"'Data '!D52","v":"NITA ZUMROTUT TAQIYAH"},80,80,80,80,80,80,{"$f":"'PrJ-2'!K50","v":0},{"$f":"'PrJ-3'!K50","v":0},80,80,{"$f":"'Pf-2'!K50","v":0},80,80,3.2,"B+","Tuntas",null,null,null,null,null,null,null,null,"Kompetensi ketrampilan rerata baik. ",null,null,null,null,null,null,null,null,null,null,null,null,null,null,null,null,null,null,null,null,null,null,null,null,null,"Kompetensi ketrampilan rerata baik. Sudah trampil Atletik, sudah trampil Senam, sudah trampil Bola Volley, sudah trampil Sepak Bola"]
[27,{"$f":"'Data '!D53","v":"RACHMAT SAPUTRA ANDRIANSYAH"},80,80,80,80,80,80,{"$f":"'PrJ-2'!K51","v":0},{"$f":"'PrJ-3'!K51","v":0},80,80,{"$f":"'Pf-2'!K51","v":0},80,80,3.2,"B+","Tuntas",null,null,null,null,null,null,null,null,"Kompetensi ketrampilan rerata baik. ",null,null,null,null,null,null,null,null,null,null,null,null,null,null,null,null,null,null,null,null,null,null,null,null,null,"Kompetensi ketrampilan rerata baik. Sudah trampil Atletik, sudah trampil Senam, sudah trampil Bola Volley, sudah trampil Sepak Bola"]
[28,{"$f":"'Data '!D54","v":"RIZAL ANDRIYAN SAPUTRA"},80,80,80,80,80,80,{"$f":"'PrJ-2'!K52","v":0},{"$f":"'PrJ-3'!K52","v":0},80,80,{"$f":"'Pf-2'!K52","v":0},80,80,3.2,"B+","Tuntas",null,null,null,null,null,null,null,null,"Kompetensi ketrampilan rerata baik. ",null,null,null,null,null,null,null,null,null,null,null,null,null,null,null,null,null,null,null,null,null,null,null,null,null,"Kompetensi ketrampilan rerata baik. Sudah trampil Atletik, sudah trampil Senam, sudah trampil Bola Volley, sudah trampil Sepak Bola"]
[29,{"$f":"'Data '!D55","v":"SAIFUL ANNAS"},80,80,80,80,80,80,{"$f":"'PrJ-2'!K53","v":0},{"$f":"'PrJ-3'!K53","v":0},80,80,{"$f":"'Pf-2'!K53","v":0},80,80,3.2,"B+","Tuntas",null,null,null,null,null,null,null,null,"Kompetensi ketrampilan rerata baik. ",null,null,null,null,null,null,null,null,null,null,null,null,null,null,null,null,null,null,null,null,null,null,null,null,null,"Kompetensi ketrampilan rerata baik. Sudah trampil Atletik, sudah trampil Senam, sudah trampil Bola Volley, sudah trampil Sepak Bola"]
[30,{"$f":"'Data '!D56","v":"SELINA SEPTIANI"},80,80,80,80,80,80,{"$f":"'PrJ-2'!K54","v":0},{"$f":"'PrJ-3'!K54","v":0},80,80,{"$f":"'Pf-2'!K54","v":0},80,80,3.2,"B+","Tuntas",null,null,null,null,null,null,null,null,"Kompetensi ketrampilan rerata baik. ",null,null,null,null,null,null,null,null,null,null,null,null,null,null,null,null,null,null,null,null,null,null,null,null,null,"Kompetensi ketrampilan rerata baik. Sudah trampil Atletik, sudah trampil Senam, sudah trampil Bola Volley, sudah trampil Sepak Bola"]
[31,{"$f":"'Data '!D57","v":"SHALSABILA  SHINTA NIRMALA"},80,80,80,80,80,80,{"$f":"'PrJ-2'!K55","v":0},{"$f":"'PrJ-3'!K55","v":0},80,80,{"$f":"'Pf-2'!K55","v":0},80,80,3.2,"B+","Tuntas",null,null,null,null,null,null,null,null,"Kompetensi ketrampilan rerata baik. ",null,null,null,null,null,null,null,null,null,null,null,null,null,null,null,null,null,null,null,null,null,null,null,null,null,"Kompetensi ketrampilan rerata baik. Sudah trampil Atletik, sudah trampil Senam, sudah trampil Bola Volley, sudah trampil Sepak Bola"]
[32,{"$f":"'Data '!D58","v":"SITI CHOIRIATUS SA'ADAH"},80,80,80,80,80,80,{"$f":"'PrJ-2'!K56","v":0},{"$f":"'PrJ-3'!K56","v":0},80,80,{"$f":"'Pf-2'!K56","v":0},80,80,3.2,"B+","Tuntas",null,null,null,null,null,null,null,null,"Kompetensi ketrampilan rerata baik. ",null,null,null,null,null,null,null,null,null,null,null,null,null,null,null,null,null,null,null,null,null,null,null,null,null,"Kompetensi ketrampilan rerata baik. Sudah trampil Atletik, sudah trampil Senam, sudah trampil Bola Volley, sudah trampil Sepak Bola"]
[33,{"$f":"'Data '!D59","v":"SITI NURFAN AZIZAH"},80,80,80,80,80,80,{"$f":"'PrJ-2'!K57","v":0},{"$f":"'PrJ-3'!K57","v":0},80,80,{"$f":"'Pf-2'!K57","v":0},80,80,3.2,"B+","Tuntas",null,null,null,null,null,null,null,null,"Kompetensi ketrampilan rerata baik. ",null,null,null,null,null,null,null,null,null,null,null,null,null,null,null,null,null,null,null,null,null,null,null,null,null,"Kompetensi ketrampilan rerata baik. Sudah trampil Atletik, sudah trampil Senam, sudah trampil Bola Volley, sudah trampil Sepak Bola"]
[34,{"$f":"'Data '!D60","v":"SITI RAHAYU"},80,80,80,80,80,80,{"$f":"'PrJ-2'!K58","v":0},{"$f":"'PrJ-3'!K58","v":0},80,80,{"$f":"'Pf-2'!K58","v":0},80,80,3.2,"B+","Tuntas",null,null,null,null,null,null,null,null,"Kompetensi ketrampilan rerata baik. ",null,null,null,null,null,null,null,null,null,null,null,null,null,null,null,null,null,null,null,null,null,null,null,null,null,"Kompetensi ketrampilan rerata baik. Sudah trampil Atletik, sudah trampil Senam, sudah trampil Bola Volley, sudah trampil Sepak Bola"]
[35,{"$f":"'Data '!D61","v":"STEVIANA PUSPITA SARI"},80,80,80,80,80,80,{"$f":"'PrJ-2'!K59","v":0},{"$f":"'PrJ-3'!K59","v":0},80,80,{"$f":"'Pf-2'!K59","v":0},80,80,3.2,"B+","Tuntas",null,null,null,null,null,null,null,null,"Kompetensi ketrampilan rerata baik. ",null,null,null,null,null,null,null,null,null,null,null,null,null,null,null,null,null,null,null,null,null,null,null,null,null,"Kompetensi ketrampilan rerata baik. Sudah trampil Atletik, sudah trampil Senam, sudah trampil Bola Volley, sudah trampil Sepak Bola"]
[36,{"$f":"'Data '!D62","v":"TAN LINGGAR PRAMUDITA"},80,80,80,80,80,80,{"$f":"'PrJ-2'!K60","v":0},{"$f":"'PrJ-3'!K60","v":0},80,80,{"$f":"'Pf-2'!K60","v":0},80,80,3.2,"B+","Tuntas",null,null,null,null,null,null,null,null,"Kompetensi ketrampilan rerata baik. ",null,null,null,null,null,null,null,null,null,null,null,null,null,null,null,null,null,null,null,null,null,null,null,null,null,"Kompetensi ketrampilan rerata baik. Sudah trampil Atletik, sudah trampil Senam, sudah trampil Bola Volley, sudah trampil Sepak Bola"]
[37,{"$f":"'Data '!D63","v":"TAUFIK NUR AZIZ DANUARTA"},80,80,80,80,80,80,{"$f":"'PrJ-2'!K61","v":0},{"$f":"'PrJ-3'!K61","v":0},80,80,{"$f":"'Pf-2'!K61","v":0},80,80,3.2,"B+","Tuntas",null,null,null,null,null,null,null,null,"Kompetensi ketrampilan rerata baik. ",null,null,null,null,null,null,null,null,null,null,null,null,null,null,null,null,null,null,null,null,null,null,null,null,null,"Kompetensi ketrampilan rerata baik. Sudah trampil Atletik, sudah trampil Senam, sudah trampil Bola Volley, sudah trampil Sepak Bola"]
[38,{"$f":"'Data '!D64","v":"TIARA PUTRI AYUNINGTIAS"},80,80,80,80,80,80,{"$f":"'PrJ-2'!K62","v":0},{"$f":"'PrJ-3'!K62","v":0},80,80,{"$f":"'Pf-2'!K62","v":0},80,80,3.2,"B+","Tuntas",null,null,null,null,null,"halaman 3",null,null,"Kompetensi ketrampilan rerata baik. ",null,null,null,null,null,null,null,null,null,null,null,null,null,null,null,null,null,null,null,null,null,null,null,null,null,"Kompetensi ketrampilan rerata baik. Sudah trampil Atletik, sudah trampil Senam, sudah trampil Bola Volley, sudah trampil Sepak Bola"]
[39,{"$f":"'Data '!D65","v":"TITANIA GAYATRI PRIANJANI"},80,80,80,80,80,80,{"$f":"'PrJ-2'!K63","v":0},{"$f":"'PrJ-3'!K63","v":0},80,80,{"$f":"'Pf-2'!K63","v":0},80,80,3.2,"B+","Tuntas",null,null,null,null,null,null,null,null,"Kompetensi ketrampilan rerata baik. ",null,null,null,null,null,null,null,null,null,null,null,null,null,null,null,null,null,null,null,null,null,null,null,null,null,"Kompetensi ketrampilan rerata baik. Sudah trampil Atletik, sudah trampil Senam, sudah trampil Bola Volley, sudah trampil Sepak Bola"]
[40,{"$f":"'Data '!D66","v":"ULFATUN NI'MAH"},80,80,80,80,80,80,{"$f":"'PrJ-2'!K64","v":0},{"$f":"'PrJ-3'!K64","v":0},80,80,{"$f":"'Pf-2'!K64","v":0},80,80,3.2,"B+","Tuntas",null,null,null,null,null,null,null,null,"Kompetensi ketrampilan rerata baik. ",null,null,null,null,null,null,null,null,null,null,null,null,null,null,null,null,null,null,null,null,null,null,null,null,null,"Kompetensi ketrampilan rerata baik. Sudah trampil Atletik, sudah trampil Senam, sudah trampil Bola Volley, sudah trampil Sepak Bola"]
[41,{"$f":"'Data '!D67","v":0},null,null,null,null,0,{"$f":"'PrJ-1'!K65","v":0},{"$f":"'PrJ-2'!K65","v":0},{"$f":"'PrJ-3'!K65","v":0},0,{"$f":"'Pf-1'!K65","v":0},{"$f":"'Pf-2'!K65","v":0},0,{"$f":"IFERROR((G61*$D$74+K61*$E$74+N61*$G$74)/$H$74,\"  \")","v":0},{"$f":"IFERROR((O61/100)*4,\"  \")","v":0},"D",{"$f":"IF(P61=\"  \",\"  \",IF(P61>=$P$8,\"Tuntas\",\"Tidak Tuntas\"))","v":"Tidak Tuntas"},null,null,null,null,null,null,null,null,"",null,null,null,null,null,null,null,null,null,null,null,null,null,null,null,null,null,null,null,null,null,null,null,null,null,""]
[42,{"$f":"'Data '!D68","v":0},null,null,null,null,0,{"$f":"'PrJ-1'!K66","v":0},{"$f":"'PrJ-2'!K66","v":0},{"$f":"'PrJ-3'!K66","v":0},0,{"$f":"'Pf-1'!K66","v":0},{"$f":"'Pf-2'!K66","v":0},0,0,0,"D","Tidak Tuntas",null,null,null,null,null,null,null,null,"",null,null,null,null,null,null,null,null,null,null,null,null,null,null,null,null,null,null,null,null,null,null,null,null,null,""]
[43,{"$f":"'Data '!D69","v":0},null,null,null,null,0,{"$f":"'PrJ-1'!K67","v":0},{"$f":"'PrJ-2'!K67","v":0},{"$f":"'PrJ-3'!K67","v":0},0,{"$f":"'Pf-1'!K67","v":0},{"$f":"'Pf-2'!K67","v":0},0,0,0,"D","Tidak Tuntas",null,null,null,null,null,null,null,null,"",null,null,null,null,null,null,null,null,null,null,null,null,null,null,null,null,null,null,null,null,null,null,null,null,null,""]
[44,{"$f":"'Data '!D70","v":0},null,null,null,null,0,{"$f":"'PrJ-1'!K68","v":0},{"$f":"'PrJ-2'!K68","v":0},{"$f":"'PrJ-3'!K68","v":0},0,{"$f":"'Pf-1'!K68","v":0},{"$f":"'Pf-2'!K68","v":0},0,0,0,"D","Tidak Tuntas",null,null,null,null,null,null,null,null,"",null,null,null,null,null,null,null,null,null,null,null,null,null,null,null,null,null,null,null,null,null,null,null,null,null,""]
[45,{"$f":"'Data '!D71","v":0},null,null,null,null,0,{"$f":"'PrJ-1'!K69","v":0},{"$f":"'PrJ-2'!K69","v":0},{"$f":"'PrJ-3'!K69","v":0},0,{"$f":"'Pf-1'!K69","v":0},{"$f":"'Pf-2'!K69","v":0},0,0,0,"D","Tidak Tuntas",null,null,null,null,null,null,null,null,"",null,null,null,null,null,null,null,null,null,null,null,null,null,null,null,null,null,null,null,null,null,null,null,null,null,""]
[46,{"$f":"'Data '!D72","v":0},null,null,null,null,0,{"$f":"'PrJ-1'!K70","v":0},{"$f":"'PrJ-2'!K70","v":0},{"$f":"'PrJ-3'!K70","v":0},0,{"$f":"'Pf-1'!K70","v":0},{"$f":"'Pf-2'!K70","v":0},0,{"$f":"IFERROR((G66*$D$74+K66*$E$74+N66*$G$74)/$H$74,\"  \")","v":0},{"$f":"IFERROR((O66/100)*4,\"  \")","v":0},"D",{"$f":"IF(P66=\"  \",\"  \",IF(P66>=$P$8,\"Tuntas\",\"Tidak Tuntas\"))","v":"Tidak Tuntas"},null,null,null,null,null,null,null,null,"",null,null,null,null,null,null,null,null,null,null,null,null,null,null,null,null,null,null,null,null,null,null,null,null,null,""]
[47,{"$f":"'Data '!D73","v":0},null,null,null,null,0,{"$f":"'PrJ-1'!K71","v":0},{"$f":"'PrJ-2'!K71","v":0},{"$f":"'PrJ-3'!K71","v":0},0,{"$f":"'Pf-1'!K71","v":0},{"$f":"'Pf-2'!K71","v":0},0,0,0,"D","Tidak Tuntas",null,null,null,null,null,null,null,null,"",null,null,null,null,null,null,null,null,null,null,null,null,null,null,null,null,null,null,null,null,null,null,null,null,null,""]
[48,{"$f":"'Data '!D74","v":0},null,null,null,null,0,{"$f":"'PrJ-1'!K72","v":0},{"$f":"'PrJ-2'!K72","v":0},{"$f":"'PrJ-3'!K72","v":0},0,{"$f":"'Pf-1'!K72","v":0},{"$f":"'Pf-2'!K72","v":0},0,0,0,"D","Tidak Tuntas",null,null,null,null,null,null,null,null,"",null,null,null,null,null,null,null,null,null,null,null,null,null,null,null,null,null,null,null,null,null,null,null,null,null,""]
[49,{"$f":"'Data '!D75","v":0},null,null,null,null,0,{"$f":"'PrJ-1'!K73","v":0},{"$f":"'PrJ-2'!K73","v":0},{"$f":"'PrJ-3'!K73","v":0},0,{"$f":"'Pf-1'!K73","v":0},{"$f":"'Pf-2'!K73","v":0},0,0,0,"D","Tidak Tuntas",null,null,null,null,null,null,null,null,"",null,null,null,null,null,null,null,null,null,null,null,null,null,null,null,null,null,null,null,null,null,null,null,null,null,""]
[50,{"$f":"'Data '!D76","v":0},56,8,null,null,56,90,{"$f":"'PrJ-2'!K74","v":0},{"$f":"'PrJ-3'!K74","v":0},90,78,{"$f":"'Pf-2'!K74","v":0},78,70,2.8,"B-","Tuntas",null,null,null,null,null,null,null,null,"Kompetensi ketrampilan rerata baik. ",null,null,null,null,null,null,null,null,null,null,null,null,null,null,null,null,null,null,null,null,null,null,null,null,null,"Kompetensi ketrampilan rerata baik. Masih perlu latihan AtletikFALSE"]
[null,"Nilai Rata-rata",{"$f":"IFERROR(AVERAGE(C21:C70),\" \")","v":79.41463414634147},{"$f":"IFERROR(AVERAGE(D21:D70),\" \")","v":78.243902439024396},80,80,65.12,65.8,0,0,65.8,65.56,0,65.56,65.400000000000006,2.6160000000000014,null,null,null,null,null,null,null,null,null,null,null,null,null,null,null,null,null,null,null,null,null,null,null,null,null,null,null,null,null,null,null,null,null,null,null,null,"Kompetensi ketrampilan rerata cukup. Sudah trampil Atletik, sudah trampil Senam, sudah trampil Bola Volley, sudah trampil Sepak Bola"]
[null,null,null,null,null,null,null,null,null,null,null,null,null,null,null,null,null,null,null,null,null,null,null,null,null,null,null,null,null,null,null,null,null,null,null,null,null,null,null,null,null,null,null,null,null,null,null,null,null,null,null,null,{"$f":"CONCATENATE(IF(P72>$AG$22,\"Kompetensi ketrampilan rerata sangat baik. \",IF(P72>$AG$25,\"Kompetensi ketrampilan rerata baik. \",IF(P72>$AG$28,\"Kompetensi ketrampilan rerata cukup. \",IF(P72>$AG$30,\"Kompetensi ketrampilan rerata kurang. \",\" \")))),IF(C72>$AL$22,\"Sangat trampil \"&$C$13,IF(C72>$Q$8,\"Sudah trampil \"&$C$13,IF(C72>$AL$28,\"Masih perlu latihan \"&$C$13,IF(C72>$AL$30,\"Perlu bimbingan \"&$C$13,IF(C72=\"\",\"\"))))),IF(D72>$AL$22,\", sangat trampil \"&$C$14,IF(D72>$Q$8,\", sudah trampil \"&$C$14,IF(D72>$AL$28,\", masih perlu latihan \"&$C$14,IF(D72>$AL$30,\", perlu bimbingan \"&$C$14,IF(D72=\"\",\"\"))))),IF(E72>$AL$22,\", sangat trampil \"&$C$15,IF(E72>$Q$8,\", sudah trampil \"&$C$15,IF(E72>$AL$28,\", masih perlu latihan \"&$C$15,IF(E72>$AL$30,\", perlu bimbingan \"&$C$15,IF(E72=\"\",\"\"))))),IF(F72>$Q$8,\", sangat trampil \"&$C$16,IF(F72>$AL$25,\", sudah trampil \"&$C$16,IF(F72>$AL$28,\", masih perlu latihan \"&$C$16,IF(F72>$AL$30,\", perlu bimbingan \"&$C$16,IF(F72=\"\",\"\"))))))","v":""}]
[null,null,"Jenis","Uj.K","Proj",null,"Port","Jlh"]
[null,null,"Bobot",2,1,null,1,{"$f":"SUM(D74:G74)","v":4}]
[]
[null,"Mengetahui:",null,null,null,null,null,null,null,null,null,null,null,null,null,{"$f":"'Data '!D21","v":"Blora, 20 Desember 2014"}]
[null,{"$f":"\"Ka. \"&'Data '!D7","v":"Ka. SMP Negeri 6 Blora"},null,null,null,null,null,null,null,null,null,null,null,null,null,"Guru Mata Pelajaran"]
[]
[]
[]
[null,{"$f":"'Data '!D15","v":"Suparno, S.Pd.,M.Hum"},null,null,null,null,null,null,null,null,null,null,null,null,null,{"$f":"Home!E12","v":"Drs. Sarid Nugroho"}]
[null,{"$f":"'Data '!D16","v":"NIP. 19620712 198403 1 012"},null,null,null,null,null,null,null,null,null,null,null,null,null,{"$f":"Home!E14","v":"NIP. 19631223 198803 1 004"}]

{"sheet":"Cognitif","index":7,"n_rows":141,"n_cols":24,"rows_kept":141,"cut":false,"hidden":false,"merged":[[8,13,8,15],[8,16,8,17],[8,18,8,20],[9,2,9,7],[0,2,0,20],[1,2,1,20],[2,2,2,20],[3,2,5,20],[7,2,7,7],[7,9,7,11],[7,13,7,15],[7,16,7,17],[17,0,18,0],[17,1,18,1],[8,2,8,7],[8,9,8,11],[11,1,11,11],[12,2,12,11],[13,2,13,11],[14,2,14,11],[15,2,15,11],[21,23,30,23],[17,14,18,14],[17,17,17,19],[71,2,71,3],[72,2,72,3],[19,23,20,23],[17,2,17,6],[17,8,17,12]]}
[null,null,{"$f":"UPPER('Data '!D10)","v":"PEMERINTAH KABUPATEN BLORA"}]
[null,null,{"$f":"UPPER('Data '!D6)","v":"DINAS PENDIDIKAN PEMUDA DAN OLAHRAGA"}]
[null,null,{"$f":"UPPER('Data '!D7)","v":"SMP NEGERI 6 BLORA"}]
[null,null,"DAFTAR   NILAI   SISWA ASPEK PENGETAHUAN (KI - 3)"]
[]
[]
[]
[null,"Mata Pelajaran :",{"$f":"Home!E16","v":"PJOK"},null,null,null,null,null,null,"Semester  :",null,null,null,{"$f":"'Data '!D14","v":"Ganjil"},null,null,"KKM :",null,{"$f":"Home!E22","v":2.67}]
[null,"Kelas :",{"$f":"Home!E18","v":"VII-A"},null,null,null,null,null,null,"Tahun Pelajaran :",null,null,null,{"$f":"'Data '!D13","v":"2014/2015"},null,null,"Wali Kelas :",null,{"$f":"'Data '!D17","v":"Mundari, S.Pd."}]
[null,"Aspek :","Pengetahuan"]
[]
[]
[null,"KD/Materi Pokok UH 1","aritmatika sosial"]
[null,"KD/Materi Pokok UH 2","himpunan"]
[null,"KD/Materi Pokok UH 3","bilangan"]
[null,"KD/Materi Pokok UH 4","perbandingan"]
[]
["No. ","Nama","Nilai Ulangan Harian",null,null,null,null,"Rerata","Nilai Tugas / PR",null,null,null,null,"Rerata","NP \n(NH)","Nilai","Nilai","Nilai",null,null,"Ket"]
[null,null,"KD1","KD2","KD3","KD4","KD5","NUH","KD1","KD2","KD3","KD4","KD5","Tg/PR",null,"UTS","UAS","0-100","0-4","Konversi","T/TT"]
[1,{"$f":"'Data '!D27","v":"AHMAD ALEK BRIYANSAPUTRA"},{"$f":"IF(Pengetahuan!C21=\"\",\"\",Pengetahuan!C21)","v":80},{"$f":"IF(Pengetahuan!D21=\"\",\"\",Pengetahuan!D21)","v":80},{"$f":"IF(Pengetahuan!E21=\"\",\"\",Pengetahuan!E21)","v":80},{"$f":"IF(Pengetahuan!F21=\"\",\"\",Pengetahuan!F21)","v":80},{"$f":"IF(Pengetahuan!G21=\"\",\"\",Pengetahuan!G21)","v":""},{"$f":"IF(Pengetahuan!H21=\"\",\"\",Pengetahuan!H21)","v":80},{"$f":"IF(Pengetahuan!I21=\"\",\"\",Pengetahuan!I21)","v":80},{"$f":"IF(Pengetahuan!J21=\"\",\"\",Pengetahuan!J21)","v":80},{"$f":"IF(Pengetahuan!K21=\"\",\"\",Pengetahuan!K21)","v":80},{"$f":"IF(Pengetahuan!L21=\"\",\"\",Pengetahuan!L21)","v":80},{"$f":"IF(Pengetahuan!M21=\"\",\"\",Pengetahuan!M21)","v":""},{"$f":"IF(Pengetahuan!N21=\"\",\"\",Pengetahuan!N21)","v":80},{"$f":"IF(Pengetahuan!O21=\"\",\"\",Pengetahuan!O21)","v":80},{"$f":"IF(Pengetahuan!P21=\"\",\"\",Pengetahuan!P21)","v":75},{"$f":"IF(Pengetahuan!Q21=\"\",\"\",Pengetahuan!Q21)","v":75},{"$f":"IF(Pengetahuan!R21=\"\",\"\",Pengetahuan!R21)","v":77.5},{"$f":"IF(Pengetahuan!S21=\"\",\"\",Pengetahuan!S21)","v":3.1},{"$f":"IF(Pengetahuan!T21=\"\",\"\",Pengetahuan!T21)","v":"B"},{"$f":"IF(Pengetahuan!U21=\"\",\"\",Pengetahuan!U21)","v":"Tuntas"},null,null,"PETUNJUK UNTUK MENCETAK/PRINT OUT"]
[2,{"$f":"'Data '!D28","v":"AULIA AYU FATINA"},{"$f":"IF(Pengetahuan!C22=\"\",\"\",Pengetahuan!C22)","v":80},{"$f":"IF(Pengetahuan!D22=\"\",\"\",Pengetahuan!D22)","v":80},{"$f":"IF(Pengetahuan!E22=\"\",\"\",Pengetahuan!E22)","v":80},{"$f":"IF(Pengetahuan!F22=\"\",\"\",Pengetahuan!F22)","v":80},{"$f":"IF(Pengetahuan!G22=\"\",\"\",Pengetahuan!G22)","v":""},{"$f":"IF(Pengetahuan!H22=\"\",\"\",Pengetahuan!H22)","v":80},{"$f":"IF(Pengetahuan!I22=\"\",\"\",Pengetahuan!I22)","v":80},{"$f":"IF(Pengetahuan!J22=\"\",\"\",Pengetahuan!J22)","v":80},{"$f":"IF(Pengetahuan!K22=\"\",\"\",Pengetahuan!K22)","v":80},{"$f":"IF(Pengetahuan!L22=\"\",\"\",Pengetahuan!L22)","v":80},{"$f":"IF(Pengetahuan!M22=\"\",\"\",Pengetahuan!M22)","v":""},{"$f":"IF(Pengetahuan!N22=\"\",\"\",Pengetahuan!N22)","v":80},{"$f":"IF(Pengetahuan!O22=\"\",\"\",Pengetahuan!O22)","v":80},{"$f":"IF(Pengetahuan!P22=\"\",\"\",Pengetahuan!P22)","v":75},{"$f":"IF(Pengetahuan!Q22=\"\",\"\",Pengetahuan!Q22)","v":75},{"$f":"IF(Pengetahuan!R22=\"\",\"\",Pengetahuan!R22)","v":77.5},{"$f":"IF(Pengetahuan!S22=\"\",\"\",Pengetahuan!S22)","v":3.1},{"$f":"IF(Pengetahuan!T22=\"\",\"\",Pengetahuan!T22)","v":"B"},{"$f":"IF(Pengetahuan!U22=\"\",\"\",Pengetahuan!U22)","v":"Tuntas"}]
[3,{"$f":"'Data '!D29","v":"BAGAS YULANDRA PUTRA"},{"$f":"IF(Pengetahuan!C23=\"\",\"\",Pengetahuan!C23)","v":80},{"$f":"IF(Pengetahuan!D23=\"\",\"\",Pengetahuan!D23)","v":80},{"$f":"IF(Pengetahuan!E23=\"\",\"\",Pengetahuan!E23)","v":80},{"$f":"IF(Pengetahuan!F23=\"\",\"\",Pengetahuan!F23)","v":80},{"$f":"IF(Pengetahuan!G23=\"\",\"\",Pengetahuan!G23)","v":""},{"$f":"IF(Pengetahuan!H23=\"\",\"\",Pengetahuan!H23)","v":80},{"$f":"IF(Pengetahuan!I23=\"\",\"\",Pengetahuan!I23)","v":80},{"$f":"IF(Pengetahuan!J23=\"\",\"\",Pengetahuan!J23)","v":80},{"$f":"IF(Pengetahuan!K23=\"\",\"\",Pengetahuan!K23)","v":80},{"$f":"IF(Pengetahuan!L23=\"\",\"\",Pengetahuan!L23)","v":80},{"$f":"IF(Pengetahuan!M23=\"\",\"\",Pengetahuan!M23)","v":""},{"$f":"IF(Pengetahuan!N23=\"\",\"\",Pengetahuan!N23)","v":80},{"$f":"IF(Pengetahuan!O23=\"\",\"\",Pengetahuan!O23)","v":80},{"$f":"IF(Pengetahuan!P23=\"\",\"\",Pengetahuan!P23)","v":75},{"$f":"IF(Pengetahuan!Q23=\"\",\"\",Pengetahuan!Q23)","v":75},{"$f":"IF(Pengetahuan!R23=\"\",\"\",Pengetahuan!R23)","v":77.5},{"$f":"IF(Pengetahuan!S23=\"\",\"\",Pengetahuan!S23)","v":3.1},{"$f":"IF(Pengetahuan!T23=\"\",\"\",Pengetahuan!T23)","v":"B"},{"$f":"IF(Pengetahuan!U23=\"\",\"\",Pengetahuan!U23)","v":"Tuntas"},null,null,"Password pada sheet ini purnawanto. Gunakan untuk mengedit page setup halaman, dsb.\n\nJika ingin mengurangi jumlah baris (misal jumlah siswa hanya 30 orang), JANGAN MENGHAPUS BARIS. Blok baris, klik kanan, pilih HIDE. \n\nProtek kembali sheet untuk keamanan rumus dan link antar sheet. \nTERIMA KASIH"]
[4,{"$f":"'Data '!D30","v":"CYNTIA AGUSTINA"},{"$f":"IF(Pengetahuan!C24=\"\",\"\",Pengetahuan!C24)","v":80},{"$f":"IF(Pengetahuan!D24=\"\",\"\",Pengetahuan!D24)","v":80},{"$f":"IF(Pengetahuan!E24=\"\",\"\",Pengetahuan!E24)","v":80},{"$f":"IF(Pengetahuan!F24=\"\",\"\",Pengetahuan!F24)","v":80},{"$f":"IF(Pengetahuan!G24=\"\",\"\",Pengetahuan!G24)","v":""},{"$f":"IF(Pengetahuan!H24=\"\",\"\",Pengetahuan!H24)","v":80},{"$f":"IF(Pengetahuan!I24=\"\",\"\",Pengetahuan!I24)","v":80},{"$f":"IF(Pengetahuan!J24=\"\",\"\",Pengetahuan!J24)","v":80},{"$f":"IF(Pengetahuan!K24=\"\",\"\",Pengetahuan!K24)","v":80},{"$f":"IF(Pengetahuan!L24=\"\",\"\",Pengetahuan!L24)","v":80},{"$f":"IF(Pengetahuan!M24=\"\",\"\",Pengetahuan!M24)","v":""},{"$f":"IF(Pengetahuan!N24=\"\",\"\",Pengetahuan!N24)","v":80},{"$f":"IF(Pengetahuan!O24=\"\",\"\",Pengetahuan!O24)","v":80},{"$f":"IF(Pengetahuan!P24=\"\",\"\",Pengetahuan!P24)","v":75},{"$f":"IF(Pengetahuan!Q24=\"\",\"\",Pengetahuan!Q24)","v":75},{"$f":"IF(Pengetahuan!R24=\"\",\"\",Pengetahuan!R24)","v":77.5},{"$f":"IF(Pengetahuan!S24=\"\",\"\",Pengetahuan!S24)","v":3.1},{"$f":"IF(Pengetahuan!T24=\"\",\"\",Pengetahuan!T24)","v":"B"},{"$f":"IF(Pengetahuan!U24=\"\",\"\",Pengetahuan!U24)","v":"Tuntas"}]
[5,{"$f":"'Data '!D31","v":"DAFFA KRISNA PRAMUDYA"},{"$f":"IF(Pengetahuan!C25=\"\",\"\",Pengetahuan!C25)","v":80},{"$f":"IF(Pengetahuan!D25=\"\",\"\",Pengetahuan!D25)","v":80},{"$f":"IF(Pengetahuan!E25=\"\",\"\",Pengetahuan!E25)","v":80},{"$f":"IF(Pengetahuan!F25=\"\",\"\",Pengetahuan!F25)","v":80},{"$f":"IF(Pengetahuan!G25=\"\",\"\",Pengetahuan!G25)","v":""},{"$f":"IF(Pengetahuan!H25=\"\",\"\",Pengetahuan!H25)","v":80},{"$f":"IF(Pengetahuan!I25=\"\",\"\",Pengetahuan!I25)","v":80},{"$f":"IF(Pengetahuan!J25=\"\",\"\",Pengetahuan!J25)","v":80},{"$f":"IF(Pengetahuan!K25=\"\",\"\",Pengetahuan!K25)","v":80},{"$f":"IF(Pengetahuan!L25=\"\",\"\",Pengetahuan!L25)","v":80},{"$f":"IF(Pengetahuan!M25=\"\",\"\",Pengetahuan!M25)","v":""},{"$f":"IF(Pengetahuan!N25=\"\",\"\",Pengetahuan!N25)","v":80},{"$f":"IF(Pengetahuan!O25=\"\",\"\",Pengetahuan!O25)","v":80},{"$f":"IF(Pengetahuan!P25=\"\",\"\",Pengetahuan!P25)","v":75},{"$f":"IF(Pengetahuan!Q25=\"\",\"\",Pengetahuan!Q25)","v":75},{"$f":"IF(Pengetahuan!R25=\"\",\"\",Pengetahuan!R25)","v":77.5},{"$f":"IF(Pengetahuan!S25=\"\",\"\",Pengetahuan!S25)","v":3.1},{"$f":"IF(Pengetahuan!T25=\"\",\"\",Pengetahuan!T25)","v":"B"},{"$f":"IF(Pengetahuan!U25=\"\",\"\",Pengetahuan!U25)","v":"Tuntas"}]
[6,{"$f":"'Data '!D32","v":"DANINDRA RAFIF IRAWAN"},{"$f":"IF(Pengetahuan!C26=\"\",\"\",Pengetahuan!C26)","v":80},{"$f":"IF(Pengetahuan!D26=\"\",\"\",Pengetahuan!D26)","v":80},{"$f":"IF(Pengetahuan!E26=\"\",\"\",Pengetahuan!E26)","v":80},{"$f":"IF(Pengetahuan!F26=\"\",\"\",Pengetahuan!F26)","v":80},{"$f":"IF(Pengetahuan!G26=\"\",\"\",Pengetahuan!G26)","v":""},{"$f":"IF(Pengetahuan!H26=\"\",\"\",Pengetahuan!H26)","v":80},{"$f":"IF(Pengetahuan!I26=\"\",\"\",Pengetahuan!I26)","v":80},{"$f":"IF(Pengetahuan!J26=\"\",\"\",Pengetahuan!J26)","v":80},{"$f":"IF(Pengetahuan!K26=\"\",\"\",Pengetahuan!K26)","v":80},{"$f":"IF(Pengetahuan!L26=\"\",\"\",Pengetahuan!L26)","v":80},{"$f":"IF(Pengetahuan!M26=\"\",\"\",Pengetahuan!M26)","v":""},{"$f":"IF(Pengetahuan!N26=\"\",\"\",Pengetahuan!N26)","v":80},{"$f":"IF(Pengetahuan!O26=\"\",\"\",Pengetahuan!O26)","v":80},{"$f":"IF(Pengetahuan!P26=\"\",\"\",Pengetahuan!P26)","v":75},{"$f":"IF(Pengetahuan!Q26=\"\",\"\",Pengetahuan!Q26)","v":75},{"$f":"IF(Pengetahuan!R26=\"\",\"\",Pengetahuan!R26)","v":77.5},{"$f":"IF(Pengetahuan!S26=\"\",\"\",Pengetahuan!S26)","v":3.1},{"$f":"IF(Pengetahuan!T26=\"\",\"\",Pengetahuan!T26)","v":"B"},{"$f":"IF(Pengetahuan!U26=\"\",\"\",Pengetahuan!U26)","v":"Tuntas"}]
[7,{"$f":"'Data '!D33","v":"DENI PRATAMA"},{"$f":"IF(Pengetahuan!C27=\"\",\"\",Pengetahuan!C27)","v":80},{"$f":"IF(Pengetahuan!D27=\"\",\"\",Pengetahuan!D27)","v":80},{"$f":"IF(Pengetahuan!E27=\"\",\"\",Pengetahuan!E27)","v":80},{"$f":"IF(Pengetahuan!F27=\"\",\"\",Pengetahuan!F27)","v":80},{"$f":"IF(Pengetahuan!G27=\"\",\"\",Pengetahuan!G27)","v":""},{"$f":"IF(Pengetahuan!H27=\"\",\"\",Pengetahuan!H27)","v":80},{"$f":"IF(Pengetahuan!I27=\"\",\"\",Pengetahuan!I27)","v":80},{"$f":"IF(Pengetahuan!J27=\"\",\"\",Pengetahuan!J27)","v":80},{"$f":"IF(Pengetahuan!K27=\"\",\"\",Pengetahuan!K27)","v":80},{"$f":"IF(Pengetahuan!L27=\"\",\"\",Pengetahuan!L27)","v":80},{"$f":"IF(Pengetahuan!M27=\"\",\"\",Pengetahuan!M27)","v":""},{"$f":"IF(Pengetahuan!N27=\"\",\"\",Pengetahuan!N27)","v":80},{"$f":"IF(Pengetahuan!O27=\"\",\"\",Pengetahuan!O27)","v":80},{"$f":"IF(Pengetahuan!P27=\"\",\"\",Pengetahuan!P27)","v":75},{"$f":"IF(Pengetahuan!Q27=\"\",\"\",Pengetahuan!Q27)","v":75},{"$f":"IF(Pengetahuan!R27=\"\",\"\",Pengetahuan!R27)","v":77.5},{"$f":"IF(Pengetahuan!S27=\"\",\"\",Pengetahuan!S27)","v":3.1},{"$f":"IF(Pengetahuan!T27=\"\",\"\",Pengetahuan!T27)","v":"B"},{"$f":"IF(Pengetahuan!U27=\"\",\"\",Pengetahuan!U27)","v":"Tuntas"}]
[8,{"$f":"'Data '!D34","v":"DIKA SUKMA AGUSTIN"},{"$f":"IF(Pengetahuan!C28=\"\",\"\",Pengetahuan!C28)","v":80},{"$f":"IF(Pengetahuan!D28=\"\",\"\",Pengetahuan!D28)","v":80},{"$f":"IF(Pengetahuan!E28=\"\",\"\",Pengetahuan!E28)","v":80},{"$f":"IF(Pengetahuan!F28=\"\",\"\",Pengetahuan!F28)","v":80},{"$f":"IF(Pengetahuan!G28=\"\",\"\",Pengetahuan!G28)","v":""},{"$f":"IF(Pengetahuan!H28=\"\",\"\",Pengetahuan!H28)","v":80},{"$f":"IF(Pengetahuan!I28=\"\",\"\",Pengetahuan!I28)","v":80},{"$f":"IF(Pengetahuan!J28=\"\",\"\",Pengetahuan!J28)","v":80},{"$f":"IF(Pengetahuan!K28=\"\",\"\",Pengetahuan!K28)","v":80},{"$f":"IF(Pengetahuan!L28=\"\",\"\",Pengetahuan!L28)","v":80},{"$f":"IF(Pengetahuan!M28=\"\",\"\",Pengetahuan!M28)","v":""},{"$f":"IF(Pengetahuan!N28=\"\",\"\",Pengetahuan!N28)","v":80},{"$f":"IF(Pengetahuan!O28=\"\",\"\",Pengetahuan!O28)","v":80},{"$f":"IF(Pengetahuan!P28=\"\",\"\",Pengetahuan!P28)","v":75},{"$f":"IF(Pengetahuan!Q28=\"\",\"\",Pengetahuan!Q28)","v":75},{"$f":"IF(Pengetahuan!R28=\"\",\"\",Pengetahuan!R28)","v":77.5},{"$f":"IF(Pengetahuan!S28=\"\",\"\",Pengetahuan!S28)","v":3.1},{"$f":"IF(Pengetahuan!T28=\"\",\"\",Pengetahuan!T28)","v":"B"},{"$f":"IF(Pengetahuan!U28=\"\",\"\",Pengetahuan!U28)","v":"Tuntas"}]
[9,{"$f":"'Data '!D35","v":"DIVA ADITYA"},{"$f":"IF(Pengetahuan!C29=\"\",\"\",Pengetahuan!C29)","v":80},{"$f":"IF(Pengetahuan!D29=\"\",\"\",Pengetahuan!D29)","v":80},{"$f":"IF(Pengetahuan!E29=\"\",\"\",Pengetahuan!E29)","v":80},{"$f":"IF(Pengetahuan!F29=\"\",\"\",Pengetahuan!F29)","v":80},{"$f":"IF(Pengetahuan!G29=\"\",\"\",Pengetahuan!G29)","v":""},{"$f":"IF(Pengetahuan!H29=\"\",\"\",Pengetahuan!H29)","v":80},{"$f":"IF(Pengetahuan!I29=\"\",\"\",Pengetahuan!I29)","v":80},{"$f":"IF(Pengetahuan!J29=\"\",\"\",Pengetahuan!J29)","v":80},{"$f":"IF(Pengetahuan!K29=\"\",\"\",Pengetahuan!K29)","v":80},{"$f":"IF(Pengetahuan!L29=\"\",\"\",Pengetahuan!L29)","v":80},{"$f":"IF(Pengetahuan!M29=\"\",\"\",Pengetahuan!M29)","v":""},{"$f":"IF(Pengetahuan!N29=\"\",\"\",Pengetahuan!N29)","v":80},{"$f":"IF(Pengetahuan!O29=\"\",\"\",Pengetahuan!O29)","v":80},{"$f":"IF(Pengetahuan!P29=\"\",\"\",Pengetahuan!P29)","v":75},{"$f":"IF(Pengetahuan!Q29=\"\",\"\",Pengetahuan!Q29)","v":75},{"$f":"IF(Pengetahuan!R29=\"\",\"\",Pengetahuan!R29)","v":77.5},{"$f":"IF(Pengetahuan!S29=\"\",\"\",Pengetahuan!S29)","v":3.1},{"$f":"IF(Pengetahuan!T29=\"\",\"\",Pengetahuan!T29)","v":"B"},{"$f":"IF(Pengetahuan!U29=\"\",\"\",Pengetahuan!U29)","v":"Tuntas"}]
[10,{"$f":"'Data '!D36","v":"EKO PRASTYO"},{"$f":"IF(Pengetahuan!C30=\"\",\"\",Pengetahuan!C30)","v":80},{"$f":"IF(Pengetahuan!D30=\"\",\"\",Pengetahuan!D30)","v":80},{"$f":"IF(Pengetahuan!E30=\"\",\"\",Pengetahuan!E30)","v":80},{"$f":"IF(Pengetahuan!F30=\"\",\"\",Pengetahuan!F30)","v":80},{"$f":"IF(Pengetahuan!G30=\"\",\"\",Pengetahuan!G30)","v":""},{"$f":"IF(Pengetahuan!H30=\"\",\"\",Pengetahuan!H30)","v":80},{"$f":"IF(Pengetahuan!I30=\"\",\"\",Pengetahuan!I30)","v":80},{"$f":"IF(Pengetahuan!J30=\"\",\"\",Pengetahuan!J30)","v":80},{"$f":"IF(Pengetahuan!K30=\"\",\"\",Pengetahuan!K30)","v":80},{"$f":"IF(Pengetahuan!L30=\"\",\"\",Pengetahuan!L30)","v":80},{"$f":"IF(Pengetahuan!M30=\"\",\"\",Pengetahuan!M30)","v":""},{"$f":"IF(Pengetahuan!N30=\"\",\"\",Pengetahuan!N30)","v":80},{"$f":"IF(Pengetahuan!O30=\"\",\"\",Pengetahuan!O30)","v":80},{"$f":"IF(Pengetahuan!P30=\"\",\"\",Pengetahuan!P30)","v":75},{"$f":"IF(Pengetahuan!Q30=\"\",\"\",Pengetahuan!Q30)","v":75},{"$f":"IF(Pengetahuan!R30=\"\",\"\",Pengetahuan!R30)","v":77.5},{"$f":"IF(Pengetahuan!S30=\"\",\"\",Pengetahuan!S30)","v":3.1},{"$f":"IF(Pengetahuan!T30=\"\",\"\",Pengetahuan!T30)","v":"B"},{"$f":"IF(Pengetahuan!U30=\"\",\"\",Pengetahuan!U30)","v":"Tuntas"}]
[11,{"$f":"'Data '!D37","v":"FAIQUR RIJAL HAMMAM"},{"$f":"IF(Pengetahuan!C31=\"\",\"\",Pengetahuan!C31)","v":80},{"$f":"IF(Pengetahuan!D31=\"\",\"\",Pengetahuan!D31)","v":80},{"$f":"IF(Pengetahuan!E31=\"\",\"\",Pengetahuan!E31)","v":80},{"$f":"IF(Pengetahuan!F31=\"\",\"\",Pengetahuan!F31)","v":80},{"$f":"IF(Pengetahuan!G31=\"\",\"\",Pengetahuan!G31)","v":""},{"$f":"IF(Pengetahuan!H31=\"\",\"\",Pengetahuan!H31)","v":80},{"$f":"IF(Pengetahuan!I31=\"\",\"\",Pengetahuan!I31)","v":80},{"$f":"IF(Pengetahuan!J31=\"\",\"\",Pengetahuan!J31)","v":80},{"$f":"IF(Pengetahuan!K31=\"\",\"\",Pengetahuan!K31)","v":80},{"$f":"IF(Pengetahuan!L31=\"\",\"\",Pengetahuan!L31)","v":80},{"$f":"IF(Pengetahuan!M31=\"\",\"\",Pengetahuan!M31)","v":""},{"$f":"IF(Pengetahuan!N31=\"\",\"\",Pengetahuan!N31)","v":80},{"$f":"IF(Pengetahuan!O31=\"\",\"\",Pengetahuan!O31)","v":80},{"$f":"IF(Pengetahuan!P31=\"\",\"\",Pengetahuan!P31)","v":75},{"$f":"IF(Pengetahuan!Q31=\"\",\"\",Pengetahuan!Q31)","v":75},{"$f":"IF(Pengetahuan!R31=\"\",\"\",Pengetahuan!R31)","v":77.5},{"$f":"IF(Pengetahuan!S31=\"\",\"\",Pengetahuan!S31)","v":3.1},{"$f":"IF(Pengetahuan!T31=\"\",\"\",Pengetahuan!T31)","v":"B"},{"$f":"IF(Pengetahuan!U31=\"\",\"\",Pengetahuan!U31)","v":"Tuntas"}]
[12,{"$f":"'Data '!D38","v":"FATESAR SARI PRASETYO"},{"$f":"IF(Pengetahuan!C32=\"\",\"\",Pengetahuan!C32)","v":80},{"$f":"IF(Pengetahuan!D32=\"\",\"\",Pengetahuan!D32)","v":80},{"$f":"IF(Pengetahuan!E32=\"\",\"\",Pengetahuan!E32)","v":80},{"$f":"IF(Pengetahuan!F32=\"\",\"\",Pengetahuan!F32)","v":80},{"$f":"IF(Pengetahuan!G32=\"\",\"\",Pengetahuan!G32)","v":""},{"$f":"IF(Pengetahuan!H32=\"\",\"\",Pengetahuan!H32)","v":80},{"$f":"IF(Pengetahuan!I32=\"\",\"\",Pengetahuan!I32)","v":80},{"$f":"IF(Pengetahuan!J32=\"\",\"\",Pengetahuan!J32)","v":80},{"$f":"IF(Pengetahuan!K32=\"\",\"\",Pengetahuan!K32)","v":80},{"$f":"IF(Pengetahuan!L32=\"\",\"\",Pengetahuan!L32)","v":80},{"$f":"IF(Pengetahuan!M32=\"\",\"\",Pengetahuan!M32)","v":""},{"$f":"IF(Pengetahuan!N32=\"\",\"\",Pengetahuan!N32)","v":80},{"$f":"IF(Pengetahuan!O32=\"\",\"\",Pengetahuan!O32)","v":80},{"$f":"IF(Pengetahuan!P32=\"\",\"\",Pengetahuan!P32)","v":75},{"$f":"IF(Pengetahuan!Q32=\"\",\"\",Pengetahuan!Q32)","v":75},{"$f":"IF(Pengetahuan!R32=\"\",\"\",Pengetahuan!R32)","v":77.5},{"$f":"IF(Pengetahuan!S32=\"\",\"\",Pengetahuan!S32)","v":3.1},{"$f":"IF(Pengetahuan!T32=\"\",\"\",Pengetahuan!T32)","v":"B"},{"$f":"IF(Pengetahuan!U32=\"\",\"\",Pengetahuan!U32)","v":"Tuntas"}]
[13,{"$f":"'Data '!D39","v":"FEBRI SULISTIYO"},{"$f":"IF(Pengetahuan!C33=\"\",\"\",Pengetahuan!C33)","v":80},{"$f":"IF(Pengetahuan!D33=\"\",\"\",Pengetahuan!D33)","v":80},{"$f":"IF(Pengetahuan!E33=\"\",\"\",Pengetahuan!E33)","v":80},{"$f":"IF(Pengetahuan!F33=\"\",\"\",Pengetahuan!F33)","v":80},{"$f":"IF(Pengetahuan!G33=\"\",\"\",Pengetahuan!G33)","v":""},{"$f":"IF(Pengetahuan!H33=\"\",\"\",Pengetahuan!H33)","v":80},{"$f":"IF(Pengetahuan!I33=\"\",\"\",Pengetahuan!I33)","v":80},{"$f":"IF(Pengetahuan!J33=\"\",\"\",Pengetahuan!J33)","v":80},{"$f":"IF(Pengetahuan!K33=\"\",\"\",Pengetahuan!K33)","v":80},{"$f":"IF(Pengetahuan!L33=\"\",\"\",Pengetahuan!L33)","v":80},{"$f":"IF(Pengetahuan!M33=\"\",\"\",Pengetahuan!M33)","v":""},{"$f":"IF(Pengetahuan!N33=\"\",\"\",Pengetahuan!N33)","v":80},{"$f":"IF(Pengetahuan!O33=\"\",\"\",Pengetahuan!O33)","v":80},{"$f":"IF(Pengetahuan!P33=\"\",\"\",Pengetahuan!P33)","v":75},{"$f":"IF(Pengetahuan!Q33=\"\",\"\",Pengetahuan!Q33)","v":75},{"$f":"IF(Pengetahuan!R33=\"\",\"\",Pengetahuan!R33)","v":77.5},{"$f":"IF(Pengetahuan!S33=\"\",\"\",Pengetahuan!S33)","v":3.1},{"$f":"IF(Pengetahuan!T33=\"\",\"\",Pengetahuan!T33)","v":"B"},{"$f":"IF(Pengetahuan!U33=\"\",\"\",Pengetahuan!U33)","v":"Tuntas"}]
[14,{"$f":"'Data '!D40","v":"FIONA NANDA FETRIAN"},{"$f":"IF(Pengetahuan!C34=\"\",\"\",Pengetahuan!C34)","v":80},{"$f":"IF(Pengetahuan!D34=\"\",\"\",Pengetahuan!D34)","v":80},{"$f":"IF(Pengetahuan!E34=\"\",\"\",Pengetahuan!E34)","v":80},{"$f":"IF(Pengetahuan!F34=\"\",\"\",Pengetahuan!F34)","v":80},{"$f":"IF(Pengetahuan!G34=\"\",\"\",Pengetahuan!G34)","v":""},{"$f":"IF(Pengetahuan!H34=\"\",\"\",Pengetahuan!H34)","v":80},{"$f":"IF(Pengetahuan!I34=\"\",\"\",Pengetahuan!I34)","v":80},{"$f":"IF(Pengetahuan!J34=\"\",\"\",Pengetahuan!J34)","v":80},{"$f":"IF(Pengetahuan!K34=\"\",\"\",Pengetahuan!K34)","v":80},{"$f":"IF(Pengetahuan!L34=\"\",\"\",Pengetahuan!L34)","v":80},{"$f":"IF(Pengetahuan!M34=\"\",\"\",Pengetahuan!M34)","v":""},{"$f":"IF(Pengetahuan!N34=\"\",\"\",Pengetahuan!N34)","v":80},{"$f":"IF(Pengetahuan!O34=\"\",\"\",Pengetahuan!O34)","v":80},{"$f":"IF(Pengetahuan!P34=\"\",\"\",Pengetahuan!P34)","v":75},{"$f":"IF(Pengetahuan!Q34=\"\",\"\",Pengetahuan!Q34)","v":75},{"$f":"IF(Pengetahuan!R34=\"\",\"\",Pengetahuan!R34)","v":77.5},{"$f":"IF(Pengetahuan!S34=\"\",\"\",Pengetahuan!S34)","v":3.1},{"$f":"IF(Pengetahuan!T34=\"\",\"\",Pengetahuan!T34)","v":"B"},{"$f":"IF(Pengetahuan!U34=\"\",\"\",Pengetahuan!U34)","v":"Tuntas"}]
[15,{"$f":"'Data '!D41","v":"GILANG SYAHRUL RAMADHAN"},{"$f":"IF(Pengetahuan!C35=\"\",\"\",Pengetahuan!C35)","v":80},{"$f":"IF(Pengetahuan!D35=\"\",\"\",Pengetahuan!D35)","v":80},{"$f":"IF(Pengetahuan!E35=\"\",\"\",Pengetahuan!E35)","v":80},{"$f":"IF(Pengetahuan!F35=\"\",\"\",Pengetahuan!F35)","v":80},{"$f":"IF(Pengetahuan!G35=\"\",\"\",Pengetahuan!G35)","v":""},{"$f":"IF(Pengetahuan!H35=\"\",\"\",Pengetahuan!H35)","v":80},{"$f":"IF(Pengetahuan!I35=\"\",\"\",Pengetahuan!I35)","v":80},{"$f":"IF(Pengetahuan!J35=\"\",\"\",Pengetahuan!J35)","v":80},{"$f":"IF(Pengetahuan!K35=\"\",\"\",Pengetahuan!K35)","v":80},{"$f":"IF(Pengetahuan!L35=\"\",\"\",Pengetahuan!L35)","v":80},{"$f":"IF(Pengetahuan!M35=\"\",\"\",Pengetahuan!M35)","v":""},{"$f":"IF(Pengetahuan!N35=\"\",\"\",Pengetahuan!N35)","v":80},{"$f":"IF(Pengetahuan!O35=\"\",\"\",Pengetahuan!O35)","v":80},{"$f":"IF(Pengetahuan!P35=\"\",\"\",Pengetahuan!P35)","v":75},{"$f":"IF(Pengetahuan!Q35=\"\",\"\",Pengetahuan!Q35)","v":75},{"$f":"IF(Pengetahuan!R35=\"\",\"\",Pengetahuan!R35)","v":77.5},{"$f":"IF(Pengetahuan!S35=\"\",\"\",Pengetahuan!S35)","v":3.1},{"$f":"IF(Pengetahuan!T35=\"\",\"\",Pengetahuan!T35)","v":"B"},{"$f":"IF(Pengetahuan!U35=\"\",\"\",Pengetahuan!U35)","v":"Tuntas"}]
[16,{"$f":"'Data '!D42","v":"IMAM AGUNG WAHYU PRATAMA"},{"$f":"IF(Pengetahuan!C36=\"\",\"\",Pengetahuan!C36)","v":80},{"$f":"IF(Pengetahuan!D36=\"\",\"\",Pengetahuan!D36)","v":80},{"$f":"IF(Pengetahuan!E36=\"\",\"\",Pengetahuan!E36)","v":80},{"$f":"IF(Pengetahuan!F36=\"\",\"\",Pengetahuan!F36)","v":80},{"$f":"IF(Pengetahuan!G36=\"\",\"\",Pengetahuan!G36)","v":""},{"$f":"IF(Pengetahuan!H36=\"\",\"\",Pengetahuan!H36)","v":80},{"$f":"IF(Pengetahuan!I36=\"\",\"\",Pengetahuan!I36)","v":80},{"$f":"IF(Pengetahuan!J36=\"\",\"\",Pengetahuan!J36)","v":80},{"$f":"IF(Pengetahuan!K36=\"\",\"\",Pengetahuan!K36)","v":80},{"$f":"IF(Pengetahuan!L36=\"\",\"\",Pengetahuan!L36)","v":80},{"$f":"IF(Pengetahuan!M36=\"\",\"\",Pengetahuan!M36)","v":""},{"$f":"IF(Pengetahuan!N36=\"\",\"\",Pengetahuan!N36)","v":80},{"$f":"IF(Pengetahuan!O36=\"\",\"\",Pengetahuan!O36)","v":80},{"$f":"IF(Pengetahuan!P36=\"\",\"\",Pengetahuan!P36)","v":75},{"$f":"IF(Pengetahuan!Q36=\"\",\"\",Pengetahuan!Q36)","v":75},{"$f":"IF(Pengetahuan!R36=\"\",\"\",Pengetahuan!R36)","v":77.5},{"$f":"IF(Pengetahuan!S36=\"\",\"\",Pengetahuan!S36)","v":3.1},{"$f":"IF(Pengetahuan!T36=\"\",\"\",Pengetahuan!T36)","v":"B"},{"$f":"IF(Pengetahuan!U36=\"\",\"\",Pengetahuan!U36)","v":"Tuntas"}]
[17,{"$f":"'Data '!D43","v":"JOHAN MAULANA"},{"$f":"IF(Pengetahuan!C37=\"\",\"\",Pengetahuan!C37)","v":80},{"$f":"IF(Pengetahuan!D37=\"\",\"\",Pengetahuan!D37)","v":80},{"$f":"IF(Pengetahuan!E37=\"\",\"\",Pengetahuan!E37)","v":80},{"$f":"IF(Pengetahuan!F37=\"\",\"\",Pengetahuan!F37)","v":80},{"$f":"IF(Pengetahuan!G37=\"\",\"\",Pengetahuan!G37)","v":""},{"$f":"IF(Pengetahuan!H37=\"\",\"\",Pengetahuan!H37)","v":80},{"$f":"IF(Pengetahuan!I37=\"\",\"\",Pengetahuan!I37)","v":80},{"$f":"IF(Pengetahuan!J37=\"\",\"\",Pengetahuan!J37)","v":80},{"$f":"IF(Pengetahuan!K37=\"\",\"\",Pengetahuan!K37)","v":80},{"$f":"IF(Pengetahuan!L37=\"\",\"\",Pengetahuan!L37)","v":80},{"$f":"IF(Pengetahuan!M37=\"\",\"\",Pengetahuan!M37)","v":""},{"$f":"IF(Pengetahuan!N37=\"\",\"\",Pengetahuan!N37)","v":80},{"$f":"IF(Pengetahuan!O37=\"\",\"\",Pengetahuan!O37)","v":80},{"$f":"IF(Pengetahuan!P37=\"\",\"\",Pengetahuan!P37)","v":75},{"$f":"IF(Pengetahuan!Q37=\"\",\"\",Pengetahuan!Q37)","v":75},{"$f":"IF(Pengetahuan!R37=\"\",\"\",Pengetahuan!R37)","v":77.5},{"$f":"IF(Pengetahuan!S37=\"\",\"\",Pengetahuan!S37)","v":3.1},{"$f":"IF(Pengetahuan!T37=\"\",\"\",Pengetahuan!T37)","v":"B"},{"$f":"IF(Pengetahuan!U37=\"\",\"\",Pengetahuan!U37)","v":"Tuntas"},null,null,"halaman 2"]
[18,{"$f":"'Data '!D44","v":"JOKO SETIAWAN"},{"$f":"IF(Pengetahuan!C38=\"\",\"\",Pengetahuan!C38)","v":80},{"$f":"IF(Pengetahuan!D38=\"\",\"\",Pengetahuan!D38)","v":80},{"$f":"IF(Pengetahuan!E38=\"\",\"\",Pengetahuan!E38)","v":80},{"$f":"IF(Pengetahuan!F38=\"\",\"\",Pengetahuan!F38)","v":80},{"$f":"IF(Pengetahuan!G38=\"\",\"\",Pengetahuan!G38)","v":""},{"$f":"IF(Pengetahuan!H38=\"\",\"\",Pengetahuan!H38)","v":80},{"$f":"IF(Pengetahuan!I38=\"\",\"\",Pengetahuan!I38)","v":80},{"$f":"IF(Pengetahuan!J38=\"\",\"\",Pengetahuan!J38)","v":80},{"$f":"IF(Pengetahuan!K38=\"\",\"\",Pengetahuan!K38)","v":80},{"$f":"IF(Pengetahuan!L38=\"\",\"\",Pengetahuan!L38)","v":80},{"$f":"IF(Pengetahuan!M38=\"\",\"\",Pengetahuan!M38)","v":""},{"$f":"IF(Pengetahuan!N38=\"\",\"\",Pengetahuan!N38)","v":80},{"$f":"IF(Pengetahuan!O38=\"\",\"\",Pengetahuan!O38)","v":80},{"$f":"IF(Pengetahuan!P38=\"\",\"\",Pengetahuan!P38)","v":75},{"$f":"IF(Pengetahuan!Q38=\"\",\"\",Pengetahuan!Q38)","v":75},{"$f":"IF(Pengetahuan!R38=\"\",\"\",Pengetahuan!R38)","v":77.5},{"$f":"IF(Pengetahuan!S38=\"\",\"\",Pengetahuan!S38)","v":3.1},{"$f":"IF(Pengetahuan!T38=\"\",\"\",Pengetahuan!T38)","v":"B"},{"$f":"IF(Pengetahuan!U38=\"\",\"\",Pengetahuan!U38)","v":"Tuntas"}]
[19,{"$f":"'Data '!D45","v":"LISA OKTAVINASARI"},{"$f":"IF(Pengetahuan!C39=\"\",\"\",Pengetahuan!C39)","v":80},{"$f":"IF(Pengetahuan!D39=\"\",\"\",Pengetahuan!D39)","v":80},{"$f":"IF(Pengetahuan!E39=\"\",\"\",Pengetahuan!E39)","v":80},{"$f":"IF(Pengetahuan!F39=\"\",\"\",Pengetahuan!F39)","v":80},{"$f":"IF(Pengetahuan!G39=\"\",\"\",Pengetahuan!G39)","v":""},{"$f":"IF(Pengetahuan!H39=\"\",\"\",Pengetahuan!H39)","v":80},{"$f":"IF(Pengetahuan!I39=\"\",\"\",Pengetahuan!I39)","v":80},{"$f":"IF(Pengetahuan!J39=\"\",\"\",Pengetahuan!J39)","v":80},{"$f":"IF(Pengetahuan!K39=\"\",\"\",Pengetahuan!K39)","v":80},{"$f":"IF(Pengetahuan!L39=\"\",\"\",Pengetahuan!L39)","v":80},{"$f":"IF(Pengetahuan!M39=\"\",\"\",Pengetahuan!M39)","v":""},{"$f":"IF(Pengetahuan!N39=\"\",\"\",Pengetahuan!N39)","v":80},{"$f":"IF(Pengetahuan!O39=\"\",\"\",Pengetahuan!O39)","v":80},{"$f":"IF(Pengetahuan!P39=\"\",\"\",Pengetahuan!P39)","v":75},{"$f":"IF(Pengetahuan!Q39=\"\",\"\",Pengetahuan!Q39)","v":75},{"$f":"IF(Pengetahuan!R39=\"\",\"\",Pengetahuan!R39)","v":77.5},{"$f":"IF(Pengetahuan!S39=\"\",\"\",Pengetahuan!S39)","v":3.1},{"$f":"IF(Pengetahuan!T39=\"\",\"\",Pengetahuan!T39)","v":"B"},{"$f":"IF(Pengetahuan!U39=\"\",\"\",Pengetahuan!U39)","v":"Tuntas"}]
[20,{"$f":"'Data '!D46","v":"MARIA GILDA SIREGAR"},{"$f":"IF(Pengetahuan!C40=\"\",\"\",Pengetahuan!C40)","v":80},{"$f":"IF(Pengetahuan!D40=\"\",\"\",Pengetahuan!D40)","v":80},{"$f":"IF(Pengetahuan!E40=\"\",\"\",Pengetahuan!E40)","v":80},{"$f":"IF(Pengetahuan!F40=\"\",\"\",Pengetahuan!F40)","v":80},{"$f":"IF(Pengetahuan!G40=\"\",\"\",Pengetahuan!G40)","v":""},{"$f":"IF(Pengetahuan!H40=\"\",\"\",Pengetahuan!H40)","v":80},{"$f":"IF(Pengetahuan!I40=\"\",\"\",Pengetahuan!I40)","v":80},{"$f":"IF(Pengetahuan!J40=\"\",\"\",Pengetahuan!J40)","v":80},{"$f":"IF(Pengetahuan!K40=\"\",\"\",Pengetahuan!K40)","v":80},{"$f":"IF(Pengetahuan!L40=\"\",\"\",Pengetahuan!L40)","v":80},{"$f":"IF(Pengetahuan!M40=\"\",\"\",Pengetahuan!M40)","v":""},{"$f":"IF(Pengetahuan!N40=\"\",\"\",Pengetahuan!N40)","v":80},{"$f":"IF(Pengetahuan!O40=\"\",\"\",Pengetahuan!O40)","v":80},{"$f":"IF(Pengetahuan!P40=\"\",\"\",Pengetahuan!P40)","v":75},{"$f":"IF(Pengetahuan!Q40=\"\",\"\",Pengetahuan!Q40)","v":75},{"$f":"IF(Pengetahuan!R40=\"\",\"\",Pengetahuan!R40)","v":77.5},{"$f":"IF(Pengetahuan!S40=\"\",\"\",Pengetahuan!S40)","v":3.1},{"$f":"IF(Pengetahuan!T40=\"\",\"\",Pengetahuan!T40)","v":"B"},{"$f":"IF(Pengetahuan!U40=\"\",\"\",Pengetahuan!U40)","v":"Tuntas"}]
[21,{"$f":"'Data '!D47","v":"MOHAMMAD NURKHOLISH"},{"$f":"IF(Pengetahuan!C41=\"\",\"\",Pengetahuan!C41)","v":80},{"$f":"IF(Pengetahuan!D41=\"\",\"\",Pengetahuan!D41)","v":80},{"$f":"IF(Pengetahuan!E41=\"\",\"\",Pengetahuan!E41)","v":80},{"$f":"IF(Pengetahuan!F41=\"\",\"\",Pengetahuan!F41)","v":80},{"$f":"IF(Pengetahuan!G41=\"\",\"\",Pengetahuan!G41)","v":""},{"$f":"IF(Pengetahuan!H41=\"\",\"\",Pengetahuan!H41)","v":80},{"$f":"IF(Pengetahuan!I41=\"\",\"\",Pengetahuan!I41)","v":80},{"$f":"IF(Pengetahuan!J41=\"\",\"\",Pengetahuan!J41)","v":80},{"$f":"IF(Pengetahuan!K41=\"\",\"\",Pengetahuan!K41)","v":80},{"$f":"IF(Pengetahuan!L41=\"\",\"\",Pengetahuan!L41)","v":80},{"$f":"IF(Pengetahuan!M41=\"\",\"\",Pengetahuan!M41)","v":""},{"$f":"IF(Pengetahuan!N41=\"\",\"\",Pengetahuan!N41)","v":80},{"$f":"IF(Pengetahuan!O41=\"\",\"\",Pengetahuan!O41)","v":80},{"$f":"IF(Pengetahuan!P41=\"\",\"\",Pengetahuan!P41)","v":75},{"$f":"IF(Pengetahuan!Q41=\"\",\"\",Pengetahuan!Q41)","v":75},{"$f":"IF(Pengetahuan!R41=\"\",\"\",Pengetahuan!R41)","v":77.5},{"$f":"IF(Pengetahuan!S41=\"\",\"\",Pengetahuan!S41)","v":3.1},{"$f":"IF(Pengetahuan!T41=\"\",\"\",Pengetahuan!T41)","v":"B"},{"$f":"IF(Pengetahuan!U41=\"\",\"\",Pengetahuan!U41)","v":"Tuntas"}]
[22,{"$f":"'Data '!D48","v":"MUHAMAD FARIS ULIN NUHA"},{"$f":"IF(Pengetahuan!C42=\"\",\"\",Pengetahuan!C42)","v":80},{"$f":"IF(Pengetahuan!D42=\"\",\"\",Pengetahuan!D42)","v":80},{"$f":"IF(Pengetahuan!E42=\"\",\"\",Pengetahuan!E42)","v":80},{"$f":"IF(Pengetahuan!F42=\"\",\"\",Pengetahuan!F42)","v":80},{"$f":"IF(Pengetahuan!G42=\"\",\"\",Pengetahuan!G42)","v":""},{"$f":"IF(Pengetahuan!H42=\"\",\"\",Pengetahuan!H42)","v":80},{"$f":"IF(Pengetahuan!I42=\"\",\"\",Pengetahuan!I42)","v":80},{"$f":"IF(Pengetahuan!J42=\"\",\"\",Pengetahuan!J42)","v":80},{"$f":"IF(Pengetahuan!K42=\"\",\"\",Pengetahuan!K42)","v":80},{"$f":"IF(Pengetahuan!L42=\"\",\"\",Pengetahuan!L42)","v":80},{"$f":"IF(Pengetahuan!M42=\"\",\"\",Pengetahuan!M42)","v":""},{"$f":"IF(Pengetahuan!N42=\"\",\"\",Pengetahuan!N42)","v":80},{"$f":"IF(Pengetahuan!O42=\"\",\"\",Pengetahuan!O42)","v":80},{"$f":"IF(Pengetahuan!P42=\"\",\"\",Pengetahuan!P42)","v":75},{"$f":"IF(Pengetahuan!Q42=\"\",\"\",Pengetahuan!Q42)","v":75},{"$f":"IF(Pengetahuan!R42=\"\",\"\",Pengetahuan!R42)","v":77.5},{"$f":"IF(Pengetahuan!S42=\"\",\"\",Pengetahuan!S42)","v":3.1},{"$f":"IF(Pengetahuan!T42=\"\",\"\",Pengetahuan!T42)","v":"B"},{"$f":"IF(Pengetahuan!U42=\"\",\"\",Pengetahuan!U42)","v":"Tuntas"}]
[23,{"$f":"'Data '!D49","v":"MUHAMMAD MUSTOFA"},{"$f":"IF(Pengetahuan!C43=\"\",\"\",Pengetahuan!C43)","v":80},{"$f":"IF(Pengetahuan!D43=\"\",\"\",Pengetahuan!D43)","v":80},{"$f":"IF(Pengetahuan!E43=\"\",\"\",Pengetahuan!E43)","v":80},{"$f":"IF(Pengetahuan!F43=\"\",\"\",Pengetahuan!F43)","v":80},{"$f":"IF(Pengetahuan!G43=\"\",\"\",Pengetahuan!G43)","v":""},{"$f":"IF(Pengetahuan!H43=\"\",\"\",Pengetahuan!H43)","v":80},{"$f":"IF(Pengetahuan!I43=\"\",\"\",Pengetahuan!I43)","v":80},{"$f":"IF(Pengetahuan!J43=\"\",\"\",Pengetahuan!J43)","v":80},{"$f":"IF(Pengetahuan!K43=\"\",\"\",Pengetahuan!K43)","v":80},{"$f":"IF(Pengetahuan!L43=\"\",\"\",Pengetahuan!L43)","v":80},{"$f":"IF(Pengetahuan!M43=\"\",\"\",Pengetahuan!M43)","v":""},{"$f":"IF(Pengetahuan!N43=\"\",\"\",Pengetahuan!N43)","v":80},{"$f":"IF(Pengetahuan!O43=\"\",\"\",Pengetahuan!O43)","v":80},{"$f":"IF(Pengetahuan!P43=\"\",\"\",Pengetahuan!P43)","v":75},{"$f":"IF(Pengetahuan!Q43=\"\",\"\",Pengetahuan!Q43)","v":75},{"$f":"IF(Pengetahuan!R43=\"\",\"\",Pengetahuan!R43)","v":77.5},{"$f":"IF(Pengetahuan!S43=\"\",\"\",Pengetahuan!S43)","v":3.1},{"$f":"IF(Pengetahuan!T43=\"\",\"\",Pengetahuan!T43)","v":"B"},{"$f":"IF(Pengetahuan!U43=\"\",\"\",Pengetahuan!U43)","v":"Tuntas"}]
[24,{"$f":"'Data '!D50","v":"NANDA WINTYA PUTRI"},{"$f":"IF(Pengetahuan!C44=\"\",\"\",Pengetahuan!C44)","v":80},{"$f":"IF(Pengetahuan!D44=\"\",\"\",Pengetahuan!D44)","v":80},{"$f":"IF(Pengetahuan!E44=\"\",\"\",Pengetahuan!E44)","v":80},{"$f":"IF(Pengetahuan!F44=\"\",\"\",Pengetahuan!F44)","v":80},{"$f":"IF(Pengetahuan!G44=\"\",\"\",Pengetahuan!G44)","v":""},{"$f":"IF(Pengetahuan!H44=\"\",\"\",Pengetahuan!H44)","v":80},{"$f":"IF(Pengetahuan!I44=\"\",\"\",Pengetahuan!I44)","v":80},{"$f":"IF(Pengetahuan!J44=\"\",\"\",Pengetahuan!J44)","v":80},{"$f":"IF(Pengetahuan!K44=\"\",\"\",Pengetahuan!K44)","v":80},{"$f":"IF(Pengetahuan!L44=\"\",\"\",Pengetahuan!L44)","v":80},{"$f":"IF(Pengetahuan!M44=\"\",\"\",Pengetahuan!M44)","v":""},{"$f":"IF(Pengetahuan!N44=\"\",\"\",Pengetahuan!N44)","v":80},{"$f":"IF(Pengetahuan!O44=\"\",\"\",Pengetahuan!O44)","v":80},{"$f":"IF(Pengetahuan!P44=\"\",\"\",Pengetahuan!P44)","v":75},{"$f":"IF(Pengetahuan!Q44=\"\",\"\",Pengetahuan!Q44)","v":75},{"$f":"IF(Pengetahuan!R44=\"\",\"\",Pengetahuan!R44)","v":77.5},{"$f":"IF(Pengetahuan!S44=\"\",\"\",Pengetahuan!S44)","v":3.1},{"$f":"IF(Pengetahuan!T44=\"\",\"\",Pengetahuan!T44)","v":"B"},{"$f":"IF(Pengetahuan!U44=\"\",\"\",Pengetahuan!U44)","v":"Tuntas"}]
[25,{"$f":"'Data '!D51","v":"NI'MA NOVA NUR FADHILAH"},{"$f":"IF(Pengetahuan!C45=\"\",\"\",Pengetahuan!C45)","v":80},{"$f":"IF(Pengetahuan!D45=\"\",\"\",Pengetahuan!D45)","v":80},{"$f":"IF(Pengetahuan!E45=\"\",\"\",Pengetahuan!E45)","v":80},{"$f":"IF(Pengetahuan!F45=\"\",\"\",Pengetahuan!F45)","v":80},{"$f":"IF(Pengetahuan!G45=\"\",\"\",Pengetahuan!G45)","v":""},{"$f":"IF(Pengetahuan!H45=\"\",\"\",Pengetahuan!H45)","v":80},{"$f":"IF(Pengetahuan!I45=\"\",\"\",Pengetahuan!I45)","v":80},{"$f":"IF(Pengetahuan!J45=\"\",\"\",Pengetahuan!J45)","v":80},{"$f":"IF(Pengetahuan!K45=\"\",\"\",Pengetahuan!K45)","v":80},{"$f":"IF(Pengetahuan!L45=\"\",\"\",Pengetahuan!L45)","v":80},{"$f":"IF(Pengetahuan!M45=\"\",\"\",Pengetahuan!M45)","v":""},{"$f":"IF(Pengetahuan!N45=\"\",\"\",Pengetahuan!N45)","v":80},{"$f":"IF(Pengetahuan!O45=\"\",\"\",Pengetahuan!O45)","v":80},{"$f":"IF(Pengetahuan!P45=\"\",\"\",Pengetahuan!P45)","v":75},{"$f":"IF(Pengetahuan!Q45=\"\",\"\",Pengetahuan!Q45)","v":75},{"$f":"IF(Pengetahuan!R45=\"\",\"\",Pengetahuan!R45)","v":77.5},{"$f":"IF(Pengetahuan!S45=\"\",\"\",Pengetahuan!S45)","v":3.1},{"$f":"IF(Pengetahuan!T45=\"\",\"\",Pengetahuan!T45)","v":"B"},{"$f":"IF(Pengetahuan!U45=\"\",\"\",Pengetahuan!U45)","v":"Tuntas"}]
[26,{"$f":"'Data '!D52","v":"NITA ZUMROTUT TAQIYAH"},{"$f":"IF(Pengetahuan!C46=\"\",\"\",Pengetahuan!C46)","v":80},{"$f":"IF(Pengetahuan!D46=\"\",\"\",Pengetahuan!D46)","v":80},{"$f":"IF(Pengetahuan!E46=\"\",\"\",Pengetahuan!E46)","v":80},{"$f":"IF(Pengetahuan!F46=\"\",\"\",Pengetahuan!F46)","v":80},{"$f":"IF(Pengetahuan!G46=\"\",\"\",Pengetahuan!G46)","v":""},{"$f":"IF(Pengetahuan!H46=\"\",\"\",Pengetahuan!H46)","v":80},{"$f":"IF(Pengetahuan!I46=\"\",\"\",Pengetahuan!I46)","v":80},{"$f":"IF(Pengetahuan!J46=\"\",\"\",Pengetahuan!J46)","v":80},{"$f":"IF(Pengetahuan!K46=\"\",\"\",Pengetahuan!K46)","v":80},{"$f":"IF(Pengetahuan!L46=\"\",\"\",Pengetahuan!L46)","v":80},{"$f":"IF(Pengetahuan!M46=\"\",\"\",Pengetahuan!M46)","v":""},{"$f":"IF(Pengetahuan!N46=\"\",\"\",Pengetahuan!N46)","v":80},{"$f":"IF(Pengetahuan!O46=\"\",\"\",Pengetahuan!O46)","v":80},{"$f":"IF(Pengetahuan!P46=\"\",\"\",Pengetahuan!P46)","v":75},{"$f":"IF(Pengetahuan!Q46=\"\",\"\",Pengetahuan!Q46)","v":75},{"$f":"IF(Pengetahuan!R46=\"\",\"\",Pengetahuan!R46)","v":77.5},{"$f":"IF(Pengetahuan!S46=\"\",\"\",Pengetahuan!S46)","v":3.1},{"$f":"IF(Pengetahuan!T46=\"\",\"\",Pengetahuan!T46)","v":"B"},{"$f":"IF(Pengetahuan!U46=\"\",\"\",Pengetahuan!U46)","v":"Tuntas"}]
[27,{"$f":"'Data '!D53","v":"RACHMAT SAPUTRA ANDRIANSYAH"},{"$f":"IF(Pengetahuan!C47=\"\",\"\",Pengetahuan!C47)","v":80},{"$f":"IF(Pengetahuan!D47=\"\",\"\",Pengetahuan!D47)","v":80},{"$f":"IF(Pengetahuan!E47=\"\",\"\",Pengetahuan!E47)","v":80},{"$f":"IF(Pengetahuan!F47=\"\",\"\",Pengetahuan!F47)","v":80},{"$f":"IF(Pengetahuan!G47=\"\",\"\",Pengetahuan!G47)","v":""},{"$f":"IF(Pengetahuan!H47=\"\",\"\",Pengetahuan!H47)","v":80},{"$f":"IF(Pengetahuan!I47=\"\",\"\",Pengetahuan!I47)","v":80},{"$f":"IF(Pengetahuan!J47=\"\",\"\",Pengetahuan!J47)","v":80},{"$f":"IF(Pengetahuan!K47=\"\",\"\",Pengetahuan!K47)","v":80},{"$f":"IF(Pengetahuan!L47=\"\",\"\",Pengetahuan!L47)","v":80},{"$f":"IF(Pengetahuan!M47=\"\",\"\",Pengetahuan!M47)","v":""},{"$f":"IF(Pengetahuan!N47=\"\",\"\",Pengetahuan!N47)","v":80},{"$f":"IF(Pengetahuan!O47=\"\",\"\",Pengetahuan!O47)","v":80},{"$f":"IF(Pengetahuan!P47=\"\",\"\",Pengetahuan!P47)","v":75},{"$f":"IF(Pengetahuan!Q47=\"\",\"\",Pengetahuan!Q47)","v":75},{"$f":"IF(Pengetahuan!R47=\"\",\"\",Pengetahuan!R47)","v":77.5},{"$f":"IF(Pengetahuan!S47=\"\",\"\",Pengetahuan!S47)","v":3.1},{"$f":"IF(Pengetahuan!T47=\"\",\"\",Pengetahuan!T47)","v":"B"},{"$f":"IF(Pengetahuan!U47=\"\",\"\",Pengetahuan!U47)","v":"Tuntas"}]
[28,{"$f":"'Data '!D54","v":"RIZAL ANDRIYAN SAPUTRA"},{"$f":"IF(Pengetahuan!C48=\"\",\"\",Pengetahuan!C48)","v":80},{"$f":"IF(Pengetahuan!D48=\"\",\"\",Pengetahuan!D48)","v":80},{"$f":"IF(Pengetahuan!E48=\"\",\"\",Pengetahuan!E48)","v":80},{"$f":"IF(Pengetahuan!F48=\"\",\"\",Pengetahuan!F48)","v":80},{"$f":"IF(Pengetahuan!G48=\"\",\"\",Pengetahuan!G48)","v":""},{"$f":"IF(Pengetahuan!H48=\"\",\"\",Pengetahuan!H48)","v":80},{"$f":"IF(Pengetahuan!I48=\"\",\"\",Pengetahuan!I48)","v":80},{"$f":"IF(Pengetahuan!J48=\"\",\"\",Pengetahuan!J48)","v":80},{"$f":"IF(Pengetahuan!K48=\"\",\"\",Pengetahuan!K48)","v":80},{"$f":"IF(Pengetahuan!L48=\"\",\"\",Pengetahuan!L48)","v":80},{"$f":"IF(Pengetahuan!M48=\"\",\"\",Pengetahuan!M48)","v":""},{"$f":"IF(Pengetahuan!N48=\"\",\"\",Pengetahuan!N48)","v":80},{"$f":"IF(Pengetahuan!O48=\"\",\"\",Pengetahuan!O48)","v":80},{"$f":"IF(Pengetahuan!P48=\"\",\"\",Pengetahuan!P48)","v":75},{"$f":"IF(Pengetahuan!Q48=\"\",\"\",Pengetahuan!Q48)","v":75},{"$f":"IF(Pengetahuan!R48=\"\",\"\",Pengetahuan!R48)","v":77.5},{"$f":"IF(Pengetahuan!S48=\"\",\"\",Pengetahuan!S48)","v":3.1},{"$f":"IF(Pengetahuan!T48=\"\",\"\",Pengetahuan!T48)","v":"B"},{"$f":"IF(Pengetahuan!U48=\"\",\"\",Pengetahuan!U48)","v":"Tuntas"}]
[29,{"$f":"'Data '!D55","v":"SAIFUL ANNAS"},{"$f":"IF(Pengetahuan!C49=\"\",\"\",Pengetahuan!C49)","v":80},{"$f":"IF(Pengetahuan!D49=\"\",\"\",Pengetahuan!D49)","v":80},{"$f":"IF(Pengetahuan!E49=\"\",\"\",Pengetahuan!E49)","v":80},{"$f":"IF(Pengetahuan!F49=\"\",\"\",Pengetahuan!F49)","v":80},{"$f":"IF(Pengetahuan!G49=\"\",\"\",Pengetahuan!G49)","v":""},{"$f":"IF(Pengetahuan!H49=\"\",\"\",Pengetahuan!H49)","v":80},{"$f":"IF(Pengetahuan!I49=\"\",\"\",Pengetahuan!I49)","v":80},{"$f":"IF(Pengetahuan!J49=\"\",\"\",Pengetahuan!J49)","v":80},{"$f":"IF(Pengetahuan!K49=\"\",\"\",Pengetahuan!K49)","v":80},{"$f":"IF(Pengetahuan!L49=\"\",\"\",Pengetahuan!L49)","v":80},{"$f":"IF(Pengetahuan!M49=\"\",\"\",Pengetahuan!M49)","v":""},{"$f":"IF(Pengetahuan!N49=\"\",\"\",Pengetahuan!N49)","v":80},{"$f":"IF(Pengetahuan!O49=\"\",\"\",Pengetahuan!O49)","v":80},{"$f":"IF(Pengetahuan!P49=\"\",\"\",Pengetahuan!P49)","v":75},{"$f":"IF(Pengetahuan!Q49=\"\",\"\",Pengetahuan!Q49)","v":75},{"$f":"IF(Pengetahuan!R49=\"\",\"\",Pengetahuan!R49)","v":77.5},{"$f":"IF(Pengetahuan!S49=\"\",\"\",Pengetahuan!S49)","v":3.1},{"$f":"IF(Pengetahuan!T49=\"\",\"\",Pengetahuan!T49)","v":"B"},{"$f":"IF(Pengetahuan!U49=\"\",\"\",Pengetahuan!U49)","v":"Tuntas"}]
[30,{"$f":"'Data '!D56","v":"SELINA SEPTIANI"},{"$f":"IF(Pengetahuan!C50=\"\",\"\",Pengetahuan!C50)","v":80},{"$f":"IF(Pengetahuan!D50=\"\",\"\",Pengetahuan!D50)","v":80},{"$f":"IF(Pengetahuan!E50=\"\",\"\",Pengetahuan!E50)","v":80},{"$f":"IF(Pengetahuan!F50=\"\",\"\",Pengetahuan!F50)","v":80},{"$f":"IF(Pengetahuan!G50=\"\",\"\",Pengetahuan!G50)","v":""},{"$f":"IF(Pengetahuan!H50=\"\",\"\",Pengetahuan!H50)","v":80},{"$f":"IF(Pengetahuan!I50=\"\",\"\",Pengetahuan!I50)","v":80},{"$f":"IF(Pengetahuan!J50=\"\",\"\",Pengetahuan!J50)","v":80},{"$f":"IF(Pengetahuan!K50=\"\",\"\",Pengetahuan!K50)","v":80},{"$f":"IF(Pengetahuan!L50=\"\",\"\",Pengetahuan!L50)","v":80},{"$f":"IF(Pengetahuan!M50=\"\",\"\",Pengetahuan!M50)","v":""},{"$f":"IF(Pengetahuan!N50=\"\",\"\",Pengetahuan!N50)","v":80},{"$f":"IF(Pengetahuan!O50=\"\",\"\",Pengetahuan!O50)","v":80},{"$f":"IF(Pengetahuan!P50=\"\",\"\",Pengetahuan!P50)","v":75},{"$f":"IF(Pengetahuan!Q50=\"\",\"\",Pengetahuan!Q50)","v":75},{"$f":"IF(Pengetahuan!R50=\"\",\"\",Pengetahuan!R50)","v":77.5},{"$f":"IF(Pengetahuan!S50=\"\",\"\",Pengetahuan!S50)","v":3.1},{"$f":"IF(Pengetahuan!T50=\"\",\"\",Pengetahuan!T50)","v":"B"},{"$f":"IF(Pengetahuan!U50=\"\",\"\",Pengetahuan!U50)","v":"Tuntas"}]
[31,{"$f":"'Data '!D57","v":"SHALSABILA  SHINTA NIRMALA"},{"$f":"IF(Pengetahuan!C51=\"\",\"\",Pengetahuan!C51)","v":80},{"$f":"IF(Pengetahuan!D51=\"\",\"\",Pengetahuan!D51)","v":80},{"$f":"IF(Pengetahuan!E51=\"\",\"\",Pengetahuan!E51)","v":80},{"$f":"IF(Pengetahuan!F51=\"\",\"\",Pengetahuan!F51)","v":80},{"$f":"IF(Pengetahuan!G51=\"\",\"\",Pengetahuan!G51)","v":""},{"$f":"IF(Pengetahuan!H51=\"\",\"\",Pengetahuan!H51)","v":80},{"$f":"IF(Pengetahuan!I51=\"\",\"\",Pengetahuan!I51)","v":80},{"$f":"IF(Pengetahuan!J51=\"\",\"\",Pengetahuan!J51)","v":80},{"$f":"IF(Pengetahuan!K51=\"\",\"\",Pengetahuan!K51)","v":80},{"$f":"IF(Pengetahuan!L51=\"\",\"\",Pengetahuan!L51)","v":80},{"$f":"IF(Pengetahuan!M51=\"\",\"\",Pengetahuan!M51)","v":""},{"$f":"IF(Pengetahuan!N51=\"\",\"\",Pengetahuan!N51)","v":80},{"$f":"IF(Pengetahuan!O51=\"\",\"\",Pengetahuan!O51)","v":80},{"$f":"IF(Pengetahuan!P51=\"\",\"\",Pengetahuan!P51)","v":75},{"$f":"IF(Pengetahuan!Q51=\"\",\"\",Pengetahuan!Q51)","v":75},{"$f":"IF(Pengetahuan!R51=\"\",\"\",Pengetahuan!R51)","v":77.5},{"$f":"IF(Pengetahuan!S51=\"\",\"\",Pengetahuan!S51)","v":3.1},{"$f":"IF(Pengetahuan!T51=\"\",\"\",Pengetahuan!T51)","v":"B"},{"$f":"IF(Pengetahuan!U51=\"\",\"\",Pengetahuan!U51)","v":"Tuntas"}]
[32,{"$f":"'Data '!D58","v":"SITI CHOIRIATUS SA'ADAH"},{"$f":"IF(Pengetahuan!C52=\"\",\"\",Pengetahuan!C52)","v":80},{"$f":"IF(Pengetahuan!D52=\"\",\"\",Pengetahuan!D52)","v":80},{"$f":"IF(Pengetahuan!E52=\"\",\"\",Pengetahuan!E52)","v":80},{"$f":"IF(Pengetahuan!F52=\"\",\"\",Pengetahuan!F52)","v":80},{"$f":"IF(Pengetahuan!G52=\"\",\"\",Pengetahuan!G52)","v":""},{"$f":"IF(Pengetahuan!H52=\"\",\"\",Pengetahuan!H52)","v":80},{"$f":"IF(Pengetahuan!I52=\"\",\"\",Pengetahuan!I52)","v":80},{"$f":"IF(Pengetahuan!J52=\"\",\"\",Pengetahuan!J52)","v":80},{"$f":"IF(Pengetahuan!K52=\"\",\"\",Pengetahuan!K52)","v":80},{"$f":"IF(Pengetahuan!L52=\"\",\"\",Pengetahuan!L52)","v":80},{"$f":"IF(Pengetahuan!M52=\"\",\"\",Pengetahuan!M52)","v":""},{"$f":"IF(Pengetahuan!N52=\"\",\"\",Pengetahuan!N52)","v":80},{"$f":"IF(Pengetahuan!O52=\"\",\"\",Pengetahuan!O52)","v":80},{"$f":"IF(Pengetahuan!P52=\"\",\"\",Pengetahuan!P52)","v":75},{"$f":"IF(Pengetahuan!Q52=\"\",\"\",Pengetahuan!Q52)","v":75},{"$f":"IF(Pengetahuan!R52=\"\",\"\",Pengetahuan!R52)","v":77.5},{"$f":"IF(Pengetahuan!S52=\"\",\"\",Pengetahuan!S52)","v":3.1},{"$f":"IF(Pengetahuan!T52=\"\",\"\",Pengetahuan!T52)","v":"B"},{"$f":"IF(Pengetahuan!U52=\"\",\"\",Pengetahuan!U52)","v":"Tuntas"}]
[33,{"$f":"'Data '!D59","v":"SITI NURFAN AZIZAH"},{"$f":"IF(Pengetahuan!C53=\"\",\"\",Pengetahuan!C53)","v":80},{"$f":"IF(Pengetahuan!D53=\"\",\"\",Pengetahuan!D53)","v":80},{"$f":"IF(Pengetahuan!E53=\"\",\"\",Pengetahuan!E53)","v":80},{"$f":"IF(Pengetahuan!F53=\"\",\"\",Pengetahuan!F53)","v":80},{"$f":"IF(Pengetahuan!G53=\"\",\"\",Pengetahuan!G53)","v":""},{"$f":"IF(Pengetahuan!H53=\"\",\"\",Pengetahuan!H53)","v":80},{"$f":"IF(Pengetahuan!I53=\"\",\"\",Pengetahuan!I53)","v":80},{"$f":"IF(Pengetahuan!J53=\"\",\"\",Pengetahuan!J53)","v":80},{"$f":"IF(Pengetahuan!K53=\"\",\"\",Pengetahuan!K53)","v":80},{"$f":"IF(Pengetahuan!L53=\"\",\"\",Pengetahuan!L53)","v":80},{"$f":"IF(Pengetahuan!M53=\"\",\"\",Pengetahuan!M53)","v":""},{"$f":"IF(Pengetahuan!N53=\"\",\"\",Pengetahuan!N53)","v":80},{"$f":"IF(Pengetahuan!O53=\"\",\"\",Pengetahuan!O53)","v":80},{"$f":"IF(Pengetahuan!P53=\"\",\"\",Pengetahuan!P53)","v":75},{"$f":"IF(Pengetahuan!Q53=\"\",\"\",Pengetahuan!Q53)","v":75},{"$f":"IF(Pengetahuan!R53=\"\",\"\",Pengetahuan!R53)","v":77.5},{"$f":"IF(Pengetahuan!S53=\"\",\"\",Pengetahuan!S53)","v":3.1},{"$f":"IF(Pengetahuan!T53=\"\",\"\",Pengetahuan!T53)","v":"B"},{"$f":"IF(Pengetahuan!U53=\"\",\"\",Pengetahuan!U53)","v":"Tuntas"}]
[34,{"$f":"'Data '!D60","v":"SITI RAHAYU"},{"$f":"IF(Pengetahuan!C54=\"\",\"\",Pengetahuan!C54)","v":80},{"$f":"IF(Pengetahuan!D54=\"\",\"\",Pengetahuan!D54)","v":80},{"$f":"IF(Pengetahuan!E54=\"\",\"\",Pengetahuan!E54)","v":80},{"$f":"IF(Pengetahuan!F54=\"\",\"\",Pengetahuan!F54)","v":80},{"$f":"IF(Pengetahuan!G54=\"\",\"\",Pengetahuan!G54)","v":""},{"$f":"IF(Pengetahuan!H54=\"\",\"\",Pengetahuan!H54)","v":80},{"$f":"IF(Pengetahuan!I54=\"\",\"\",Pengetahuan!I54)","v":80},{"$f":"IF(Pengetahuan!J54=\"\",\"\",Pengetahuan!J54)","v":80},{"$f":"IF(Pengetahuan!K54=\"\",\"\",Pengetahuan!K54)","v":80},{"$f":"IF(Pengetahuan!L54=\"\",\"\",Pengetahuan!L54)","v":80},{"$f":"IF(Pengetahuan!M54=\"\",\"\",Pengetahuan!M54)","v":""},{"$f":"IF(Pengetahuan!N54=\"\",\"\",Pengetahuan!N54)","v":80},{"$f":"IF(Pengetahuan!O54=\"\",\"\",Pengetahuan!O54)","v":80},{"$f":"IF(Pengetahuan!P54=\"\",\"\",Pengetahuan!P54)","v":75},{"$f":"IF(Pengetahuan!Q54=\"\",\"\",Pengetahuan!Q54)","v":75},{"$f":"IF(Pengetahuan!R54=\"\",\"\",Pengetahuan!R54)","v":77.5},{"$f":"IF(Pengetahuan!S54=\"\",\"\",Pengetahuan!S54)","v":3.1},{"$f":"IF(Pengetahuan!T54=\"\",\"\",Pengetahuan!T54)","v":"B"},{"$f":"IF(Pengetahuan!U54=\"\",\"\",Pengetahuan!U54)","v":"Tuntas"}]
[35,{"$f":"'Data '!D61","v":"STEVIANA PUSPITA SARI"},{"$f":"IF(Pengetahuan!C55=\"\",\"\",Pengetahuan!C55)","v":80},{"$f":"IF(Pengetahuan!D55=\"\",\"\",Pengetahuan!D55)","v":80},{"$f":"IF(Pengetahuan!E55=\"\",\"\",Pengetahuan!E55)","v":80},{"$f":"IF(Pengetahuan!F55=\"\",\"\",Pengetahuan!F55)","v":80},{"$f":"IF(Pengetahuan!G55=\"\",\"\",Pengetahuan!G55)","v":""},{"$f":"IF(Pengetahuan!H55=\"\",\"\",Pengetahuan!H55)","v":80},{"$f":"IF(Pengetahuan!I55=\"\",\"\",Pengetahuan!I55)","v":80},{"$f":"IF(Pengetahuan!J55=\"\",\"\",Pengetahuan!J55)","v":80},{"$f":"IF(Pengetahuan!K55=\"\",\"\",Pengetahuan!K55)","v":80},{"$f":"IF(Pengetahuan!L55=\"\",\"\",Pengetahuan!L55)","v":80},{"$f":"IF(Pengetahuan!M55=\"\",\"\",Pengetahuan!M55)","v":""},{"$f":"IF(Pengetahuan!N55=\"\",\"\",Pengetahuan!N55)","v":80},{"$f":"IF(Pengetahuan!O55=\"\",\"\",Pengetahuan!O55)","v":80},{"$f":"IF(Pengetahuan!P55=\"\",\"\",Pengetahuan!P55)","v":75},{"$f":"IF(Pengetahuan!Q55=\"\",\"\",Pengetahuan!Q55)","v":75},{"$f":"IF(Pengetahuan!R55=\"\",\"\",Pengetahuan!R55)","v":77.5},{"$f":"IF(Pengetahuan!S55=\"\",\"\",Pengetahuan!S55)","v":3.1},{"$f":"IF(Pengetahuan!T55=\"\",\"\",Pengetahuan!T55)","v":"B"},{"$f":"IF(Pengetahuan!U55=\"\",\"\",Pengetahuan!U55)","v":"Tuntas"}]
[36,{"$f":"'Data '!D62","v":"TAN LINGGAR PRAMUDITA"},{"$f":"IF(Pengetahuan!C56=\"\",\"\",Pengetahuan!C56)","v":80},{"$f":"IF(Pengetahuan!D56=\"\",\"\",Pengetahuan!D56)","v":80},{"$f":"IF(Pengetahuan!E56=\"\",\"\",Pengetahuan!E56)","v":80},{"$f":"IF(Pengetahuan!F56=\"\",\"\",Pengetahuan!F56)","v":80},{"$f":"IF(Pengetahuan!G56=\"\",\"\",Pengetahuan!G56)","v":""},{"$f":"IF(Pengetahuan!H56=\"\",\"\",Pengetahuan!H56)","v":80},{"$f":"IF(Pengetahuan!I56=\"\",\"\",Pengetahuan!I56)","v":80},{"$f":"IF(Pengetahuan!J56=\"\",\"\",Pengetahuan!J56)","v":80},{"$f":"IF(Pengetahuan!K56=\"\",\"\",Pengetahuan!K56)","v":80},{"$f":"IF(Pengetahuan!L56=\"\",\"\",Pengetahuan!L56)","v":80},{"$f":"IF(Pengetahuan!M56=\"\",\"\",Pengetahuan!M56)","v":""},{"$f":"IF(Pengetahuan!N56=\"\",\"\",Pengetahuan!N56)","v":80},{"$f":"IF(Pengetahuan!O56=\"\",\"\",Pengetahuan!O56)","v":80},{"$f":"IF(Pengetahuan!P56=\"\",\"\",Pengetahuan!P56)","v":75},{"$f":"IF(Pengetahuan!Q56=\"\",\"\",Pengetahuan!Q56)","v":75},{"$f":"IF(Pengetahuan!R56=\"\",\"\",Pengetahuan!R56)","v":77.5},{"$f":"IF(Pengetahuan!S56=\"\",\"\",Pengetahuan!S56)","v":3.1},{"$f":"IF(Pengetahuan!T56=\"\",\"\",Pengetahuan!T56)","v":"B"},{"$f":"IF(Pengetahuan!U56=\"\",\"\",Pengetahuan!U56)","v":"Tuntas"}]
[37,{"$f":"'Data '!D63","v":"TAUFIK NUR AZIZ DANUARTA"},{"$f":"IF(Pengetahuan!C57=\"\",\"\",Pengetahuan!C57)","v":80},{"$f":"IF(Pengetahuan!D57=\"\",\"\",Pengetahuan!D57)","v":80},{"$f":"IF(Pengetahuan!E57=\"\",\"\",Pengetahuan!E57)","v":80},{"$f":"IF(Pengetahuan!F57=\"\",\"\",Pengetahuan!F57)","v":80},{"$f":"IF(Pengetahuan!G57=\"\",\"\",Pengetahuan!G57)","v":""},{"$f":"IF(Pengetahuan!H57=\"\",\"\",Pengetahuan!H57)","v":80},{"$f":"IF(Pengetahuan!I57=\"\",\"\",Pengetahuan!I57)","v":80},{"$f":"IF(Pengetahuan!J57=\"\",\"\",Pengetahuan!J57)","v":80},{"$f":"IF(Pengetahuan!K57=\"\",\"\",Pengetahuan!K57)","v":80},{"$f":"IF(Pengetahuan!L57=\"\",\"\",Pengetahuan!L57)","v":80},{"$f":"IF(Pengetahuan!M57=\"\",\"\",Pengetahuan!M57)","v":""},{"$f":"IF(Pengetahuan!N57=\"\",\"\",Pengetahuan!N57)","v":80},{"$f":"IF(Pengetahuan!O57=\"\",\"\",Pengetahuan!O57)","v":80},{"$f":"IF(Pengetahuan!P57=\"\",\"\",Pengetahuan!P57)","v":75},{"$f":"IF(Pengetahuan!Q57=\"\",\"\",Pengetahuan!Q57)","v":75},{"$f":"IF(Pengetahuan!R57=\"\",\"\",Pengetahuan!R57)","v":77.5},{"$f":"IF(Pengetahuan!S57=\"\",\"\",Pengetahuan!S57)","v":3.1},{"$f":"IF(Pengetahuan!T57=\"\",\"\",Pengetahuan!T57)","v":"B"},{"$f":"IF(Pengetahuan!U57=\"\",\"\",Pengetahuan!U57)","v":"Tuntas"},null,null,"halaman 3"]
[38,{"$f":"'Data '!D64","v":"TIARA PUTRI AYUNINGTIAS"},{"$f":"IF(Pengetahuan!C58=\"\",\"\",Pengetahuan!C58)","v":80},{"$f":"IF(Pengetahuan!D58=\"\",\"\",Pengetahuan!D58)","v":80},{"$f":"IF(Pengetahuan!E58=\"\",\"\",Pengetahuan!E58)","v":80},{"$f":"IF(Pengetahuan!F58=\"\",\"\",Pengetahuan!F58)","v":80},{"$f":"IF(Pengetahuan!G58=\"\",\"\",Pengetahuan!G58)","v":""},{"$f":"IF(Pengetahuan!H58=\"\",\"\",Pengetahuan!H58)","v":80},{"$f":"IF(Pengetahuan!I58=\"\",\"\",Pengetahuan!I58)","v":80},{"$f":"IF(Pengetahuan!J58=\"\",\"\",Pengetahuan!J58)","v":80},{"$f":"IF(Pengetahuan!K58=\"\",\"\",Pengetahuan!K58)","v":80},{"$f":"IF(Pengetahuan!L58=\"\",\"\",Pengetahuan!L58)","v":80},{"$f":"IF(Pengetahuan!M58=\"\",\"\",Pengetahuan!M58)","v":""},{"$f":"IF(Pengetahuan!N58=\"\",\"\",Pengetahuan!N58)","v":80},{"$f":"IF(Pengetahuan!O58=\"\",\"\",Pengetahuan!O58)","v":80},{"$f":"IF(Pengetahuan!P58=\"\",\"\",Pengetahuan!P58)","v":75},{"$f":"IF(Pengetahuan!Q58=\"\",\"\",Pengetahuan!Q58)","v":75},{"$f":"IF(Pengetahuan!R58=\"\",\"\",Pengetahuan!R58)","v":77.5},{"$f":"IF(Pengetahuan!S58=\"\",\"\",Pengetahuan!S58)","v":3.1},{"$f":"IF(Pengetahuan!T58=\"\",\"\",Pengetahuan!T58)","v":"B"},{"$f":"IF(Pengetahuan!U58=\"\",\"\",Pengetahuan!U58)","v":"Tuntas"}]
[39,{"$f":"'Data '!D65","v":"TITANIA GAYATRI PRIANJANI"},{"$f":"IF(Pengetahuan!C59=\"\",\"\",Pengetahuan!C59)","v":80},{"$f":"IF(Pengetahuan!D59=\"\",\"\",Pengetahuan!D59)","v":80},{"$f":"IF(Pengetahuan!E59=\"\",\"\",Pengetahuan!E59)","v":80},{"$f":"IF(Pengetahuan!F59=\"\",\"\",Pengetahuan!F59)","v":80},{"$f":"IF(Pengetahuan!G59=\"\",\"\",Pengetahuan!G59)","v":""},{"$f":"IF(Pengetahuan!H59=\"\",\"\",Pengetahuan!H59)","v":80},{"$f":"IF(Pengetahuan!I59=\"\",\"\",Pengetahuan!I59)","v":80},{"$f":"IF(Pengetahuan!J59=\"\",\"\",Pengetahuan!J59)","v":80},{"$f":"IF(Pengetahuan!K59=\"\",\"\",Pengetahuan!K59)","v":80},{"$f":"IF(Pengetahuan!L59=\"\",\"\",Pengetahuan!L59)","v":80},{"$f":"IF(Pengetahuan!M59=\"\",\"\",Pengetahuan!M59)","v":""},{"$f":"IF(Pengetahuan!N59=\"\",\"\",Pengetahuan!N59)","v":80},{"$f":"IF(Pengetahuan!O59=\"\",\"\",Pengetahuan!O59)","v":80},{"$f":"IF(Pengetahuan!P59=\"\",\"\",Pengetahuan!P59)","v":75},{"$f":"IF(Pengetahuan!Q59=\"\",\"\",Pengetahuan!Q59)","v":75},{"$f":"IF(Pengetahuan!R59=\"\",\"\",Pengetahuan!R59)","v":77.5},{"$f":"IF(Pengetahuan!S59=\"\",\"\",Pengetahuan!S59)","v":3.1},{"$f":"IF(Pengetahuan!T59=\"\",\"\",Pengetahuan!T59)","v":"B"},{"$f":"IF(Pengetahuan!U59=\"\",\"\",Pengetahuan!U59)","v":"Tuntas"}]
[40,{"$f":"'Data '!D66","v":"ULFATUN NI'MAH"},{"$f":"IF(Pengetahuan!C60=\"\",\"\",Pengetahuan!C60)","v":80},{"$f":"IF(Pengetahuan!D60=\"\",\"\",Pengetahuan!D60)","v":80},{"$f":"IF(Pengetahuan!E60=\"\",\"\",Pengetahuan!E60)","v":80},{"$f":"IF(Pengetahuan!F60=\"\",\"\",Pengetahuan!F60)","v":80},{"$f":"IF(Pengetahuan!G60=\"\",\"\",Pengetahuan!G60)","v":""},{"$f":"IF(Pengetahuan!H60=\"\",\"\",Pengetahuan!H60)","v":80},{"$f":"IF(Pengetahuan!I60=\"\",\"\",Pengetahuan!I60)","v":80},{"$f":"IF(Pengetahuan!J60=\"\",\"\",Pengetahuan!J60)","v":80},{"$f":"IF(Pengetahuan!K60=\"\",\"\",Pengetahuan!K60)","v":80},{"$f":"IF(Pengetahuan!L60=\"\",\"\",Pengetahuan!L60)","v":80},{"$f":"IF(Pengetahuan!M60=\"\",\"\",Pengetahuan!M60)","v":""},{"$f":"IF(Pengetahuan!N60=\"\",\"\",Pengetahuan!N60)","v":80},{"$f":"IF(Pengetahuan!O60=\"\",\"\",Pengetahuan!O60)","v":80},{"$f":"IF(Pengetahuan!P60=\"\",\"\",Pengetahuan!P60)","v":75},{"$f":"IF(Pengetahuan!Q60=\"\",\"\",Pengetahuan!Q60)","v":75},{"$f":"IF(Pengetahuan!R60=\"\",\"\",Pengetahuan!R60)","v":77.5},{"$f":"IF(Pengetahuan!S60=\"\",\"\",Pengetahuan!S60)","v":3.1},{"$f":"IF(Pengetahuan!T60=\"\",\"\",Pengetahuan!T60)","v":"B"},{"$f":"IF(Pengetahuan!U60=\"\",\"\",Pengetahuan!U60)","v":"Tuntas"}]
[41,{"$f":"'Data '!D67","v":0},{"$f":"IF(Pengetahuan!C61=\"\",\"\",Pengetahuan!C61)","v":""},{"$f":"IF(Pengetahuan!D61=\"\",\"\",Pengetahuan!D61)","v":""},{"$f":"IF(Pengetahuan!E61=\"\",\"\",Pengetahuan!E61)","v":""},{"$f":"IF(Pengetahuan!F61=\"\",\"\",Pengetahuan!F61)","v":""},{"$f":"IF(Pengetahuan!G61=\"\",\"\",Pengetahuan!G61)","v":""},{"$f":"IF(Pengetahuan!H61=\"\",\"\",Pengetahuan!H61)","v":""},{"$f":"IF(Pengetahuan!I61=\"\",\"\",Pengetahuan!I61)","v":""},{"$f":"IF(Pengetahuan!J61=\"\",\"\",Pengetahuan!J61)","v":""},{"$f":"IF(Pengetahuan!K61=\"\",\"\",Pengetahuan!K61)","v":""},{"$f":"IF(Pengetahuan!L61=\"\",\"\",Pengetahuan!L61)","v":""},{"$f":"IF(Pengetahuan!M61=\"\",\"\",Pengetahuan!M61)","v":""},{"$f":"IF(Pengetahuan!N61=\"\",\"\",Pengetahuan!N61)","v":""},{"$f":"IF(Pengetahuan!O61=\"\",\"\",Pengetahuan!O61)","v":""},{"$f":"IF(Pengetahuan!P61=\"\",\"\",Pengetahuan!P61)","v":""},{"$f":"IF(Pengetahuan!Q61=\"\",\"\",Pengetahuan!Q61)","v":""},{"$f":"IF(Pengetahuan!R61=\"\",\"\",Pengetahuan!R61)","v":""},{"$f":"IF(Pengetahuan!S61=\"\",\"\",Pengetahuan!S61)","v":""},{"$f":"IF(Pengetahuan!T61=\"\",\"\",Pengetahuan!T61)","v":""},{"$f":"IF(Pengetahuan!U61=\"\",\"\",Pengetahuan!U61)","v":""}]
[42,{"$f":"'Data '!D68","v":0},{"$f":"IF(Pengetahuan!C62=\"\",\"\",Pengetahuan!C62)","v":""},{"$f":"IF(Pengetahuan!D62=\"\",\"\",Pengetahuan!D62)","v":""},{"$f":"IF(Pengetahuan!E62=\"\",\"\",Pengetahuan!E62)","v":""},{"$f":"IF(Pengetahuan!F62=\"\",\"\",Pengetahuan!F62)","v":""},{"$f":"IF(Pengetahuan!G62=\"\",\"\",Pengetahuan!G62)","v":""},{"$f":"IF(Pengetahuan!H62=\"\",\"\",Pengetahuan!H62)","v":""},{"$f":"IF(Pengetahuan!I62=\"\",\"\",Pengetahuan!I62)","v":""},{"$f":"IF(Pengetahuan!J62=\"\",\"\",Pengetahuan!J62)","v":""},{"$f":"IF(Pengetahuan!K62=\"\",\"\",Pengetahuan!K62)","v":""},{"$f":"IF(Pengetahuan!L62=\"\",\"\",Pengetahuan!L62)","v":""},{"$f":"IF(Pengetahuan!M62=\"\",\"\",Pengetahuan!M62)","v":""},{"$f":"IF(Pengetahuan!N62=\"\",\"\",Pengetahuan!N62)","v":""},{"$f":"IF(Pengetahuan!O62=\"\",\"\",Pengetahuan!O62)","v":""},{"$f":"IF(Pengetahuan!P62=\"\",\"\",Pengetahuan!P62)","v":""},{"$f":"IF(Pengetahuan!Q62=\"\",\"\",Pengetahuan!Q62)","v":""},{"$f":"IF(Pengetahuan!R62=\"\",\"\",Pengetahuan!R62)","v":""},{"$f":"IF(Pengetahuan!S62=\"\",\"\",Pengetahuan!S62)","v":""},{"$f":"IF(Pengetahuan!T62=\"\",\"\",Pengetahuan!T62)","v":""},{"$f":"IF(Pengetahuan!U62=\"\",\"\",Pengetahuan!U62)","v":""}]
[43,{"$f":"'Data '!D69","v":0},{"$f":"IF(Pengetahuan!C63=\"\",\"\",Pengetahuan!C63)","v":""},{"$f":"IF(Pengetahuan!D63=\"\",\"\",Pengetahuan!D63)","v":""},{"$f":"IF(Pengetahuan!E63=\"\",\"\",Pengetahuan!E63)","v":""},{"$f":"IF(Pengetahuan!F63=\"\",\"\",Pengetahuan!F63)","v":""},{"$f":"IF(Pengetahuan!G63=\"\",\"\",Pengetahuan!G63)","v":""},{"$f":"IF(Pengetahuan!H63=\"\",\"\",Pengetahuan!H63)","v":""},{"$f":"IF(Pengetahuan!I63=\"\",\"\",Pengetahuan!I63)","v":""},{"$f":"IF(Pengetahuan!J63=\"\",\"\",Pengetahuan!J63)","v":""},{"$f":"IF(Pengetahuan!K63=\"\",\"\",Pengetahuan!K63)","v":""},{"$f":"IF(Pengetahuan!L63=\"\",\"\",Pengetahuan!L63)","v":""},{"$f":"IF(Pengetahuan!M63=\"\",\"\",Pengetahuan!M63)","v":""},{"$f":"IF(Pengetahuan!N63=\"\",\"\",Pengetahuan!N63)","v":""},{"$f":"IF(Pengetahuan!O63=\"\",\"\",Pengetahuan!O63)","v":""},{"$f":"IF(Pengetahuan!P63=\"\",\"\",Pengetahuan!P63)","v":""},{"$f":"IF(Pengetahuan!Q63=\"\",\"\",Pengetahuan!Q63)","v":""},{"$f":"IF(Pengetahuan!R63=\"\",\"\",Pengetahuan!R63)","v":""},{"$f":"IF(Pengetahuan!S63=\"\",\"\",Pengetahuan!S63)","v":""},{"$f":"IF(Pengetahuan!T63=\"\",\"\",Pengetahuan!T63)","v":""},{"$f":"IF(Pengetahuan!U63=\"\",\"\",Pengetahuan!U63)","v":""}]
[44,{"$f":"'Data '!D70","v":0},{"$f":"IF(Pengetahuan!C64=\"\",\"\",Pengetahuan!C64)","v":""},{"$f":"IF(Pengetahuan!D64=\"\",\"\",Pengetahuan!D64)","v":""},{"$f":"IF(Pengetahuan!E64=\"\",\"\",Pengetahuan!E64)","v":""},{"$f":"IF(Pengetahuan!F64=\"\",\"\",Pengetahuan!F64)","v":""},{"$f":"IF(Pengetahuan!G64=\"\",\"\",Pengetahuan!G64)","v":""},{"$f":"IF(Pengetahuan!H64=\"\",\"\",Pengetahuan!H64)","v":""},{"$f":"IF(Pengetahuan!I64=\"\",\"\",Pengetahuan!I64)","v":""},{"$f":"IF(Pengetahuan!J64=\"\",\"\",Pengetahuan!J64)","v":""},{"$f":"IF(Pengetahuan!K64=\"\",\"\",Pengetahuan!K64)","v":""},{"$f":"IF(Pengetahuan!L64=\"\",\"\",Pengetahuan!L64)","v":""},{"$f":"IF(Pengetahuan!M64=\"\",\"\",Pengetahuan!M64)","v":""},{"$f":"IF(Pengetahuan!N64=\"\",\"\",Pengetahuan!N64)","v":""},{"$f":"IF(Pengetahuan!O64=\"\",\"\",Pengetahuan!O64)","v":""},{"$f":"IF(Pengetahuan!P64=\"\",\"\",Pengetahuan!P64)","v":""},{"$f":"IF(Pengetahuan!Q64=\"\",\"\",Pengetahuan!Q64)","v":""},{"$f":"IF(Pengetahuan!R64=\"\",\"\",Pengetahuan!R64)","v":""},{"$f":"IF(Pengetahuan!S64=\"\",\"\",Pengetahuan!S64)","v":""},{"$f":"IF(Pengetahuan!T64=\"\",\"\",Pengetahuan!T64)","v":""},{"$f":"IF(Pengetahuan!U64=\"\",\"\",Pengetahuan!U64)","v":""}]
[45,{"$f":"'Data '!D71","v":0},{"$f":"IF(Pengetahuan!C65=\"\",\"\",Pengetahuan!C65)","v":""},{"$f":"IF(Pengetahuan!D65=\"\",\"\",Pengetahuan!D65)","v":""},{"$f":"IF(Pengetahuan!E65=\"\",\"\",Pengetahuan!E65)","v":""},{"$f":"IF(Pengetahuan!F65=\"\",\"\",Pengetahuan!F65)","v":""},{"$f":"IF(Pengetahuan!G65=\"\",\"\",Pengetahuan!G65)","v":""},{"$f":"IF(Pengetahuan!H65=\"\",\"\",Pengetahuan!H65)","v":""},{"$f":"IF(Pengetahuan!I65=\"\",\"\",Pengetahuan!I65)","v":""},{"$f":"IF(Pengetahuan!J65=\"\",\"\",Pengetahuan!J65)","v":""},{"$f":"IF(Pengetahuan!K65=\"\",\"\",Pengetahuan!K65)","v":""},{"$f":"IF(Pengetahuan!L65=\"\",\"\",Pengetahuan!L65)","v":""},{"$f":"IF(Pengetahuan!M65=\"\",\"\",Pengetahuan!M65)","v":""},{"$f":"IF(Pengetahuan!N65=\"\",\"\",Pengetahuan!N65)","v":""},{"$f":"IF(Pengetahuan!O65=\"\",\"\",Pengetahuan!O65)","v":""},{"$f":"IF(Pengetahuan!P65=\"\",\"\",Pengetahuan!P65)","v":""},{"$f":"IF(Pengetahuan!Q65=\"\",\"\",Pengetahuan!Q65)","v":""},{"$f":"IF(Pengetahuan!R65=\"\",\"\",Pengetahuan!R65)","v":""},{"$f":"IF(Pengetahuan!S65=\"\",\"\",Pengetahuan!S65)","v":""},{"$f":"IF(Pengetahuan!T65=\"\",\"\",Pengetahuan!T65)","v":""},{"$f":"IF(Pengetahuan!U65=\"\",\"\",Pengetahuan!U65)","v":""}]
[46,{"$f":"'Data '!D72","v":0},{"$f":"IF(Pengetahuan!C66=\"\",\"\",Pengetahuan!C66)","v":""},{"$f":"IF(Pengetahuan!D66=\"\",\"\",Pengetahuan!D66)","v":""},{"$f":"IF(Pengetahuan!E66=\"\",\"\",Pengetahuan!E66)","v":""},{"$f":"IF(Pengetahuan!F66=\"\",\"\",Pengetahuan!F66)","v":""},{"$f":"IF(Pengetahuan!G66=\"\",\"\",Pengetahuan!G66)","v":""},{"$f":"IF(Pengetahuan!H66=\"\",\"\",Pengetahuan!H66)","v":""},{"$f":"IF(Pengetahuan!I66=\"\",\"\",Pengetahuan!I66)","v":""},{"$f":"IF(Pengetahuan!J66=\"\",\"\",Pengetahuan!J66)","v":""},{"$f":"IF(Pengetahuan!K66=\"\",\"\",Pengetahuan!K66)","v":""},{"$f":"IF(Pengetahuan!L66=\"\",\"\",Pengetahuan!L66)","v":""},{"$f":"IF(Pengetahuan!M66=\"\",\"\",Pengetahuan!M66)","v":""},{"$f":"IF(Pengetahuan!N66=\"\",\"\",Pengetahuan!N66)","v":""},{"$f":"IF(Pengetahuan!O66=\"\",\"\",Pengetahuan!O66)","v":""},{"$f":"IF(Pengetahuan!P66=\"\",\"\",Pengetahuan!P66)","v":""},{"$f":"IF(Pengetahuan!Q66=\"\",\"\",Pengetahuan!Q66)","v":""},{"$f":"IF(Pengetahuan!R66=\"\",\"\",Pengetahuan!R66)","v":""},{"$f":"IF(Pengetahuan!S66=\"\",\"\",Pengetahuan!S66)","v":""},{"$f":"IF(Pengetahuan!T66=\"\",\"\",Pengetahuan!T66)","v":""},{"$f":"IF(Pengetahuan!U66=\"\",\"\",Pengetahuan!U66)","v":""}]
[47,{"$f":"'Data '!D73","v":0},{"$f":"IF(Pengetahuan!C67=\"\",\"\",Pengetahuan!C67)","v":""},{"$f":"IF(Pengetahuan!D67=\"\",\"\",Pengetahuan!D67)","v":""},{"$f":"IF(Pengetahuan!E67=\"\",\"\",Pengetahuan!E67)","v":""},{"$f":"IF(Pengetahuan!F67=\"\",\"\",Pengetahuan!F67)","v":""},{"$f":"IF(Pengetahuan!G67=\"\",\"\",Pengetahuan!G67)","v":""},{"$f":"IF(Pengetahuan!H67=\"\",\"\",Pengetahuan!H67)","v":""},{"$f":"IF(Pengetahuan!I67=\"\",\"\",Pengetahuan!I67)","v":""},{"$f":"IF(Pengetahuan!J67=\"\",\"\",Pengetahuan!J67)","v":""},{"$f":"IF(Pengetahuan!K67=\"\",\"\",Pengetahuan!K67)","v":""},{"$f":"IF(Pengetahuan!L67=\"\",\"\",Pengetahuan!L67)","v":""},{"$f":"IF(Pengetahuan!M67=\"\",\"\",Pengetahuan!M67)","v":""},{"$f":"IF(Pengetahuan!N67=\"\",\"\",Pengetahuan!N67)","v":""},{"$f":"IF(Pengetahuan!O67=\"\",\"\",Pengetahuan!O67)","v":""},{"$f":"IF(Pengetahuan!P67=\"\",\"\",Pengetahuan!P67)","v":""},{"$f":"IF(Pengetahuan!Q67=\"\",\"\",Pengetahuan!Q67)","v":""},{"$f":"IF(Pengetahuan!R67=\"\",\"\",Pengetahuan!R67)","v":""},{"$f":"IF(Pengetahuan!S67=\"\",\"\",Pengetahuan!S67)","v":""},{"$f":"IF(Pengetahuan!T67=\"\",\"\",Pengetahuan!T67)","v":""},{"$f":"IF(Pengetahuan!U67=\"\",\"\",Pengetahuan!U67)","v":""}]
[48,{"$f":"'Data '!D74","v":0},{"$f":"IF(Pengetahuan!C68=\"\",\"\",Pengetahuan!C68)","v":""},{"$f":"IF(Pengetahuan!D68=\"\",\"\",Pengetahuan!D68)","v":""},{"$f":"IF(Pengetahuan!E68=\"\",\"\",Pengetahuan!E68)","v":""},{"$f":"IF(Pengetahuan!F68=\"\",\"\",Pengetahuan!F68)","v":""},{"$f":"IF(Pengetahuan!G68=\"\",\"\",Pengetahuan!G68)","v":""},{"$f":"IF(Pengetahuan!H68=\"\",\"\",Pengetahuan!H68)","v":""},{"$f":"IF(Pengetahuan!I68=\"\",\"\",Pengetahuan!I68)","v":""},{"$f":"IF(Pengetahuan!J68=\"\",\"\",Pengetahuan!J68)","v":""},{"$f":"IF(Pengetahuan!K68=\"\",\"\",Pengetahuan!K68)","v":""},{"$f":"IF(Pengetahuan!L68=\"\",\"\",Pengetahuan!L68)","v":""},{"$f":"IF(Pengetahuan!M68=\"\",\"\",Pengetahuan!M68)","v":""},{"$f":"IF(Pengetahuan!N68=\"\",\"\",Pengetahuan!N68)","v":""},{"$f":"IF(Pengetahuan!O68=\"\",\"\",Pengetahuan!O68)","v":""},{"$f":"IF(Pengetahuan!P68=\"\",\"\",Pengetahuan!P68)","v":""},{"$f":"IF(Pengetahuan!Q68=\"\",\"\",Pengetahuan!Q68)","v":""},{"$f":"IF(Pengetahuan!R68=\"\",\"\",Pengetahuan!R68)","v":""},{"$f":"IF(Pengetahuan!S68=\"\",\"\",Pengetahuan!S68)","v":""},{"$f":"IF(Pengetahuan!T68=\"\",\"\",Pengetahuan!T68)","v":""},{"$f":"IF(Pengetahuan!U68=\"\",\"\",Pengetahuan!U68)","v":""}]
[49,{"$f":"'Data '!D75","v":0},{"$f":"IF(Pengetahuan!C69=\"\",\"\",Pengetahuan!C69)","v":""},{"$f":"IF(Pengetahuan!D69=\"\",\"\",Pengetahuan!D69)","v":""},{"$f":"IF(Pengetahuan!E69=\"\",\"\",Pengetahuan!E69)","v":""},{"$f":"IF(Pengetahuan!F69=\"\",\"\",Pengetahuan!F69)","v":""},{"$f":"IF(Pengetahuan!G69=\"\",\"\",Pengetahuan!G69)","v":""},{"$f":"IF(Pengetahuan!H69=\"\",\"\",Pengetahuan!H69)","v":""},{"$f":"IF(Pengetahuan!I69=\"\",\"\",Pengetahuan!I69)","v":""},{"$f":"IF(Pengetahuan!J69=\"\",\"\",Pengetahuan!J69)","v":""},{"$f":"IF(Pengetahuan!K69=\"\",\"\",Pengetahuan!K69)","v":""},{"$f":"IF(Pengetahuan!L69=\"\",\"\",Pengetahuan!L69)","v":""},{"$f":"IF(Pengetahuan!M69=\"\",\"\",Pengetahuan!M69)","v":""},{"$f":"IF(Pengetahuan!N69=\"\",\"\",Pengetahuan!N69)","v":""},{"$f":"IF(Pengetahuan!O69=\"\",\"\",Pengetahuan!O69)","v":""},{"$f":"IF(Pengetahuan!P69=\"\",\"\",Pengetahuan!P69)","v":""},{"$f":"IF(Pengetahuan!Q69=\"\",\"\",Pengetahuan!Q69)","v":""},{"$f":"IF(Pengetahuan!R69=\"\",\"\",Pengetahuan!R69)","v":""},{"$f":"IF(Pengetahuan!S69=\"\",\"\",Pengetahuan!S69)","v":""},{"$f":"IF(Pengetahuan!T69=\"\",\"\",Pengetahuan!T69)","v":""},{"$f":"IF(Pengetahuan!U69=\"\",\"\",Pengetahuan!U69)","v":""}]
[50,{"$f":"'Data '!D76","v":0},{"$f":"IF(Pengetahuan!C70=\"\",\"\",Pengetahuan!C70)","v":67},{"$f":"IF(Pengetahuan!D70=\"\",\"\",Pengetahuan!D70)","v":""},{"$f":"IF(Pengetahuan!E70=\"\",\"\",Pengetahuan!E70)","v":""},{"$f":"IF(Pengetahuan!F70=\"\",\"\",Pengetahuan!F70)","v":""},{"$f":"IF(Pengetahuan!G70=\"\",\"\",Pengetahuan!G70)","v":""},{"$f":"IF(Pengetahuan!H70=\"\",\"\",Pengetahuan!H70)","v":67},{"$f":"IF(Pengetahuan!I70=\"\",\"\",Pengetahuan!I70)","v":90},{"$f":"IF(Pengetahuan!J70=\"\",\"\",Pengetahuan!J70)","v":""},{"$f":"IF(Pengetahuan!K70=\"\",\"\",Pengetahuan!K70)","v":""},{"$f":"IF(Pengetahuan!L70=\"\",\"\",Pengetahuan!L70)","v":""},{"$f":"IF(Pengetahuan!M70=\"\",\"\",Pengetahuan!M70)","v":""},{"$f":"IF(Pengetahuan!N70=\"\",\"\",Pengetahuan!N70)","v":90},{"$f":"IF(Pengetahuan!O70=\"\",\"\",Pengetahuan!O70)","v":78.5},{"$f":"IF(Pengetahuan!P70=\"\",\"\",Pengetahuan!P70)","v":78},{"$f":"IF(Pengetahuan!Q70=\"\",\"\",Pengetahuan!Q70)","v":90},{"$f":"IF(Pengetahuan!R70=\"\",\"\",Pengetahuan!R70)","v":81.25},{"$f":"IF(Pengetahuan!S70=\"\",\"\",Pengetahuan!S70)","v":3.25},{"$f":"IF(Pengetahuan!T70=\"\",\"\",Pengetahuan!T70)","v":"B+"},{"$f":"IF(Pengetahuan!U70=\"\",\"\",Pengetahuan!U70)","v":"Tuntas"}]
[null,"Nilai Rata-rata",{"$f":"IFERROR(AVERAGE(C20:C69),\" \")","v":79.682926829268297},80,80,80,null,79.682926829268297,80.243902439024396,80,80,80,null,80.243902439024396,79.963414634146346,75.073170731707322,75.365853658536579,77.591463414634148,3.1036585365853639,""]
[]
[null,null,"Jenis",null,"NP","UTS",null,"UAS","Jlh"]
[null,null,"Bobot",null,2,1,null,1,{"$f":"SUM(E73:H73)","v":4}]
[]
[null,"Mengetahui:",null,null,null,null,null,null,null,null,null,null,null,null,null,null,null,null,{"$f":"'Data '!D21","v":"Blora, 20 Desember 2014"}]
[null,{"$f":"\"Ka. \" &'Data '!D7","v":"Ka. SMP Negeri 6 Blora"},null,null,null,null,null,null,null,null,null,null,null,null,null,null,null,null,"Guru Mata Pelajaran"]
[]
[]
[]
[null,{"$f":"'Data '!D15","v":"Suparno, S.Pd.,M.Hum"},null,null,null,null,null,null,null,null,null,null,null,null,null,null,null,null,{"$f":"Home!E12","v":"Drs. Sarid Nugroho"}]
[null,{"$f":"'Data '!D16","v":"NIP. 19620712 198403 1 012"},null,null,null,null,null,null,null,null,null,null,null,null,null,null,null,null,{"$f":"Home!E14","v":"NIP. 19631223 198803 1 004"}]
[]
[]
[]
[]
[]
[]
[]
[]
[]
[]
[]
[]
[]
[]
[]
[]
[]
[]
[]
[]
[]
[]
[]
[]
[]
[]
[]
[]
[]
[]
[]
[]
[]
[]
[]
[]
[]
[]
[]
[]
[]
[]
[]
[]
[]
[]
[]
[]
[]
[]
[]
[]
[]
[]
[]
[]
[]
[]
[]
[null,null,null,null,null,null,null,null,null,null,null,null,null,null,null,null,null,null,null,null,null,null,null,"Batas Halaman"]

{"sheet":"Skill","index":8,"n_rows":82,"n_cols":57,"rows_kept":82,"cut":false,"hidden":false,"merged":[[9,2,9,6],[0,2,0,17],[1,2,1,17],[2,2,2,17],[3,2,5,17],[7,2,7,6],[7,7,7,9],[7,10,7,11],[7,13,7,14],[8,2,8,6],[8,7,8,9],[8,10,8,11],[8,13,8,14],[8,15,8,17],[18,0,19,0],[18,1,19,1],[18,2,18,5],[18,7,18,9],[18,11,18,12],[18,14,18,16],[18,56,19,56],[18,22,28,24],[10,22,17,24],[11,1,11,12],[12,2,12,12],[13,2,13,12],[14,2,14,12],[15,2,15,12]]}
[null,null,{"$f":"UPPER('Data '!D10)","v":"PEMERINTAH KABUPATEN BLORA"}]
[null,null,{"$f":"UPPER('Data '!D6)","v":"DINAS PENDIDIKAN PEMUDA DAN OLAHRAGA"}]
[null,null,{"$f":"UPPER('Data '!D7)","v":"SMP NEGERI 6 BLORA"}]
[null,null,"DAFTAR   NILAI   SISWA ASPEK KETRAMPILAN (KI - 4)"]
[]
[]
[]
[null,"Mata Pelajaran :",{"$f":"Home!E16","v":"PJOK"},null,null,null,null,"Semester   :",null,null,{"$f":"'Data '!D14","v":"Ganjil"},null,null," KKM  :",null,{"$f":"Home!E24","v":2.67}]
[null,"Kelas :",{"$f":"Home!E18","v":"VII-A"},null,null,null,null,"Tahun Pelajaran :",null,null,{"$f":"'Data '!D13","v":"2014/2015"},null,null,"Wali Kelas :",null,{"$f":"'Data '!D17","v":"Mundari, S.Pd."}]
[null,"Aspek :","Ketrampilan"]
[null,null,null,null,null,null,null,null,null,null,null,null,null,null,null,null,null,null,null,null,null,null,"PETUNJUK UNTUK MENCETAK/PRINT OUT"]
[null,"KOMPETENSI DASAR ASPEK KETRAMPILAN (KI - 4)"]
[null,"KD/Materi Pokok UK 1","menyelesaikan soal cerita bilangan"]
[null,"KD/Materi Pokok UK 2","menyelesaikan soal cerita perbandingan"]
[null,"KD/Materi Pokok UK 3","menyelesaikan soal cerita aritmatika sosial"]
[null,"KD/Materi Pokok UK 4"]
[]
[]
["No. ","Nama","Unjuk Kerja",null,null,null,"Rerata","Projek",null,null,"Rerata","Portofolio",null,"Rerata","Nilai",null,null,"Ket",null,null,null,null,"Password pada sheet ini purnawanto. Gunakan untuk mengedit page setup halaman, dsb.\n\nJika ingin mengurangi jumlah baris (misal jumlah siswa hanya 30 orang), JANGAN MENGHAPUS BARIS. Blok baris, klik kanan, pilih HIDE. \n\nProtek kembali sheet untuk keamanan rumus dan link antar sheet. \nTERIMA KASIH"]
[null,null,"KD1","KD2","KD3","KD4","Ujk Kerja","Pr1","Pr2","Pr3","Projek","Pf1","Pf2","Porto","0-100","0-4","Konversi","T/TT"]
[1,{"$f":"'Data '!D27","v":"AHMAD ALEK BRIYANSAPUTRA"},{"$f":"IF(Ketrampilan!C21=\"\",\"\",Ketrampilan!C21)","v":80},{"$f":"IF(Ketrampilan!D21=\"\",\"\",Ketrampilan!D21)","v":80},{"$f":"IF(Ketrampilan!E21=\"\",\"\",Ketrampilan!E21)","v":80},{"$f":"IF(Ketrampilan!F21=\"\",\"\",Ketrampilan!F21)","v":80},{"$f":"IF(Ketrampilan!G21=\"\",\"\",Ketrampilan!G21)","v":80},{"$f":"IF(Ketrampilan!H21=\"\",\"\",Ketrampilan!H21)","v":80},{"$f":"IF(Ketrampilan!I21=\"\",\"\",Ketrampilan!I21)","v":""},{"$f":"IF(Ketrampilan!J21=\"\",\"\",Ketrampilan!J21)","v":0},{"$f":"IF(Ketrampilan!K21=\"\",\"\",Ketrampilan!K21)","v":80},{"$f":"IF(Ketrampilan!L21=\"\",\"\",Ketrampilan!L21)","v":80},{"$f":"IF(Ketrampilan!M21=\"\",\"\",Ketrampilan!M21)","v":0},{"$f":"IF(Ketrampilan!N21=\"\",\"\",Ketrampilan!N21)","v":80},{"$f":"IF(Ketrampilan!O21=\"\",\"\",Ketrampilan!O21)","v":80},{"$f":"IF(Ketrampilan!P21=\"\",\"\",Ketrampilan!P21)","v":3.2},{"$f":"IF(Ketrampilan!Q21=\"\",\"\",Ketrampilan!Q21)","v":"B+"},{"$f":"IF(Ketrampilan!R21=\"\",\"\",Ketrampilan!R21)","v":"Tuntas"},null,null,null,null,null,null,null,null,null,null,null,null,null,null,null,null,null,null,null,null,null,null,null,null,null,null,null,null,null,null,null,null,null,null,null,null,null,null,{"$f":"CONCATENATE(IF(O21>87.5,\"Kompetensi ketrampilan rerata sangat baik. \",IF(O21>62.5,\"Kompetensi ketrampilan rerata baik. \",IF(O21>37.5,\"Kompetensi ketrampilan rerata cukup. \",IF(O21>1,\"Kompetensi ketrampilan rerata kurang. \",\" \")))),IF(C21>87.5,\"Sangat trampil \"&$C$13,IF(C21>62.5,\"Sudah trampil \"&$C$13,IF(C21>37.5,\"Masih perlu latihan \"&$C$13,IF(C21>1,\"Perlu bimbingan \"&$C$13,IF(C21=\"\",\"\"))))),IF(D21>87.5,\", sangat trampil \"&$C$14,IF(D21>62.5,\", sudah trampil \"&$C$14,IF(D21>37.5,\", masih perlu latihan \"&$C$14,IF(D21>1,\", perlu bimbingan \"&$C$14,IF(D21=\"\",\"\"))))),IF(E21>87.25,\", sangat trampil \"&$C$15,IF(E21>62.5,\", sudah trampil \"&$C$15,IF(E21>37.5,\", masih perlu latihan \"&$C$15,IF(E21>1,\", perlu bimbingan \"&$C$15,IF(E21=\"\",\"\"))))),IF(F21>87.5,\", sangat trampil \"&$C$16,IF(F21>62.5,\", sudah trampil \"&$C$16,IF(F21>37.5,\", masih perlu latihan \"&$C$16,IF(F21>1,\", perlu bimbingan \"&$C$16,IF(F21=\"\",\"\"))))))","v":"Kompetensi ketrampilan rerata baik. Sudah trampil menyelesaikan soal cerita bilangan, sudah trampil menyelesaikan soal cerita perbandingan, sudah trampil menyelesaikan soal cerita aritmatika sosial, sudah trampil "}]
[2,{"$f":"'Data '!D28","v":"AULIA AYU FATINA"},{"$f":"IF(Ketrampilan!C22=\"\",\"\",Ketrampilan!C22)","v":80},{"$f":"IF(Ketrampilan!D22=\"\",\"\",Ketrampilan!D22)","v":80},{"$f":"IF(Ketrampilan!E22=\"\",\"\",Ketrampilan!E22)","v":80},{"$f":"IF(Ketrampilan!F22=\"\",\"\",Ketrampilan!F22)","v":80},{"$f":"IF(Ketrampilan!G22=\"\",\"\",Ketrampilan!G22)","v":80},{"$f":"IF(Ketrampilan!H22=\"\",\"\",Ketrampilan!H22)","v":80},{"$f":"IF(Ketrampilan!I22=\"\",\"\",Ketrampilan!I22)","v":0},{"$f":"IF(Ketrampilan!J22=\"\",\"\",Ketrampilan!J22)","v":0},{"$f":"IF(Ketrampilan!K22=\"\",\"\",Ketrampilan!K22)","v":80},{"$f":"IF(Ketrampilan!L22=\"\",\"\",Ketrampilan!L22)","v":80},{"$f":"IF(Ketrampilan!M22=\"\",\"\",Ketrampilan!M22)","v":0},{"$f":"IF(Ketrampilan!N22=\"\",\"\",Ketrampilan!N22)","v":80},{"$f":"IF(Ketrampilan!O22=\"\",\"\",Ketrampilan!O22)","v":80},{"$f":"IF(Ketrampilan!P22=\"\",\"\",Ketrampilan!P22)","v":3.2},{"$f":"IF(Ketrampilan!Q22=\"\",\"\",Ketrampilan!Q22)","v":"B+"},{"$f":"IF(Ketrampilan!R22=\"\",\"\",Ketrampilan!R22)","v":"Tuntas"},null,null,null,null,null,null,null,null,null,null,null,null,null,null,null,null,null,null,null,null,null,null,null,null,null,null,null,null,null,null,null,null,null,null,null,null,null,null,{"$f":"CONCATENATE(IF(O22>87.5,\"Kompetensi ketrampilan rerata sangat baik. \",IF(O22>62.5,\"Kompetensi ketrampilan rerata baik. \",IF(O22>37.5,\"Kompetensi ketrampilan rerata cukup. \",IF(O22>1,\"Kompetensi ketrampilan rerata kurang. \",\" \")))),IF(C22>87.5,\"Sangat trampil \"&$C$13,IF(C22>62.5,\"Sudah trampil \"&$C$13,IF(C22>37.5,\"Masih perlu latihan \"&$C$13,IF(C22>1,\"Perlu bimbingan \"&$C$13,IF(C22=\"\",\"\"))))),IF(D22>87.5,\", sangat trampil \"&$C$14,IF(D22>62.5,\", sudah trampil \"&$C$14,IF(D22>37.5,\", masih perlu latihan \"&$C$14,IF(D22>1,\", perlu bimbingan \"&$C$14,IF(D22=\"\",\"\"))))),IF(E22>87.25,\", sangat trampil \"&$C$15,IF(E22>62.5,\", sudah trampil \"&$C$15,IF(E22>37.5,\", masih perlu latihan \"&$C$15,IF(E22>1,\", perlu bimbingan \"&$C$15,IF(E22=\"\",\"\"))))),IF(F22>87.5,\", sangat trampil \"&$C$16,IF(F22>62.5,\", sudah trampil \"&$C$16,IF(F22>37.5,\", masih perlu latihan \"&$C$16,IF(F22>1,\", perlu bimbingan \"&$C$16,IF(F22=\"\",\"\"))))))","v":"Kompetensi ketrampilan rerata baik. Sudah trampil menyelesaikan soal cerita bilangan, sudah trampil menyelesaikan soal cerita perbandingan, sudah trampil menyelesaikan soal cerita aritmatika sosial, sudah trampil "}]
[3,{"$f":"'Data '!D29","v":"BAGAS YULANDRA PUTRA"},{"$f":"IF(Ketrampilan!C23=\"\",\"\",Ketrampilan!C23)","v":80},{"$f":"IF(Ketrampilan!D23=\"\",\"\",Ketrampilan!D23)","v":80},{"$f":"IF(Ketrampilan!E23=\"\",\"\",Ketrampilan!E23)","v":80},{"$f":"IF(Ketrampilan!F23=\"\",\"\",Ketrampilan!F23)","v":80},{"$f":"IF(Ketrampilan!G23=\"\",\"\",Ketrampilan!G23)","v":80},{"$f":"IF(Ketrampilan!H23=\"\",\"\",Ketrampilan!H23)","v":80},{"$f":"IF(Ketrampilan!I23=\"\",\"\",Ketrampilan!I23)","v":0},{"$f":"IF(Ketrampilan!J23=\"\",\"\",Ketrampilan!J23)","v":0},{"$f":"IF(Ketrampilan!K23=\"\",\"\",Ketrampilan!K23)","v":80},{"$f":"IF(Ketrampilan!L23=\"\",\"\",Ketrampilan!L23)","v":80},{"$f":"IF(Ketrampilan!M23=\"\",\"\",Ketrampilan!M23)","v":0},{"$f":"IF(Ketrampilan!N23=\"\",\"\",Ketrampilan!N23)","v":80},{"$f":"IF(Ketrampilan!O23=\"\",\"\",Ketrampilan!O23)","v":80},{"$f":"IF(Ketrampilan!P23=\"\",\"\",Ketrampilan!P23)","v":3.2},{"$f":"IF(Ketrampilan!Q23=\"\",\"\",Ketrampilan!Q23)","v":"B+"},{"$f":"IF(Ketrampilan!R23=\"\",\"\",Ketrampilan!R23)","v":"Tuntas"},null,null,null,null,null,null,null,null,null,null,null,null,null,null,null,null,null,null,null,null,null,null,null,null,null,null,null,null,null,null,null,null,null,null,null,null,null,null,"Kompetensi ketrampilan rerata baik. Sudah trampil menyelesaikan soal cerita bilangan, sudah trampil menyelesaikan soal cerita perbandingan, sudah trampil menyelesaikan soal cerita aritmatika sosial, sudah trampil "]
[4,{"$f":"'Data '!D30","v":"CYNTIA AGUSTINA"},{"$f":"IF(Ketrampilan!C24=\"\",\"\",Ketrampilan!C24)","v":80},{"$f":"IF(Ketrampilan!D24=\"\",\"\",Ketrampilan!D24)","v":80},{"$f":"IF(Ketrampilan!E24=\"\",\"\",Ketrampilan!E24)","v":80},{"$f":"IF(Ketrampilan!F24=\"\",\"\",Ketrampilan!F24)","v":80},{"$f":"IF(Ketrampilan!G24=\"\",\"\",Ketrampilan!G24)","v":80},{"$f":"IF(Ketrampilan!H24=\"\",\"\",Ketrampilan!H24)","v":80},{"$f":"IF(Ketrampilan!I24=\"\",\"\",Ketrampilan!I24)","v":0},{"$f":"IF(Ketrampilan!J24=\"\",\"\",Ketrampilan!J24)","v":0},{"$f":"IF(Ketrampilan!K24=\"\",\"\",Ketrampilan!K24)","v":80},{"$f":"IF(Ketrampilan!L24=\"\",\"\",Ketrampilan!L24)","v":80},{"$f":"IF(Ketrampilan!M24=\"\",\"\",Ketrampilan!M24)","v":0},{"$f":"IF(Ketrampilan!N24=\"\",\"\",Ketrampilan!N24)","v":80},{"$f":"IF(Ketrampilan!O24=\"\",\"\",Ketrampilan!O24)","v":80},{"$f":"IF(Ketrampilan!P24=\"\",\"\",Ketrampilan!P24)","v":3.2},{"$f":"IF(Ketrampilan!Q24=\"\",\"\",Ketrampilan!Q24)","v":"B+"},{"$f":"IF(Ketrampilan!R24=\"\",\"\",Ketrampilan!R24)","v":"Tuntas"},null,null,null,null,null,null,null,null,null,null,null,null,null,null,null,null,null,null,null,null,null,null,null,null,null,null,null,null,null,null,null,null,null,null,null,null,null,null,"Kompetensi ketrampilan rerata baik. Sudah trampil menyelesaikan soal cerita bilangan, sudah trampil menyelesaikan soal cerita perbandingan, sudah trampil menyelesaikan soal cerita aritmatika sosial, sudah trampil "]
[5,{"$f":"'Data '!D31","v":"DAFFA KRISNA PRAMUDYA"},{"$f":"IF(Ketrampilan!C25=\"\",\"\",Ketrampilan!C25)","v":80},{"$f":"IF(Ketrampilan!D25=\"\",\"\",Ketrampilan!D25)","v":80},{"$f":"IF(Ketrampilan!E25=\"\",\"\",Ketrampilan!E25)","v":80},{"$f":"IF(Ketrampilan!F25=\"\",\"\",Ketrampilan!F25)","v":80},{"$f":"IF(Ketrampilan!G25=\"\",\"\",Ketrampilan!G25)","v":80},{"$f":"IF(Ketrampilan!H25=\"\",\"\",Ketrampilan!H25)","v":80},{"$f":"IF(Ketrampilan!I25=\"\",\"\",Ketrampilan!I25)","v":0},{"$f":"IF(Ketrampilan!J25=\"\",\"\",Ketrampilan!J25)","v":0},{"$f":"IF(Ketrampilan!K25=\"\",\"\",Ketrampilan!K25)","v":80},{"$f":"IF(Ketrampilan!L25=\"\",\"\",Ketrampilan!L25)","v":80},{"$f":"IF(Ketrampilan!M25=\"\",\"\",Ketrampilan!M25)","v":0},{"$f":"IF(Ketrampilan!N25=\"\",\"\",Ketrampilan!N25)","v":80},{"$f":"IF(Ketrampilan!O25=\"\",\"\",Ketrampilan!O25)","v":80},{"$f":"IF(Ketrampilan!P25=\"\",\"\",Ketrampilan!P25)","v":3.2},{"$f":"IF(Ketrampilan!Q25=\"\",\"\",Ketrampilan!Q25)","v":"B+"},{"$f":"IF(Ketrampilan!R25=\"\",\"\",Ketrampilan!R25)","v":"Tuntas"},null,null,null,null,null,null,null,null,null,null,null,null,null,null,null,null,null,null,null,null,null,null,null,null,null,null,null,null,null,null,null,null,null,null,null,null,null,null,"Kompetensi ketrampilan rerata baik. Sudah trampil menyelesaikan soal cerita bilangan, sudah trampil menyelesaikan soal cerita perbandingan, sudah trampil menyelesaikan soal cerita aritmatika sosial, sudah trampil "]
[6,{"$f":"'Data '!D32","v":"DANINDRA RAFIF IRAWAN"},{"$f":"IF(Ketrampilan!C26=\"\",\"\",Ketrampilan!C26)","v":80},{"$f":"IF(Ketrampilan!D26=\"\",\"\",Ketrampilan!D26)","v":80},{"$f":"IF(Ketrampilan!E26=\"\",\"\",Ketrampilan!E26)","v":80},{"$f":"IF(Ketrampilan!F26=\"\",\"\",Ketrampilan!F26)","v":80},{"$f":"IF(Ketrampilan!G26=\"\",\"\",Ketrampilan!G26)","v":80},{"$f":"IF(Ketrampilan!H26=\"\",\"\",Ketrampilan!H26)","v":80},{"$f":"IF(Ketrampilan!I26=\"\",\"\",Ketrampilan!I26)","v":0},{"$f":"IF(Ketrampilan!J26=\"\",\"\",Ketrampilan!J26)","v":0},{"$f":"IF(Ketrampilan!K26=\"\",\"\",Ketrampilan!K26)","v":80},{"$f":"IF(Ketrampilan!L26=\"\",\"\",Ketrampilan!L26)","v":80},{"$f":"IF(Ketrampilan!M26=\"\",\"\",Ketrampilan!M26)","v":0},{"$f":"IF(Ketrampilan!N26=\"\",\"\",Ketrampilan!N26)","v":80},{"$f":"IF(Ketrampilan!O26=\"\",\"\",Ketrampilan!O26)","v":80},{"$f":"IF(Ketrampilan!P26=\"\",\"\",Ketrampilan!P26)","v":3.2},{"$f":"IF(Ketrampilan!Q26=\"\",\"\",Ketrampilan!Q26)","v":"B+"},{"$f":"IF(Ketrampilan!R26=\"\",\"\",Ketrampilan!R26)","v":"Tuntas"},null,null,null,null,null,null,null,null,null,null,null,null,null,null,null,null,null,null,null,null,null,null,null,null,null,null,null,null,null,null,null,null,null,null,null,null,null,null,"Kompetensi ketrampilan rerata baik. Sudah trampil menyelesaikan soal cerita bilangan, sudah trampil menyelesaikan soal cerita perbandingan, sudah trampil menyelesaikan soal cerita aritmatika sosial, sudah trampil "]
[7,{"$f":"'Data '!D33","v":"DENI PRATAMA"},{"$f":"IF(Ketrampilan!C27=\"\",\"\",Ketrampilan!C27)","v":80},{"$f":"IF(Ketrampilan!D27=\"\",\"\",Ketrampilan!D27)","v":80},{"$f":"IF(Ketrampilan!E27=\"\",\"\",Ketrampilan!E27)","v":80},{"$f":"IF(Ketrampilan!F27=\"\",\"\",Ketrampilan!F27)","v":80},{"$f":"IF(Ketrampilan!G27=\"\",\"\",Ketrampilan!G27)","v":80},{"$f":"IF(Ketrampilan!H27=\"\",\"\",Ketrampilan!H27)","v":80},{"$f":"IF(Ketrampilan!I27=\"\",\"\",Ketrampilan!I27)","v":0},{"$f":"IF(Ketrampilan!J27=\"\",\"\",Ketrampilan!J27)","v":0},{"$f":"IF(Ketrampilan!K27=\"\",\"\",Ketrampilan!K27)","v":80},{"$f":"IF(Ketrampilan!L27=\"\",\"\",Ketrampilan!L27)","v":80},{"$f":"IF(Ketrampilan!M27=\"\",\"\",Ketrampilan!M27)","v":0},{"$f":"IF(Ketrampilan!N27=\"\",\"\",Ketrampilan!N27)","v":80},{"$f":"IF(Ketrampilan!O27=\"\",\"\",Ketrampilan!O27)","v":80},{"$f":"IF(Ketrampilan!P27=\"\",\"\",Ketrampilan!P27)","v":3.2},{"$f":"IF(Ketrampilan!Q27=\"\",\"\",Ketrampilan!Q27)","v":"B+"},{"$f":"IF(Ketrampilan!R27=\"\",\"\",Ketrampilan!R27)","v":"Tuntas"},null,null,null,null,null,null,null,null,null,null,null,null,null,null,null,null,null,null,null,null,null,null,null,null,null,null,null,null,null,null,null,null,null,null,null,null,null,null,"Kompetensi ketrampilan rerata baik. Sudah trampil menyelesaikan soal cerita bilangan, sudah trampil menyelesaikan soal cerita perbandingan, sudah trampil menyelesaikan soal cerita aritmatika sosial, sudah trampil "]
[8,{"$f":"'Data '!D34","v":"DIKA SUKMA AGUSTIN"},{"$f":"IF(Ketrampilan!C28=\"\",\"\",Ketrampilan!C28)","v":80},{"$f":"IF(Ketrampilan!D28=\"\",\"\",Ketrampilan!D28)","v":80},{"$f":"IF(Ketrampilan!E28=\"\",\"\",Ketrampilan!E28)","v":80},{"$f":"IF(Ketrampilan!F28=\"\",\"\",Ketrampilan!F28)","v":80},{"$f":"IF(Ketrampilan!G28=\"\",\"\",Ketrampilan!G28)","v":80},{"$f":"IF(Ketrampilan!H28=\"\",\"\",Ketrampilan!H28)","v":80},{"$f":"IF(Ketrampilan!I28=\"\",\"\",Ketrampilan!I28)","v":0},{"$f":"IF(Ketrampilan!J28=\"\",\"\",Ketrampilan!J28)","v":0},{"$f":"IF(Ketrampilan!K28=\"\",\"\",Ketrampilan!K28)","v":80},{"$f":"IF(Ketrampilan!L28=\"\",\"\",Ketrampilan!L28)","v":80},{"$f":"IF(Ketrampilan!M28=\"\",\"\",Ketrampilan!M28)","v":0},{"$f":"IF(Ketrampilan!N28=\"\",\"\",Ketrampilan!N28)","v":80},{"$f":"IF(Ketrampilan!O28=\"\",\"\",Ketrampilan!O28)","v":80},{"$f":"IF(Ketrampilan!P28=\"\",\"\",Ketrampilan!P28)","v":3.2},{"$f":"IF(Ketrampilan!Q28=\"\",\"\",Ketrampilan!Q28)","v":"B+"},{"$f":"IF(Ketrampilan!R28=\"\",\"\",Ketrampilan!R28)","v":"Tuntas"},null,null,null,null,null,null,null,null,null,null,null,null,null,null,null,null,null,null,null,null,null,null,null,null,null,null,null,null,null,null,null,null,null,null,null,null,null,null,"Kompetensi ketrampilan rerata baik. Sudah trampil menyelesaikan soal cerita bilangan, sudah trampil menyelesaikan soal cerita perbandingan, sudah trampil menyelesaikan soal cerita aritmatika sosial, sudah trampil "]
[9,{"$f":"'Data '!D35","v":"DIVA ADITYA"},{"$f":"IF(Ketrampilan!C29=\"\",\"\",Ketrampilan!C29)","v":80},{"$f":"IF(Ketrampilan!D29=\"\",\"\",Ketrampilan!D29)","v":80},{"$f":"IF(Ketrampilan!E29=\"\",\"\",Ketrampilan!E29)","v":80},{"$f":"IF(Ketrampilan!F29=\"\",\"\",Ketrampilan!F29)","v":80},{"$f":"IF(Ketrampilan!G29=\"\",\"\",Ketrampilan!G29)","v":80},{"$f":"IF(Ketrampilan!H29=\"\",\"\",Ketrampilan!H29)","v":80},{"$f":"IF(Ketrampilan!I29=\"\",\"\",Ketrampilan!I29)","v":0},{"$f":"IF(Ketrampilan!J29=\"\",\"\",Ketrampilan!J29)","v":0},{"$f":"IF(Ketrampilan!K29=\"\",\"\",Ketrampilan!K29)","v":80},{"$f":"IF(Ketrampilan!L29=\"\",\"\",Ketrampilan!L29)","v":80},{"$f":"IF(Ketrampilan!M29=\"\",\"\",Ketrampilan!M29)","v":0},{"$f":"IF(Ketrampilan!N29=\"\",\"\",Ketrampilan!N29)","v":80},{"$f":"IF(Ketrampilan!O29=\"\",\"\",Ketrampilan!O29)","v":80},{"$f":"IF(Ketrampilan!P29=\"\",\"\",Ketrampilan!P29)","v":3.2},{"$f":"IF(Ketrampilan!Q29=\"\",\"\",Ketrampilan!Q29)","v":"B+"},{"$f":"IF(Ketrampilan!R29=\"\",\"\",Ketrampilan!R29)","v":"Tuntas"},null,null,null,null,null,null,null,null,null,null,null,null,null,null,null,null,null,null,null,null,null,null,null,null,null,null,null,null,null,null,null,null,null,null,null,null,null,null,"Kompetensi ketrampilan rerata baik. Sudah trampil menyelesaikan soal cerita bilangan, sudah trampil menyelesaikan soal cerita perbandingan, sudah trampil menyelesaikan soal cerita aritmatika sosial, sudah trampil "]
[10,{"$f":"'Data '!D36","v":"EKO PRASTYO"},{"$f":"IF(Ketrampilan!C30=\"\",\"\",Ketrampilan!C30)","v":80},{"$f":"IF(Ketrampilan!D30=\"\",\"\",Ketrampilan!D30)","v":80},{"$f":"IF(Ketrampilan!E30=\"\",\"\",Ketrampilan!E30)","v":80},{"$f":"IF(Ketrampilan!F30=\"\",\"\",Ketrampilan!F30)","v":80},{"$f":"IF(Ketrampilan!G30=\"\",\"\",Ketrampilan!G30)","v":80},{"$f":"IF(Ketrampilan!H30=\"\",\"\",Ketrampilan!H30)","v":80},{"$f":"IF(Ketrampilan!I30=\"\",\"\",Ketrampilan!I30)","v":0},{"$f":"IF(Ketrampilan!J30=\"\",\"\",Ketrampilan!J30)","v":0},{"$f":"IF(Ketrampilan!K30=\"\",\"\",Ketrampilan!K30)","v":80},{"$f":"IF(Ketrampilan!L30=\"\",\"\",Ketrampilan!L30)","v":80},{"$f":"IF(Ketrampilan!M30=\"\",\"\",Ketrampilan!M30)","v":0},{"$f":"IF(Ketrampilan!N30=\"\",\"\",Ketrampilan!N30)","v":80},{"$f":"IF(Ketrampilan!O30=\"\",\"\",Ketrampilan!O30)","v":80},{"$f":"IF(Ketrampilan!P30=\"\",\"\",Ketrampilan!P30)","v":3.2},{"$f":"IF(Ketrampilan!Q30=\"\",\"\",Ketrampilan!Q30)","v":"B+"},{"$f":"IF(Ketrampilan!R30=\"\",\"\",Ketrampilan!R30)","v":"Tuntas"},null,null,null,null,null,null,null,null,null,null,null,null,null,null,null,null,null,null,null,null,null,null,null,null,null,null,null,null,null,null,null,null,null,null,null,null,null,null,"Kompetensi ketrampilan rerata baik. Sudah trampil menyelesaikan soal cerita bilangan, sudah trampil menyelesaikan soal cerita perbandingan, sudah trampil menyelesaikan soal cerita aritmatika sosial, sudah trampil "]
[11,{"$f":"'Data '!D37","v":"FAIQUR RIJAL HAMMAM"},{"$f":"IF(Ketrampilan!C31=\"\",\"\",Ketrampilan!C31)","v":80},{"$f":"IF(Ketrampilan!D31=\"\",\"\",Ketrampilan!D31)","v":80},{"$f":"IF(Ketrampilan!E31=\"\",\"\",Ketrampilan!E31)","v":80},{"$f":"IF(Ketrampilan!F31=\"\",\"\",Ketrampilan!F31)","v":80},{"$f":"IF(Ketrampilan!G31=\"\",\"\",Ketrampilan!G31)","v":80},{"$f":"IF(Ketrampilan!H31=\"\",\"\",Ketrampilan!H31)","v":80},{"$f":"IF(Ketrampilan!I31=\"\",\"\",Ketrampilan!I31)","v":0},{"$f":"IF(Ketrampilan!J31=\"\",\"\",Ketrampilan!J31)","v":0},{"$f":"IF(Ketrampilan!K31=\"\",\"\",Ketrampilan!K31)","v":80},{"$f":"IF(Ketrampilan!L31=\"\",\"\",Ketrampilan!L31)","v":80},{"$f":"IF(Ketrampilan!M31=\"\",\"\",Ketrampilan!M31)","v":0},{"$f":"IF(Ketrampilan!N31=\"\",\"\",Ketrampilan!N31)","v":80},{"$f":"IF(Ketrampilan!O31=\"\",\"\",Ketrampilan!O31)","v":80},{"$f":"IF(Ketrampilan!P31=\"\",\"\",Ketrampilan!P31)","v":3.2},{"$f":"IF(Ketrampilan!Q31=\"\",\"\",Ketrampilan!Q31)","v":"B+"},{"$f":"IF(Ketrampilan!R31=\"\",\"\",Ketrampilan!R31)","v":"Tuntas"},null,null,null,null,null,null,null,null,null,null,null,null,null,null,null,null,null,null,null,null,null,null,null,null,null,null,null,null,null,null,null,null,null,null,null,null,null,null,"Kompetensi ketrampilan rerata baik. Sudah trampil menyelesaikan soal cerita bilangan, sudah trampil menyelesaikan soal cerita perbandingan, sudah trampil menyelesaikan soal cerita aritmatika sosial, sudah trampil "]
[12,{"$f":"'Data '!D38","v":"FATESAR SARI PRASETYO"},{"$f":"IF(Ketrampilan!C32=\"\",\"\",Ketrampilan!C32)","v":80},{"$f":"IF(Ketrampilan!D32=\"\",\"\",Ketrampilan!D32)","v":80},{"$f":"IF(Ketrampilan!E32=\"\",\"\",Ketrampilan!E32)","v":80},{"$f":"IF(Ketrampilan!F32=\"\",\"\",Ketrampilan!F32)","v":80},{"$f":"IF(Ketrampilan!G32=\"\",\"\",Ketrampilan!G32)","v":80},{"$f":"IF(Ketrampilan!H32=\"\",\"\",Ketrampilan!H32)","v":80},{"$f":"IF(Ketrampilan!I32=\"\",\"\",Ketrampilan!I32)","v":0},{"$f":"IF(Ketrampilan!J32=\"\",\"\",Ketrampilan!J32)","v":0},{"$f":"IF(Ketrampilan!K32=\"\",\"\",Ketrampilan!K32)","v":80},{"$f":"IF(Ketrampilan!L32=\"\",\"\",Ketrampilan!L32)","v":80},{"$f":"IF(Ketrampilan!M32=\"\",\"\",Ketrampilan!M32)","v":0},{"$f":"IF(Ketrampilan!N32=\"\",\"\",Ketrampilan!N32)","v":80},{"$f":"IF(Ketrampilan!O32=\"\",\"\",Ketrampilan!O32)","v":80},{"$f":"IF(Ketrampilan!P32=\"\",\"\",Ketrampilan!P32)","v":3.2},{"$f":"IF(Ketrampilan!Q32=\"\",\"\",Ketrampilan!Q32)","v":"B+"},{"$f":"IF(Ketrampilan!R32=\"\",\"\",Ketrampilan!R32)","v":"Tuntas"},null,null,null,null,null,null,null,null,null,null,null,null,null,null,null,null,null,null,null,null,null,null,null,null,null,null,null,null,null,null,null,null,null,null,null,null,null,null,"Kompetensi ketrampilan rerata baik. Sudah trampil menyelesaikan soal cerita bilangan, sudah trampil menyelesaikan soal cerita perbandingan, sudah trampil menyelesaikan soal cerita aritmatika sosial, sudah trampil "]
[13,{"$f":"'Data '!D39","v":"FEBRI SULISTIYO"},{"$f":"IF(Ketrampilan!C33=\"\",\"\",Ketrampilan!C33)","v":80},{"$f":"IF(Ketrampilan!D33=\"\",\"\",Ketrampilan!D33)","v":80},{"$f":"IF(Ketrampilan!E33=\"\",\"\",Ketrampilan!E33)","v":80},{"$f":"IF(Ketrampilan!F33=\"\",\"\",Ketrampilan!F33)","v":80},{"$f":"IF(Ketrampilan!G33=\"\",\"\",Ketrampilan!G33)","v":80},{"$f":"IF(Ketrampilan!H33=\"\",\"\",Ketrampilan!H33)","v":80},{"$f":"IF(Ketrampilan!I33=\"\",\"\",Ketrampilan!I33)","v":0},{"$f":"IF(Ketrampilan!J33=\"\",\"\",Ketrampilan!J33)","v":0},{"$f":"IF(Ketrampilan!K33=\"\",\"\",Ketrampilan!K33)","v":80},{"$f":"IF(Ketrampilan!L33=\"\",\"\",Ketrampilan!L33)","v":80},{"$f":"IF(Ketrampilan!M33=\"\",\"\",Ketrampilan!M33)","v":0},{"$f":"IF(Ketrampilan!N33=\"\",\"\",Ketrampilan!N33)","v":80},{"$f":"IF(Ketrampilan!O33=\"\",\"\",Ketrampilan!O33)","v":80},{"$f":"IF(Ketrampilan!P33=\"\",\"\",Ketrampilan!P33)","v":3.2},{"$f":"IF(Ketrampilan!Q33=\"\",\"\",Ketrampilan!Q33)","v":"B+"},{"$f":"IF(Ketrampilan!R33=\"\",\"\",Ketrampilan!R33)","v":"Tuntas"},null,null,null,null,null,"halaman 2",null,null,null,null,null,null,null,null,null,null,null,null,null,null,null,null,null,null,null,null,null,null,null,null,null,null,null,null,null,null,null,null,"Kompetensi ketrampilan rerata baik. Sudah trampil menyelesaikan soal cerita bilangan, sudah trampil menyelesaikan soal cerita perbandingan, sudah trampil menyelesaikan soal cerita aritmatika sosial, sudah trampil "]
[14,{"$f":"'Data '!D40","v":"FIONA NANDA FETRIAN"},{"$f":"IF(Ketrampilan!C34=\"\",\"\",Ketrampilan!C34)","v":80},{"$f":"IF(Ketrampilan!D34=\"\",\"\",Ketrampilan!D34)","v":80},{"$f":"IF(Ketrampilan!E34=\"\",\"\",Ketrampilan!E34)","v":80},{"$f":"IF(Ketrampilan!F34=\"\",\"\",Ketrampilan!F34)","v":80},{"$f":"IF(Ketrampilan!G34=\"\",\"\",Ketrampilan!G34)","v":80},{"$f":"IF(Ketrampilan!H34=\"\",\"\",Ketrampilan!H34)","v":80},{"$f":"IF(Ketrampilan!I34=\"\",\"\",Ketrampilan!I34)","v":0},{"$f":"IF(Ketrampilan!J34=\"\",\"\",Ketrampilan!J34)","v":0},{"$f":"IF(Ketrampilan!K34=\"\",\"\",Ketrampilan!K34)","v":80},{"$f":"IF(Ketrampilan!L34=\"\",\"\",Ketrampilan!L34)","v":80},{"$f":"IF(Ketrampilan!M34=\"\",\"\",Ketrampilan!M34)","v":0},{"$f":"IF(Ketrampilan!N34=\"\",\"\",Ketrampilan!N34)","v":80},{"$f":"IF(Ketrampilan!O34=\"\",\"\",Ketrampilan!O34)","v":80},{"$f":"IF(Ketrampilan!P34=\"\",\"\",Ketrampilan!P34)","v":3.2},{"$f":"IF(Ketrampilan!Q34=\"\",\"\",Ketrampilan!Q34)","v":"B+"},{"$f":"IF(Ketrampilan!R34=\"\",\"\",Ketrampilan!R34)","v":"Tuntas"},null,null,null,null,null,null,null,null,null,null,null,null,null,null,null,null,null,null,null,null,null,null,null,null,null,null,null,null,null,null,null,null,null,null,null,null,null,null,"Kompetensi ketrampilan rerata baik. Sudah trampil menyelesaikan soal cerita bilangan, sudah trampil menyelesaikan soal cerita perbandingan, sudah trampil menyelesaikan soal cerita aritmatika sosial, sudah trampil "]
[15,{"$f":"'Data '!D41","v":"GILANG SYAHRUL RAMADHAN"},{"$f":"IF(Ketrampilan!C35=\"\",\"\",Ketrampilan!C35)","v":80},{"$f":"IF(Ketrampilan!D35=\"\",\"\",Ketrampilan!D35)","v":80},{"$f":"IF(Ketrampilan!E35=\"\",\"\",Ketrampilan!E35)","v":80},{"$f":"IF(Ketrampilan!F35=\"\",\"\",Ketrampilan!F35)","v":80},{"$f":"IF(Ketrampilan!G35=\"\",\"\",Ketrampilan!G35)","v":80},{"$f":"IF(Ketrampilan!H35=\"\",\"\",Ketrampilan!H35)","v":80},{"$f":"IF(Ketrampilan!I35=\"\",\"\",Ketrampilan!I35)","v":0},{"$f":"IF(Ketrampilan!J35=\"\",\"\",Ketrampilan!J35)","v":0},{"$f":"IF(Ketrampilan!K35=\"\",\"\",Ketrampilan!K35)","v":80},{"$f":"IF(Ketrampilan!L35=\"\",\"\",Ketrampilan!L35)","v":80},{"$f":"IF(Ketrampilan!M35=\"\",\"\",Ketrampilan!M35)","v":0},{"$f":"IF(Ketrampilan!N35=\"\",\"\",Ketrampilan!N35)","v":80},{"$f":"IF(Ketrampilan!O35=\"\",\"\",Ketrampilan!O35)","v":80},{"$f":"IF(Ketrampilan!P35=\"\",\"\",Ketrampilan!P35)","v":3.2},{"$f":"IF(Ketrampilan!Q35=\"\",\"\",Ketrampilan!Q35)","v":"B+"},{"$f":"IF(Ketrampilan!R35=\"\",\"\",Ketrampilan!R35)","v":"Tuntas"},null,null,null,null,null,null,null,null,null,null,null,null,null,null,null,null,null,null,null,null,null,null,null,null,null,null,null,null,null,null,null,null,null,null,null,null,null,null,"Kompetensi ketrampilan rerata baik. Sudah trampil menyelesaikan soal cerita bilangan, sudah trampil menyelesaikan soal cerita perbandingan, sudah trampil menyelesaikan soal cerita aritmatika sosial, sudah trampil "]
[16,{"$f":"'Data '!D42","v":"IMAM AGUNG WAHYU PRATAMA"},{"$f":"IF(Ketrampilan!C36=\"\",\"\",Ketrampilan!C36)","v":80},{"$f":"IF(Ketrampilan!D36=\"\",\"\",Ketrampilan!D36)","v":80},{"$f":"IF(Ketrampilan!E36=\"\",\"\",Ketrampilan!E36)","v":80},{"$f":"IF(Ketrampilan!F36=\"\",\"\",Ketrampilan!F36)","v":80},{"$f":"IF(Ketrampilan!G36=\"\",\"\",Ketrampilan!G36)","v":80},{"$f":"IF(Ketrampilan!H36=\"\",\"\",Ketrampilan!H36)","v":80},{"$f":"IF(Ketrampilan!I36=\"\",\"\",Ketrampilan!I36)","v":0},{"$f":"IF(Ketrampilan!J36=\"\",\"\",Ketrampilan!J36)","v":0},{"$f":"IF(Ketrampilan!K36=\"\",\"\",Ketrampilan!K36)","v":80},{"$f":"IF(Ketrampilan!L36=\"\",\"\",Ketrampilan!L36)","v":80},{"$f":"IF(Ketrampilan!M36=\"\",\"\",Ketrampilan!M36)","v":0},{"$f":"IF(Ketrampilan!N36=\"\",\"\",Ketrampilan!N36)","v":80},{"$f":"IF(Ketrampilan!O36=\"\",\"\",Ketrampilan!O36)","v":80},{"$f":"IF(Ketrampilan!P36=\"\",\"\",Ketrampilan!P36)","v":3.2},{"$f":"IF(Ketrampilan!Q36=\"\",\"\",Ketrampilan!Q36)","v":"B+"},{"$f":"IF(Ketrampilan!R36=\"\",\"\",Ketrampilan!R36)","v":"Tuntas"},null,null,null,null,null,null,null,null,null,null,null,null,null,null,null,null,null,null,null,null,null,null,null,null,null,null,null,null,null,null,null,null,null,null,null,null,null,null,"Kompetensi ketrampilan rerata baik. Sudah trampil menyelesaikan soal cerita bilangan, sudah trampil menyelesaikan soal cerita perbandingan, sudah trampil menyelesaikan soal cerita aritmatika sosial, sudah trampil "]
[17,{"$f":"'Data '!D43","v":"JOHAN MAULANA"},{"$f":"IF(Ketrampilan!C37=\"\",\"\",Ketrampilan!C37)","v":80},{"$f":"IF(Ketrampilan!D37=\"\",\"\",Ketrampilan!D37)","v":80},{"$f":"IF(Ketrampilan!E37=\"\",\"\",Ketrampilan!E37)","v":80},{"$f":"IF(Ketrampilan!F37=\"\",\"\",Ketrampilan!F37)","v":80},{"$f":"IF(Ketrampilan!G37=\"\",\"\",Ketrampilan!G37)","v":80},{"$f":"IF(Ketrampilan!H37=\"\",\"\",Ketrampilan!H37)","v":80},{"$f":"IF(Ketrampilan!I37=\"\",\"\",Ketrampilan!I37)","v":0},{"$f":"IF(Ketrampilan!J37=\"\",\"\",Ketrampilan!J37)","v":0},{"$f":"IF(Ketrampilan!K37=\"\",\"\",Ketrampilan!K37)","v":80},{"$f":"IF(Ketrampilan!L37=\"\",\"\",Ketrampilan!L37)","v":80},{"$f":"IF(Ketrampilan!M37=\"\",\"\",Ketrampilan!M37)","v":0},{"$f":"IF(Ketrampilan!N37=\"\",\"\",Ketrampilan!N37)","v":80},{"$f":"IF(Ketrampilan!O37=\"\",\"\",Ketrampilan!O37)","v":80},{"$f":"IF(Ketrampilan!P37=\"\",\"\",Ketrampilan!P37)","v":3.2},{"$f":"IF(Ketrampilan!Q37=\"\",\"\",Ketrampilan!Q37)","v":"B+"},{"$f":"IF(Ketrampilan!R37=\"\",\"\",Ketrampilan!R37)","v":"Tuntas"},null,null,null,null,null,null,null,null,null,null,null,null,null,null,null,null,null,null,null,null,null,null,null,null,null,null,null,null,null,null,null,null,null,null,null,null,null,null,"Kompetensi ketrampilan rerata baik. Sudah trampil menyelesaikan soal cerita bilangan, sudah trampil menyelesaikan soal cerita perbandingan, sudah trampil menyelesaikan soal cerita aritmatika sosial, sudah trampil "]
[18,{"$f":"'Data '!D44","v":"JOKO SETIAWAN"},{"$f":"IF(Ketrampilan!C38=\"\",\"\",Ketrampilan!C38)","v":80},{"$f":"IF(Ketrampilan!D38=\"\",\"\",Ketrampilan!D38)","v":80},{"$f":"IF(Ketrampilan!E38=\"\",\"\",Ketrampilan!E38)","v":80},{"$f":"IF(Ketrampilan!F38=\"\",\"\",Ketrampilan!F38)","v":80},{"$f":"IF(Ketrampilan!G38=\"\",\"\",Ketrampilan!G38)","v":80},{"$f":"IF(Ketrampilan!H38=\"\",\"\",Ketrampilan!H38)","v":80},{"$f":"IF(Ketrampilan!I38=\"\",\"\",Ketrampilan!I38)","v":0},{"$f":"IF(Ketrampilan!J38=\"\",\"\",Ketrampilan!J38)","v":0},{"$f":"IF(Ketrampilan!K38=\"\",\"\",Ketrampilan!K38)","v":80},{"$f":"IF(Ketrampilan!L38=\"\",\"\",Ketrampilan!L38)","v":80},{"$f":"IF(Ketrampilan!M38=\"\",\"\",Ketrampilan!M38)","v":0},{"$f":"IF(Ketrampilan!N38=\"\",\"\",Ketrampilan!N38)","v":80},{"$f":"IF(Ketrampilan!O38=\"\",\"\",Ketrampilan!O38)","v":80},{"$f":"IF(Ketrampilan!P38=\"\",\"\",Ketrampilan!P38)","v":3.2},{"$f":"IF(Ketrampilan!Q38=\"\",\"\",Ketrampilan!Q38)","v":"B+"},{"$f":"IF(Ketrampilan!R38=\"\",\"\",Ketrampilan!R38)","v":"Tuntas"},null,null,null,null,null,null,null,null,null,null,null,null,null,null,null,null,null,null,null,null,null,null,null,null,null,null,null,null,null,null,null,null,null,null,null,null,null,null,"Kompetensi ketrampilan rerata baik. Sudah trampil menyelesaikan soal cerita bilangan, sudah trampil menyelesaikan soal cerita perbandingan, sudah trampil menyelesaikan soal cerita aritmatika sosial, sudah trampil "]
[19,{"$f":"'Data '!D45","v":"LISA OKTAVINASARI"},{"$f":"IF(Ketrampilan!C39=\"\",\"\",Ketrampilan!C39)","v":80},{"$f":"IF(Ketrampilan!D39=\"\",\"\",Ketrampilan!D39)","v":80},{"$f":"IF(Ketrampilan!E39=\"\",\"\",Ketrampilan!E39)","v":80},{"$f":"IF(Ketrampilan!F39=\"\",\"\",Ketrampilan!F39)","v":80},{"$f":"IF(Ketrampilan!G39=\"\",\"\",Ketrampilan!G39)","v":80},{"$f":"IF(Ketrampilan!H39=\"\",\"\",Ketrampilan!H39)","v":80},{"$f":"IF(Ketrampilan!I39=\"\",\"\",Ketrampilan!I39)","v":0},{"$f":"IF(Ketrampilan!J39=\"\",\"\",Ketrampilan!J39)","v":0},{"$f":"IF(Ketrampilan!K39=\"\",\"\",Ketrampilan!K39)","v":80},{"$f":"IF(Ketrampilan!L39=\"\",\"\",Ketrampilan!L39)","v":80},{"$f":"IF(Ketrampilan!M39=\"\",\"\",Ketrampilan!M39)","v":0},{"$f":"IF(Ketrampilan!N39=\"\",\"\",Ketrampilan!N39)","v":80},{"$f":"IF(Ketrampilan!O39=\"\",\"\",Ketrampilan!O39)","v":80},{"$f":"IF(Ketrampilan!P39=\"\",\"\",Ketrampilan!P39)","v":3.2},{"$f":"IF(Ketrampilan!Q39=\"\",\"\",Ketrampilan!Q39)","v":"B+"},{"$f":"IF(Ketrampilan!R39=\"\",\"\",Ketrampilan!R39)","v":"Tuntas"},null,null,null,null,null,null,null,null,null,null,null,null,null,null,null,null,null,null,null,null,null,null,null,null,null,null,null,null,null,null,null,null,null,null,null,null,null,null,"Kompetensi ketrampilan rerata baik. Sudah trampil menyelesaikan soal cerita bilangan, sudah trampil menyelesaikan soal cerita perbandingan, sudah trampil menyelesaikan soal cerita aritmatika sosial, sudah trampil "]
[20,{"$f":"'Data '!D46","v":"MARIA GILDA SIREGAR"},{"$f":"IF(Ketrampilan!C40=\"\",\"\",Ketrampilan!C40)","v":80},{"$f":"IF(Ketrampilan!D40=\"\",\"\",Ketrampilan!D40)","v":80},{"$f":"IF(Ketrampilan!E40=\"\",\"\",Ketrampilan!E40)","v":80},{"$f":"IF(Ketrampilan!F40=\"\",\"\",Ketrampilan!F40)","v":80},{"$f":"IF(Ketrampilan!G40=\"\",\"\",Ketrampilan!G40)","v":80},{"$f":"IF(Ketrampilan!H40=\"\",\"\",Ketrampilan!H40)","v":80},{"$f":"IF(Ketrampilan!I40=\"\",\"\",Ketrampilan!I40)","v":0},{"$f":"IF(Ketrampilan!J40=\"\",\"\",Ketrampilan!J40)","v":0},{"$f":"IF(Ketrampilan!K40=\"\",\"\",Ketrampilan!K40)","v":80},{"$f":"IF(Ketrampilan!L40=\"\",\"\",Ketrampilan!L40)","v":80},{"$f":"IF(Ketrampilan!M40=\"\",\"\",Ketrampilan!M40)","v":0},{"$f":"IF(Ketrampilan!N40=\"\",\"\",Ketrampilan!N40)","v":80},{"$f":"IF(Ketrampilan!O40=\"\",\"\",Ketrampilan!O40)","v":80},{"$f":"IF(Ketrampilan!P40=\"\",\"\",Ketrampilan!P40)","v":3.2},{"$f":"IF(Ketrampilan!Q40=\"\",\"\",Ketrampilan!Q40)","v":"B+"},{"$f":"IF(Ketrampilan!R40=\"\",\"\",Ketrampilan!R40)","v":"Tuntas"},null,null,null,null,null,null,null,null,null,null,null,null,null,null,null,null,null,null,null,null,null,null,null,null,null,null,null,null,null,null,null,null,null,null,null,null,null,null,"Kompetensi ketrampilan rerata baik. Sudah trampil menyelesaikan soal cerita bilangan, sudah trampil menyelesaikan soal cerita perbandingan, sudah trampil menyelesaikan soal cerita aritmatika sosial, sudah trampil "]
[21,{"$f":"'Data '!D47","v":"MOHAMMAD NURKHOLISH"},{"$f":"IF(Ketrampilan!C41=\"\",\"\",Ketrampilan!C41)","v":80},{"$f":"IF(Ketrampilan!D41=\"\",\"\",Ketrampilan!D41)","v":80},{"$f":"IF(Ketrampilan!E41=\"\",\"\",Ketrampilan!E41)","v":80},{"$f":"IF(Ketrampilan!F41=\"\",\"\",Ketrampilan!F41)","v":80},{"$f":"IF(Ketrampilan!G41=\"\",\"\",Ketrampilan!G41)","v":80},{"$f":"IF(Ketrampilan!H41=\"\",\"\",Ketrampilan!H41)","v":80},{"$f":"IF(Ketrampilan!I41=\"\",\"\",Ketrampilan!I41)","v":0},{"$f":"IF(Ketrampilan!J41=\"\",\"\",Ketrampilan!J41)","v":0},{"$f":"IF(Ketrampilan!K41=\"\",\"\",Ketrampilan!K41)","v":80},{"$f":"IF(Ketrampilan!L41=\"\",\"\",Ketrampilan!L41)","v":80},{"$f":"IF(Ketrampilan!M41=\"\",\"\",Ketrampilan!M41)","v":0},{"$f":"IF(Ketrampilan!N41=\"\",\"\",Ketrampilan!N41)","v":80},{"$f":"IF(Ketrampilan!O41=\"\",\"\",Ketrampilan!O41)","v":80},{"$f":"IF(Ketrampilan!P41=\"\",\"\",Ketrampilan!P41)","v":3.2},{"$f":"IF(Ketrampilan!Q41=\"\",\"\",Ketrampilan!Q41)","v":"B+"},{"$f":"IF(Ketrampilan!R41=\"\",\"\",Ketrampilan!R41)","v":"Tuntas"},null,null,null,null,null,null,null,null,null,null,null,null,null,null,null,null,null,null,null,null,null,null,null,null,null,null,null,null,null,null,null,null,null,null,null,null,null,null,"Kompetensi ketrampilan rerata baik. Sudah trampil menyelesaikan soal cerita bilangan, sudah trampil menyelesaikan soal cerita perbandingan, sudah trampil menyelesaikan soal cerita aritmatika sosial, sudah trampil "]
[22,{"$f":"'Data '!D48","v":"MUHAMAD FARIS ULIN NUHA"},{"$f":"IF(Ketrampilan!C42=\"\",\"\",Ketrampilan!C42)","v":80},{"$f":"IF(Ketrampilan!D42=\"\",\"\",Ketrampilan!D42)","v":80},{"$f":"IF(Ketrampilan!E42=\"\",\"\",Ketrampilan!E42)","v":80},{"$f":"IF(Ketrampilan!F42=\"\",\"\",Ketrampilan!F42)","v":80},{"$f":"IF(Ketrampilan!G42=\"\",\"\",Ketrampilan!G42)","v":80},{"$f":"IF(Ketrampilan!H42=\"\",\"\",Ketrampilan!H42)","v":80},{"$f":"IF(Ketrampilan!I42=\"\",\"\",Ketrampilan!I42)","v":0},{"$f":"IF(Ketrampilan!J42=\"\",\"\",Ketrampilan!J42)","v":0},{"$f":"IF(Ketrampilan!K42=\"\",\"\",Ketrampilan!K42)","v":80},{"$f":"IF(Ketrampilan!L42=\"\",\"\",Ketrampilan!L42)","v":80},{"$f":"IF(Ketrampilan!M42=\"\",\"\",Ketrampilan!M42)","v":0},{"$f":"IF(Ketrampilan!N42=\"\",\"\",Ketrampilan!N42)","v":80},{"$f":"IF(Ketrampilan!O42=\"\",\"\",Ketrampilan!O42)","v":80},{"$f":"IF(Ketrampilan!P42=\"\",\"\",Ketrampilan!P42)","v":3.2},{"$f":"IF(Ketrampilan!Q42=\"\",\"\",Ketrampilan!Q42)","v":"B+"},{"$f":"IF(Ketrampilan!R42=\"\",\"\",Ketrampilan!R42)","v":"Tuntas"},null,null,null,null,null,null,null,null,null,null,null,null,null,null,null,null,null,null,null,null,null,null,null,null,null,null,null,null,null,null,null,null,null,null,null,null,null,null,"Kompetensi ketrampilan rerata baik. Sudah trampil menyelesaikan soal cerita bilangan, sudah trampil menyelesaikan soal cerita perbandingan, sudah trampil menyelesaikan soal cerita aritmatika sosial, sudah trampil "]
[23,{"$f":"'Data '!D49","v":"MUHAMMAD MUSTOFA"},{"$f":"IF(Ketrampilan!C43=\"\",\"\",Ketrampilan!C43)","v":80},{"$f":"IF(Ketrampilan!D43=\"\",\"\",Ketrampilan!D43)","v":80},{"$f":"IF(Ketrampilan!E43=\"\",\"\",Ketrampilan!E43)","v":80},{"$f":"IF(Ketrampilan!F43=\"\",\"\",Ketrampilan!F43)","v":80},{"$f":"IF(Ketrampilan!G43=\"\",\"\",Ketrampilan!G43)","v":80},{"$f":"IF(Ketrampilan!H43=\"\",\"\",Ketrampilan!H43)","v":80},{"$f":"IF(Ketrampilan!I43=\"\",\"\",Ketrampilan!I43)","v":0},{"$f":"IF(Ketrampilan!J43=\"\",\"\",Ketrampilan!J43)","v":0},{"$f":"IF(Ketrampilan!K43=\"\",\"\",Ketrampilan!K43)","v":80},{"$f":"IF(Ketrampilan!L43=\"\",\"\",Ketrampilan!L43)","v":80},{"$f":"IF(Ketrampilan!M43=\"\",\"\",Ketrampilan!M43)","v":0},{"$f":"IF(Ketrampilan!N43=\"\",\"\",Ketrampilan!N43)","v":80},{"$f":"IF(Ketrampilan!O43=\"\",\"\",Ketrampilan!O43)","v":80},{"$f":"IF(Ketrampilan!P43=\"\",\"\",Ketrampilan!P43)","v":3.2},{"$f":"IF(Ketrampilan!Q43=\"\",\"\",Ketrampilan!Q43)","v":"B+"},{"$f":"IF(Ketrampilan!R43=\"\",\"\",Ketrampilan!R43)","v":"Tuntas"},null,null,null,null,null,null,null,null,null,null,null,null,null,null,null,null,null,null,null,null,null,null,null,null,null,null,null,null,null,null,null,null,null,null,null,null,null,null,"Kompetensi ketrampilan rerata baik. Sudah trampil menyelesaikan soal cerita bilangan, sudah trampil menyelesaikan soal cerita perbandingan, sudah trampil menyelesaikan soal cerita aritmatika sosial, sudah trampil "]
[24,{"$f":"'Data '!D50","v":"NANDA WINTYA PUTRI"},{"$f":"IF(Ketrampilan!C44=\"\",\"\",Ketrampilan!C44)","v":80},{"$f":"IF(Ketrampilan!D44=\"\",\"\",Ketrampilan!D44)","v":80},{"$f":"IF(Ketrampilan!E44=\"\",\"\",Ketrampilan!E44)","v":80},{"$f":"IF(Ketrampilan!F44=\"\",\"\",Ketrampilan!F44)","v":80},{"$f":"IF(Ketrampilan!G44=\"\",\"\",Ketrampilan!G44)","v":80},{"$f":"IF(Ketrampilan!H44=\"\",\"\",Ketrampilan!H44)","v":80},{"$f":"IF(Ketrampilan!I44=\"\",\"\",Ketrampilan!I44)","v":0},{"$f":"IF(Ketrampilan!J44=\"\",\"\",Ketrampilan!J44)","v":0},{"$f":"IF(Ketrampilan!K44=\"\",\"\",Ketrampilan!K44)","v":80},{"$f":"IF(Ketrampilan!L44=\"\",\"\",Ketrampilan!L44)","v":80},{"$f":"IF(Ketrampilan!M44=\"\",\"\",Ketrampilan!M44)","v":0},{"$f":"IF(Ketrampilan!N44=\"\",\"\",Ketrampilan!N44)","v":80},{"$f":"IF(Ketrampilan!O44=\"\",\"\",Ketrampilan!O44)","v":80},{"$f":"IF(Ketrampilan!P44=\"\",\"\",Ketrampilan!P44)","v":3.2},{"$f":"IF(Ketrampilan!Q44=\"\",\"\",Ketrampilan!Q44)","v":"B+"},{"$f":"IF(Ketrampilan!R44=\"\",\"\",Ketrampilan!R44)","v":"Tuntas"},null,null,null,null,null,null,null,null,null,null,null,null,null,null,null,null,null,null,null,null,null,null,null,null,null,null,null,null,null,null,null,null,null,null,null,null,null,null,"Kompetensi ketrampilan rerata baik. Sudah trampil menyelesaikan soal cerita bilangan, sudah trampil menyelesaikan soal cerita perbandingan, sudah trampil menyelesaikan soal cerita aritmatika sosial, sudah trampil "]
[25,{"$f":"'Data '!D51","v":"NI'MA NOVA NUR FADHILAH"},{"$f":"IF(Ketrampilan!C45=\"\",\"\",Ketrampilan!C45)","v":80},{"$f":"IF(Ketrampilan!D45=\"\",\"\",Ketrampilan!D45)","v":80},{"$f":"IF(Ketrampilan!E45=\"\",\"\",Ketrampilan!E45)","v":80},{"$f":"IF(Ketrampilan!F45=\"\",\"\",Ketrampilan!F45)","v":80},{"$f":"IF(Ketrampilan!G45=\"\",\"\",Ketrampilan!G45)","v":80},{"$f":"IF(Ketrampilan!H45=\"\",\"\",Ketrampilan!H45)","v":80},{"$f":"IF(Ketrampilan!I45=\"\",\"\",Ketrampilan!I45)","v":0},{"$f":"IF(Ketrampilan!J45=\"\",\"\",Ketrampilan!J45)","v":0},{"$f":"IF(Ketrampilan!K45=\"\",\"\",Ketrampilan!K45)","v":80},{"$f":"IF(Ketrampilan!L45=\"\",\"\",Ketrampilan!L45)","v":80},{"$f":"IF(Ketrampilan!M45=\"\",\"\",Ketrampilan!M45)","v":0},{"$f":"IF(Ketrampilan!N45=\"\",\"\",Ketrampilan!N45)","v":80},{"$f":"IF(Ketrampilan!O45=\"\",\"\",Ketrampilan!O45)","v":80},{"$f":"IF(Ketrampilan!P45=\"\",\"\",Ketrampilan!P45)","v":3.2},{"$f":"IF(Ketrampilan!Q45=\"\",\"\",Ketrampilan!Q45)","v":"B+"},{"$f":"IF(Ketrampilan!R45=\"\",\"\",Ketrampilan!R45)","v":"Tuntas"},null,null,null,null,null,null,null,null,null,null,null,null,null,null,null,null,null,null,null,null,null,null,null,null,null,null,null,null,null,null,null,null,null,null,null,null,null,null,"Kompetensi ketrampilan rerata baik. Sudah trampil menyelesaikan soal cerita bilangan, sudah trampil menyelesaikan soal cerita perbandingan, sudah trampil menyelesaikan soal cerita aritmatika sosial, sudah trampil "]
[26,{"$f":"'Data '!D52","v":"NITA ZUMROTUT TAQIYAH"},{"$f":"IF(Ketrampilan!C46=\"\",\"\",Ketrampilan!C46)","v":80},{"$f":"IF(Ketrampilan!D46=\"\",\"\",Ketrampilan!D46)","v":80},{"$f":"IF(Ketrampilan!E46=\"\",\"\",Ketrampilan!E46)","v":80},{"$f":"IF(Ketrampilan!F46=\"\",\"\",Ketrampilan!F46)","v":80},{"$f":"IF(Ketrampilan!G46=\"\",\"\",Ketrampilan!G46)","v":80},{"$f":"IF(Ketrampilan!H46=\"\",\"\",Ketrampilan!H46)","v":80},{"$f":"IF(Ketrampilan!I46=\"\",\"\",Ketrampilan!I46)","v":0},{"$f":"IF(Ketrampilan!J46=\"\",\"\",Ketrampilan!J46)","v":0},{"$f":"IF(Ketrampilan!K46=\"\",\"\",Ketrampilan!K46)","v":80},{"$f":"IF(Ketrampilan!L46=\"\",\"\",Ketrampilan!L46)","v":80},{"$f":"IF(Ketrampilan!M46=\"\",\"\",Ketrampilan!M46)","v":0},{"$f":"IF(Ketrampilan!N46=\"\",\"\",Ketrampilan!N46)","v":80},{"$f":"IF(Ketrampilan!O46=\"\",\"\",Ketrampilan!O46)","v":80},{"$f":"IF(Ketrampilan!P46=\"\",\"\",Ketrampilan!P46)","v":3.2},{"$f":"IF(Ketrampilan!Q46=\"\",\"\",Ketrampilan!Q46)","v":"B+"},{"$f":"IF(Ketrampilan!R46=\"\",\"\",Ketrampilan!R46)","v":"Tuntas"},null,null,null,null,null,null,null,null,null,null,null,null,null,null,null,null,null,null,null,null,null,null,null,null,null,null,null,null,null,null,null,null,null,null,null,null,null,null,"Kompetensi ketrampilan rerata baik. Sudah trampil menyelesaikan soal cerita bilangan, sudah trampil menyelesaikan soal cerita perbandingan, sudah trampil menyelesaikan soal cerita aritmatika sosial, sudah trampil "]
[27,{"$f":"'Data '!D53","v":"RACHMAT SAPUTRA ANDRIANSYAH"},{"$f":"IF(Ketrampilan!C47=\"\",\"\",Ketrampilan!C47)","v":80},{"$f":"IF(Ketrampilan!D47=\"\",\"\",Ketrampilan!D47)","v":80},{"$f":"IF(Ketrampilan!E47=\"\",\"\",Ketrampilan!E47)","v":80},{"$f":"IF(Ketrampilan!F47=\"\",\"\",Ketrampilan!F47)","v":80},{"$f":"IF(Ketrampilan!G47=\"\",\"\",Ketrampilan!G47)","v":80},{"$f":"IF(Ketrampilan!H47=\"\",\"\",Ketrampilan!H47)","v":80},{"$f":"IF(Ketrampilan!I47=\"\",\"\",Ketrampilan!I47)","v":0},{"$f":"IF(Ketrampilan!J47=\"\",\"\",Ketrampilan!J47)","v":0},{"$f":"IF(Ketrampilan!K47=\"\",\"\",Ketrampilan!K47)","v":80},{"$f":"IF(Ketrampilan!L47=\"\",\"\",Ketrampilan!L47)","v":80},{"$f":"IF(Ketrampilan!M47=\"\",\"\",Ketrampilan!M47)","v":0},{"$f":"IF(Ketrampilan!N47=\"\",\"\",Ketrampilan!N47)","v":80},{"$f":"IF(Ketrampilan!O47=\"\",\"\",Ketrampilan!O47)","v":80},{"$f":"IF(Ketrampilan!P47=\"\",\"\",Ketrampilan!P47)","v":3.2},{"$f":"IF(Ketrampilan!Q47=\"\",\"\",Ketrampilan!Q47)","v":"B+"},{"$f":"IF(Ketrampilan!R47=\"\",\"\",Ketrampilan!R47)","v":"Tuntas"},null,null,null,null,null,null,null,null,null,null,null,null,null,null,null,null,null,null,null,null,null,null,null,null,null,null,null,null,null,null,null,null,null,null,null,null,null,null,"Kompetensi ketrampilan rerata baik. Sudah trampil menyelesaikan soal cerita bilangan, sudah trampil menyelesaikan soal cerita perbandingan, sudah trampil menyelesaikan soal cerita aritmatika sosial, sudah trampil "]
[28,{"$f":"'Data '!D54","v":"RIZAL ANDRIYAN SAPUTRA"},{"$f":"IF(Ketrampilan!C48=\"\",\"\",Ketrampilan!C48)","v":80},{"$f":"IF(Ketrampilan!D48=\"\",\"\",Ketrampilan!D48)","v":80},{"$f":"IF(Ketrampilan!E48=\"\",\"\",Ketrampilan!E48)","v":80},{"$f":"IF(Ketrampilan!F48=\"\",\"\",Ketrampilan!F48)","v":80},{"$f":"IF(Ketrampilan!G48=\"\",\"\",Ketrampilan!G48)","v":80},{"$f":"IF(Ketrampilan!H48=\"\",\"\",Ketrampilan!H48)","v":80},{"$f":"IF(Ketrampilan!I48=\"\",\"\",Ketrampilan!I48)","v":0},{"$f":"IF(Ketrampilan!J48=\"\",\"\",Ketrampilan!J48)","v":0},{"$f":"IF(Ketrampilan!K48=\"\",\"\",Ketrampilan!K48)","v":80},{"$f":"IF(Ketrampilan!L48=\"\",\"\",Ketrampilan!L48)","v":80},{"$f":"IF(Ketrampilan!M48=\"\",\"\",Ketrampilan!M48)","v":0},{"$f":"IF(Ketrampilan!N48=\"\",\"\",Ketrampilan!N48)","v":80},{"$f":"IF(Ketrampilan!O48=\"\",\"\",Ketrampilan!O48)","v":80},{"$f":"IF(Ketrampilan!P48=\"\",\"\",Ketrampilan!P48)","v":3.2},{"$f":"IF(Ketrampilan!Q48=\"\",\"\",Ketrampilan!Q48)","v":"B+"},{"$f":"IF(Ketrampilan!R48=\"\",\"\",Ketrampilan!R48)","v":"Tuntas"},null,null,null,null,null,null,null,null,null,null,null,null,null,null,null,null,null,null,null,null,null,null,null,null,null,null,null,null,null,null,null,null,null,null,null,null,null,null,"Kompetensi ketrampilan rerata baik. Sudah trampil menyelesaikan soal cerita bilangan, sudah trampil menyelesaikan soal cerita perbandingan, sudah trampil menyelesaikan soal cerita aritmatika sosial, sudah trampil "]
[29,{"$f":"'Data '!D55","v":"SAIFUL ANNAS"},{"$f":"IF(Ketrampilan!C49=\"\",\"\",Ketrampilan!C49)","v":80},{"$f":"IF(Ketrampilan!D49=\"\",\"\",Ketrampilan!D49)","v":80},{"$f":"IF(Ketrampilan!E49=\"\",\"\",Ketrampilan!E49)","v":80},{"$f":"IF(Ketrampilan!F49=\"\",\"\",Ketrampilan!F49)","v":80},{"$f":"IF(Ketrampilan!G49=\"\",\"\",Ketrampilan!G49)","v":80},{"$f":"IF(Ketrampilan!H49=\"\",\"\",Ketrampilan!H49)","v":80},{"$f":"IF(Ketrampilan!I49=\"\",\"\",Ketrampilan!I49)","v":0},{"$f":"IF(Ketrampilan!J49=\"\",\"\",Ketrampilan!J49)","v":0},{"$f":"IF(Ketrampilan!K49=\"\",\"\",Ketrampilan!K49)","v":80},{"$f":"IF(Ketrampilan!L49=\"\",\"\",Ketrampilan!L49)","v":80},{"$f":"IF(Ketrampilan!M49=\"\",\"\",Ketrampilan!M49)","v":0},{"$f":"IF(Ketrampilan!N49=\"\",\"\",Ketrampilan!N49)","v":80},{"$f":"IF(Ketrampilan!O49=\"\",\"\",Ketrampilan!O49)","v":80},{"$f":"IF(Ketrampilan!P49=\"\",\"\",Ketrampilan!P49)","v":3.2},{"$f":"IF(Ketrampilan!Q49=\"\",\"\",Ketrampilan!Q49)","v":"B+"},{"$f":"IF(Ketrampilan!R49=\"\",\"\",Ketrampilan!R49)","v":"Tuntas"},null,null,null,null,null,null,null,null,null,null,null,null,null,null,null,null,null,null,null,null,null,null,null,null,null,null,null,null,null,null,null,null,null,null,null,null,null,null,"Kompetensi ketrampilan rerata baik. Sudah trampil menyelesaikan soal cerita bilangan, sudah trampil menyelesaikan soal cerita perbandingan, sudah trampil menyelesaikan soal cerita aritmatika sosial, sudah trampil "]
[30,{"$f":"'Data '!D56","v":"SELINA SEPTIANI"},{"$f":"IF(Ketrampilan!C50=\"\",\"\",Ketrampilan!C50)","v":80},{"$f":"IF(Ketrampilan!D50=\"\",\"\",Ketrampilan!D50)","v":80},{"$f":"IF(Ketrampilan!E50=\"\",\"\",Ketrampilan!E50)","v":80},{"$f":"IF(Ketrampilan!F50=\"\",\"\",Ketrampilan!F50)","v":80},{"$f":"IF(Ketrampilan!G50=\"\",\"\",Ketrampilan!G50)","v":80},{"$f":"IF(Ketrampilan!H50=\"\",\"\",Ketrampilan!H50)","v":80},{"$f":"IF(Ketrampilan!I50=\"\",\"\",Ketrampilan!I50)","v":0},{"$f":"IF(Ketrampilan!J50=\"\",\"\",Ketrampilan!J50)","v":0},{"$f":"IF(Ketrampilan!K50=\"\",\"\",Ketrampilan!K50)","v":80},{"$f":"IF(Ketrampilan!L50=\"\",\"\",Ketrampilan!L50)","v":80},{"$f":"IF(Ketrampilan!M50=\"\",\"\",Ketrampilan!M50)","v":0},{"$f":"IF(Ketrampilan!N50=\"\",\"\",Ketrampilan!N50)","v":80},{"$f":"IF(Ketrampilan!O50=\"\",\"\",Ketrampilan!O50)","v":80},{"$f":"IF(Ketrampilan!P50=\"\",\"\",Ketrampilan!P50)","v":3.2},{"$f":"IF(Ketrampilan!Q50=\"\",\"\",Ketrampilan!Q50)","v":"B+"},{"$f":"IF(Ketrampilan!R50=\"\",\"\",Ketrampilan!R50)","v":"Tuntas"},null,null,null,null,null,null,null,null,null,null,null,null,null,null,null,null,null,null,null,null,null,null,null,null,null,null,null,null,null,null,null,null,null,null,null,null,null,null,"Kompetensi ketrampilan rerata baik. Sudah trampil menyelesaikan soal cerita bilangan, sudah trampil menyelesaikan soal cerita perbandingan, sudah trampil menyelesaikan soal cerita aritmatika sosial, sudah trampil "]
[31,{"$f":"'Data '!D57","v":"SHALSABILA  SHINTA NIRMALA"},{"$f":"IF(Ketrampilan!C51=\"\",\"\",Ketrampilan!C51)","v":80},{"$f":"IF(Ketrampilan!D51=\"\",\"\",Ketrampilan!D51)","v":80},{"$f":"IF(Ketrampilan!E51=\"\",\"\",Ketrampilan!E51)","v":80},{"$f":"IF(Ketrampilan!F51=\"\",\"\",Ketrampilan!F51)","v":80},{"$f":"IF(Ketrampilan!G51=\"\",\"\",Ketrampilan!G51)","v":80},{"$f":"IF(Ketrampilan!H51=\"\",\"\",Ketrampilan!H51)","v":80},{"$f":"IF(Ketrampilan!I51=\"\",\"\",Ketrampilan!I51)","v":0},{"$f":"IF(Ketrampilan!J51=\"\",\"\",Ketrampilan!J51)","v":0},{"$f":"IF(Ketrampilan!K51=\"\",\"\",Ketrampilan!K51)","v":80},{"$f":"IF(Ketrampilan!L51=\"\",\"\",Ketrampilan!L51)","v":80},{"$f":"IF(Ketrampilan!M51=\"\",\"\",Ketrampilan!M51)","v":0},{"$f":"IF(Ketrampilan!N51=\"\",\"\",Ketrampilan!N51)","v":80},{"$f":"IF(Ketrampilan!O51=\"\",\"\",Ketrampilan!O51)","v":80},{"$f":"IF(Ketrampilan!P51=\"\",\"\",Ketrampilan!P51)","v":3.2},{"$f":"IF(Ketrampilan!Q51=\"\",\"\",Ketrampilan!Q51)","v":"B+"},{"$f":"IF(Ketrampilan!R51=\"\",\"\",Ketrampilan!R51)","v":"Tuntas"},null,null,null,null,null,null,null,null,null,null,null,null,null,null,null,null,null,null,null,null,null,null,null,null,null,null,null,null,null,null,null,null,null,null,null,null,null,null,"Kompetensi ketrampilan rerata baik. Sudah trampil menyelesaikan soal cerita bilangan, sudah trampil menyelesaikan soal cerita perbandingan, sudah trampil menyelesaikan soal cerita aritmatika sosial, sudah trampil "]
[32,{"$f":"'Data '!D58","v":"SITI CHOIRIATUS SA'ADAH"},{"$f":"IF(Ketrampilan!C52=\"\",\"\",Ketrampilan!C52)","v":80},{"$f":"IF(Ketrampilan!D52=\"\",\"\",Ketrampilan!D52)","v":80},{"$f":"IF(Ketrampilan!E52=\"\",\"\",Ketrampilan!E52)","v":80},{"$f":"IF(Ketrampilan!F52=\"\",\"\",Ketrampilan!F52)","v":80},{"$f":"IF(Ketrampilan!G52=\"\",\"\",Ketrampilan!G52)","v":80},{"$f":"IF(Ketrampilan!H52=\"\",\"\",Ketrampilan!H52)","v":80},{"$f":"IF(Ketrampilan!I52=\"\",\"\",Ketrampilan!I52)","v":0},{"$f":"IF(Ketrampilan!J52=\"\",\"\",Ketrampilan!J52)","v":0},{"$f":"IF(Ketrampilan!K52=\"\",\"\",Ketrampilan!K52)","v":80},{"$f":"IF(Ketrampilan!L52=\"\",\"\",Ketrampilan!L52)","v":80},{"$f":"IF(Ketrampilan!M52=\"\",\"\",Ketrampilan!M52)","v":0},{"$f":"IF(Ketrampilan!N52=\"\",\"\",Ketrampilan!N52)","v":80},{"$f":"IF(Ketrampilan!O52=\"\",\"\",Ketrampilan!O52)","v":80},{"$f":"IF(Ketrampilan!P52=\"\",\"\",Ketrampilan!P52)","v":3.2},{"$f":"IF(Ketrampilan!Q52=\"\",\"\",Ketrampilan!Q52)","v":"B+"},{"$f":"IF(Ketrampilan!R52=\"\",\"\",Ketrampilan!R52)","v":"Tuntas"},null,null,null,null,null,null,null,null,null,null,null,null,null,null,null,null,null,null,null,null,null,null,null,null,null,null,null,null,null,null,null,null,null,null,null,null,null,null,"Kompetensi ketrampilan rerata baik. Sudah trampil menyelesaikan soal cerita bilangan, sudah trampil menyelesaikan soal cerita perbandingan, sudah trampil menyelesaikan soal cerita aritmatika sosial, sudah trampil "]
[33,{"$f":"'Data '!D59","v":"SITI NURFAN AZIZAH"},{"$f":"IF(Ketrampilan!C53=\"\",\"\",Ketrampilan!C53)","v":80},{"$f":"IF(Ketrampilan!D53=\"\",\"\",Ketrampilan!D53)","v":80},{"$f":"IF(Ketrampilan!E53=\"\",\"\",Ketrampilan!E53)","v":80},{"$f":"IF(Ketrampilan!F53=\"\",\"\",Ketrampilan!F53)","v":80},{"$f":"IF(Ketrampilan!G53=\"\",\"\",Ketrampilan!G53)","v":80},{"$f":"IF(Ketrampilan!H53=\"\",\"\",Ketrampilan!H53)","v":80},{"$f":"IF(Ketrampilan!I53=\"\",\"\",Ketrampilan!I53)","v":0},{"$f":"IF(Ketrampilan!J53=\"\",\"\",Ketrampilan!J53)","v":0},{"$f":"IF(Ketrampilan!K53=\"\",\"\",Ketrampilan!K53)","v":80},{"$f":"IF(Ketrampilan!L53=\"\",\"\",Ketrampilan!L53)","v":80},{"$f":"IF(Ketrampilan!M53=\"\",\"\",Ketrampilan!M53)","v":0},{"$f":"IF(Ketrampilan!N53=\"\",\"\",Ketrampilan!N53)","v":80},{"$f":"IF(Ketrampilan!O53=\"\",\"\",Ketrampilan!O53)","v":80},{"$f":"IF(Ketrampilan!P53=\"\",\"\",Ketrampilan!P53)","v":3.2},{"$f":"IF(Ketrampilan!Q53=\"\",\"\",Ketrampilan!Q53)","v":"B+"},{"$f":"IF(Ketrampilan!R53=\"\",\"\",Ketrampilan!R53)","v":"Tuntas"},null,null,null,null,null,null,null,null,null,null,null,null,null,null,null,null,null,null,null,null,null,null,null,null,null,null,null,null,null,null,null,null,null,null,null,null,null,null,"Kompetensi ketrampilan rerata baik. Sudah trampil menyelesaikan soal cerita bilangan, sudah trampil menyelesaikan soal cerita perbandingan, sudah trampil menyelesaikan soal cerita aritmatika sosial, sudah trampil "]
[34,{"$f":"'Data '!D60","v":"SITI RAHAYU"},{"$f":"IF(Ketrampilan!C54=\"\",\"\",Ketrampilan!C54)","v":80},{"$f":"IF(Ketrampilan!D54=\"\",\"\",Ketrampilan!D54)","v":80},{"$f":"IF(Ketrampilan!E54=\"\",\"\",Ketrampilan!E54)","v":80},{"$f":"IF(Ketrampilan!F54=\"\",\"\",Ketrampilan!F54)","v":80},{"$f":"IF(Ketrampilan!G54=\"\",\"\",Ketrampilan!G54)","v":80},{"$f":"IF(Ketrampilan!H54=\"\",\"\",Ketrampilan!H54)","v":80},{"$f":"IF(Ketrampilan!I54=\"\",\"\",Ketrampilan!I54)","v":0},{"$f":"IF(Ketrampilan!J54=\"\",\"\",Ketrampilan!J54)","v":0},{"$f":"IF(Ketrampilan!K54=\"\",\"\",Ketrampilan!K54)","v":80},{"$f":"IF(Ketrampilan!L54=\"\",\"\",Ketrampilan!L54)","v":80},{"$f":"IF(Ketrampilan!M54=\"\",\"\",Ketrampilan!M54)","v":0},{"$f":"IF(Ketrampilan!N54=\"\",\"\",Ketrampilan!N54)","v":80},{"$f":"IF(Ketrampilan!O54=\"\",\"\",Ketrampilan!O54)","v":80},{"$f":"IF(Ketrampilan!P54=\"\",\"\",Ketrampilan!P54)","v":3.2},{"$f":"IF(Ketrampilan!Q54=\"\",\"\",Ketrampilan!Q54)","v":"B+"},{"$f":"IF(Ketrampilan!R54=\"\",\"\",Ketrampilan!R54)","v":"Tuntas"},null,null,null,null,null,null,null,null,null,null,null,null,null,null,null,null,null,null,null,null,null,null,null,null,null,null,null,null,null,null,null,null,null,null,null,null,null,null,"Kompetensi ketrampilan rerata baik. Sudah trampil menyelesaikan soal cerita bilangan, sudah trampil menyelesaikan soal cerita perbandingan, sudah trampil menyelesaikan soal cerita aritmatika sosial, sudah trampil "]
[35,{"$f":"'Data '!D61","v":"STEVIANA PUSPITA SARI"},{"$f":"IF(Ketrampilan!C55=\"\",\"\",Ketrampilan!C55)","v":80},{"$f":"IF(Ketrampilan!D55=\"\",\"\",Ketrampilan!D55)","v":80},{"$f":"IF(Ketrampilan!E55=\"\",\"\",Ketrampilan!E55)","v":80},{"$f":"IF(Ketrampilan!F55=\"\",\"\",Ketrampilan!F55)","v":80},{"$f":"IF(Ketrampilan!G55=\"\",\"\",Ketrampilan!G55)","v":80},{"$f":"IF(Ketrampilan!H55=\"\",\"\",Ketrampilan!H55)","v":80},{"$f":"IF(Ketrampilan!I55=\"\",\"\",Ketrampilan!I55)","v":0},{"$f":"IF(Ketrampilan!J55=\"\",\"\",Ketrampilan!J55)","v":0},{"$f":"IF(Ketrampilan!K55=\"\",\"\",Ketrampilan!K55)","v":80},{"$f":"IF(Ketrampilan!L55=\"\",\"\",Ketrampilan!L55)","v":80},{"$f":"IF(Ketrampilan!M55=\"\",\"\",Ketrampilan!M55)","v":0},{"$f":"IF(Ketrampilan!N55=\"\",\"\",Ketrampilan!N55)","v":80},{"$f":"IF(Ketrampilan!O55=\"\",\"\",Ketrampilan!O55)","v":80},{"$f":"IF(Ketrampilan!P55=\"\",\"\",Ketrampilan!P55)","v":3.2},{"$f":"IF(Ketrampilan!Q55=\"\",\"\",Ketrampilan!Q55)","v":"B+"},{"$f":"IF(Ketrampilan!R55=\"\",\"\",Ketrampilan!R55)","v":"Tuntas"},null,null,null,null,null,null,null,null,null,null,null,null,null,null,null,null,null,null,null,null,null,null,null,null,null,null,null,null,null,null,null,null,null,null,null,null,null,null,"Kompetensi ketrampilan rerata baik. Sudah trampil menyelesaikan soal cerita bilangan, sudah trampil menyelesaikan soal cerita perbandingan, sudah trampil menyelesaikan soal cerita aritmatika sosial, sudah trampil "]
[36,{"$f":"'Data '!D62","v":"TAN LINGGAR PRAMUDITA"},{"$f":"IF(Ketrampilan!C56=\"\",\"\",Ketrampilan!C56)","v":80},{"$f":"IF(Ketrampilan!D56=\"\",\"\",Ketrampilan!D56)","v":80},{"$f":"IF(Ketrampilan!E56=\"\",\"\",Ketrampilan!E56)","v":80},{"$f":"IF(Ketrampilan!F56=\"\",\"\",Ketrampilan!F56)","v":80},{"$f":"IF(Ketrampilan!G56=\"\",\"\",Ketrampilan!G56)","v":80},{"$f":"IF(Ketrampilan!H56=\"\",\"\",Ketrampilan!H56)","v":80},{"$f":"IF(Ketrampilan!I56=\"\",\"\",Ketrampilan!I56)","v":0},{"$f":"IF(Ketrampilan!J56=\"\",\"\",Ketrampilan!J56)","v":0},{"$f":"IF(Ketrampilan!K56=\"\",\"\",Ketrampilan!K56)","v":80},{"$f":"IF(Ketrampilan!L56=\"\",\"\",Ketrampilan!L56)","v":80},{"$f":"IF(Ketrampilan!M56=\"\",\"\",Ketrampilan!M56)","v":0},{"$f":"IF(Ketrampilan!N56=\"\",\"\",Ketrampilan!N56)","v":80},{"$f":"IF(Ketrampilan!O56=\"\",\"\",Ketrampilan!O56)","v":80},{"$f":"IF(Ketrampilan!P56=\"\",\"\",Ketrampilan!P56)","v":3.2},{"$f":"IF(Ketrampilan!Q56=\"\",\"\",Ketrampilan!Q56)","v":"B+"},{"$f":"IF(Ketrampilan!R56=\"\",\"\",Ketrampilan!R56)","v":"Tuntas"},null,null,null,null,null,null,null,null,null,null,null,null,null,null,null,null,null,null,null,null,null,null,null,null,null,null,null,null,null,null,null,null,null,null,null,null,null,null,"Kompetensi ketrampilan rerata baik. Sudah trampil menyelesaikan soal cerita bilangan, sudah trampil menyelesaikan soal cerita perbandingan, sudah trampil menyelesaikan soal cerita aritmatika sosial, sudah trampil "]
[37,{"$f":"'Data '!D63","v":"TAUFIK NUR AZIZ DANUARTA"},{"$f":"IF(Ketrampilan!C57=\"\",\"\",Ketrampilan!C57)","v":80},{"$f":"IF(Ketrampilan!D57=\"\",\"\",Ketrampilan!D57)","v":80},{"$f":"IF(Ketrampilan!E57=\"\",\"\",Ketrampilan!E57)","v":80},{"$f":"IF(Ketrampilan!F57=\"\",\"\",Ketrampilan!F57)","v":80},{"$f":"IF(Ketrampilan!G57=\"\",\"\",Ketrampilan!G57)","v":80},{"$f":"IF(Ketrampilan!H57=\"\",\"\",Ketrampilan!H57)","v":80},{"$f":"IF(Ketrampilan!I57=\"\",\"\",Ketrampilan!I57)","v":0},{"$f":"IF(Ketrampilan!J57=\"\",\"\",Ketrampilan!J57)","v":0},{"$f":"IF(Ketrampilan!K57=\"\",\"\",Ketrampilan!K57)","v":80},{"$f":"IF(Ketrampilan!L57=\"\",\"\",Ketrampilan!L57)","v":80},{"$f":"IF(Ketrampilan!M57=\"\",\"\",Ketrampilan!M57)","v":0},{"$f":"IF(Ketrampilan!N57=\"\",\"\",Ketrampilan!N57)","v":80},{"$f":"IF(Ketrampilan!O57=\"\",\"\",Ketrampilan!O57)","v":80},{"$f":"IF(Ketrampilan!P57=\"\",\"\",Ketrampilan!P57)","v":3.2},{"$f":"IF(Ketrampilan!Q57=\"\",\"\",Ketrampilan!Q57)","v":"B+"},{"$f":"IF(Ketrampilan!R57=\"\",\"\",Ketrampilan!R57)","v":"Tuntas"},null,null,null,null,null,null,null,null,null,null,null,null,null,null,null,null,null,null,null,null,null,null,null,null,null,null,null,null,null,null,null,null,null,null,null,null,null,null,"Kompetensi ketrampilan rerata baik. Sudah trampil menyelesaikan soal cerita bilangan, sudah trampil menyelesaikan soal cerita perbandingan, sudah trampil menyelesaikan soal cerita aritmatika sosial, sudah trampil "]
[38,{"$f":"'Data '!D64","v":"TIARA PUTRI AYUNINGTIAS"},{"$f":"IF(Ketrampilan!C58=\"\",\"\",Ketrampilan!C58)","v":80},{"$f":"IF(Ketrampilan!D58=\"\",\"\",Ketrampilan!D58)","v":80},{"$f":"IF(Ketrampilan!E58=\"\",\"\",Ketrampilan!E58)","v":80},{"$f":"IF(Ketrampilan!F58=\"\",\"\",Ketrampilan!F58)","v":80},{"$f":"IF(Ketrampilan!G58=\"\",\"\",Ketrampilan!G58)","v":80},{"$f":"IF(Ketrampilan!H58=\"\",\"\",Ketrampilan!H58)","v":80},{"$f":"IF(Ketrampilan!I58=\"\",\"\",Ketrampilan!I58)","v":0},{"$f":"IF(Ketrampilan!J58=\"\",\"\",Ketrampilan!J58)","v":0},{"$f":"IF(Ketrampilan!K58=\"\",\"\",Ketrampilan!K58)","v":80},{"$f":"IF(Ketrampilan!L58=\"\",\"\",Ketrampilan!L58)","v":80},{"$f":"IF(Ketrampilan!M58=\"\",\"\",Ketrampilan!M58)","v":0},{"$f":"IF(Ketrampilan!N58=\"\",\"\",Ketrampilan!N58)","v":80},{"$f":"IF(Ketrampilan!O58=\"\",\"\",Ketrampilan!O58)","v":80},{"$f":"IF(Ketrampilan!P58=\"\",\"\",Ketrampilan!P58)","v":3.2},{"$f":"IF(Ketrampilan!Q58=\"\",\"\",Ketrampilan!Q58)","v":"B+"},{"$f":"IF(Ketrampilan!R58=\"\",\"\",Ketrampilan!R58)","v":"Tuntas"},null,null,null,null,null,"halaman 3",null,null,null,null,null,null,null,null,null,null,null,null,null,null,null,null,null,null,null,null,null,null,null,null,null,null,null,null,null,null,null,null,"Kompetensi ketrampilan rerata baik. Sudah trampil menyelesaikan soal cerita bilangan, sudah trampil menyelesaikan soal cerita perbandingan, sudah trampil menyelesaikan soal cerita aritmatika sosial, sudah trampil "]
[39,{"$f":"'Data '!D65","v":"TITANIA GAYATRI PRIANJANI"},{"$f":"IF(Ketrampilan!C59=\"\",\"\",Ketrampilan!C59)","v":80},{"$f":"IF(Ketrampilan!D59=\"\",\"\",Ketrampilan!D59)","v":80},{"$f":"IF(Ketrampilan!E59=\"\",\"\",Ketrampilan!E59)","v":80},{"$f":"IF(Ketrampilan!F59=\"\",\"\",Ketrampilan!F59)","v":80},{"$f":"IF(Ketrampilan!G59=\"\",\"\",Ketrampilan!G59)","v":80},{"$f":"IF(Ketrampilan!H59=\"\",\"\",Ketrampilan!H59)","v":80},{"$f":"IF(Ketrampilan!I59=\"\",\"\",Ketrampilan!I59)","v":0},{"$f":"IF(Ketrampilan!J59=\"\",\"\",Ketrampilan!J59)","v":0},{"$f":"IF(Ketrampilan!K59=\"\",\"\",Ketrampilan!K59)","v":80},{"$f":"IF(Ketrampilan!L59=\"\",\"\",Ketrampilan!L59)","v":80},{"$f":"IF(Ketrampilan!M59=\"\",\"\",Ketrampilan!M59)","v":0},{"$f":"IF(Ketrampilan!N59=\"\",\"\",Ketrampilan!N59)","v":80},{"$f":"IF(Ketrampilan!O59=\"\",\"\",Ketrampilan!O59)","v":80},{"$f":"IF(Ketrampilan!P59=\"\",\"\",Ketrampilan!P59)","v":3.2},{"$f":"IF(Ketrampilan!Q59=\"\",\"\",Ketrampilan!Q59)","v":"B+"},{"$f":"IF(Ketrampilan!R59=\"\",\"\",Ketrampilan!R59)","v":"Tuntas"},null,null,null,null,null,null,null,null,null,null,null,null,null,null,null,null,null,null,null,null,null,null,null,null,null,null,null,null,null,null,null,null,null,null,null,null,null,null,"Kompetensi ketrampilan rerata baik. Sudah trampil menyelesaikan soal cerita bilangan, sudah trampil menyelesaikan soal cerita perbandingan, sudah trampil menyelesaikan soal cerita aritmatika sosial, sudah trampil "]
[40,{"$f":"'Data '!D66","v":"ULFATUN NI'MAH"},{"$f":"IF(Ketrampilan!C60=\"\",\"\",Ketrampilan!C60)","v":80},{"$f":"IF(Ketrampilan!D60=\"\",\"\",Ketrampilan!D60)","v":80},{"$f":"IF(Ketrampilan!E60=\"\",\"\",Ketrampilan!E60)","v":80},{"$f":"IF(Ketrampilan!F60=\"\",\"\",Ketrampilan!F60)","v":80},{"$f":"IF(Ketrampilan!G60=\"\",\"\",Ketrampilan!G60)","v":80},{"$f":"IF(Ketrampilan!H60=\"\",\"\",Ketrampilan!H60)","v":80},{"$f":"IF(Ketrampilan!I60=\"\",\"\",Ketrampilan!I60)","v":0},{"$f":"IF(Ketrampilan!J60=\"\",\"\",Ketrampilan!J60)","v":0},{"$f":"IF(Ketrampilan!K60=\"\",\"\",Ketrampilan!K60)","v":80},{"$f":"IF(Ketrampilan!L60=\"\",\"\",Ketrampilan!L60)","v":80},{"$f":"IF(Ketrampilan!M60=\"\",\"\",Ketrampilan!M60)","v":0},{"$f":"IF(Ketrampilan!N60=\"\",\"\",Ketrampilan!N60)","v":80},{"$f":"IF(Ketrampilan!O60=\"\",\"\",Ketrampilan!O60)","v":80},{"$f":"IF(Ketrampilan!P60=\"\",\"\",Ketrampilan!P60)","v":3.2},{"$f":"IF(Ketrampilan!Q60=\"\",\"\",Ketrampilan!Q60)","v":"B+"},{"$f":"IF(Ketrampilan!R60=\"\",\"\",Ketrampilan!R60)","v":"Tuntas"},null,null,null,null,null,null,null,null,null,null,null,null,null,null,null,null,null,null,null,null,null,null,null,null,null,null,null,null,null,null,null,null,null,null,null,null,null,null,"Kompetensi ketrampilan rerata baik. Sudah trampil menyelesaikan soal cerita bilangan, sudah trampil menyelesaikan soal cerita perbandingan, sudah trampil menyelesaikan soal cerita aritmatika sosial, sudah trampil "]
[41,{"$f":"'Data '!D67","v":0},{"$f":"IF(Ketrampilan!C61=\"\",\"\",Ketrampilan!C61)","v":""},{"$f":"IF(Ketrampilan!D61=\"\",\"\",Ketrampilan!D61)","v":""},{"$f":"IF(Ketrampilan!E61=\"\",\"\",Ketrampilan!E61)","v":""},{"$f":"IF(Ketrampilan!F61=\"\",\"\",Ketrampilan!F61)","v":""},{"$f":"IF(Ketrampilan!G61=\"\",\"\",Ketrampilan!G61)","v":0},{"$f":"IF(Ketrampilan!H61=\"\",\"\",Ketrampilan!H61)","v":0},{"$f":"IF(Ketrampilan!I61=\"\",\"\",Ketrampilan!I61)","v":0},{"$f":"IF(Ketrampilan!J61=\"\",\"\",Ketrampilan!J61)","v":0},{"$f":"IF(Ketrampilan!K61=\"\",\"\",Ketrampilan!K61)","v":0},{"$f":"IF(Ketrampilan!L61=\"\",\"\",Ketrampilan!L61)","v":0},{"$f":"IF(Ketrampilan!M61=\"\",\"\",Ketrampilan!M61)","v":0},{"$f":"IF(Ketrampilan!N61=\"\",\"\",Ketrampilan!N61)","v":0},{"$f":"IF(Ketrampilan!O61=\"\",\"\",Ketrampilan!O61)","v":0},{"$f":"IF(Ketrampilan!P61=\"\",\"\",Ketrampilan!P61)","v":0},{"$f":"IF(Ketrampilan!Q61=\"\",\"\",Ketrampilan!Q61)","v":"D"},{"$f":"IF(Ketrampilan!R61=\"\",\"\",Ketrampilan!R61)","v":"Tidak Tuntas"},null,null,null,null,null,null,null,null,null,null,null,null,null,null,null,null,null,null,null,null,null,null,null,null,null,null,null,null,null,null,null,null,null,null,null,null,null,null," Sangat trampil menyelesaikan soal cerita bilangan, sangat trampil menyelesaikan soal cerita perbandingan, sangat trampil menyelesaikan soal cerita aritmatika sosial, sangat trampil "]
[42,{"$f":"'Data '!D68","v":0},{"$f":"IF(Ketrampilan!C62=\"\",\"\",Ketrampilan!C62)","v":""},{"$f":"IF(Ketrampilan!D62=\"\",\"\",Ketrampilan!D62)","v":""},{"$f":"IF(Ketrampilan!E62=\"\",\"\",Ketrampilan!E62)","v":""},{"$f":"IF(Ketrampilan!F62=\"\",\"\",Ketrampilan!F62)","v":""},{"$f":"IF(Ketrampilan!G62=\"\",\"\",Ketrampilan!G62)","v":0},{"$f":"IF(Ketrampilan!H62=\"\",\"\",Ketrampilan!H62)","v":0},{"$f":"IF(Ketrampilan!I62=\"\",\"\",Ketrampilan!I62)","v":0},{"$f":"IF(Ketrampilan!J62=\"\",\"\",Ketrampilan!J62)","v":0},{"$f":"IF(Ketrampilan!K62=\"\",\"\",Ketrampilan!K62)","v":0},{"$f":"IF(Ketrampilan!L62=\"\",\"\",Ketrampilan!L62)","v":0},{"$f":"IF(Ketrampilan!M62=\"\",\"\",Ketrampilan!M62)","v":0},{"$f":"IF(Ketrampilan!N62=\"\",\"\",Ketrampilan!N62)","v":0},{"$f":"IF(Ketrampilan!O62=\"\",\"\",Ketrampilan!O62)","v":0},{"$f":"IF(Ketrampilan!P62=\"\",\"\",Ketrampilan!P62)","v":0},{"$f":"IF(Ketrampilan!Q62=\"\",\"\",Ketrampilan!Q62)","v":"D"},{"$f":"IF(Ketrampilan!R62=\"\",\"\",Ketrampilan!R62)","v":"Tidak Tuntas"},null,null,null,null,null,null,null,null,null,null,null,null,null,null,null,null,null,null,null,null,null,null,null,null,null,null,null,null,null,null,null,null,null,null,null,null,null,null," Sangat trampil menyelesaikan soal cerita bilangan, sangat trampil menyelesaikan soal cerita perbandingan, sangat trampil menyelesaikan soal cerita aritmatika sosial, sangat trampil "]
[43,{"$f":"'Data '!D69","v":0},{"$f":"IF(Ketrampilan!C63=\"\",\"\",Ketrampilan!C63)","v":""},{"$f":"IF(Ketrampilan!D63=\"\",\"\",Ketrampilan!D63)","v":""},{"$f":"IF(Ketrampilan!E63=\"\",\"\",Ketrampilan!E63)","v":""},{"$f":"IF(Ketrampilan!F63=\"\",\"\",Ketrampilan!F63)","v":""},{"$f":"IF(Ketrampilan!G63=\"\",\"\",Ketrampilan!G63)","v":0},{"$f":"IF(Ketrampilan!H63=\"\",\"\",Ketrampilan!H63)","v":0},{"$f":"IF(Ketrampilan!I63=\"\",\"\",Ketrampilan!I63)","v":0},{"$f":"IF(Ketrampilan!J63=\"\",\"\",Ketrampilan!J63)","v":0},{"$f":"IF(Ketrampilan!K63=\"\",\"\",Ketrampilan!K63)","v":0},{"$f":"IF(Ketrampilan!L63=\"\",\"\",Ketrampilan!L63)","v":0},{"$f":"IF(Ketrampilan!M63=\"\",\"\",Ketrampilan!M63)","v":0},{"$f":"IF(Ketrampilan!N63=\"\",\"\",Ketrampilan!N63)","v":0},{"$f":"IF(Ketrampilan!O63=\"\",\"\",Ketrampilan!O63)","v":0},{"$f":"IF(Ketrampilan!P63=\"\",\"\",Ketrampilan!P63)","v":0},{"$f":"IF(Ketrampilan!Q63=\"\",\"\",Ketrampilan!Q63)","v":"D"},{"$f":"IF(Ketrampilan!R63=\"\",\"\",Ketrampilan!R63)","v":"Tidak Tuntas"},null,null,null,null,null,null,null,null,null,null,null,null,null,null,null,null,null,null,null,null,null,null,null,null,null,null,null,null,null,null,null,null,null,null,null,null,null,null," Sangat trampil menyelesaikan soal cerita bilangan, sangat trampil menyelesaikan soal cerita perbandingan, sangat trampil menyelesaikan soal cerita aritmatika sosial, sangat trampil "]
[44,{"$f":"'Data '!D70","v":0},{"$f":"IF(Ketrampilan!C64=\"\",\"\",Ketrampilan!C64)","v":""},{"$f":"IF(Ketrampilan!D64=\"\",\"\",Ketrampilan!D64)","v":""},{"$f":"IF(Ketrampilan!E64=\"\",\"\",Ketrampilan!E64)","v":""},{"$f":"IF(Ketrampilan!F64=\"\",\"\",Ketrampilan!F64)","v":""},{"$f":"IF(Ketrampilan!G64=\"\",\"\",Ketrampilan!G64)","v":0},{"$f":"IF(Ketrampilan!H64=\"\",\"\",Ketrampilan!H64)","v":0},{"$f":"IF(Ketrampilan!I64=\"\",\"\",Ketrampilan!I64)","v":0},{"$f":"IF(Ketrampilan!J64=\"\",\"\",Ketrampilan!J64)","v":0},{"$f":"IF(Ketrampilan!K64=\"\",\"\",Ketrampilan!K64)","v":0},{"$f":"IF(Ketrampilan!L64=\"\",\"\",Ketrampilan!L64)","v":0},{"$f":"IF(Ketrampilan!M64=\"\",\"\",Ketrampilan!M64)","v":0},{"$f":"IF(Ketrampilan!N64=\"\",\"\",Ketrampilan!N64)","v":0},{"$f":"IF(Ketrampilan!O64=\"\",\"\",Ketrampilan!O64)","v":0},{"$f":"IF(Ketrampilan!P64=\"\",\"\",Ketrampilan!P64)","v":0},{"$f":"IF(Ketrampilan!Q64=\"\",\"\",Ketrampilan!Q64)","v":"D"},{"$f":"IF(Ketrampilan!R64=\"\",\"\",Ketrampilan!R64)","v":"Tidak Tuntas"},null,null,null,null,null,null,null,null,null,null,null,null,null,null,null,null,null,null,null,null,null,null,null,null,null,null,null,null,null,null,null,null,null,null,null,null,null,null," Sangat trampil menyelesaikan soal cerita bilangan, sangat trampil menyelesaikan soal cerita perbandingan, sangat trampil menyelesaikan soal cerita aritmatika sosial, sangat trampil "]
[45,{"$f":"'Data '!D71","v":0},{"$f":"IF(Ketrampilan!C65=\"\",\"\",Ketrampilan!C65)","v":""},{"$f":"IF(Ketrampilan!D65=\"\",\"\",Ketrampilan!D65)","v":""},{"$f":"IF(Ketrampilan!E65=\"\",\"\",Ketrampilan!E65)","v":""},{"$f":"IF(Ketrampilan!F65=\"\",\"\",Ketrampilan!F65)","v":""},{"$f":"IF(Ketrampilan!G65=\"\",\"\",Ketrampilan!G65)","v":0},{"$f":"IF(Ketrampilan!H65=\"\",\"\",Ketrampilan!H65)","v":0},{"$f":"IF(Ketrampilan!I65=\"\",\"\",Ketrampilan!I65)","v":0},{"$f":"IF(Ketrampilan!J65=\"\",\"\",Ketrampilan!J65)","v":0},{"$f":"IF(Ketrampilan!K65=\"\",\"\",Ketrampilan!K65)","v":0},{"$f":"IF(Ketrampilan!L65=\"\",\"\",Ketrampilan!L65)","v":0},{"$f":"IF(Ketrampilan!M65=\"\",\"\",Ketrampilan!M65)","v":0},{"$f":"IF(Ketrampilan!N65=\"\",\"\",Ketrampilan!N65)","v":0},{"$f":"IF(Ketrampilan!O65=\"\",\"\",Ketrampilan!O65)","v":0},{"$f":"IF(Ketrampilan!P65=\"\",\"\",Ketrampilan!P65)","v":0},{"$f":"IF(Ketrampilan!Q65=\"\",\"\",Ketrampilan!Q65)","v":"D"},{"$f":"IF(Ketrampilan!R65=\"\",\"\",Ketrampilan!R65)","v":"Tidak Tuntas"},null,null,null,null,null,null,null,null,null,null,null,null,null,null,null,null,null,null,null,null,null,null,null,null,null,null,null,null,null,null,null,null,null,null,null,null,null,null," Sangat trampil menyelesaikan soal cerita bilangan, sangat trampil menyelesaikan soal cerita perbandingan, sangat trampil menyelesaikan soal cerita aritmatika sosial, sangat trampil "]
[46,{"$f":"'Data '!D72","v":0},{"$f":"IF(Ketrampilan!C66=\"\",\"\",Ketrampilan!C66)","v":""},{"$f":"IF(Ketrampilan!D66=\"\",\"\",Ketrampilan!D66)","v":""},{"$f":"IF(Ketrampilan!E66=\"\",\"\",Ketrampilan!E66)","v":""},{"$f":"IF(Ketrampilan!F66=\"\",\"\",Ketrampilan!F66)","v":""},{"$f":"IF(Ketrampilan!G66=\"\",\"\",Ketrampilan!G66)","v":0},{"$f":"IF(Ketrampilan!H66=\"\",\"\",Ketrampilan!H66)","v":0},{"$f":"IF(Ketrampilan!I66=\"\",\"\",Ketrampilan!I66)","v":0},{"$f":"IF(Ketrampilan!J66=\"\",\"\",Ketrampilan!J66)","v":0},{"$f":"IF(Ketrampilan!K66=\"\",\"\",Ketrampilan!K66)","v":0},{"$f":"IF(Ketrampilan!L66=\"\",\"\",Ketrampilan!L66)","v":0},{"$f":"IF(Ketrampilan!M66=\"\",\"\",Ketrampilan!M66)","v":0},{"$f":"IF(Ketrampilan!N66=\"\",\"\",Ketrampilan!N66)","v":0},{"$f":"IF(Ketrampilan!O66=\"\",\"\",Ketrampilan!O66)","v":0},{"$f":"IF(Ketrampilan!P66=\"\",\"\",Ketrampilan!P66)","v":0},{"$f":"IF(Ketrampilan!Q66=\"\",\"\",Ketrampilan!Q66)","v":"D"},{"$f":"IF(Ketrampilan!R66=\"\",\"\",Ketrampilan!R66)","v":"Tidak Tuntas"}]
[47,{"$f":"'Data '!D73","v":0},{"$f":"IF(Ketrampilan!C67=\"\",\"\",Ketrampilan!C67)","v":""},{"$f":"IF(Ketrampilan!D67=\"\",\"\",Ketrampilan!D67)","v":""},{"$f":"IF(Ketrampilan!E67=\"\",\"\",Ketrampilan!E67)","v":""},{"$f":"IF(Ketrampilan!F67=\"\",\"\",Ketrampilan!F67)","v":""},{"$f":"IF(Ketrampilan!G67=\"\",\"\",Ketrampilan!G67)","v":0},{"$f":"IF(Ketrampilan!H67=\"\",\"\",Ketrampilan!H67)","v":0},{"$f":"IF(Ketrampilan!I67=\"\",\"\",Ketrampilan!I67)","v":0},{"$f":"IF(Ketrampilan!J67=\"\",\"\",Ketrampilan!J67)","v":0},{"$f":"IF(Ketrampilan!K67=\"\",\"\",Ketrampilan!K67)","v":0},{"$f":"IF(Ketrampilan!L67=\"\",\"\",Ketrampilan!L67)","v":0},{"$f":"IF(Ketrampilan!M67=\"\",\"\",Ketrampilan!M67)","v":0},{"$f":"IF(Ketrampilan!N67=\"\",\"\",Ketrampilan!N67)","v":0},{"$f":"IF(Ketrampilan!O67=\"\",\"\",Ketrampilan!O67)","v":0},{"$f":"IF(Ketrampilan!P67=\"\",\"\",Ketrampilan!P67)","v":0},{"$f":"IF(Ketrampilan!Q67=\"\",\"\",Ketrampilan!Q67)","v":"D"},{"$f":"IF(Ketrampilan!R67=\"\",\"\",Ketrampilan!R67)","v":"Tidak Tuntas"}]
[48,{"$f":"'Data '!D74","v":0},{"$f":"IF(Ketrampilan!C68=\"\",\"\",Ketrampilan!C68)","v":""},{"$f":"IF(Ketrampilan!D68=\"\",\"\",Ketrampilan!D68)","v":""},{"$f":"IF(Ketrampilan!E68=\"\",\"\",Ketrampilan!E68)","v":""},{"$f":"IF(Ketrampilan!F68=\"\",\"\",Ketrampilan!F68)","v":""},{"$f":"IF(Ketrampilan!G68=\"\",\"\",Ketrampilan!G68)","v":0},{"$f":"IF(Ketrampilan!H68=\"\",\"\",Ketrampilan!H68)","v":0},{"$f":"IF(Ketrampilan!I68=\"\",\"\",Ketrampilan!I68)","v":0},{"$f":"IF(Ketrampilan!J68=\"\",\"\",Ketrampilan!J68)","v":0},{"$f":"IF(Ketrampilan!K68=\"\",\"\",Ketrampilan!K68)","v":0},{"$f":"IF(Ketrampilan!L68=\"\",\"\",Ketrampilan!L68)","v":0},{"$f":"IF(Ketrampilan!M68=\"\",\"\",Ketrampilan!M68)","v":0},{"$f":"IF(Ketrampilan!N68=\"\",\"\",Ketrampilan!N68)","v":0},{"$f":"IF(Ketrampilan!O68=\"\",\"\",Ketrampilan!O68)","v":0},{"$f":"IF(Ketrampilan!P68=\"\",\"\",Ketrampilan!P68)","v":0},{"$f":"IF(Ketrampilan!Q68=\"\",\"\",Ketrampilan!Q68)","v":"D"},{"$f":"IF(Ketrampilan!R68=\"\",\"\",Ketrampilan!R68)","v":"Tidak Tuntas"}]
[49,{"$f":"'Data '!D75","v":0},{"$f":"IF(Ketrampilan!C69=\"\",\"\",Ketrampilan!C69)","v":""},{"$f":"IF(Ketrampilan!D69=\"\",\"\",Ketrampilan!D69)","v":""},{"$f":"IF(Ketrampilan!E69=\"\",\"\",Ketrampilan!E69)","v":""},{"$f":"IF(Ketrampilan!F69=\"\",\"\",Ketrampilan!F69)","v":""},{"$f":"IF(Ketrampilan!G69=\"\",\"\",Ketrampilan!G69)","v":0},{"$f":"IF(Ketrampilan!H69=\"\",\"\",Ketrampilan!H69)","v":0},{"$f":"IF(Ketrampilan!I69=\"\",\"\",Ketrampilan!I69)","v":0},{"$f":"IF(Ketrampilan!J69=\"\",\"\",Ketrampilan!J69)","v":0},{"$f":"IF(Ketrampilan!K69=\"\",\"\",Ketrampilan!K69)","v":0},{"$f":"IF(Ketrampilan!L69=\"\",\"\",Ketrampilan!L69)","v":0},{"$f":"IF(Ketrampilan!M69=\"\",\"\",Ketrampilan!M69)","v":0},{"$f":"IF(Ketrampilan!N69=\"\",\"\",Ketrampilan!N69)","v":0},{"$f":"IF(Ketrampilan!O69=\"\",\"\",Ketrampilan!O69)","v":0},{"$f":"IF(Ketrampilan!P69=\"\",\"\",Ketrampilan!P69)","v":0},{"$f":"IF(Ketrampilan!Q69=\"\",\"\",Ketrampilan!Q69)","v":"D"},{"$f":"IF(Ketrampilan!R69=\"\",\"\",Ketrampilan!R69)","v":"Tidak Tuntas"}]
[50,{"$f":"'Data '!D76","v":0},{"$f":"IF(Ketrampilan!C70=\"\",\"\",Ketrampilan!C70)","v":56},{"$f":"IF(Ketrampilan!D70=\"\",\"\",Ketrampilan!D70)","v":8},{"$f":"IF(Ketrampilan!E70=\"\",\"\",Ketrampilan!E70)","v":""},{"$f":"IF(Ketrampilan!F70=\"\",\"\",Ketrampilan!F70)","v":""},{"$f":"IF(Ketrampilan!G70=\"\",\"\",Ketrampilan!G70)","v":56},{"$f":"IF(Ketrampilan!H70=\"\",\"\",Ketrampilan!H70)","v":90},{"$f":"IF(Ketrampilan!I70=\"\",\"\",Ketrampilan!I70)","v":0},{"$f":"IF(Ketrampilan!J70=\"\",\"\",Ketrampilan!J70)","v":0},{"$f":"IF(Ketrampilan!K70=\"\",\"\",Ketrampilan!K70)","v":90},{"$f":"IF(Ketrampilan!L70=\"\",\"\",Ketrampilan!L70)","v":78},{"$f":"IF(Ketrampilan!M70=\"\",\"\",Ketrampilan!M70)","v":0},{"$f":"IF(Ketrampilan!N70=\"\",\"\",Ketrampilan!N70)","v":78},{"$f":"IF(Ketrampilan!O70=\"\",\"\",Ketrampilan!O70)","v":70},{"$f":"IF(Ketrampilan!P70=\"\",\"\",Ketrampilan!P70)","v":2.8},{"$f":"IF(Ketrampilan!Q70=\"\",\"\",Ketrampilan!Q70)","v":"B-"},{"$f":"IF(Ketrampilan!R70=\"\",\"\",Ketrampilan!R70)","v":"Tuntas"}]
[null,"Nilai Rata-rata",{"$f":"IFERROR(AVERAGE(C21:C70),\" \")","v":79.41463414634147},{"$f":"IFERROR(AVERAGE(D21:D70),\" \")","v":78.243902439024396},80,80,65.12,65.8,0,0,65.8,65.56,0,65.56,65.400000000000006,2.6160000000000014,""]
[]
[null,null,"Jenis","Uj.K","Proj",null,"Port","Jlh"]
[null,null,"Bobot",2,1,null,1,{"$f":"SUM(D74:G74)","v":4}]
[]
[null,"Mengetahui:",null,null,null,null,null,null,null,null,null,null,null,null,null,{"$f":"'Data '!D21","v":"Blora, 20 Desember 2014"}]
[null,{"$f":"\"Ka. \"&'Data '!D7","v":"Ka. SMP Negeri 6 Blora"},null,null,null,null,null,null,null,null,null,null,null,null,null,"Guru Mata Pelajaran"]
[]
[]
[]
[null,{"$f":"'Data '!D15","v":"Suparno, S.Pd.,M.Hum"},null,null,null,null,null,null,null,null,null,null,null,null,null,{"$f":"Home!E12","v":"Drs. Sarid Nugroho"}]
[null,{"$f":"'Data '!D16","v":"NIP. 19620712 198403 1 012"},null,null,null,null,null,null,null,null,null,null,null,null,null,{"$f":"Home!E14","v":"NIP. 19631223 198803 1 004"}]

{"sheet":"Attitude","index":9,"n_rows":74,"n_cols":19,"rows_kept":74,"cut":false,"hidden":false,"merged":[[0,2,0,14],[1,2,1,14],[9,2,9,4],[2,2,2,14],[3,2,5,14],[7,2,7,4],[7,6,7,8],[7,9,7,10],[7,11,7,12],[8,2,8,4],[8,6,8,8],[8,9,8,10],[11,18,12,18],[11,0,12,0],[11,1,12,1],[11,2,11,4],[11,5,11,7],[79,2,79,10],[80,2,80,10],[13,17,14,17],[15,17,24,17],[8,11,8,12],[8,13,8,14],[11,8,11,10],[11,11,12,11]]}
[null,null,{"$f":"UPPER('Data '!D10)","v":"PEMERINTAH KABUPATEN BLORA"}]
[null,null,{"$f":"UPPER('Data '!D6)","v":"DINAS PENDIDIKAN PEMUDA DAN OLAHRAGA"}]
[null,null,{"$f":"UPPER('Data '!D7)","v":"SMP NEGERI 6 BLORA"}]
[null,null,"DAFTAR   REKAP NILAI   SIKAP SISWA  (KI - 1 & 2)"]
[]
[]
[]
[null,"Mata Pelajaran :",{"$f":"Home!E16","v":"PJOK"},null,null,null,"Semester :",null,null,{"$f":"'Data '!D14","v":"Ganjil"},null,"KKM  :",null,{"$f":"Home!E26","v":3}]
[null,"Kelas :",{"$f":"Home!E18","v":"VII-A"},null,null,null,"Tahun Pelajaran :",null,null,{"$f":"'Data '!D13","v":"2014/2015"},null,"Wali Kelas  :",null,{"$f":"'Data '!D17","v":"Mundari, S.Pd."}]
[null,"Aspek :","Sikap"]
[]
["No. ","Nama","Observasi",null,null,"Penilaian Diri",null,null,"Penilaian Teman",null,null,"Jurnal","Nilai","Nilai","Ket",null,null,null,"Deskripsi Kemajuan Belajar"]
[null,null,"Ob1","Ob2","Rerata","Pd1","Pd2","Rerata","PT1","PT2","Rerata",null,"Raport","Konversi","T/TT"]
[1,{"$f":"'Data '!D27","v":"AHMAD ALEK BRIYANSAPUTRA"},{"$f":"Sikap!C14","v":3},{"$f":"Sikap!D14","v":3},{"$f":"Sikap!E14","v":3},{"$f":"Sikap!F14","v":3},{"$f":"Sikap!G14","v":3},{"$f":"Sikap!H14","v":3},{"$f":"Sikap!I14","v":3},{"$f":"Sikap!J14","v":3},{"$f":"Sikap!K14","v":3},{"$f":"Sikap!L14","v":3},{"$f":"Sikap!M14","v":3},{"$f":"Sikap!N14","v":"B"},{"$f":"Sikap!O14","v":"Tuntas"},null,null,"PETUNJUK UNTUK MENCETAK/PRINT OUT",{"$f":"Obs!AV13","v":"Menunjukkan sikap baik dalam spiritual, baik dalam jujur, baik dalam disiplin, baik dalam tanggungjawab, baik dalam toleransi, baik dalam gotong royong, baik dalam santun, baik dalam percaya diri, baik dalam ramah tamah, baik dalam ingin tahu"}]
[2,{"$f":"'Data '!D28","v":"AULIA AYU FATINA"},{"$f":"Sikap!C15","v":3},{"$f":"Sikap!D15","v":3},{"$f":"Sikap!E15","v":3},{"$f":"Sikap!F15","v":3},{"$f":"Sikap!G15","v":3},{"$f":"Sikap!H15","v":3},{"$f":"Sikap!I15","v":3},{"$f":"Sikap!J15","v":3},{"$f":"Sikap!K15","v":3},{"$f":"Sikap!L15","v":3},{"$f":"Sikap!M15","v":3},{"$f":"Sikap!N15","v":"B"},{"$f":"Sikap!O15","v":"Tuntas"},null,null,null,{"$f":"Obs!AV14","v":"Menunjukkan sikap baik dalam spiritual, baik dalam jujur, baik dalam disiplin, baik dalam tanggungjawab, baik dalam toleransi, baik dalam gotong royong, baik dalam santun, baik dalam percaya diri, baik dalam ramah tamah, baik dalam ingin tahu"}]
[3,{"$f":"'Data '!D29","v":"BAGAS YULANDRA PUTRA"},{"$f":"Sikap!C16","v":3},{"$f":"Sikap!D16","v":3},{"$f":"Sikap!E16","v":3},{"$f":"Sikap!F16","v":3},{"$f":"Sikap!G16","v":3},{"$f":"Sikap!H16","v":3},{"$f":"Sikap!I16","v":3},{"$f":"Sikap!J16","v":3},{"$f":"Sikap!K16","v":3},{"$f":"Sikap!L16","v":3},{"$f":"Sikap!M16","v":3},{"$f":"Sikap!N16","v":"B"},{"$f":"Sikap!O16","v":"Tuntas"},null,null,"Password pada sheet ini purnawanto. Gunakan untuk mengedit page setup halaman, dsb.\n\nJika ingin mengurangi jumlah baris (misal jumlah siswa hanya 30 orang), JANGAN MENGHAPUS BARIS. Blok baris, klik kanan, pilih HIDE. \n\nProtek kembali sheet untuk keamanan rumus dan link antar sheet. \nTERIMA KASIH",{"$f":"Obs!AV15","v":"Menunjukkan sikap baik dalam spiritual, baik dalam jujur, baik dalam disiplin, baik dalam tanggungjawab, baik dalam toleransi, baik dalam gotong royong, baik dalam santun, baik dalam percaya diri, baik dalam ramah tamah, baik dalam ingin tahu"}]
[4,{"$f":"'Data '!D30","v":"CYNTIA AGUSTINA"},{"$f":"Sikap!C17","v":3},{"$f":"Sikap!D17","v":3},{"$f":"Sikap!E17","v":3},{"$f":"Sikap!F17","v":3},{"$f":"Sikap!G17","v":3},{"$f":"Sikap!H17","v":3},{"$f":"Sikap!I17","v":3},{"$f":"Sikap!J17","v":3},{"$f":"Sikap!K17","v":3},{"$f":"Sikap!L17","v":3},{"$f":"Sikap!M17","v":3},{"$f":"Sikap!N17","v":"B"},{"$f":"Sikap!O17","v":"Tuntas"},null,null,null,{"$f":"Obs!AV16","v":"Menunjukkan sikap baik dalam spiritual, baik dalam jujur, baik dalam disiplin, baik dalam tanggungjawab, baik dalam toleransi, baik dalam gotong royong, baik dalam santun, baik dalam percaya diri, baik dalam ramah tamah, baik dalam ingin tahu"}]
[5,{"$f":"'Data '!D31","v":"DAFFA KRISNA PRAMUDYA"},{"$f":"Sikap!C18","v":3},{"$f":"Sikap!D18","v":3},{"$f":"Sikap!E18","v":3},{"$f":"Sikap!F18","v":3},{"$f":"Sikap!G18","v":3},{"$f":"Sikap!H18","v":3},{"$f":"Sikap!I18","v":3},{"$f":"Sikap!J18","v":3},{"$f":"Sikap!K18","v":3},{"$f":"Sikap!L18","v":3},{"$f":"Sikap!M18","v":3},{"$f":"Sikap!N18","v":"B"},{"$f":"Sikap!O18","v":"Tuntas"},null,null,null,{"$f":"Obs!AV17","v":"Menunjukkan sikap baik dalam spiritual, baik dalam jujur, baik dalam disiplin, baik dalam tanggungjawab, baik dalam toleransi, baik dalam gotong royong, baik dalam santun, baik dalam percaya diri, baik dalam ramah tamah, baik dalam ingin tahu"}]
[6,{"$f":"'Data '!D32","v":"DANINDRA RAFIF IRAWAN"},{"$f":"Sikap!C19","v":3},{"$f":"Sikap!D19","v":3},{"$f":"Sikap!E19","v":3},{"$f":"Sikap!F19","v":3},{"$f":"Sikap!G19","v":3},{"$f":"Sikap!H19","v":3},{"$f":"Sikap!I19","v":3},{"$f":"Sikap!J19","v":3},{"$f":"Sikap!K19","v":3},{"$f":"Sikap!L19","v":3},{"$f":"Sikap!M19","v":3},{"$f":"Sikap!N19","v":"B"},{"$f":"Sikap!O19","v":"Tuntas"},null,null,null,{"$f":"Obs!AV18","v":"Menunjukkan sikap baik dalam spiritual, baik dalam jujur, baik dalam disiplin, baik dalam tanggungjawab, baik dalam toleransi, baik dalam gotong royong, baik dalam santun, baik dalam percaya diri, baik dalam ramah tamah, baik dalam ingin tahu"}]
[7,{"$f":"'Data '!D33","v":"DENI PRATAMA"},{"$f":"Sikap!C20","v":3},{"$f":"Sikap!D20","v":3},{"$f":"Sikap!E20","v":3},{"$f":"Sikap!F20","v":3},{"$f":"Sikap!G20","v":3},{"$f":"Sikap!H20","v":3},{"$f":"Sikap!I20","v":3},{"$f":"Sikap!J20","v":3},{"$f":"Sikap!K20","v":3},{"$f":"Sikap!L20","v":3},{"$f":"Sikap!M20","v":3},{"$f":"Sikap!N20","v":"B"},{"$f":"Sikap!O20","v":"Tuntas"},null,null,null,{"$f":"Obs!AV19","v":"Menunjukkan sikap baik dalam spiritual, baik dalam jujur, baik dalam disiplin, baik dalam tanggungjawab, baik dalam toleransi, baik dalam gotong royong, baik dalam santun, baik dalam percaya diri, baik dalam ramah tamah, baik dalam ingin tahu"}]
[8,{"$f":"'Data '!D34","v":"DIKA SUKMA AGUSTIN"},{"$f":"Sikap!C21","v":3},{"$f":"Sikap!D21","v":3},{"$f":"Sikap!E21","v":3},{"$f":"Sikap!F21","v":3},{"$f":"Sikap!G21","v":3},{"$f":"Sikap!H21","v":3},{"$f":"Sikap!I21","v":3},{"$f":"Sikap!J21","v":3},{"$f":"Sikap!K21","v":3},{"$f":"Sikap!L21","v":3},{"$f":"Sikap!M21","v":3},{"$f":"Sikap!N21","v":"B"},{"$f":"Sikap!O21","v":"Tuntas"},null,null,null,{"$f":"Obs!AV20","v":"Menunjukkan sikap baik dalam spiritual, baik dalam jujur, baik dalam disiplin, baik dalam tanggungjawab, baik dalam toleransi, baik dalam gotong royong, baik dalam santun, baik dalam percaya diri, baik dalam ramah tamah, baik dalam ingin tahu"}]
[9,{"$f":"'Data '!D35","v":"DIVA ADITYA"},{"$f":"Sikap!C22","v":3},{"$f":"Sikap!D22","v":3},{"$f":"Sikap!E22","v":3},{"$f":"Sikap!F22","v":3},{"$f":"Sikap!G22","v":3},{"$f":"Sikap!H22","v":3},{"$f":"Sikap!I22","v":3},{"$f":"Sikap!J22","v":3},{"$f":"Sikap!K22","v":3},{"$f":"Sikap!L22","v":3},{"$f":"Sikap!M22","v":3},{"$f":"Sikap!N22","v":"B"},{"$f":"Sikap!O22","v":"Tuntas"},null,null,null,{"$f":"Obs!AV21","v":"Menunjukkan sikap baik dalam spiritual, baik dalam jujur, baik dalam disiplin, baik dalam tanggungjawab, baik dalam toleransi, baik dalam gotong royong, baik dalam santun, baik dalam percaya diri, baik dalam ramah tamah, baik dalam ingin tahu"}]
[10,{"$f":"'Data '!D36","v":"EKO PRASTYO"},{"$f":"Sikap!C23","v":3},{"$f":"Sikap!D23","v":3},{"$f":"Sikap!E23","v":3},{"$f":"Sikap!F23","v":3},{"$f":"Sikap!G23","v":3},{"$f":"Sikap!H23","v":3},{"$f":"Sikap!I23","v":3},{"$f":"Sikap!J23","v":3},{"$f":"Sikap!K23","v":3},{"$f":"Sikap!L23","v":3},{"$f":"Sikap!M23","v":3},{"$f":"Sikap!N23","v":"B"},{"$f":"Sikap!O23","v":"Tuntas"},null,null,null,{"$f":"Obs!AV22","v":"Menunjukkan sikap baik dalam spiritual, baik dalam jujur, baik dalam disiplin, baik dalam tanggungjawab, baik dalam toleransi, baik dalam gotong royong, baik dalam santun, baik dalam percaya diri, baik dalam ramah tamah, baik dalam ingin tahu"}]
[11,{"$f":"'Data '!D37","v":"FAIQUR RIJAL HAMMAM"},{"$f":"Sikap!C24","v":3},{"$f":"Sikap!D24","v":3},{"$f":"Sikap!E24","v":3},{"$f":"Sikap!F24","v":3},{"$f":"Sikap!G24","v":3},{"$f":"Sikap!H24","v":3},{"$f":"Sikap!I24","v":3},{"$f":"Sikap!J24","v":3},{"$f":"Sikap!K24","v":3},{"$f":"Sikap!L24","v":3},{"$f":"Sikap!M24","v":3},{"$f":"Sikap!N24","v":"B"},{"$f":"Sikap!O24","v":"Tuntas"},null,null,null,{"$f":"Obs!AV23","v":"Menunjukkan sikap baik dalam spiritual, baik dalam jujur, baik dalam disiplin, baik dalam tanggungjawab, baik dalam toleransi, baik dalam gotong royong, baik dalam santun, baik dalam percaya diri, baik dalam ramah tamah, baik dalam ingin tahu"}]
[12,{"$f":"'Data '!D38","v":"FATESAR SARI PRASETYO"},{"$f":"Sikap!C25","v":3},{"$f":"Sikap!D25","v":3},{"$f":"Sikap!E25","v":3},{"$f":"Sikap!F25","v":3},{"$f":"Sikap!G25","v":3},{"$f":"Sikap!H25","v":3},{"$f":"Sikap!I25","v":3},{"$f":"Sikap!J25","v":3},{"$f":"Sikap!K25","v":3},{"$f":"Sikap!L25","v":3},{"$f":"Sikap!M25","v":3},{"$f":"Sikap!N25","v":"B"},{"$f":"Sikap!O25","v":"Tuntas"},null,null,null,{"$f":"Obs!AV24","v":"Menunjukkan sikap baik dalam spiritual, baik dalam jujur, baik dalam disiplin, baik dalam tanggungjawab, baik dalam toleransi, baik dalam gotong royong, baik dalam santun, baik dalam percaya diri, baik dalam ramah tamah, baik dalam ingin tahu"}]
[13,{"$f":"'Data '!D39","v":"FEBRI SULISTIYO"},{"$f":"Sikap!C26","v":3},{"$f":"Sikap!D26","v":3},{"$f":"Sikap!E26","v":3},{"$f":"Sikap!F26","v":3},{"$f":"Sikap!G26","v":3},{"$f":"Sikap!H26","v":3},{"$f":"Sikap!I26","v":3},{"$f":"Sikap!J26","v":3},{"$f":"Sikap!K26","v":3},{"$f":"Sikap!L26","v":3},{"$f":"Sikap!M26","v":3},{"$f":"Sikap!N26","v":"B"},{"$f":"Sikap!O26","v":"Tuntas"},null,null,null,{"$f":"Obs!AV25","v":"Menunjukkan sikap baik dalam spiritual, baik dalam jujur, baik dalam disiplin, baik dalam tanggungjawab, baik dalam toleransi, baik dalam gotong royong, baik dalam santun, baik dalam percaya diri, baik dalam ramah tamah, baik dalam ingin tahu"}]
[14,{"$f":"'Data '!D40","v":"FIONA NANDA FETRIAN"},{"$f":"Sikap!C27","v":3},{"$f":"Sikap!D27","v":3},{"$f":"Sikap!E27","v":3},{"$f":"Sikap!F27","v":3},{"$f":"Sikap!G27","v":3},{"$f":"Sikap!H27","v":3},{"$f":"Sikap!I27","v":3},{"$f":"Sikap!J27","v":3},{"$f":"Sikap!K27","v":3},{"$f":"Sikap!L27","v":3},{"$f":"Sikap!M27","v":3},{"$f":"Sikap!N27","v":"B"},{"$f":"Sikap!O27","v":"Tuntas"},null,null,null,{"$f":"Obs!AV26","v":"Menunjukkan sikap baik dalam spiritual, baik dalam jujur, baik dalam disiplin, baik dalam tanggungjawab, baik dalam toleransi, baik dalam gotong royong, baik dalam santun, baik dalam percaya diri, baik dalam ramah tamah, baik dalam ingin tahu"}]
[15,{"$f":"'Data '!D41","v":"GILANG SYAHRUL RAMADHAN"},{"$f":"Sikap!C28","v":3},{"$f":"Sikap!D28","v":3},{"$f":"Sikap!E28","v":3},{"$f":"Sikap!F28","v":3},{"$f":"Sikap!G28","v":3},{"$f":"Sikap!H28","v":3},{"$f":"Sikap!I28","v":3},{"$f":"Sikap!J28","v":3},{"$f":"Sikap!K28","v":3},{"$f":"Sikap!L28","v":3},{"$f":"Sikap!M28","v":3},{"$f":"Sikap!N28","v":"B"},{"$f":"Sikap!O28","v":"Tuntas"},null,null,null,{"$f":"Obs!AV27","v":"Menunjukkan sikap baik dalam spiritual, baik dalam jujur, baik dalam disiplin, baik dalam tanggungjawab, baik dalam toleransi, baik dalam gotong royong, baik dalam santun, baik dalam percaya diri, baik dalam ramah tamah, baik dalam ingin tahu"}]
[16,{"$f":"'Data '!D42","v":"IMAM AGUNG WAHYU PRATAMA"},{"$f":"Sikap!C29","v":3},{"$f":"Sikap!D29","v":3},{"$f":"Sikap!E29","v":3},{"$f":"Sikap!F29","v":3},{"$f":"Sikap!G29","v":3},{"$f":"Sikap!H29","v":3},{"$f":"Sikap!I29","v":3},{"$f":"Sikap!J29","v":3},{"$f":"Sikap!K29","v":3},{"$f":"Sikap!L29","v":3},{"$f":"Sikap!M29","v":3},{"$f":"Sikap!N29","v":"B"},{"$f":"Sikap!O29","v":"Tuntas"},null,null,null,{"$f":"Obs!AV28","v":"Menunjukkan sikap baik dalam spiritual, baik dalam jujur, baik dalam disiplin, baik dalam tanggungjawab, baik dalam toleransi, baik dalam gotong royong, baik dalam santun, baik dalam percaya diri, baik dalam ramah tamah, baik dalam ingin tahu"}]
[17,{"$f":"'Data '!D43","v":"JOHAN MAULANA"},{"$f":"Sikap!C30","v":3},{"$f":"Sikap!D30","v":3},{"$f":"Sikap!E30","v":3},{"$f":"Sikap!F30","v":3},{"$f":"Sikap!G30","v":3},{"$f":"Sikap!H30","v":3},{"$f":"Sikap!I30","v":3},{"$f":"Sikap!J30","v":3},{"$f":"Sikap!K30","v":3},{"$f":"Sikap!L30","v":3},{"$f":"Sikap!M30","v":3},{"$f":"Sikap!N30","v":"B"},{"$f":"Sikap!O30","v":"Tuntas"},null,null,null,{"$f":"Obs!AV29","v":"Menunjukkan sikap baik dalam spiritual, baik dalam jujur, baik dalam disiplin, baik dalam tanggungjawab, baik dalam toleransi, baik dalam gotong royong, baik dalam santun, baik dalam percaya diri, baik dalam ramah tamah, baik dalam ingin tahu"}]
[18,{"$f":"'Data '!D44","v":"JOKO SETIAWAN"},{"$f":"Sikap!C31","v":3},{"$f":"Sikap!D31","v":3},{"$f":"Sikap!E31","v":3},{"$f":"Sikap!F31","v":3},{"$f":"Sikap!G31","v":3},{"$f":"Sikap!H31","v":3},{"$f":"Sikap!I31","v":3},{"$f":"Sikap!J31","v":3},{"$f":"Sikap!K31","v":3},{"$f":"Sikap!L31","v":3},{"$f":"Sikap!M31","v":3},{"$f":"Sikap!N31","v":"B"},{"$f":"Sikap!O31","v":"Tuntas"},null,null,null,{"$f":"Obs!AV30","v":"Menunjukkan sikap baik dalam spiritual, baik dalam jujur, baik dalam disiplin, baik dalam tanggungjawab, baik dalam toleransi, baik dalam gotong royong, baik dalam santun, baik dalam percaya diri, baik dalam ramah tamah, baik dalam ingin tahu"}]
[19,{"$f":"'Data '!D45","v":"LISA OKTAVINASARI"},{"$f":"Sikap!C32","v":3},{"$f":"Sikap!D32","v":3},{"$f":"Sikap!E32","v":3},{"$f":"Sikap!F32","v":3},{"$f":"Sikap!G32","v":3},{"$f":"Sikap!H32","v":3},{"$f":"Sikap!I32","v":3},{"$f":"Sikap!J32","v":3},{"$f":"Sikap!K32","v":3},{"$f":"Sikap!L32","v":3},{"$f":"Sikap!M32","v":3},{"$f":"Sikap!N32","v":"B"},{"$f":"Sikap!O32","v":"Tuntas"},null,null,null,{"$f":"Obs!AV31","v":"Menunjukkan sikap baik dalam spiritual, baik dalam jujur, baik dalam disiplin, baik dalam tanggungjawab, baik dalam toleransi, baik dalam gotong royong, baik dalam santun, baik dalam percaya diri, baik dalam ramah tamah, baik dalam ingin tahu"}]
[20,{"$f":"'Data '!D46","v":"MARIA GILDA SIREGAR"},{"$f":"Sikap!C33","v":3},{"$f":"Sikap!D33","v":3},{"$f":"Sikap!E33","v":3},{"$f":"Sikap!F33","v":3},{"$f":"Sikap!G33","v":3},{"$f":"Sikap!H33","v":3},{"$f":"Sikap!I33","v":3},{"$f":"Sikap!J33","v":3},{"$f":"Sikap!K33","v":3},{"$f":"Sikap!L33","v":3},{"$f":"Sikap!M33","v":3},{"$f":"Sikap!N33","v":"B"},{"$f":"Sikap!O33","v":"Tuntas"},null,null,null,{"$f":"Obs!AV32","v":"Menunjukkan sikap baik dalam spiritual, baik dalam jujur, baik dalam disiplin, baik dalam tanggungjawab, baik dalam toleransi, baik dalam gotong royong, baik dalam santun, baik dalam percaya diri, baik dalam ramah tamah, baik dalam ingin tahu"}]
[21,{"$f":"'Data '!D47","v":"MOHAMMAD NURKHOLISH"},{"$f":"Sikap!C34","v":3},{"$f":"Sikap!D34","v":3},{"$f":"Sikap!E34","v":3},{"$f":"Sikap!F34","v":3},{"$f":"Sikap!G34","v":3},{"$f":"Sikap!H34","v":3},{"$f":"Sikap!I34","v":3},{"$f":"Sikap!J34","v":3},{"$f":"Sikap!K34","v":3},{"$f":"Sikap!L34","v":3},{"$f":"Sikap!M34","v":3},{"$f":"Sikap!N34","v":"B"},{"$f":"Sikap!O34","v":"Tuntas"},null,null,null,{"$f":"Obs!AV33","v":"Menunjukkan sikap baik dalam spiritual, baik dalam jujur, baik dalam disiplin, baik dalam tanggungjawab, baik dalam toleransi, baik dalam gotong royong, baik dalam santun, baik dalam percaya diri, baik dalam ramah tamah, baik dalam ingin tahu"}]
[22,{"$f":"'Data '!D48","v":"MUHAMAD FARIS ULIN NUHA"},{"$f":"Sikap!C35","v":3},{"$f":"Sikap!D35","v":3},{"$f":"Sikap!E35","v":3},{"$f":"Sikap!F35","v":3},{"$f":"Sikap!G35","v":3},{"$f":"Sikap!H35","v":3},{"$f":"Sikap!I35","v":3},{"$f":"Sikap!J35","v":3},{"$f":"Sikap!K35","v":3},{"$f":"Sikap!L35","v":3},{"$f":"Sikap!M35","v":3},{"$f":"Sikap!N35","v":"B"},{"$f":"Sikap!O35","v":"Tuntas"},null,null,null,{"$f":"Obs!AV34","v":"Menunjukkan sikap baik dalam spiritual, baik dalam jujur, baik dalam disiplin, baik dalam tanggungjawab, baik dalam toleransi, baik dalam gotong royong, baik dalam santun, baik dalam percaya diri, baik dalam ramah tamah, baik dalam ingin tahu"}]
[23,{"$f":"'Data '!D49","v":"MUHAMMAD MUSTOFA"},{"$f":"Sikap!C36","v":3},{"$f":"Sikap!D36","v":3},{"$f":"Sikap!E36","v":3},{"$f":"Sikap!F36","v":3},{"$f":"Sikap!G36","v":3},{"$f":"Sikap!H36","v":3},{"$f":"Sikap!I36","v":3},{"$f":"Sikap!J36","v":3},{"$f":"Sikap!K36","v":3},{"$f":"Sikap!L36","v":3},{"$f":"Sikap!M36","v":3},{"$f":"Sikap!N36","v":"B"},{"$f":"Sikap!O36","v":"Tuntas"},null,null,null,{"$f":"Obs!AV35","v":"Menunjukkan sikap baik dalam spiritual, baik dalam jujur, baik dalam disiplin, baik dalam tanggungjawab, baik dalam toleransi, baik dalam gotong royong, baik dalam santun, baik dalam percaya diri, baik dalam ramah tamah, baik dalam ingin tahu"}]
[24,{"$f":"'Data '!D50","v":"NANDA WINTYA PUTRI"},{"$f":"Sikap!C37","v":3},{"$f":"Sikap!D37","v":3},{"$f":"Sikap!E37","v":3},{"$f":"Sikap!F37","v":3},{"$f":"Sikap!G37","v":3},{"$f":"Sikap!H37","v":3},{"$f":"Sikap!I37","v":3},{"$f":"Sikap!J37","v":3},{"$f":"Sikap!K37","v":3},{"$f":"Sikap!L37","v":3},{"$f":"Sikap!M37","v":3},{"$f":"Sikap!N37","v":"B"},{"$f":"Sikap!O37","v":"Tuntas"},null,null,null,{"$f":"Obs!AV36","v":"Menunjukkan sikap baik dalam spiritual, baik dalam jujur, baik dalam disiplin, baik dalam tanggungjawab, baik dalam toleransi, baik dalam gotong royong, baik dalam santun, baik dalam percaya diri, baik dalam ramah tamah, baik dalam ingin tahu"}]
[25,{"$f":"'Data '!D51","v":"NI'MA NOVA NUR FADHILAH"},{"$f":"Sikap!C38","v":3},{"$f":"Sikap!D38","v":3},{"$f":"Sikap!E38","v":3},{"$f":"Sikap!F38","v":3},{"$f":"Sikap!G38","v":3},{"$f":"Sikap!H38","v":3},{"$f":"Sikap!I38","v":3},{"$f":"Sikap!J38","v":3},{"$f":"Sikap!K38","v":3},{"$f":"Sikap!L38","v":3},{"$f":"Sikap!M38","v":3},{"$f":"Sikap!N38","v":"B"},{"$f":"Sikap!O38","v":"Tuntas"},null,null,null,{"$f":"Obs!AV37","v":"Menunjukkan sikap baik dalam spiritual, baik dalam jujur, baik dalam disiplin, baik dalam tanggungjawab, baik dalam toleransi, baik dalam gotong royong, baik dalam santun, baik dalam percaya diri, baik dalam ramah tamah, baik dalam ingin tahu"}]
[26,{"$f":"'Data '!D52","v":"NITA ZUMROTUT TAQIYAH"},{"$f":"Sikap!C39","v":3},{"$f":"Sikap!D39","v":3},{"$f":"Sikap!E39","v":3},{"$f":"Sikap!F39","v":3},{"$f":"Sikap!G39","v":3},{"$f":"Sikap!H39","v":3},{"$f":"Sikap!I39","v":3},{"$f":"Sikap!J39","v":3},{"$f":"Sikap!K39","v":3},{"$f":"Sikap!L39","v":3},{"$f":"Sikap!M39","v":3},{"$f":"Sikap!N39","v":"B"},{"$f":"Sikap!O39","v":"Tuntas"},null,null,null,{"$f":"Obs!AV38","v":"Menunjukkan sikap baik dalam spiritual, baik dalam jujur, baik dalam disiplin, baik dalam tanggungjawab, baik dalam toleransi, baik dalam gotong royong, baik dalam santun, baik dalam percaya diri, baik dalam ramah tamah, baik dalam ingin tahu"}]
[27,{"$f":"'Data '!D53","v":"RACHMAT SAPUTRA ANDRIANSYAH"},{"$f":"Sikap!C40","v":3},{"$f":"Sikap!D40","v":3},{"$f":"Sikap!E40","v":3},{"$f":"Sikap!F40","v":3},{"$f":"Sikap!G40","v":3},{"$f":"Sikap!H40","v":3},{"$f":"Sikap!I40","v":3},{"$f":"Sikap!J40","v":3},{"$f":"Sikap!K40","v":3},{"$f":"Sikap!L40","v":3},{"$f":"Sikap!M40","v":3},{"$f":"Sikap!N40","v":"B"},{"$f":"Sikap!O40","v":"Tuntas"},null,null,null,{"$f":"Obs!AV39","v":"Menunjukkan sikap baik dalam spiritual, baik dalam jujur, baik dalam disiplin, baik dalam tanggungjawab, baik dalam toleransi, baik dalam gotong royong, baik dalam santun, baik dalam percaya diri, baik dalam ramah tamah, baik dalam ingin tahu"}]
[28,{"$f":"'Data '!D54","v":"RIZAL ANDRIYAN SAPUTRA"},{"$f":"Sikap!C41","v":3},{"$f":"Sikap!D41","v":3},{"$f":"Sikap!E41","v":3},{"$f":"Sikap!F41","v":3},{"$f":"Sikap!G41","v":3},{"$f":"Sikap!H41","v":3},{"$f":"Sikap!I41","v":3},{"$f":"Sikap!J41","v":3},{"$f":"Sikap!K41","v":3},{"$f":"Sikap!L41","v":3},{"$f":"Sikap!M41","v":3},{"$f":"Sikap!N41","v":"B"},{"$f":"Sikap!O41","v":"Tuntas"},null,null,null,{"$f":"Obs!AV40","v":"Menunjukkan sikap baik dalam spiritual, baik dalam jujur, baik dalam disiplin, baik dalam tanggungjawab, baik dalam toleransi, baik dalam gotong royong, baik dalam santun, baik dalam percaya diri, baik dalam ramah tamah, baik dalam ingin tahu"}]
[29,{"$f":"'Data '!D55","v":"SAIFUL ANNAS"},{"$f":"Sikap!C42","v":3},{"$f":"Sikap!D42","v":3},{"$f":"Sikap!E42","v":3},{"$f":"Sikap!F42","v":3},{"$f":"Sikap!G42","v":3},{"$f":"Sikap!H42","v":3},{"$f":"Sikap!I42","v":3},{"$f":"Sikap!J42","v":3},{"$f":"Sikap!K42","v":3},{"$f":"Sikap!L42","v":3},{"$f":"Sikap!M42","v":3},{"$f":"Sikap!N42","v":"B"},{"$f":"Sikap!O42","v":"Tuntas"},null,null,null,{"$f":"Obs!AV41","v":"Menunjukkan sikap baik dalam spiritual, baik dalam jujur, baik dalam disiplin, baik dalam tanggungjawab, baik dalam toleransi, baik dalam gotong royong, baik dalam santun, baik dalam percaya diri, baik dalam ramah tamah, baik dalam ingin tahu"}]
[30,{"$f":"'Data '!D56","v":"SELINA SEPTIANI"},{"$f":"Sikap!C43","v":3},{"$f":"Sikap!D43","v":3},{"$f":"Sikap!E43","v":3},{"$f":"Sikap!F43","v":3},{"$f":"Sikap!G43","v":3},{"$f":"Sikap!H43","v":3},{"$f":"Sikap!I43","v":3},{"$f":"Sikap!J43","v":3},{"$f":"Sikap!K43","v":3},{"$f":"Sikap!L43","v":3},{"$f":"Sikap!M43","v":3},{"$f":"Sikap!N43","v":"B"},{"$f":"Sikap!O43","v":"Tuntas"},null,null,null,{"$f":"Obs!AV42","v":"Menunjukkan sikap baik dalam spiritual, baik dalam jujur, baik dalam disiplin, baik dalam tanggungjawab, baik dalam toleransi, baik dalam gotong royong, baik dalam santun, baik dalam percaya diri, baik dalam ramah tamah, baik dalam ingin tahu"}]
[31,{"$f":"'Data '!D57","v":"SHALSABILA  SHINTA NIRMALA"},{"$f":"Sikap!C44","v":3},{"$f":"Sikap!D44","v":3},{"$f":"Sikap!E44","v":3},{"$f":"Sikap!F44","v":3},{"$f":"Sikap!G44","v":3},{"$f":"Sikap!H44","v":3},{"$f":"Sikap!I44","v":3},{"$f":"Sikap!J44","v":3},{"$f":"Sikap!K44","v":3},{"$f":"Sikap!L44","v":3},{"$f":"Sikap!M44","v":3},{"$f":"Sikap!N44","v":"B"},{"$f":"Sikap!O44","v":"Tuntas"},null,null,null,{"$f":"Obs!AV43","v":"Menunjukkan sikap baik dalam spiritual, baik dalam jujur, baik dalam disiplin, baik dalam tanggungjawab, baik dalam toleransi, baik dalam gotong royong, baik dalam santun, baik dalam percaya diri, baik dalam ramah tamah, baik dalam ingin tahu"}]
[32,{"$f":"'Data '!D58","v":"SITI CHOIRIATUS SA'ADAH"},{"$f":"Sikap!C45","v":3},{"$f":"Sikap!D45","v":3},{"$f":"Sikap!E45","v":3},{"$f":"Sikap!F45","v":3},{"$f":"Sikap!G45","v":3},{"$f":"Sikap!H45","v":3},{"$f":"Sikap!I45","v":3},{"$f":"Sikap!J45","v":3},{"$f":"Sikap!K45","v":3},{"$f":"Sikap!L45","v":3},{"$f":"Sikap!M45","v":3},{"$f":"Sikap!N45","v":"B"},{"$f":"Sikap!O45","v":"Tuntas"},null,null,null,{"$f":"Obs!AV44","v":"Menunjukkan sikap baik dalam spiritual, baik dalam jujur, baik dalam disiplin, baik dalam tanggungjawab, baik dalam toleransi, baik dalam gotong royong, baik dalam santun, baik dalam percaya diri, baik dalam ramah tamah, baik dalam ingin tahu"}]
[33,{"$f":"'Data '!D59","v":"SITI NURFAN AZIZAH"},{"$f":"Sikap!C46","v":3},{"$f":"Sikap!D46","v":3},{"$f":"Sikap!E46","v":3},{"$f":"Sikap!F46","v":3},{"$f":"Sikap!G46","v":3},{"$f":"Sikap!H46","v":3},{"$f":"Sikap!I46","v":3},{"$f":"Sikap!J46","v":3},{"$f":"Sikap!K46","v":3},{"$f":"Sikap!L46","v":3},{"$f":"Sikap!M46","v":3},{"$f":"Sikap!N46","v":"B"},{"$f":"Sikap!O46","v":"Tuntas"},null,null,null,{"$f":"Obs!AV45","v":"Menunjukkan sikap baik dalam spiritual, baik dalam jujur, baik dalam disiplin, baik dalam tanggungjawab, baik dalam toleransi, baik dalam gotong royong, baik dalam santun, baik dalam percaya diri, baik dalam ramah tamah, baik dalam ingin tahu"}]
[34,{"$f":"'Data '!D60","v":"SITI RAHAYU"},{"$f":"Sikap!C47","v":3},{"$f":"Sikap!D47","v":3},{"$f":"Sikap!E47","v":3},{"$f":"Sikap!F47","v":3},{"$f":"Sikap!G47","v":3},{"$f":"Sikap!H47","v":3},{"$f":"Sikap!I47","v":3},{"$f":"Sikap!J47","v":3},{"$f":"Sikap!K47","v":3},{"$f":"Sikap!L47","v":3},{"$f":"Sikap!M47","v":3},{"$f":"Sikap!N47","v":"B"},{"$f":"Sikap!O47","v":"Tuntas"},null,null,null,{"$f":"Obs!AV46","v":"Menunjukkan sikap baik dalam spiritual, baik dalam jujur, baik dalam disiplin, baik dalam tanggungjawab, baik dalam toleransi, baik dalam gotong royong, baik dalam santun, baik dalam percaya diri, baik dalam ramah tamah, baik dalam ingin tahu"}]
[35,{"$f":"'Data '!D61","v":"STEVIANA PUSPITA SARI"},{"$f":"Sikap!C48","v":3},{"$f":"Sikap!D48","v":3},{"$f":"Sikap!E48","v":3},{"$f":"Sikap!F48","v":3},{"$f":"Sikap!G48","v":3},{"$f":"Sikap!H48","v":3},{"$f":"Sikap!I48","v":3},{"$f":"Sikap!J48","v":3},{"$f":"Sikap!K48","v":3},{"$f":"Sikap!L48","v":3},{"$f":"Sikap!M48","v":3},{"$f":"Sikap!N48","v":"B"},{"$f":"Sikap!O48","v":"Tuntas"},null,null,null,{"$f":"Obs!AV47","v":"Menunjukkan sikap baik dalam spiritual, baik dalam jujur, baik dalam disiplin, baik dalam tanggungjawab, baik dalam toleransi, baik dalam gotong royong, baik dalam santun, baik dalam percaya diri, baik dalam ramah tamah, baik dalam ingin tahu"}]
[36,{"$f":"'Data '!D62","v":"TAN LINGGAR PRAMUDITA"},{"$f":"Sikap!C49","v":3},{"$f":"Sikap!D49","v":3},{"$f":"Sikap!E49","v":3},{"$f":"Sikap!F49","v":3},{"$f":"Sikap!G49","v":3},{"$f":"Sikap!H49","v":3},{"$f":"Sikap!I49","v":3},{"$f":"Sikap!J49","v":3},{"$f":"Sikap!K49","v":3},{"$f":"Sikap!L49","v":3},{"$f":"Sikap!M49","v":3},{"$f":"Sikap!N49","v":"B"},{"$f":"Sikap!O49","v":"Tuntas"},null,null,"halaman 2",{"$f":"Obs!AV48","v":"Menunjukkan sikap baik dalam spiritual, baik dalam jujur, baik dalam disiplin, baik dalam tanggungjawab, baik dalam toleransi, baik dalam gotong royong, baik dalam santun, baik dalam percaya diri, baik dalam ramah tamah, baik dalam ingin tahu"}]
[37,{"$f":"'Data '!D63","v":"TAUFIK NUR AZIZ DANUARTA"},{"$f":"Sikap!C50","v":3},{"$f":"Sikap!D50","v":3},{"$f":"Sikap!E50","v":3},{"$f":"Sikap!F50","v":3},{"$f":"Sikap!G50","v":3},{"$f":"Sikap!H50","v":3},{"$f":"Sikap!I50","v":3},{"$f":"Sikap!J50","v":3},{"$f":"Sikap!K50","v":3},{"$f":"Sikap!L50","v":3},{"$f":"Sikap!M50","v":3},{"$f":"Sikap!N50","v":"B"},{"$f":"Sikap!O50","v":"Tuntas"},null,null,null,{"$f":"Obs!AV49","v":"Menunjukkan sikap baik dalam spiritual, baik dalam jujur, baik dalam disiplin, baik dalam tanggungjawab, baik dalam toleransi, baik dalam gotong royong, baik dalam santun, baik dalam percaya diri, baik dalam ramah tamah, baik dalam ingin tahu"}]
[38,{"$f":"'Data '!D64","v":"TIARA PUTRI AYUNINGTIAS"},{"$f":"Sikap!C51","v":3},{"$f":"Sikap!D51","v":3},{"$f":"Sikap!E51","v":3},{"$f":"Sikap!F51","v":3},{"$f":"Sikap!G51","v":3},{"$f":"Sikap!H51","v":3},{"$f":"Sikap!I51","v":3},{"$f":"Sikap!J51","v":3},{"$f":"Sikap!K51","v":3},{"$f":"Sikap!L51","v":3},{"$f":"Sikap!M51","v":3},{"$f":"Sikap!N51","v":"B"},{"$f":"Sikap!O51","v":"Tuntas"},null,null,null,{"$f":"Obs!AV50","v":"Menunjukkan sikap baik dalam spiritual, baik dalam jujur, baik dalam disiplin, baik dalam tanggungjawab, baik dalam toleransi, baik dalam gotong royong, baik dalam santun, baik dalam percaya diri, baik dalam ramah tamah, baik dalam ingin tahu"}]
[39,{"$f":"'Data '!D65","v":"TITANIA GAYATRI PRIANJANI"},{"$f":"Sikap!C52","v":3},{"$f":"Sikap!D52","v":3},{"$f":"Sikap!E52","v":3},{"$f":"Sikap!F52","v":3},{"$f":"Sikap!G52","v":3},{"$f":"Sikap!H52","v":3},{"$f":"Sikap!I52","v":3},{"$f":"Sikap!J52","v":3},{"$f":"Sikap!K52","v":3},{"$f":"Sikap!L52","v":3},{"$f":"Sikap!M52","v":3},{"$f":"Sikap!N52","v":"B"},{"$f":"Sikap!O52","v":"Tuntas"},null,null,null,{"$f":"Obs!AV51","v":"Menunjukkan sikap baik dalam spiritual, baik dalam jujur, baik dalam disiplin, baik dalam tanggungjawab, baik dalam toleransi, baik dalam gotong royong, baik dalam santun, baik dalam percaya diri, baik dalam ramah tamah, baik dalam ingin tahu"}]
[40,{"$f":"'Data '!D66","v":"ULFATUN NI'MAH"},{"$f":"Sikap!C53","v":3},{"$f":"Sikap!D53","v":3},{"$f":"Sikap!E53","v":3},{"$f":"Sikap!F53","v":3},{"$f":"Sikap!G53","v":3},{"$f":"Sikap!H53","v":3},{"$f":"Sikap!I53","v":3},{"$f":"Sikap!J53","v":3},{"$f":"Sikap!K53","v":3},{"$f":"Sikap!L53","v":3},{"$f":"Sikap!M53","v":3},{"$f":"Sikap!N53","v":"B"},{"$f":"Sikap!O53","v":"Tuntas"},null,null,null,{"$f":"Obs!AV52","v":"Menunjukkan sikap baik dalam spiritual, baik dalam jujur, baik dalam disiplin, baik dalam tanggungjawab, baik dalam toleransi, baik dalam gotong royong, baik dalam santun, baik dalam percaya diri, baik dalam ramah tamah, baik dalam ingin tahu"}]
[41,{"$f":"'Data '!D67","v":0},{"$f":"Sikap!C54","v":""},{"$f":"Sikap!D54","v":""},{"$f":"Sikap!E54","v":""},{"$f":"Sikap!F54","v":""},{"$f":"Sikap!G54","v":""},{"$f":"Sikap!H54","v":""},{"$f":"Sikap!I54","v":""},{"$f":"Sikap!J54","v":""},{"$f":"Sikap!K54","v":""},{"$f":"Sikap!L54","v":""},{"$f":"Sikap!M54","v":""},{"$f":"Sikap!N54","v":"SB"},{"$f":"Sikap!O54","v":"Tuntas"},null,null,null,{"$f":"Obs!AV53","v":""}]
[42,{"$f":"'Data '!D68","v":0},{"$f":"Sikap!C55","v":""},{"$f":"Sikap!D55","v":""},{"$f":"Sikap!E55","v":""},{"$f":"Sikap!F55","v":""},{"$f":"Sikap!G55","v":""},{"$f":"Sikap!H55","v":""},{"$f":"Sikap!I55","v":""},{"$f":"Sikap!J55","v":""},{"$f":"Sikap!K55","v":""},{"$f":"Sikap!L55","v":""},{"$f":"Sikap!M55","v":""},{"$f":"Sikap!N55","v":"SB"},{"$f":"Sikap!O55","v":"Tuntas"},null,null,null,{"$f":"Obs!AV54","v":""}]
[43,{"$f":"'Data '!D69","v":0},{"$f":"Sikap!C56","v":""},{"$f":"Sikap!D56","v":""},{"$f":"Sikap!E56","v":""},{"$f":"Sikap!F56","v":""},{"$f":"Sikap!G56","v":""},{"$f":"Sikap!H56","v":""},{"$f":"Sikap!I56","v":""},{"$f":"Sikap!J56","v":""},{"$f":"Sikap!K56","v":""},{"$f":"Sikap!L56","v":""},{"$f":"Sikap!M56","v":""},{"$f":"Sikap!N56","v":"SB"},{"$f":"Sikap!O56","v":"Tuntas"},null,null,null,{"$f":"Obs!AV55","v":""}]
[44,{"$f":"'Data '!D70","v":0},{"$f":"Sikap!C57","v":""},{"$f":"Sikap!D57","v":""},{"$f":"Sikap!E57","v":""},{"$f":"Sikap!F57","v":""},{"$f":"Sikap!G57","v":""},{"$f":"Sikap!H57","v":""},{"$f":"Sikap!I57","v":""},{"$f":"Sikap!J57","v":""},{"$f":"Sikap!K57","v":""},{"$f":"Sikap!L57","v":""},{"$f":"Sikap!M57","v":""},{"$f":"Sikap!N57","v":"SB"},{"$f":"Sikap!O57","v":"Tuntas"},null,null,null,{"$f":"Obs!AV56","v":""}]
[45,{"$f":"'Data '!D71","v":0},{"$f":"Sikap!C58","v":""},{"$f":"Sikap!D58","v":""},{"$f":"Sikap!E58","v":""},{"$f":"Sikap!F58","v":""},{"$f":"Sikap!G58","v":""},{"$f":"Sikap!H58","v":""},{"$f":"Sikap!I58","v":""},{"$f":"Sikap!J58","v":""},{"$f":"Sikap!K58","v":""},{"$f":"Sikap!L58","v":""},{"$f":"Sikap!M58","v":""},{"$f":"Sikap!N58","v":"SB"},{"$f":"Sikap!O58","v":"Tuntas"},null,null,null,{"$f":"Obs!AV57","v":""}]
[46,{"$f":"'Data '!D72","v":0},{"$f":"Sikap!C59","v":""},{"$f":"Sikap!D59","v":""},{"$f":"Sikap!E59","v":""},{"$f":"Sikap!F59","v":""},{"$f":"Sikap!G59","v":""},{"$f":"Sikap!H59","v":""},{"$f":"Sikap!I59","v":""},{"$f":"Sikap!J59","v":""},{"$f":"Sikap!K59","v":""},{"$f":"Sikap!L59","v":""},{"$f":"Sikap!M59","v":""},{"$f":"Sikap!N59","v":"SB"},{"$f":"Sikap!O59","v":"Tuntas"}]
[47,{"$f":"'Data '!D73","v":0},{"$f":"Sikap!C60","v":""},{"$f":"Sikap!D60","v":""},{"$f":"Sikap!E60","v":""},{"$f":"Sikap!F60","v":""},{"$f":"Sikap!G60","v":""},{"$f":"Sikap!H60","v":""},{"$f":"Sikap!I60","v":""},{"$f":"Sikap!J60","v":""},{"$f":"Sikap!K60","v":""},{"$f":"Sikap!L60","v":""},{"$f":"Sikap!M60","v":""},{"$f":"Sikap!N60","v":"SB"},{"$f":"Sikap!O60","v":"Tuntas"}]
[48,{"$f":"'Data '!D74","v":0},{"$f":"Sikap!C61","v":""},{"$f":"Sikap!D61","v":""},{"$f":"Sikap!E61","v":""},{"$f":"Sikap!F61","v":""},{"$f":"Sikap!G61","v":""},{"$f":"Sikap!H61","v":""},{"$f":"Sikap!I61","v":""},{"$f":"Sikap!J61","v":""},{"$f":"Sikap!K61","v":""},{"$f":"Sikap!L61","v":""},{"$f":"Sikap!M61","v":""},{"$f":"Sikap!N61","v":"SB"},{"$f":"Sikap!O61","v":"Tuntas"}]
[49,{"$f":"'Data '!D75","v":0},{"$f":"Sikap!C62","v":""},{"$f":"Sikap!D62","v":""},{"$f":"Sikap!E62","v":""},{"$f":"Sikap!F62","v":""},{"$f":"Sikap!G62","v":""},{"$f":"Sikap!H62","v":""},{"$f":"Sikap!I62","v":""},{"$f":"Sikap!J62","v":""},{"$f":"Sikap!K62","v":""},{"$f":"Sikap!L62","v":""},{"$f":"Sikap!M62","v":""},{"$f":"Sikap!N62","v":"SB"},{"$f":"Sikap!O62","v":"Tuntas"}]
[50,{"$f":"'Data '!D76","v":0},{"$f":"Sikap!C63","v":""},{"$f":"Sikap!D63","v":""},{"$f":"Sikap!E63","v":""},{"$f":"Sikap!F63","v":""},{"$f":"Sikap!G63","v":""},{"$f":"Sikap!H63","v":""},{"$f":"Sikap!I63","v":""},{"$f":"Sikap!J63","v":""},{"$f":"Sikap!K63","v":""},{"$f":"Sikap!L63","v":""},{"$f":"Sikap!M63","v":""},{"$f":"Sikap!N63","v":"SB"},{"$f":"Sikap!O63","v":"Tuntas"}]
[null,"Nilai Rata-rata",{"$f":"IFERROR(AVERAGE(C14:C63),\" \")","v":3},{"$f":"IFERROR(AVERAGE(D14:D63),\" \")","v":3},3,3,3,3,3,3,3,3,3,""]
[]
[null,null,"Jenis","Obs","Pdiri","Ptman","Jurnal","Jlh"]
[null,null,"Bobot",2,1,1,1,{"$f":"SUM(D67:G67)","v":5}]
[null,"Mengetahui:",null,null,"CATATAN:",null,null,null,null,null,null,null,{"$f":"'Data '!D21","v":"Blora, 20 Desember 2014"}]
[null,{"$f":"\"Ka. \"&'Data '!D7","v":"Ka. SMP Negeri 6 Blora"},null,null,"- Nilai Observasi menggunakan skala 1 s/d 4",null,null,null,null,null,null,null,"Guru Mata Pelajaran"]
[null,null,null,null,"- Nilai Obs1 berasal dari sheet Observasi 1."]
[null,null,null,null,"- Nilai Obs2 berasal dari sheet Observasi 2."]
[]
[null,{"$f":"'Data '!D15","v":"Suparno, S.Pd.,M.Hum"},null,null,null,null,null,null,null,null,null,null,{"$f":"Home!E12","v":"Drs. Sarid Nugroho"}]
[null,{"$f":"'Data '!D16","v":"NIP. 19620712 198403 1 012"},null,null,null,null,null,null,null,null,null,null,{"$f":"Home!E14","v":"NIP. 19631223 198803 1 004"}]

{"sheet":"4UTS","index":10,"n_rows":136,"n_cols":54,"rows_kept":136,"cut":false,"hidden":false,"merged":[[0,2,0,12],[1,2,1,12],[2,2,2,12],[3,2,5,12],[7,9,7,10],[66,2,66,3],[67,2,67,3],[12,2,12,3],[11,0,13,0],[11,1,13,1],[11,2,11,6],[8,2,8,4],[8,6,8,8],[7,2,7,5],[7,6,7,8],[12,53,13,53],[12,7,12,9],[11,7,11,11],[12,15,13,15],[8,9,8,10],[11,12,11,16],[7,11,7,12],[8,11,8,12],[8,13,8,15]]}
[null,null,{"$f":"UPPER('Data '!D10)","v":"PEMERINTAH KABUPATEN BLORA"}]
[null,null,{"$f":"UPPER('Data '!D6)","v":"DINAS PENDIDIKAN PEMUDA DAN OLAHRAGA"}]
[null,null,{"$f":"UPPER('Data '!D7)","v":"SMP NEGERI 6 BLORA"}]
[null,null,"DAFTAR NILAI LAPORAN ULANGAN TENGAH SEMESTER (UTS)"]
[]
[]
[]
[null,"Mata Pelajaran :",{"$f":"Home!E16","v":"PJOK"},null,null,null,"Semester  :",null,null,{"$f":"'Data '!D14","v":"Ganjil"},null,"KKM :",null,{"$f":"Home!E22","v":2.67}]
[null,"Kelas :",{"$f":"Home!E18","v":"VII-A"},null,null,null,"Tahun Pelajaran :",null,null,{"$f":"'Data '!D13","v":"2014/2015"},null,"Wali Kelas :",null,{"$f":"'Data '!D17","v":"Mundari, S.Pd."}]
[]
[]
["No. ","Nama","Aspek Pengetahuan",null,null,null,null,"Aspek Ketrampilan",null,null,null,null,"Aspek Sikap"]
[null,null,"Nilai Rerata",null,"Nilai","Capaian","Deskripsi","Nilai Rerata",null,null,"Capaian","Deskripsi","Obser-","Disi","Antar","Jurnal","Capaian"]
[null,null,"UH","Tugas","UTS","Kualitatif","Capaian Hasil belajar","UK","Proyek","Portf","Kualitatif","Capaian Hasil belajar","vasi","Sendiri","Teman",null,"Kualitatif"]
[1,{"$f":"'Data '!D27","v":"AHMAD ALEK BRIYANSAPUTRA"},{"$f":"IF(Pengetahuan!H21=\"\",\"\",Pengetahuan!H21)","v":80},{"$f":"IF(Pengetahuan!N21=\"\",\"\",Pengetahuan!N21)","v":80},{"$f":"IF(Pengetahuan!P21=\"\",\"\",Pengetahuan!P21)","v":75},{"$f":"IF(Pengetahuan!AA20=\"\",\"\",Pengetahuan!AA20)","v":"B"},{"$f":"IF(Pengetahuan!AB21=\"\",\"\",Pengetahuan!AB21)","v":"Kompetensi pengetahuan rerata sangat baik. "},{"$f":"IF(Ketrampilan!G21=\"\",\"\",Ketrampilan!G21)","v":80},{"$f":"IF(Ketrampilan!K21=\"\",\"\",Ketrampilan!K21)","v":80},{"$f":"IF(Ketrampilan!N21=\"\",\"\",Ketrampilan!N21)","v":80},{"$f":"IF(Ketrampilan!Q21=\"\",\"\",Ketrampilan!Q21)","v":"B+"},{"$f":"IF(Ketrampilan!AA21=\"\",\"\",Ketrampilan!AA21)","v":"Kompetensi ketrampilan rerata baik. "},{"$f":"IF(Sikap!E14=\"\",\"\",Sikap!E14)","v":3},{"$f":"IF(Sikap!H14=\"  \",\"  \",Sikap!H14)","v":3},{"$f":"IF(Sikap!K14=\"\",\"\",Sikap!K14)","v":3},{"$f":"IF(Sikap!L14=\"\",\"\",Sikap!L14)","v":3},{"$f":"IF(Sikap!N14=\"\",\"\",Sikap!N14)","v":"B"},null,null,null,null,null,null,null,null,null,null,null,null,null,null,null,null,null,null,null,null,null,null,null,null,null,null,null,null,null,null,null,null,null,null,null,null,{"$f":"CONCATENATE(IF(Q15>87.5,\"Kompetensi pengetahuan rerata sangat baik. \",IF(Q15>62.5,\"Kompetensi pengetahuan rerata baik. \",IF(Q15>37.5,\"Kompetensi pengetahuan rerata cukup. \",IF(Q15>1,\"Kompetensi pengetahuan rerata kurang. \",IF(Q15=\"\",\"\"))))),IF(C15>87.5,\"Sangat menguasai KD \"&#REF!,IF(C15>62.5,\"Menguasai KD \"&#REF!,IF(C15>37.5,\"Masih perlu latihan KD \"&#REF!,IF(C15>1,\"Perlu bimbingan KD \"&#REF!,IF(C15=\"\",\"\"))))),IF(D15>87.5,\", sangat menguasai KD \"&#REF!,IF(D15>62.5,\", menguasai KD \"&#REF!,IF(D15>37.5,\", masih perlu latihan KD \"&#REF!,IF(D15>1,\", perlu bimbingan KD \"&#REF!,IF(D15=\"\",\"\"))))),IF(E15>87.5,\". Sangat menguasai KD \"&#REF!,IF(E15>62.5,\". Menguasai KD \"&#REF!,IF(E15>37.5,\". Masih perlu latihan KD \"&#REF!,IF(E15>1,\". Perlu bimbingan KD \"&#REF!,IF(E15=\"\",\"\"))))),IF(F15>87.5,\", sangat menguasai KD \"&#REF!,IF(F15>62.5,\", menguasai KD \"&#REF!,IF(F15>37.5,\", masih perlu latihan KD \"&#REF!,IF(F15>1,\", perlu bimbingan KD \"&#REF!,IF(F15=\"\",\"\"))))))","v":{"$error":"#REF!"}}]
[2,{"$f":"'Data '!D28","v":"AULIA AYU FATINA"},{"$f":"IF(Pengetahuan!H22=\"\",\"\",Pengetahuan!H22)","v":80},{"$f":"IF(Pengetahuan!N22=\"\",\"\",Pengetahuan!N22)","v":80},{"$f":"IF(Pengetahuan!P22=\"\",\"\",Pengetahuan!P22)","v":75},{"$f":"IF(Pengetahuan!AA21=\"\",\"\",Pengetahuan!AA21)","v":"B"},{"$f":"IF(Pengetahuan!AB22=\"\",\"\",Pengetahuan!AB22)","v":"Kompetensi pengetahuan rerata sangat baik. "},{"$f":"IF(Ketrampilan!G22=\"\",\"\",Ketrampilan!G22)","v":80},{"$f":"IF(Ketrampilan!K22=\"\",\"\",Ketrampilan!K22)","v":80},{"$f":"IF(Ketrampilan!N22=\"\",\"\",Ketrampilan!N22)","v":80},{"$f":"IF(Ketrampilan!Q22=\"\",\"\",Ketrampilan!Q22)","v":"B+"},{"$f":"IF(Ketrampilan!AA22=\"\",\"\",Ketrampilan!AA22)","v":"Kompetensi ketrampilan rerata baik. "},{"$f":"IF(Sikap!E15=\"\",\"\",Sikap!E15)","v":3},{"$f":"IF(Sikap!H15=\"  \",\"  \",Sikap!H15)","v":3},{"$f":"IF(Sikap!K15=\"\",\"\",Sikap!K15)","v":3},{"$f":"IF(Sikap!L15=\"\",\"\",Sikap!L15)","v":3},{"$f":"IF(Sikap!N15=\"\",\"\",Sikap!N15)","v":"B"},null,null,null,null,null,null,null,null,null,null,null,null,null,null,null,null,null,null,null,null,null,null,null,null,null,null,null,null,null,null,null,null,null,null,null,null,{"$f":"CONCATENATE(IF(Q16>87.5,\"Kompetensi pengetahuan rerata sangat baik. \",IF(Q16>62.5,\"Kompetensi pengetahuan rerata baik. \",IF(Q16>37.5,\"Kompetensi pengetahuan rerata cukup. \",IF(Q16>1,\"Kompetensi pengetahuan rerata kurang. \",IF(Q16=\"\",\"\"))))),IF(C16>87.5,\"Sangat menguasai KD \"&#REF!,IF(C16>62.5,\"Menguasai KD \"&#REF!,IF(C16>37.5,\"Masih perlu latihan KD \"&#REF!,IF(C16>1,\"Perlu bimbingan KD \"&#REF!,IF(C16=\"\",\"\"))))),IF(D16>87.5,\", sangat menguasai KD \"&#REF!,IF(D16>62.5,\", menguasai KD \"&#REF!,IF(D16>37.5,\", masih perlu latihan KD \"&#REF!,IF(D16>1,\", perlu bimbingan KD \"&#REF!,IF(D16=\"\",\"\"))))),IF(E16>87.5,\". Sangat menguasai KD \"&#REF!,IF(E16>62.5,\". Menguasai KD \"&#REF!,IF(E16>37.5,\". Masih perlu latihan KD \"&#REF!,IF(E16>1,\". Perlu bimbingan KD \"&#REF!,IF(E16=\"\",\"\"))))),IF(F16>87.5,\", sangat menguasai KD \"&#REF!,IF(F16>62.5,\", menguasai KD \"&#REF!,IF(F16>37.5,\", masih perlu latihan KD \"&#REF!,IF(F16>1,\", perlu bimbingan KD \"&#REF!,IF(F16=\"\",\"\"))))))","v":{"$error":"#REF!"}}]
[3,{"$f":"'Data '!D29","v":"BAGAS YULANDRA PUTRA"},{"$f":"IF(Pengetahuan!H23=\"\",\"\",Pengetahuan!H23)","v":80},{"$f":"IF(Pengetahuan!N23=\"\",\"\",Pengetahuan!N23)","v":80},{"$f":"IF(Pengetahuan!P23=\"\",\"\",Pengetahuan!P23)","v":75},{"$f":"IF(Pengetahuan!AA22=\"\",\"\",Pengetahuan!AA22)","v":"B"},{"$f":"IF(Pengetahuan!AB23=\"\",\"\",Pengetahuan!AB23)","v":"Kompetensi pengetahuan rerata sangat baik. "},{"$f":"IF(Ketrampilan!G23=\"\",\"\",Ketrampilan!G23)","v":80},{"$f":"IF(Ketrampilan!K23=\"\",\"\",Ketrampilan!K23)","v":80},{"$f":"IF(Ketrampilan!N23=\"\",\"\",Ketrampilan!N23)","v":80},{"$f":"IF(Ketrampilan!Q23=\"\",\"\",Ketrampilan!Q23)","v":"B+"},{"$f":"IF(Ketrampilan!AA23=\"\",\"\",Ketrampilan!AA23)","v":"Kompetensi ketrampilan rerata baik. "},{"$f":"IF(Sikap!E16=\"\",\"\",Sikap!E16)","v":3},{"$f":"IF(Sikap!H16=\"  \",\"  \",Sikap!H16)","v":3},{"$f":"IF(Sikap!K16=\"\",\"\",Sikap!K16)","v":3},{"$f":"IF(Sikap!L16=\"\",\"\",Sikap!L16)","v":3},{"$f":"IF(Sikap!N16=\"\",\"\",Sikap!N16)","v":"B"},null,null,null,null,null,null,null,null,null,null,null,null,null,null,null,null,null,null,null,null,null,null,null,null,null,null,null,null,null,null,null,null,null,null,null,null,{"$f":"CONCATENATE(IF(Q17>87.5,\"Kompetensi pengetahuan rerata sangat baik. \",IF(Q17>62.5,\"Kompetensi pengetahuan rerata baik. \",IF(Q17>37.5,\"Kompetensi pengetahuan rerata cukup. \",IF(Q17>1,\"Kompetensi pengetahuan rerata kurang. \",IF(Q17=\"\",\"\"))))),IF(C17>87.5,\"Sangat menguasai KD \"&#REF!,IF(C17>62.5,\"Menguasai KD \"&#REF!,IF(C17>37.5,\"Masih perlu latihan KD \"&#REF!,IF(C17>1,\"Perlu bimbingan KD \"&#REF!,IF(C17=\"\",\"\"))))),IF(D17>87.5,\", sangat menguasai KD \"&#REF!,IF(D17>62.5,\", menguasai KD \"&#REF!,IF(D17>37.5,\", masih perlu latihan KD \"&#REF!,IF(D17>1,\", perlu bimbingan KD \"&#REF!,IF(D17=\"\",\"\"))))),IF(E17>87.5,\". Sangat menguasai KD \"&#REF!,IF(E17>62.5,\". Menguasai KD \"&#REF!,IF(E17>37.5,\". Masih perlu latihan KD \"&#REF!,IF(E17>1,\". Perlu bimbingan KD \"&#REF!,IF(E17=\"\",\"\"))))),IF(F17>87.5,\", sangat menguasai KD \"&#REF!,IF(F17>62.5,\", menguasai KD \"&#REF!,IF(F17>37.5,\", masih perlu latihan KD \"&#REF!,IF(F17>1,\", perlu bimbingan KD \"&#REF!,IF(F17=\"\",\"\"))))))","v":{"$error":"#REF!"}}]
[4,{"$f":"'Data '!D30","v":"CYNTIA AGUSTINA"},{"$f":"IF(Pengetahuan!H24=\"\",\"\",Pengetahuan!H24)","v":80},{"$f":"IF(Pengetahuan!N24=\"\",\"\",Pengetahuan!N24)","v":80},{"$f":"IF(Pengetahuan!P24=\"\",\"\",Pengetahuan!P24)","v":75},{"$f":"IF(Pengetahuan!AA23=\"\",\"\",Pengetahuan!AA23)","v":"B"},{"$f":"IF(Pengetahuan!AB24=\"\",\"\",Pengetahuan!AB24)","v":"Kompetensi pengetahuan rerata sangat baik. "},{"$f":"IF(Ketrampilan!G24=\"\",\"\",Ketrampilan!G24)","v":80},{"$f":"IF(Ketrampilan!K24=\"\",\"\",Ketrampilan!K24)","v":80},{"$f":"IF(Ketrampilan!N24=\"\",\"\",Ketrampilan!N24)","v":80},{"$f":"IF(Ketrampilan!Q24=\"\",\"\",Ketrampilan!Q24)","v":"B+"},{"$f":"IF(Ketrampilan!AA24=\"\",\"\",Ketrampilan!AA24)","v":"Kompetensi ketrampilan rerata baik. "},{"$f":"IF(Sikap!E17=\"\",\"\",Sikap!E17)","v":3},{"$f":"IF(Sikap!H17=\"  \",\"  \",Sikap!H17)","v":3},{"$f":"IF(Sikap!K17=\"\",\"\",Sikap!K17)","v":3},{"$f":"IF(Sikap!L17=\"\",\"\",Sikap!L17)","v":3},{"$f":"IF(Sikap!N17=\"\",\"\",Sikap!N17)","v":"B"},null,null,null,null,null,null,null,null,null,null,null,null,null,null,null,null,null,null,null,null,null,null,null,null,null,null,null,null,null,null,null,null,null,null,null,null,{"$f":"CONCATENATE(IF(Q18>87.5,\"Kompetensi pengetahuan rerata sangat baik. \",IF(Q18>62.5,\"Kompetensi pengetahuan rerata baik. \",IF(Q18>37.5,\"Kompetensi pengetahuan rerata cukup. \",IF(Q18>1,\"Kompetensi pengetahuan rerata kurang. \",IF(Q18=\"\",\"\"))))),IF(C18>87.5,\"Sangat menguasai KD \"&#REF!,IF(C18>62.5,\"Menguasai KD \"&#REF!,IF(C18>37.5,\"Masih perlu latihan KD \"&#REF!,IF(C18>1,\"Perlu bimbingan KD \"&#REF!,IF(C18=\"\",\"\"))))),IF(D18>87.5,\", sangat menguasai KD \"&#REF!,IF(D18>62.5,\", menguasai KD \"&#REF!,IF(D18>37.5,\", masih perlu latihan KD \"&#REF!,IF(D18>1,\", perlu bimbingan KD \"&#REF!,IF(D18=\"\",\"\"))))),IF(E18>87.5,\". Sangat menguasai KD \"&#REF!,IF(E18>62.5,\". Menguasai KD \"&#REF!,IF(E18>37.5,\". Masih perlu latihan KD \"&#REF!,IF(E18>1,\". Perlu bimbingan KD \"&#REF!,IF(E18=\"\",\"\"))))),IF(F18>87.5,\", sangat menguasai KD \"&#REF!,IF(F18>62.5,\", menguasai KD \"&#REF!,IF(F18>37.5,\", masih perlu latihan KD \"&#REF!,IF(F18>1,\", perlu bimbingan KD \"&#REF!,IF(F18=\"\",\"\"))))))","v":{"$error":"#REF!"}}]
[5,{"$f":"'Data '!D31","v":"DAFFA KRISNA PRAMUDYA"},{"$f":"IF(Pengetahuan!H25=\"\",\"\",Pengetahuan!H25)","v":80},{"$f":"IF(Pengetahuan!N25=\"\",\"\",Pengetahuan!N25)","v":80},{"$f":"IF(Pengetahuan!P25=\"\",\"\",Pengetahuan!P25)","v":75},{"$f":"IF(Pengetahuan!AA24=\"\",\"\",Pengetahuan!AA24)","v":"B"},{"$f":"IF(Pengetahuan!AB25=\"\",\"\",Pengetahuan!AB25)","v":"Kompetensi pengetahuan rerata sangat baik. "},{"$f":"IF(Ketrampilan!G25=\"\",\"\",Ketrampilan!G25)","v":80},{"$f":"IF(Ketrampilan!K25=\"\",\"\",Ketrampilan!K25)","v":80},{"$f":"IF(Ketrampilan!N25=\"\",\"\",Ketrampilan!N25)","v":80},{"$f":"IF(Ketrampilan!Q25=\"\",\"\",Ketrampilan!Q25)","v":"B+"},{"$f":"IF(Ketrampilan!AA25=\"\",\"\",Ketrampilan!AA25)","v":"Kompetensi ketrampilan rerata baik. "},{"$f":"IF(Sikap!E18=\"\",\"\",Sikap!E18)","v":3},{"$f":"IF(Sikap!H18=\"  \",\"  \",Sikap!H18)","v":3},{"$f":"IF(Sikap!K18=\"\",\"\",Sikap!K18)","v":3},{"$f":"IF(Sikap!L18=\"\",\"\",Sikap!L18)","v":3},{"$f":"IF(Sikap!N18=\"\",\"\",Sikap!N18)","v":"B"},null,null,null,null,null,null,null,null,null,null,null,null,null,null,null,null,null,null,null,null,null,null,null,null,null,null,null,null,null,null,null,null,null,null,null,null,{"$f":"CONCATENATE(IF(Q19>87.5,\"Kompetensi pengetahuan rerata sangat baik. \",IF(Q19>62.5,\"Kompetensi pengetahuan rerata baik. \",IF(Q19>37.5,\"Kompetensi pengetahuan rerata cukup. \",IF(Q19>1,\"Kompetensi pengetahuan rerata kurang. \",IF(Q19=\"\",\"\"))))),IF(C19>87.5,\"Sangat menguasai KD \"&#REF!,IF(C19>62.5,\"Menguasai KD \"&#REF!,IF(C19>37.5,\"Masih perlu latihan KD \"&#REF!,IF(C19>1,\"Perlu bimbingan KD \"&#REF!,IF(C19=\"\",\"\"))))),IF(D19>87.5,\", sangat menguasai KD \"&#REF!,IF(D19>62.5,\", menguasai KD \"&#REF!,IF(D19>37.5,\", masih perlu latihan KD \"&#REF!,IF(D19>1,\", perlu bimbingan KD \"&#REF!,IF(D19=\"\",\"\"))))),IF(E19>87.5,\". Sangat menguasai KD \"&#REF!,IF(E19>62.5,\". Menguasai KD \"&#REF!,IF(E19>37.5,\". Masih perlu latihan KD \"&#REF!,IF(E19>1,\". Perlu bimbingan KD \"&#REF!,IF(E19=\"\",\"\"))))),IF(F19>87.5,\", sangat menguasai KD \"&#REF!,IF(F19>62.5,\", menguasai KD \"&#REF!,IF(F19>37.5,\", masih perlu latihan KD \"&#REF!,IF(F19>1,\", perlu bimbingan KD \"&#REF!,IF(F19=\"\",\"\"))))))","v":{"$error":"#REF!"}}]
[6,{"$f":"'Data '!D32","v":"DANINDRA RAFIF IRAWAN"},{"$f":"IF(Pengetahuan!H26=\"\",\"\",Pengetahuan!H26)","v":80},{"$f":"IF(Pengetahuan!N26=\"\",\"\",Pengetahuan!N26)","v":80},{"$f":"IF(Pengetahuan!P26=\"\",\"\",Pengetahuan!P26)","v":75},{"$f":"IF(Pengetahuan!AA25=\"\",\"\",Pengetahuan!AA25)","v":"B"},{"$f":"IF(Pengetahuan!AB26=\"\",\"\",Pengetahuan!AB26)","v":"Kompetensi pengetahuan rerata sangat baik. "},{"$f":"IF(Ketrampilan!G26=\"\",\"\",Ketrampilan!G26)","v":80},{"$f":"IF(Ketrampilan!K26=\"\",\"\",Ketrampilan!K26)","v":80},{"$f":"IF(Ketrampilan!N26=\"\",\"\",Ketrampilan!N26)","v":80},{"$f":"IF(Ketrampilan!Q26=\"\",\"\",Ketrampilan!Q26)","v":"B+"},{"$f":"IF(Ketrampilan!AA26=\"\",\"\",Ketrampilan!AA26)","v":"Kompetensi ketrampilan rerata baik. "},{"$f":"IF(Sikap!E19=\"\",\"\",Sikap!E19)","v":3},{"$f":"IF(Sikap!H19=\"  \",\"  \",Sikap!H19)","v":3},{"$f":"IF(Sikap!K19=\"\",\"\",Sikap!K19)","v":3},{"$f":"IF(Sikap!L19=\"\",\"\",Sikap!L19)","v":3},{"$f":"IF(Sikap!N19=\"\",\"\",Sikap!N19)","v":"B"},null,null,null,null,null,null,null,null,null,null,null,null,null,null,null,null,null,null,null,null,null,null,null,null,null,null,null,null,null,null,null,null,null,null,null,null,{"$f":"CONCATENATE(IF(Q20>87.5,\"Kompetensi pengetahuan rerata sangat baik. \",IF(Q20>62.5,\"Kompetensi pengetahuan rerata baik. \",IF(Q20>37.5,\"Kompetensi pengetahuan rerata cukup. \",IF(Q20>1,\"Kompetensi pengetahuan rerata kurang. \",IF(Q20=\"\",\"\"))))),IF(C20>87.5,\"Sangat menguasai KD \"&#REF!,IF(C20>62.5,\"Menguasai KD \"&#REF!,IF(C20>37.5,\"Masih perlu latihan KD \"&#REF!,IF(C20>1,\"Perlu bimbingan KD \"&#REF!,IF(C20=\"\",\"\"))))),IF(D20>87.5,\", sangat menguasai KD \"&#REF!,IF(D20>62.5,\", menguasai KD \"&#REF!,IF(D20>37.5,\", masih perlu latihan KD \"&#REF!,IF(D20>1,\", perlu bimbingan KD \"&#REF!,IF(D20=\"\",\"\"))))),IF(E20>87.5,\". Sangat menguasai KD \"&#REF!,IF(E20>62.5,\". Menguasai KD \"&#REF!,IF(E20>37.5,\". Masih perlu latihan KD \"&#REF!,IF(E20>1,\". Perlu bimbingan KD \"&#REF!,IF(E20=\"\",\"\"))))),IF(F20>87.5,\", sangat menguasai KD \"&#REF!,IF(F20>62.5,\", menguasai KD \"&#REF!,IF(F20>37.5,\", masih perlu latihan KD \"&#REF!,IF(F20>1,\", perlu bimbingan KD \"&#REF!,IF(F20=\"\",\"\"))))))","v":{"$error":"#REF!"}}]
[7,{"$f":"'Data '!D33","v":"DENI PRATAMA"},{"$f":"IF(Pengetahuan!H27=\"\",\"\",Pengetahuan!H27)","v":80},{"$f":"IF(Pengetahuan!N27=\"\",\"\",Pengetahuan!N27)","v":80},{"$f":"IF(Pengetahuan!P27=\"\",\"\",Pengetahuan!P27)","v":75},{"$f":"IF(Pengetahuan!AA26=\"\",\"\",Pengetahuan!AA26)","v":"B"},{"$f":"IF(Pengetahuan!AB27=\"\",\"\",Pengetahuan!AB27)","v":"Kompetensi pengetahuan rerata sangat baik. "},{"$f":"IF(Ketrampilan!G27=\"\",\"\",Ketrampilan!G27)","v":80},{"$f":"IF(Ketrampilan!K27=\"\",\"\",Ketrampilan!K27)","v":80},{"$f":"IF(Ketrampilan!N27=\"\",\"\",Ketrampilan!N27)","v":80},{"$f":"IF(Ketrampilan!Q27=\"\",\"\",Ketrampilan!Q27)","v":"B+"},{"$f":"IF(Ketrampilan!AA27=\"\",\"\",Ketrampilan!AA27)","v":"Kompetensi ketrampilan rerata baik. "},{"$f":"IF(Sikap!E20=\"\",\"\",Sikap!E20)","v":3},{"$f":"IF(Sikap!H20=\"  \",\"  \",Sikap!H20)","v":3},{"$f":"IF(Sikap!K20=\"\",\"\",Sikap!K20)","v":3},{"$f":"IF(Sikap!L20=\"\",\"\",Sikap!L20)","v":3},{"$f":"IF(Sikap!N20=\"\",\"\",Sikap!N20)","v":"B"},null,null,null,null,null,null,null,null,null,null,null,null,null,null,null,null,null,null,null,null,null,null,null,null,null,null,null,null,null,null,null,null,null,null,null,null,{"$f":"CONCATENATE(IF(Q21>87.5,\"Kompetensi pengetahuan rerata sangat baik. \",IF(Q21>62.5,\"Kompetensi pengetahuan rerata baik. \",IF(Q21>37.5,\"Kompetensi pengetahuan rerata cukup. \",IF(Q21>1,\"Kompetensi pengetahuan rerata kurang. \",IF(Q21=\"\",\"\"))))),IF(C21>87.5,\"Sangat menguasai KD \"&#REF!,IF(C21>62.5,\"Menguasai KD \"&#REF!,IF(C21>37.5,\"Masih perlu latihan KD \"&#REF!,IF(C21>1,\"Perlu bimbingan KD \"&#REF!,IF(C21=\"\",\"\"))))),IF(D21>87.5,\", sangat menguasai KD \"&#REF!,IF(D21>62.5,\", menguasai KD \"&#REF!,IF(D21>37.5,\", masih perlu latihan KD \"&#REF!,IF(D21>1,\", perlu bimbingan KD \"&#REF!,IF(D21=\"\",\"\"))))),IF(E21>87.5,\". Sangat menguasai KD \"&#REF!,IF(E21>62.5,\". Menguasai KD \"&#REF!,IF(E21>37.5,\". Masih perlu latihan KD \"&#REF!,IF(E21>1,\". Perlu bimbingan KD \"&#REF!,IF(E21=\"\",\"\"))))),IF(F21>87.5,\", sangat menguasai KD \"&#REF!,IF(F21>62.5,\", menguasai KD \"&#REF!,IF(F21>37.5,\", masih perlu latihan KD \"&#REF!,IF(F21>1,\", perlu bimbingan KD \"&#REF!,IF(F21=\"\",\"\"))))))","v":{"$error":"#REF!"}}]
[8,{"$f":"'Data '!D34","v":"DIKA SUKMA AGUSTIN"},{"$f":"IF(Pengetahuan!H28=\"\",\"\",Pengetahuan!H28)","v":80},{"$f":"IF(Pengetahuan!N28=\"\",\"\",Pengetahuan!N28)","v":80},{"$f":"IF(Pengetahuan!P28=\"\",\"\",Pengetahuan!P28)","v":75},{"$f":"IF(Pengetahuan!AA27=\"\",\"\",Pengetahuan!AA27)","v":"B"},{"$f":"IF(Pengetahuan!AB28=\"\",\"\",Pengetahuan!AB28)","v":"Kompetensi pengetahuan rerata sangat baik. "},{"$f":"IF(Ketrampilan!G28=\"\",\"\",Ketrampilan!G28)","v":80},{"$f":"IF(Ketrampilan!K28=\"\",\"\",Ketrampilan!K28)","v":80},{"$f":"IF(Ketrampilan!N28=\"\",\"\",Ketrampilan!N28)","v":80},{"$f":"IF(Ketrampilan!Q28=\"\",\"\",Ketrampilan!Q28)","v":"B+"},{"$f":"IF(Ketrampilan!AA28=\"\",\"\",Ketrampilan!AA28)","v":"Kompetensi ketrampilan rerata baik. "},{"$f":"IF(Sikap!E21=\"\",\"\",Sikap!E21)","v":3},{"$f":"IF(Sikap!H21=\"  \",\"  \",Sikap!H21)","v":3},{"$f":"IF(Sikap!K21=\"\",\"\",Sikap!K21)","v":3},{"$f":"IF(Sikap!L21=\"\",\"\",Sikap!L21)","v":3},{"$f":"IF(Sikap!N21=\"\",\"\",Sikap!N21)","v":"B"},null,null,null,null,null,null,null,null,null,null,null,null,null,null,null,null,null,null,null,null,null,null,null,null,null,null,null,null,null,null,null,null,null,null,null,null,{"$f":"CONCATENATE(IF(Q22>87.5,\"Kompetensi pengetahuan rerata sangat baik. \",IF(Q22>62.5,\"Kompetensi pengetahuan rerata baik. \",IF(Q22>37.5,\"Kompetensi pengetahuan rerata cukup. \",IF(Q22>1,\"Kompetensi pengetahuan rerata kurang. \",IF(Q22=\"\",\"\"))))),IF(C22>87.5,\"Sangat menguasai KD \"&#REF!,IF(C22>62.5,\"Menguasai KD \"&#REF!,IF(C22>37.5,\"Masih perlu latihan KD \"&#REF!,IF(C22>1,\"Perlu bimbingan KD \"&#REF!,IF(C22=\"\",\"\"))))),IF(D22>87.5,\", sangat menguasai KD \"&#REF!,IF(D22>62.5,\", menguasai KD \"&#REF!,IF(D22>37.5,\", masih perlu latihan KD \"&#REF!,IF(D22>1,\", perlu bimbingan KD \"&#REF!,IF(D22=\"\",\"\"))))),IF(E22>87.5,\". Sangat menguasai KD \"&#REF!,IF(E22>62.5,\". Menguasai KD \"&#REF!,IF(E22>37.5,\". Masih perlu latihan KD \"&#REF!,IF(E22>1,\". Perlu bimbingan KD \"&#REF!,IF(E22=\"\",\"\"))))),IF(F22>87.5,\", sangat menguasai KD \"&#REF!,IF(F22>62.5,\", menguasai KD \"&#REF!,IF(F22>37.5,\", masih perlu latihan KD \"&#REF!,IF(F22>1,\", perlu bimbingan KD \"&#REF!,IF(F22=\"\",\"\"))))))","v":{"$error":"#REF!"}}]
[9,{"$f":"'Data '!D35","v":"DIVA ADITYA"},{"$f":"IF(Pengetahuan!H29=\"\",\"\",Pengetahuan!H29)","v":80},{"$f":"IF(Pengetahuan!N29=\"\",\"\",Pengetahuan!N29)","v":80},{"$f":"IF(Pengetahuan!P29=\"\",\"\",Pengetahuan!P29)","v":75},{"$f":"IF(Pengetahuan!AA28=\"\",\"\",Pengetahuan!AA28)","v":"B"},{"$f":"IF(Pengetahuan!AB29=\"\",\"\",Pengetahuan!AB29)","v":"Kompetensi pengetahuan rerata sangat baik. "},{"$f":"IF(Ketrampilan!G29=\"\",\"\",Ketrampilan!G29)","v":80},{"$f":"IF(Ketrampilan!K29=\"\",\"\",Ketrampilan!K29)","v":80},{"$f":"IF(Ketrampilan!N29=\"\",\"\",Ketrampilan!N29)","v":80},{"$f":"IF(Ketrampilan!Q29=\"\",\"\",Ketrampilan!Q29)","v":"B+"},{"$f":"IF(Ketrampilan!AA29=\"\",\"\",Ketrampilan!AA29)","v":"Kompetensi ketrampilan rerata baik. "},{"$f":"IF(Sikap!E22=\"\",\"\",Sikap!E22)","v":3},{"$f":"IF(Sikap!H22=\"  \",\"  \",Sikap!H22)","v":3},{"$f":"IF(Sikap!K22=\"\",\"\",Sikap!K22)","v":3},{"$f":"IF(Sikap!L22=\"\",\"\",Sikap!L22)","v":3},{"$f":"IF(Sikap!N22=\"\",\"\",Sikap!N22)","v":"B"},null,null,null,null,null,null,null,null,null,null,null,null,null,null,null,null,null,null,null,null,null,null,null,null,null,null,null,null,null,null,null,null,null,null,null,null,{"$f":"CONCATENATE(IF(Q23>87.5,\"Kompetensi pengetahuan rerata sangat baik. \",IF(Q23>62.5,\"Kompetensi pengetahuan rerata baik. \",IF(Q23>37.5,\"Kompetensi pengetahuan rerata cukup. \",IF(Q23>1,\"Kompetensi pengetahuan rerata kurang. \",IF(Q23=\"\",\"\"))))),IF(C23>87.5,\"Sangat menguasai KD \"&#REF!,IF(C23>62.5,\"Menguasai KD \"&#REF!,IF(C23>37.5,\"Masih perlu latihan KD \"&#REF!,IF(C23>1,\"Perlu bimbingan KD \"&#REF!,IF(C23=\"\",\"\"))))),IF(D23>87.5,\", sangat menguasai KD \"&#REF!,IF(D23>62.5,\", menguasai KD \"&#REF!,IF(D23>37.5,\", masih perlu latihan KD \"&#REF!,IF(D23>1,\", perlu bimbingan KD \"&#REF!,IF(D23=\"\",\"\"))))),IF(E23>87.5,\". Sangat menguasai KD \"&#REF!,IF(E23>62.5,\". Menguasai KD \"&#REF!,IF(E23>37.5,\". Masih perlu latihan KD \"&#REF!,IF(E23>1,\". Perlu bimbingan KD \"&#REF!,IF(E23=\"\",\"\"))))),IF(F23>87.5,\", sangat menguasai KD \"&#REF!,IF(F23>62.5,\", menguasai KD \"&#REF!,IF(F23>37.5,\", masih perlu latihan KD \"&#REF!,IF(F23>1,\", perlu bimbingan KD \"&#REF!,IF(F23=\"\",\"\"))))))","v":{"$error":"#REF!"}}]
[10,{"$f":"'Data '!D36","v":"EKO PRASTYO"},{"$f":"IF(Pengetahuan!H30=\"\",\"\",Pengetahuan!H30)","v":80},{"$f":"IF(Pengetahuan!N30=\"\",\"\",Pengetahuan!N30)","v":80},{"$f":"IF(Pengetahuan!P30=\"\",\"\",Pengetahuan!P30)","v":75},{"$f":"IF(Pengetahuan!AA29=\"\",\"\",Pengetahuan!AA29)","v":"B"},{"$f":"IF(Pengetahuan!AB30=\"\",\"\",Pengetahuan!AB30)","v":"Kompetensi pengetahuan rerata sangat baik. "},{"$f":"IF(Ketrampilan!G30=\"\",\"\",Ketrampilan!G30)","v":80},{"$f":"IF(Ketrampilan!K30=\"\",\"\",Ketrampilan!K30)","v":80},{"$f":"IF(Ketrampilan!N30=\"\",\"\",Ketrampilan!N30)","v":80},{"$f":"IF(Ketrampilan!Q30=\"\",\"\",Ketrampilan!Q30)","v":"B+"},{"$f":"IF(Ketrampilan!AA30=\"\",\"\",Ketrampilan!AA30)","v":"Kompetensi ketrampilan rerata baik. "},{"$f":"IF(Sikap!E23=\"\",\"\",Sikap!E23)","v":3},{"$f":"IF(Sikap!H23=\"  \",\"  \",Sikap!H23)","v":3},{"$f":"IF(Sikap!K23=\"\",\"\",Sikap!K23)","v":3},{"$f":"IF(Sikap!L23=\"\",\"\",Sikap!L23)","v":3},{"$f":"IF(Sikap!N23=\"\",\"\",Sikap!N23)","v":"B"},null,null,null,null,null,null,null,null,null,null,null,null,null,null,null,null,null,null,null,null,null,null,null,null,null,null,null,null,null,null,null,null,null,null,null,null,{"$f":"CONCATENATE(IF(Q24>87.5,\"Kompetensi pengetahuan rerata sangat baik. \",IF(Q24>62.5,\"Kompetensi pengetahuan rerata baik. \",IF(Q24>37.5,\"Kompetensi pengetahuan rerata cukup. \",IF(Q24>1,\"Kompetensi pengetahuan rerata kurang. \",IF(Q24=\"\",\"\"))))),IF(C24>87.5,\"Sangat menguasai KD \"&#REF!,IF(C24>62.5,\"Menguasai KD \"&#REF!,IF(C24>37.5,\"Masih perlu latihan KD \"&#REF!,IF(C24>1,\"Perlu bimbingan KD \"&#REF!,IF(C24=\"\",\"\"))))),IF(D24>87.5,\", sangat menguasai KD \"&#REF!,IF(D24>62.5,\", menguasai KD \"&#REF!,IF(D24>37.5,\", masih perlu latihan KD \"&#REF!,IF(D24>1,\", perlu bimbingan KD \"&#REF!,IF(D24=\"\",\"\"))))),IF(E24>87.5,\". Sangat menguasai KD \"&#REF!,IF(E24>62.5,\". Menguasai KD \"&#REF!,IF(E24>37.5,\". Masih perlu latihan KD \"&#REF!,IF(E24>1,\". Perlu bimbingan KD \"&#REF!,IF(E24=\"\",\"\"))))),IF(F24>87.5,\", sangat menguasai KD \"&#REF!,IF(F24>62.5,\", menguasai KD \"&#REF!,IF(F24>37.5,\", masih perlu latihan KD \"&#REF!,IF(F24>1,\", perlu bimbingan KD \"&#REF!,IF(F24=\"\",\"\"))))))","v":{"$error":"#REF!"}}]
[11,{"$f":"'Data '!D37","v":"FAIQUR RIJAL HAMMAM"},{"$f":"IF(Pengetahuan!H31=\"\",\"\",Pengetahuan!H31)","v":80},{"$f":"IF(Pengetahuan!N31=\"\",\"\",Pengetahuan!N31)","v":80},{"$f":"IF(Pengetahuan!P31=\"\",\"\",Pengetahuan!P31)","v":75},{"$f":"IF(Pengetahuan!AA30=\"\",\"\",Pengetahuan!AA30)","v":"B"},{"$f":"IF(Pengetahuan!AB31=\"\",\"\",Pengetahuan!AB31)","v":"Kompetensi pengetahuan rerata sangat baik. "},{"$f":"IF(Ketrampilan!G31=\"\",\"\",Ketrampilan!G31)","v":80},{"$f":"IF(Ketrampilan!K31=\"\",\"\",Ketrampilan!K31)","v":80},{"$f":"IF(Ketrampilan!N31=\"\",\"\",Ketrampilan!N31)","v":80},{"$f":"IF(Ketrampilan!Q31=\"\",\"\",Ketrampilan!Q31)","v":"B+"},{"$f":"IF(Ketrampilan!AA31=\"\",\"\",Ketrampilan!AA31)","v":"Kompetensi ketrampilan rerata baik. "},{"$f":"IF(Sikap!E24=\"\",\"\",Sikap!E24)","v":3},{"$f":"IF(Sikap!H24=\"  \",\"  \",Sikap!H24)","v":3},{"$f":"IF(Sikap!K24=\"\",\"\",Sikap!K24)","v":3},{"$f":"IF(Sikap!L24=\"\",\"\",Sikap!L24)","v":3},{"$f":"IF(Sikap!N24=\"\",\"\",Sikap!N24)","v":"B"},null,null,null,null,null,null,null,null,null,null,null,null,null,null,null,null,null,null,null,null,null,null,null,null,null,null,null,null,null,null,null,null,null,null,null,null,{"$f":"CONCATENATE(IF(Q25>87.5,\"Kompetensi pengetahuan rerata sangat baik. \",IF(Q25>62.5,\"Kompetensi pengetahuan rerata baik. \",IF(Q25>37.5,\"Kompetensi pengetahuan rerata cukup. \",IF(Q25>1,\"Kompetensi pengetahuan rerata kurang. \",IF(Q25=\"\",\"\"))))),IF(C25>87.5,\"Sangat menguasai KD \"&#REF!,IF(C25>62.5,\"Menguasai KD \"&#REF!,IF(C25>37.5,\"Masih perlu latihan KD \"&#REF!,IF(C25>1,\"Perlu bimbingan KD \"&#REF!,IF(C25=\"\",\"\"))))),IF(D25>87.5,\", sangat menguasai KD \"&#REF!,IF(D25>62.5,\", menguasai KD \"&#REF!,IF(D25>37.5,\", masih perlu latihan KD \"&#REF!,IF(D25>1,\", perlu bimbingan KD \"&#REF!,IF(D25=\"\",\"\"))))),IF(E25>87.5,\". Sangat menguasai KD \"&#REF!,IF(E25>62.5,\". Menguasai KD \"&#REF!,IF(E25>37.5,\". Masih perlu latihan KD \"&#REF!,IF(E25>1,\". Perlu bimbingan KD \"&#REF!,IF(E25=\"\",\"\"))))),IF(F25>87.5,\", sangat menguasai KD \"&#REF!,IF(F25>62.5,\", menguasai KD \"&#REF!,IF(F25>37.5,\", masih perlu latihan KD \"&#REF!,IF(F25>1,\", perlu bimbingan KD \"&#REF!,IF(F25=\"\",\"\"))))))","v":{"$error":"#REF!"}}]
[12,{"$f":"'Data '!D38","v":"FATESAR SARI PRASETYO"},{"$f":"IF(Pengetahuan!H32=\"\",\"\",Pengetahuan!H32)","v":80},{"$f":"IF(Pengetahuan!N32=\"\",\"\",Pengetahuan!N32)","v":80},{"$f":"IF(Pengetahuan!P32=\"\",\"\",Pengetahuan!P32)","v":75},{"$f":"IF(Pengetahuan!AA31=\"\",\"\",Pengetahuan!AA31)","v":"B"},{"$f":"IF(Pengetahuan!AB32=\"\",\"\",Pengetahuan!AB32)","v":"Kompetensi pengetahuan rerata sangat baik. "},{"$f":"IF(Ketrampilan!G32=\"\",\"\",Ketrampilan!G32)","v":80},{"$f":"IF(Ketrampilan!K32=\"\",\"\",Ketrampilan!K32)","v":80},{"$f":"IF(Ketrampilan!N32=\"\",\"\",Ketrampilan!N32)","v":80},{"$f":"IF(Ketrampilan!Q32=\"\",\"\",Ketrampilan!Q32)","v":"B+"},{"$f":"IF(Ketrampilan!AA32=\"\",\"\",Ketrampilan!AA32)","v":"Kompetensi ketrampilan rerata baik. "},{"$f":"IF(Sikap!E25=\"\",\"\",Sikap!E25)","v":3},{"$f":"IF(Sikap!H25=\"  \",\"  \",Sikap!H25)","v":3},{"$f":"IF(Sikap!K25=\"\",\"\",Sikap!K25)","v":3},{"$f":"IF(Sikap!L25=\"\",\"\",Sikap!L25)","v":3},{"$f":"IF(Sikap!N25=\"\",\"\",Sikap!N25)","v":"B"},null,null,"halaman 2",null,null,null,null,null,null,null,null,null,null,null,null,null,null,null,null,null,null,null,null,null,null,null,null,null,null,null,null,null,null,null,null,null,{"$f":"CONCATENATE(IF(Q26>87.5,\"Kompetensi pengetahuan rerata sangat baik. \",IF(Q26>62.5,\"Kompetensi pengetahuan rerata baik. \",IF(Q26>37.5,\"Kompetensi pengetahuan rerata cukup. \",IF(Q26>1,\"Kompetensi pengetahuan rerata kurang. \",IF(Q26=\"\",\"\"))))),IF(C26>87.5,\"Sangat menguasai KD \"&#REF!,IF(C26>62.5,\"Menguasai KD \"&#REF!,IF(C26>37.5,\"Masih perlu latihan KD \"&#REF!,IF(C26>1,\"Perlu bimbingan KD \"&#REF!,IF(C26=\"\",\"\"))))),IF(D26>87.5,\", sangat menguasai KD \"&#REF!,IF(D26>62.5,\", menguasai KD \"&#REF!,IF(D26>37.5,\", masih perlu latihan KD \"&#REF!,IF(D26>1,\", perlu bimbingan KD \"&#REF!,IF(D26=\"\",\"\"))))),IF(E26>87.5,\". Sangat menguasai KD \"&#REF!,IF(E26>62.5,\". Menguasai KD \"&#REF!,IF(E26>37.5,\". Masih perlu latihan KD \"&#REF!,IF(E26>1,\". Perlu bimbingan KD \"&#REF!,IF(E26=\"\",\"\"))))),IF(F26>87.5,\", sangat menguasai KD \"&#REF!,IF(F26>62.5,\", menguasai KD \"&#REF!,IF(F26>37.5,\", masih perlu latihan KD \"&#REF!,IF(F26>1,\", perlu bimbingan KD \"&#REF!,IF(F26=\"\",\"\"))))))","v":{"$error":"#REF!"}}]
[13,{"$f":"'Data '!D39","v":"FEBRI SULISTIYO"},{"$f":"IF(Pengetahuan!H33=\"\",\"\",Pengetahuan!H33)","v":80},{"$f":"IF(Pengetahuan!N33=\"\",\"\",Pengetahuan!N33)","v":80},{"$f":"IF(Pengetahuan!P33=\"\",\"\",Pengetahuan!P33)","v":75},{"$f":"IF(Pengetahuan!AA32=\"\",\"\",Pengetahuan!AA32)","v":"B"},{"$f":"IF(Pengetahuan!AB33=\"\",\"\",Pengetahuan!AB33)","v":"Kompetensi pengetahuan rerata sangat baik. "},{"$f":"IF(Ketrampilan!G33=\"\",\"\",Ketrampilan!G33)","v":80},{"$f":"IF(Ketrampilan!K33=\"\",\"\",Ketrampilan!K33)","v":80},{"$f":"IF(Ketrampilan!N33=\"\",\"\",Ketrampilan!N33)","v":80},{"$f":"IF(Ketrampilan!Q33=\"\",\"\",Ketrampilan!Q33)","v":"B+"},{"$f":"IF(Ketrampilan!AA33=\"\",\"\",Ketrampilan!AA33)","v":"Kompetensi ketrampilan rerata baik. "},{"$f":"IF(Sikap!E26=\"\",\"\",Sikap!E26)","v":3},{"$f":"IF(Sikap!H26=\"  \",\"  \",Sikap!H26)","v":3},{"$f":"IF(Sikap!K26=\"\",\"\",Sikap!K26)","v":3},{"$f":"IF(Sikap!L26=\"\",\"\",Sikap!L26)","v":3},{"$f":"IF(Sikap!N26=\"\",\"\",Sikap!N26)","v":"B"},null,null,null,null,null,null,null,null,null,null,null,null,null,null,null,null,null,null,null,null,null,null,null,null,null,null,null,null,null,null,null,null,null,null,null,null,{"$f":"CONCATENATE(IF(Q27>87.5,\"Kompetensi pengetahuan rerata sangat baik. \",IF(Q27>62.5,\"Kompetensi pengetahuan rerata baik. \",IF(Q27>37.5,\"Kompetensi pengetahuan rerata cukup. \",IF(Q27>1,\"Kompetensi pengetahuan rerata kurang. \",IF(Q27=\"\",\"\"))))),IF(C27>87.5,\"Sangat menguasai KD \"&#REF!,IF(C27>62.5,\"Menguasai KD \"&#REF!,IF(C27>37.5,\"Masih perlu latihan KD \"&#REF!,IF(C27>1,\"Perlu bimbingan KD \"&#REF!,IF(C27=\"\",\"\"))))),IF(D27>87.5,\", sangat menguasai KD \"&#REF!,IF(D27>62.5,\", menguasai KD \"&#REF!,IF(D27>37.5,\", masih perlu latihan KD \"&#REF!,IF(D27>1,\", perlu bimbingan KD \"&#REF!,IF(D27=\"\",\"\"))))),IF(E27>87.5,\". Sangat menguasai KD \"&#REF!,IF(E27>62.5,\". Menguasai KD \"&#REF!,IF(E27>37.5,\". Masih perlu latihan KD \"&#REF!,IF(E27>1,\". Perlu bimbingan KD \"&#REF!,IF(E27=\"\",\"\"))))),IF(F27>87.5,\", sangat menguasai KD \"&#REF!,IF(F27>62.5,\", menguasai KD \"&#REF!,IF(F27>37.5,\", masih perlu latihan KD \"&#REF!,IF(F27>1,\", perlu bimbingan KD \"&#REF!,IF(F27=\"\",\"\"))))))","v":{"$error":"#REF!"}}]
[14,{"$f":"'Data '!D40","v":"FIONA NANDA FETRIAN"},{"$f":"IF(Pengetahuan!H34=\"\",\"\",Pengetahuan!H34)","v":80},{"$f":"IF(Pengetahuan!N34=\"\",\"\",Pengetahuan!N34)","v":80},{"$f":"IF(Pengetahuan!P34=\"\",\"\",Pengetahuan!P34)","v":75},{"$f":"IF(Pengetahuan!AA33=\"\",\"\",Pengetahuan!AA33)","v":"B"},{"$f":"IF(Pengetahuan!AB34=\"\",\"\",Pengetahuan!AB34)","v":"Kompetensi pengetahuan rerata sangat baik. "},{"$f":"IF(Ketrampilan!G34=\"\",\"\",Ketrampilan!G34)","v":80},{"$f":"IF(Ketrampilan!K34=\"\",\"\",Ketrampilan!K34)","v":80},{"$f":"IF(Ketrampilan!N34=\"\",\"\",Ketrampilan!N34)","v":80},{"$f":"IF(Ketrampilan!Q34=\"\",\"\",Ketrampilan!Q34)","v":"B+"},{"$f":"IF(Ketrampilan!AA34=\"\",\"\",Ketrampilan!AA34)","v":"Kompetensi ketrampilan rerata baik. "},{"$f":"IF(Sikap!E27=\"\",\"\",Sikap!E27)","v":3},{"$f":"IF(Sikap!H27=\"  \",\"  \",Sikap!H27)","v":3},{"$f":"IF(Sikap!K27=\"\",\"\",Sikap!K27)","v":3},{"$f":"IF(Sikap!L27=\"\",\"\",Sikap!L27)","v":3},{"$f":"IF(Sikap!N27=\"\",\"\",Sikap!N27)","v":"B"},null,null,null,null,null,null,null,null,null,null,null,null,null,null,null,null,null,null,null,null,null,null,null,null,null,null,null,null,null,null,null,null,null,null,null,null,{"$f":"CONCATENATE(IF(Q28>87.5,\"Kompetensi pengetahuan rerata sangat baik. \",IF(Q28>62.5,\"Kompetensi pengetahuan rerata baik. \",IF(Q28>37.5,\"Kompetensi pengetahuan rerata cukup. \",IF(Q28>1,\"Kompetensi pengetahuan rerata kurang. \",IF(Q28=\"\",\"\"))))),IF(C28>87.5,\"Sangat menguasai KD \"&#REF!,IF(C28>62.5,\"Menguasai KD \"&#REF!,IF(C28>37.5,\"Masih perlu latihan KD \"&#REF!,IF(C28>1,\"Perlu bimbingan KD \"&#REF!,IF(C28=\"\",\"\"))))),IF(D28>87.5,\", sangat menguasai KD \"&#REF!,IF(D28>62.5,\", menguasai KD \"&#REF!,IF(D28>37.5,\", masih perlu latihan KD \"&#REF!,IF(D28>1,\", perlu bimbingan KD \"&#REF!,IF(D28=\"\",\"\"))))),IF(E28>87.5,\". Sangat menguasai KD \"&#REF!,IF(E28>62.5,\". Menguasai KD \"&#REF!,IF(E28>37.5,\". Masih perlu latihan KD \"&#REF!,IF(E28>1,\". Perlu bimbingan KD \"&#REF!,IF(E28=\"\",\"\"))))),IF(F28>87.5,\", sangat menguasai KD \"&#REF!,IF(F28>62.5,\", menguasai KD \"&#REF!,IF(F28>37.5,\", masih perlu latihan KD \"&#REF!,IF(F28>1,\", perlu bimbingan KD \"&#REF!,IF(F28=\"\",\"\"))))))","v":{"$error":"#REF!"}}]
[15,{"$f":"'Data '!D41","v":"GILANG SYAHRUL RAMADHAN"},{"$f":"IF(Pengetahuan!H35=\"\",\"\",Pengetahuan!H35)","v":80},{"$f":"IF(Pengetahuan!N35=\"\",\"\",Pengetahuan!N35)","v":80},{"$f":"IF(Pengetahuan!P35=\"\",\"\",Pengetahuan!P35)","v":75},{"$f":"IF(Pengetahuan!AA34=\"\",\"\",Pengetahuan!AA34)","v":"B"},{"$f":"IF(Pengetahuan!AB35=\"\",\"\",Pengetahuan!AB35)","v":"Kompetensi pengetahuan rerata sangat baik. "},{"$f":"IF(Ketrampilan!G35=\"\",\"\",Ketrampilan!G35)","v":80},{"$f":"IF(Ketrampilan!K35=\"\",\"\",Ketrampilan!K35)","v":80},{"$f":"IF(Ketrampilan!N35=\"\",\"\",Ketrampilan!N35)","v":80},{"$f":"IF(Ketrampilan!Q35=\"\",\"\",Ketrampilan!Q35)","v":"B+"},{"$f":"IF(Ketrampilan!AA35=\"\",\"\",Ketrampilan!AA35)","v":"Kompetensi ketrampilan rerata baik. "},{"$f":"IF(Sikap!E28=\"\",\"\",Sikap!E28)","v":3},{"$f":"IF(Sikap!H28=\"  \",\"  \",Sikap!H28)","v":3},{"$f":"IF(Sikap!K28=\"\",\"\",Sikap!K28)","v":3},{"$f":"IF(Sikap!L28=\"\",\"\",Sikap!L28)","v":3},{"$f":"IF(Sikap!N28=\"\",\"\",Sikap!N28)","v":"B"},null,null,null,null,null,null,null,null,null,null,null,null,null,null,null,null,null,null,null,null,null,null,null,null,null,null,null,null,null,null,null,null,null,null,null,null,{"$f":"CONCATENATE(IF(Q29>87.5,\"Kompetensi pengetahuan rerata sangat baik. \",IF(Q29>62.5,\"Kompetensi pengetahuan rerata baik. \",IF(Q29>37.5,\"Kompetensi pengetahuan rerata cukup. \",IF(Q29>1,\"Kompetensi pengetahuan rerata kurang. \",IF(Q29=\"\",\"\"))))),IF(C29>87.5,\"Sangat menguasai KD \"&#REF!,IF(C29>62.5,\"Menguasai KD \"&#REF!,IF(C29>37.5,\"Masih perlu latihan KD \"&#REF!,IF(C29>1,\"Perlu bimbingan KD \"&#REF!,IF(C29=\"\",\"\"))))),IF(D29>87.5,\", sangat menguasai KD \"&#REF!,IF(D29>62.5,\", menguasai KD \"&#REF!,IF(D29>37.5,\", masih perlu latihan KD \"&#REF!,IF(D29>1,\", perlu bimbingan KD \"&#REF!,IF(D29=\"\",\"\"))))),IF(E29>87.5,\". Sangat menguasai KD \"&#REF!,IF(E29>62.5,\". Menguasai KD \"&#REF!,IF(E29>37.5,\". Masih perlu latihan KD \"&#REF!,IF(E29>1,\". Perlu bimbingan KD \"&#REF!,IF(E29=\"\",\"\"))))),IF(F29>87.5,\", sangat menguasai KD \"&#REF!,IF(F29>62.5,\", menguasai KD \"&#REF!,IF(F29>37.5,\", masih perlu latihan KD \"&#REF!,IF(F29>1,\", perlu bimbingan KD \"&#REF!,IF(F29=\"\",\"\"))))))","v":{"$error":"#REF!"}}]
[16,{"$f":"'Data '!D42","v":"IMAM AGUNG WAHYU PRATAMA"},{"$f":"IF(Pengetahuan!H36=\"\",\"\",Pengetahuan!H36)","v":80},{"$f":"IF(Pengetahuan!N36=\"\",\"\",Pengetahuan!N36)","v":80},{"$f":"IF(Pengetahuan!P36=\"\",\"\",Pengetahuan!P36)","v":75},{"$f":"IF(Pengetahuan!AA35=\"\",\"\",Pengetahuan!AA35)","v":"B"},{"$f":"IF(Pengetahuan!AB36=\"\",\"\",Pengetahuan!AB36)","v":"Kompetensi pengetahuan rerata sangat baik. "},{"$f":"IF(Ketrampilan!G36=\"\",\"\",Ketrampilan!G36)","v":80},{"$f":"IF(Ketrampilan!K36=\"\",\"\",Ketrampilan!K36)","v":80},{"$f":"IF(Ketrampilan!N36=\"\",\"\",Ketrampilan!N36)","v":80},{"$f":"IF(Ketrampilan!Q36=\"\",\"\",Ketrampilan!Q36)","v":"B+"},{"$f":"IF(Ketrampilan!AA36=\"\",\"\",Ketrampilan!AA36)","v":"Kompetensi ketrampilan rerata baik. "},{"$f":"IF(Sikap!E29=\"\",\"\",Sikap!E29)","v":3},{"$f":"IF(Sikap!H29=\"  \",\"  \",Sikap!H29)","v":3},{"$f":"IF(Sikap!K29=\"\",\"\",Sikap!K29)","v":3},{"$f":"IF(Sikap!L29=\"\",\"\",Sikap!L29)","v":3},{"$f":"IF(Sikap!N29=\"\",\"\",Sikap!N29)","v":"B"},null,null,null,null,null,null,null,null,null,null,null,null,null,null,null,null,null,null,null,null,null,null,null,null,null,null,null,null,null,null,null,null,null,null,null,null,{"$f":"CONCATENATE(IF(Q30>87.5,\"Kompetensi pengetahuan rerata sangat baik. \",IF(Q30>62.5,\"Kompetensi pengetahuan rerata baik. \",IF(Q30>37.5,\"Kompetensi pengetahuan rerata cukup. \",IF(Q30>1,\"Kompetensi pengetahuan rerata kurang. \",IF(Q30=\"\",\"\"))))),IF(C30>87.5,\"Sangat menguasai KD \"&#REF!,IF(C30>62.5,\"Menguasai KD \"&#REF!,IF(C30>37.5,\"Masih perlu latihan KD \"&#REF!,IF(C30>1,\"Perlu bimbingan KD \"&#REF!,IF(C30=\"\",\"\"))))),IF(D30>87.5,\", sangat menguasai KD \"&#REF!,IF(D30>62.5,\", menguasai KD \"&#REF!,IF(D30>37.5,\", masih perlu latihan KD \"&#REF!,IF(D30>1,\", perlu bimbingan KD \"&#REF!,IF(D30=\"\",\"\"))))),IF(E30>87.5,\". Sangat menguasai KD \"&#REF!,IF(E30>62.5,\". Menguasai KD \"&#REF!,IF(E30>37.5,\". Masih perlu latihan KD \"&#REF!,IF(E30>1,\". Perlu bimbingan KD \"&#REF!,IF(E30=\"\",\"\"))))),IF(F30>87.5,\", sangat menguasai KD \"&#REF!,IF(F30>62.5,\", menguasai KD \"&#REF!,IF(F30>37.5,\", masih perlu latihan KD \"&#REF!,IF(F30>1,\", perlu bimbingan KD \"&#REF!,IF(F30=\"\",\"\"))))))","v":{"$error":"#REF!"}}]
[17,{"$f":"'Data '!D43","v":"JOHAN MAULANA"},{"$f":"IF(Pengetahuan!H37=\"\",\"\",Pengetahuan!H37)","v":80},{"$f":"IF(Pengetahuan!N37=\"\",\"\",Pengetahuan!N37)","v":80},{"$f":"IF(Pengetahuan!P37=\"\",\"\",Pengetahuan!P37)","v":75},{"$f":"IF(Pengetahuan!AA36=\"\",\"\",Pengetahuan!AA36)","v":"B"},{"$f":"IF(Pengetahuan!AB37=\"\",\"\",Pengetahuan!AB37)","v":"Kompetensi pengetahuan rerata sangat baik. "},{"$f":"IF(Ketrampilan!G37=\"\",\"\",Ketrampilan!G37)","v":80},{"$f":"IF(Ketrampilan!K37=\"\",\"\",Ketrampilan!K37)","v":80},{"$f":"IF(Ketrampilan!N37=\"\",\"\",Ketrampilan!N37)","v":80},{"$f":"IF(Ketrampilan!Q37=\"\",\"\",Ketrampilan!Q37)","v":"B+"},{"$f":"IF(Ketrampilan!AA37=\"\",\"\",Ketrampilan!AA37)","v":"Kompetensi ketrampilan rerata baik. "},{"$f":"IF(Sikap!E30=\"\",\"\",Sikap!E30)","v":3},{"$f":"IF(Sikap!H30=\"  \",\"  \",Sikap!H30)","v":3},{"$f":"IF(Sikap!K30=\"\",\"\",Sikap!K30)","v":3},{"$f":"IF(Sikap!L30=\"\",\"\",Sikap!L30)","v":3},{"$f":"IF(Sikap!N30=\"\",\"\",Sikap!N30)","v":"B"},null,null,null,null,null,null,null,null,null,null,null,null,null,null,null,null,null,null,null,null,null,null,null,null,null,null,null,null,null,null,null,null,null,null,null,null,{"$f":"CONCATENATE(IF(Q31>87.5,\"Kompetensi pengetahuan rerata sangat baik. \",IF(Q31>62.5,\"Kompetensi pengetahuan rerata baik. \",IF(Q31>37.5,\"Kompetensi pengetahuan rerata cukup. \",IF(Q31>1,\"Kompetensi pengetahuan rerata kurang. \",IF(Q31=\"\",\"\"))))),IF(C31>87.5,\"Sangat menguasai KD \"&#REF!,IF(C31>62.5,\"Menguasai KD \"&#REF!,IF(C31>37.5,\"Masih perlu latihan KD \"&#REF!,IF(C31>1,\"Perlu bimbingan KD \"&#REF!,IF(C31=\"\",\"\"))))),IF(D31>87.5,\", sangat menguasai KD \"&#REF!,IF(D31>62.5,\", menguasai KD \"&#REF!,IF(D31>37.5,\", masih perlu latihan KD \"&#REF!,IF(D31>1,\", perlu bimbingan KD \"&#REF!,IF(D31=\"\",\"\"))))),IF(E31>87.5,\". Sangat menguasai KD \"&#REF!,IF(E31>62.5,\". Menguasai KD \"&#REF!,IF(E31>37.5,\". Masih perlu latihan KD \"&#REF!,IF(E31>1,\". Perlu bimbingan KD \"&#REF!,IF(E31=\"\",\"\"))))),IF(F31>87.5,\", sangat menguasai KD \"&#REF!,IF(F31>62.5,\", menguasai KD \"&#REF!,IF(F31>37.5,\", masih perlu latihan KD \"&#REF!,IF(F31>1,\", perlu bimbingan KD \"&#REF!,IF(F31=\"\",\"\"))))))","v":{"$error":"#REF!"}}]
[18,{"$f":"'Data '!D44","v":"JOKO SETIAWAN"},{"$f":"IF(Pengetahuan!H38=\"\",\"\",Pengetahuan!H38)","v":80},{"$f":"IF(Pengetahuan!N38=\"\",\"\",Pengetahuan!N38)","v":80},{"$f":"IF(Pengetahuan!P38=\"\",\"\",Pengetahuan!P38)","v":75},{"$f":"IF(Pengetahuan!AA37=\"\",\"\",Pengetahuan!AA37)","v":"B"},{"$f":"IF(Pengetahuan!AB38=\"\",\"\",Pengetahuan!AB38)","v":"Kompetensi pengetahuan rerata sangat baik. "},{"$f":"IF(Ketrampilan!G38=\"\",\"\",Ketrampilan!G38)","v":80},{"$f":"IF(Ketrampilan!K38=\"\",\"\",Ketrampilan!K38)","v":80},{"$f":"IF(Ketrampilan!N38=\"\",\"\",Ketrampilan!N38)","v":80},{"$f":"IF(Ketrampilan!Q38=\"\",\"\",Ketrampilan!Q38)","v":"B+"},{"$f":"IF(Ketrampilan!AA38=\"\",\"\",Ketrampilan!AA38)","v":"Kompetensi ketrampilan rerata baik. "},{"$f":"IF(Sikap!E31=\"\",\"\",Sikap!E31)","v":3},{"$f":"IF(Sikap!H31=\"  \",\"  \",Sikap!H31)","v":3},{"$f":"IF(Sikap!K31=\"\",\"\",Sikap!K31)","v":3},{"$f":"IF(Sikap!L31=\"\",\"\",Sikap!L31)","v":3},{"$f":"IF(Sikap!N31=\"\",\"\",Sikap!N31)","v":"B"},null,null,null,null,null,null,null,null,null,null,null,null,null,null,null,null,null,null,null,null,null,null,null,null,null,null,null,null,null,null,null,null,null,null,null,null,{"$f":"CONCATENATE(IF(Q32>87.5,\"Kompetensi pengetahuan rerata sangat baik. \",IF(Q32>62.5,\"Kompetensi pengetahuan rerata baik. \",IF(Q32>37.5,\"Kompetensi pengetahuan rerata cukup. \",IF(Q32>1,\"Kompetensi pengetahuan rerata kurang. \",IF(Q32=\"\",\"\"))))),IF(C32>87.5,\"Sangat menguasai KD \"&#REF!,IF(C32>62.5,\"Menguasai KD \"&#REF!,IF(C32>37.5,\"Masih perlu latihan KD \"&#REF!,IF(C32>1,\"Perlu bimbingan KD \"&#REF!,IF(C32=\"\",\"\"))))),IF(D32>87.5,\", sangat menguasai KD \"&#REF!,IF(D32>62.5,\", menguasai KD \"&#REF!,IF(D32>37.5,\", masih perlu latihan KD \"&#REF!,IF(D32>1,\", perlu bimbingan KD \"&#REF!,IF(D32=\"\",\"\"))))),IF(E32>87.5,\". Sangat menguasai KD \"&#REF!,IF(E32>62.5,\". Menguasai KD \"&#REF!,IF(E32>37.5,\". Masih perlu latihan KD \"&#REF!,IF(E32>1,\". Perlu bimbingan KD \"&#REF!,IF(E32=\"\",\"\"))))),IF(F32>87.5,\", sangat menguasai KD \"&#REF!,IF(F32>62.5,\", menguasai KD \"&#REF!,IF(F32>37.5,\", masih perlu latihan KD \"&#REF!,IF(F32>1,\", perlu bimbingan KD \"&#REF!,IF(F32=\"\",\"\"))))))","v":{"$error":"#REF!"}}]
[19,{"$f":"'Data '!D45","v":"LISA OKTAVINASARI"},{"$f":"IF(Pengetahuan!H39=\"\",\"\",Pengetahuan!H39)","v":80},{"$f":"IF(Pengetahuan!N39=\"\",\"\",Pengetahuan!N39)","v":80},{"$f":"IF(Pengetahuan!P39=\"\",\"\",Pengetahuan!P39)","v":75},{"$f":"IF(Pengetahuan!AA38=\"\",\"\",Pengetahuan!AA38)","v":"B"},{"$f":"IF(Pengetahuan!AB39=\"\",\"\",Pengetahuan!AB39)","v":"Kompetensi pengetahuan rerata sangat baik. "},{"$f":"IF(Ketrampilan!G39=\"\",\"\",Ketrampilan!G39)","v":80},{"$f":"IF(Ketrampilan!K39=\"\",\"\",Ketrampilan!K39)","v":80},{"$f":"IF(Ketrampilan!N39=\"\",\"\",Ketrampilan!N39)","v":80},{"$f":"IF(Ketrampilan!Q39=\"\",\"\",Ketrampilan!Q39)","v":"B+"},{"$f":"IF(Ketrampilan!AA39=\"\",\"\",Ketrampilan!AA39)","v":"Kompetensi ketrampilan rerata baik. "},{"$f":"IF(Sikap!E32=\"\",\"\",Sikap!E32)","v":3},{"$f":"IF(Sikap!H32=\"  \",\"  \",Sikap!H32)","v":3},{"$f":"IF(Sikap!K32=\"\",\"\",Sikap!K32)","v":3},{"$f":"IF(Sikap!L32=\"\",\"\",Sikap!L32)","v":3},{"$f":"IF(Sikap!N32=\"\",\"\",Sikap!N32)","v":"B"},null,null,null,null,null,null,null,null,null,null,null,null,null,null,null,null,null,null,null,null,null,null,null,null,null,null,null,null,null,null,null,null,null,null,null,null,{"$f":"CONCATENATE(IF(Q33>87.5,\"Kompetensi pengetahuan rerata sangat baik. \",IF(Q33>62.5,\"Kompetensi pengetahuan rerata baik. \",IF(Q33>37.5,\"Kompetensi pengetahuan rerata cukup. \",IF(Q33>1,\"Kompetensi pengetahuan rerata kurang. \",IF(Q33=\"\",\"\"))))),IF(C33>87.5,\"Sangat menguasai KD \"&#REF!,IF(C33>62.5,\"Menguasai KD \"&#REF!,IF(C33>37.5,\"Masih perlu latihan KD \"&#REF!,IF(C33>1,\"Perlu bimbingan KD \"&#REF!,IF(C33=\"\",\"\"))))),IF(D33>87.5,\", sangat menguasai KD \"&#REF!,IF(D33>62.5,\", menguasai KD \"&#REF!,IF(D33>37.5,\", masih perlu latihan KD \"&#REF!,IF(D33>1,\", perlu bimbingan KD \"&#REF!,IF(D33=\"\",\"\"))))),IF(E33>87.5,\". Sangat menguasai KD \"&#REF!,IF(E33>62.5,\". Menguasai KD \"&#REF!,IF(E33>37.5,\". Masih perlu latihan KD \"&#REF!,IF(E33>1,\". Perlu bimbingan KD \"&#REF!,IF(E33=\"\",\"\"))))),IF(F33>87.5,\", sangat menguasai KD \"&#REF!,IF(F33>62.5,\", menguasai KD \"&#REF!,IF(F33>37.5,\", masih perlu latihan KD \"&#REF!,IF(F33>1,\", perlu bimbingan KD \"&#REF!,IF(F33=\"\",\"\"))))))","v":{"$error":"#REF!"}}]
[20,{"$f":"'Data '!D46","v":"MARIA GILDA SIREGAR"},{"$f":"IF(Pengetahuan!H40=\"\",\"\",Pengetahuan!H40)","v":80},{"$f":"IF(Pengetahuan!N40=\"\",\"\",Pengetahuan!N40)","v":80},{"$f":"IF(Pengetahuan!P40=\"\",\"\",Pengetahuan!P40)","v":75},{"$f":"IF(Pengetahuan!AA39=\"\",\"\",Pengetahuan!AA39)","v":"B"},{"$f":"IF(Pengetahuan!AB40=\"\",\"\",Pengetahuan!AB40)","v":"Kompetensi pengetahuan rerata sangat baik. "},{"$f":"IF(Ketrampilan!G40=\"\",\"\",Ketrampilan!G40)","v":80},{"$f":"IF(Ketrampilan!K40=\"\",\"\",Ketrampilan!K40)","v":80},{"$f":"IF(Ketrampilan!N40=\"\",\"\",Ketrampilan!N40)","v":80},{"$f":"IF(Ketrampilan!Q40=\"\",\"\",Ketrampilan!Q40)","v":"B+"},{"$f":"IF(Ketrampilan!AA40=\"\",\"\",Ketrampilan!AA40)","v":"Kompetensi ketrampilan rerata baik. "},{"$f":"IF(Sikap!E33=\"\",\"\",Sikap!E33)","v":3},{"$f":"IF(Sikap!H33=\"  \",\"  \",Sikap!H33)","v":3},{"$f":"IF(Sikap!K33=\"\",\"\",Sikap!K33)","v":3},{"$f":"IF(Sikap!L33=\"\",\"\",Sikap!L33)","v":3},{"$f":"IF(Sikap!N33=\"\",\"\",Sikap!N33)","v":"B"},null,null,null,null,null,null,null,null,null,null,null,null,null,null,null,null,null,null,null,null,null,null,null,null,null,null,null,null,null,null,null,null,null,null,null,null,{"$f":"CONCATENATE(IF(Q34>87.5,\"Kompetensi pengetahuan rerata sangat baik. \",IF(Q34>62.5,\"Kompetensi pengetahuan rerata baik. \",IF(Q34>37.5,\"Kompetensi pengetahuan rerata cukup. \",IF(Q34>1,\"Kompetensi pengetahuan rerata kurang. \",IF(Q34=\"\",\"\"))))),IF(C34>87.5,\"Sangat menguasai KD \"&#REF!,IF(C34>62.5,\"Menguasai KD \"&#REF!,IF(C34>37.5,\"Masih perlu latihan KD \"&#REF!,IF(C34>1,\"Perlu bimbingan KD \"&#REF!,IF(C34=\"\",\"\"))))),IF(D34>87.5,\", sangat menguasai KD \"&#REF!,IF(D34>62.5,\", menguasai KD \"&#REF!,IF(D34>37.5,\", masih perlu latihan KD \"&#REF!,IF(D34>1,\", perlu bimbingan KD \"&#REF!,IF(D34=\"\",\"\"))))),IF(E34>87.5,\". Sangat menguasai KD \"&#REF!,IF(E34>62.5,\". Menguasai KD \"&#REF!,IF(E34>37.5,\". Masih perlu latihan KD \"&#REF!,IF(E34>1,\". Perlu bimbingan KD \"&#REF!,IF(E34=\"\",\"\"))))),IF(F34>87.5,\", sangat menguasai KD \"&#REF!,IF(F34>62.5,\", menguasai KD \"&#REF!,IF(F34>37.5,\", masih perlu latihan KD \"&#REF!,IF(F34>1,\", perlu bimbingan KD \"&#REF!,IF(F34=\"\",\"\"))))))","v":{"$error":"#REF!"}}]
[21,{"$f":"'Data '!D47","v":"MOHAMMAD NURKHOLISH"},{"$f":"IF(Pengetahuan!H41=\"\",\"\",Pengetahuan!H41)","v":80},{"$f":"IF(Pengetahuan!N41=\"\",\"\",Pengetahuan!N41)","v":80},{"$f":"IF(Pengetahuan!P41=\"\",\"\",Pengetahuan!P41)","v":75},{"$f":"IF(Pengetahuan!AA40=\"\",\"\",Pengetahuan!AA40)","v":"B"},{"$f":"IF(Pengetahuan!AB41=\"\",\"\",Pengetahuan!AB41)","v":"Kompetensi pengetahuan rerata sangat baik. "},{"$f":"IF(Ketrampilan!G41=\"\",\"\",Ketrampilan!G41)","v":80},{"$f":"IF(Ketrampilan!K41=\"\",\"\",Ketrampilan!K41)","v":80},{"$f":"IF(Ketrampilan!N41=\"\",\"\",Ketrampilan!N41)","v":80},{"$f":"IF(Ketrampilan!Q41=\"\",\"\",Ketrampilan!Q41)","v":"B+"},{"$f":"IF(Ketrampilan!AA41=\"\",\"\",Ketrampilan!AA41)","v":"Kompetensi ketrampilan rerata baik. "},{"$f":"IF(Sikap!E34=\"\",\"\",Sikap!E34)","v":3},{"$f":"IF(Sikap!H34=\"  \",\"  \",Sikap!H34)","v":3},{"$f":"IF(Sikap!K34=\"\",\"\",Sikap!K34)","v":3},{"$f":"IF(Sikap!L34=\"\",\"\",Sikap!L34)","v":3},{"$f":"IF(Sikap!N34=\"\",\"\",Sikap!N34)","v":"B"},null,null,null,null,null,null,null,null,null,null,null,null,null,null,null,null,null,null,null,null,null,null,null,null,null,null,null,null,null,null,null,null,null,null,null,null,{"$f":"CONCATENATE(IF(Q35>87.5,\"Kompetensi pengetahuan rerata sangat baik. \",IF(Q35>62.5,\"Kompetensi pengetahuan rerata baik. \",IF(Q35>37.5,\"Kompetensi pengetahuan rerata cukup. \",IF(Q35>1,\"Kompetensi pengetahuan rerata kurang. \",IF(Q35=\"\",\"\"))))),IF(C35>87.5,\"Sangat menguasai KD \"&#REF!,IF(C35>62.5,\"Menguasai KD \"&#REF!,IF(C35>37.5,\"Masih perlu latihan KD \"&#REF!,IF(C35>1,\"Perlu bimbingan KD \"&#REF!,IF(C35=\"\",\"\"))))),IF(D35>87.5,\", sangat menguasai KD \"&#REF!,IF(D35>62.5,\", menguasai KD \"&#REF!,IF(D35>37.5,\", masih perlu latihan KD \"&#REF!,IF(D35>1,\", perlu bimbingan KD \"&#REF!,IF(D35=\"\",\"\"))))),IF(E35>87.5,\". Sangat menguasai KD \"&#REF!,IF(E35>62.5,\". Menguasai KD \"&#REF!,IF(E35>37.5,\". Masih perlu latihan KD \"&#REF!,IF(E35>1,\". Perlu bimbingan KD \"&#REF!,IF(E35=\"\",\"\"))))),IF(F35>87.5,\", sangat menguasai KD \"&#REF!,IF(F35>62.5,\", menguasai KD \"&#REF!,IF(F35>37.5,\", masih perlu latihan KD \"&#REF!,IF(F35>1,\", perlu bimbingan KD \"&#REF!,IF(F35=\"\",\"\"))))))","v":{"$error":"#REF!"}}]
[22,{"$f":"'Data '!D48","v":"MUHAMAD FARIS ULIN NUHA"},{"$f":"IF(Pengetahuan!H42=\"\",\"\",Pengetahuan!H42)","v":80},{"$f":"IF(Pengetahuan!N42=\"\",\"\",Pengetahuan!N42)","v":80},{"$f":"IF(Pengetahuan!P42=\"\",\"\",Pengetahuan!P42)","v":75},{"$f":"IF(Pengetahuan!AA41=\"\",\"\",Pengetahuan!AA41)","v":"B"},{"$f":"IF(Pengetahuan!AB42=\"\",\"\",Pengetahuan!AB42)","v":"Kompetensi pengetahuan rerata sangat baik. "},{"$f":"IF(Ketrampilan!G42=\"\",\"\",Ketrampilan!G42)","v":80},{"$f":"IF(Ketrampilan!K42=\"\",\"\",Ketrampilan!K42)","v":80},{"$f":"IF(Ketrampilan!N42=\"\",\"\",Ketrampilan!N42)","v":80},{"$f":"IF(Ketrampilan!Q42=\"\",\"\",Ketrampilan!Q42)","v":"B+"},{"$f":"IF(Ketrampilan!AA42=\"\",\"\",Ketrampilan!AA42)","v":"Kompetensi ketrampilan rerata baik. "},{"$f":"IF(Sikap!E35=\"\",\"\",Sikap!E35)","v":3},{"$f":"IF(Sikap!H35=\"  \",\"  \",Sikap!H35)","v":3},{"$f":"IF(Sikap!K35=\"\",\"\",Sikap!K35)","v":3},{"$f":"IF(Sikap!L35=\"\",\"\",Sikap!L35)","v":3},{"$f":"IF(Sikap!N35=\"\",\"\",Sikap!N35)","v":"B"},null,null,null,null,null,null,null,null,null,null,null,null,null,null,null,null,null,null,null,null,null,null,null,null,null,null,null,null,null,null,null,null,null,null,null,null,{"$f":"CONCATENATE(IF(Q36>87.5,\"Kompetensi pengetahuan rerata sangat baik. \",IF(Q36>62.5,\"Kompetensi pengetahuan rerata baik. \",IF(Q36>37.5,\"Kompetensi pengetahuan rerata cukup. \",IF(Q36>1,\"Kompetensi pengetahuan rerata kurang. \",IF(Q36=\"\",\"\"))))),IF(C36>87.5,\"Sangat menguasai KD \"&#REF!,IF(C36>62.5,\"Menguasai KD \"&#REF!,IF(C36>37.5,\"Masih perlu latihan KD \"&#REF!,IF(C36>1,\"Perlu bimbingan KD \"&#REF!,IF(C36=\"\",\"\"))))),IF(D36>87.5,\", sangat menguasai KD \"&#REF!,IF(D36>62.5,\", menguasai KD \"&#REF!,IF(D36>37.5,\", masih perlu latihan KD \"&#REF!,IF(D36>1,\", perlu bimbingan KD \"&#REF!,IF(D36=\"\",\"\"))))),IF(E36>87.5,\". Sangat menguasai KD \"&#REF!,IF(E36>62.5,\". Menguasai KD \"&#REF!,IF(E36>37.5,\". Masih perlu latihan KD \"&#REF!,IF(E36>1,\". Perlu bimbingan KD \"&#REF!,IF(E36=\"\",\"\"))))),IF(F36>87.5,\", sangat menguasai KD \"&#REF!,IF(F36>62.5,\", menguasai KD \"&#REF!,IF(F36>37.5,\", masih perlu latihan KD \"&#REF!,IF(F36>1,\", perlu bimbingan KD \"&#REF!,IF(F36=\"\",\"\"))))))","v":{"$error":"#REF!"}}]
[23,{"$f":"'Data '!D49","v":"MUHAMMAD MUSTOFA"},{"$f":"IF(Pengetahuan!H43=\"\",\"\",Pengetahuan!H43)","v":80},{"$f":"IF(Pengetahuan!N43=\"\",\"\",Pengetahuan!N43)","v":80},{"$f":"IF(Pengetahuan!P43=\"\",\"\",Pengetahuan!P43)","v":75},{"$f":"IF(Pengetahuan!AA42=\"\",\"\",Pengetahuan!AA42)","v":"B"},{"$f":"IF(Pengetahuan!AB43=\"\",\"\",Pengetahuan!AB43)","v":"Kompetensi pengetahuan rerata sangat baik. "},{"$f":"IF(Ketrampilan!G43=\"\",\"\",Ketrampilan!G43)","v":80},{"$f":"IF(Ketrampilan!K43=\"\",\"\",Ketrampilan!K43)","v":80},{"$f":"IF(Ketrampilan!N43=\"\",\"\",Ketrampilan!N43)","v":80},{"$f":"IF(Ketrampilan!Q43=\"\",\"\",Ketrampilan!Q43)","v":"B+"},{"$f":"IF(Ketrampilan!AA43=\"\",\"\",Ketrampilan!AA43)","v":"Kompetensi ketrampilan rerata baik. "},{"$f":"IF(Sikap!E36=\"\",\"\",Sikap!E36)","v":3},{"$f":"IF(Sikap!H36=\"  \",\"  \",Sikap!H36)","v":3},{"$f":"IF(Sikap!K36=\"\",\"\",Sikap!K36)","v":3},{"$f":"IF(Sikap!L36=\"\",\"\",Sikap!L36)","v":3},{"$f":"IF(Sikap!N36=\"\",\"\",Sikap!N36)","v":"B"},null,null,null,null,null,null,null,null,null,null,null,null,null,null,null,null,null,null,null,null,null,null,null,null,null,null,null,null,null,null,null,null,null,null,null,null,{"$f":"CONCATENATE(IF(Q37>87.5,\"Kompetensi pengetahuan rerata sangat baik. \",IF(Q37>62.5,\"Kompetensi pengetahuan rerata baik. \",IF(Q37>37.5,\"Kompetensi pengetahuan rerata cukup. \",IF(Q37>1,\"Kompetensi pengetahuan rerata kurang. \",IF(Q37=\"\",\"\"))))),IF(C37>87.5,\"Sangat menguasai KD \"&#REF!,IF(C37>62.5,\"Menguasai KD \"&#REF!,IF(C37>37.5,\"Masih perlu latihan KD \"&#REF!,IF(C37>1,\"Perlu bimbingan KD \"&#REF!,IF(C37=\"\",\"\"))))),IF(D37>87.5,\", sangat menguasai KD \"&#REF!,IF(D37>62.5,\", menguasai KD \"&#REF!,IF(D37>37.5,\", masih perlu latihan KD \"&#REF!,IF(D37>1,\", perlu bimbingan KD \"&#REF!,IF(D37=\"\",\"\"))))),IF(E37>87.5,\". Sangat menguasai KD \"&#REF!,IF(E37>62.5,\". Menguasai KD \"&#REF!,IF(E37>37.5,\". Masih perlu latihan KD \"&#REF!,IF(E37>1,\". Perlu bimbingan KD \"&#REF!,IF(E37=\"\",\"\"))))),IF(F37>87.5,\", sangat menguasai KD \"&#REF!,IF(F37>62.5,\", menguasai KD \"&#REF!,IF(F37>37.5,\", masih perlu latihan KD \"&#REF!,IF(F37>1,\", perlu bimbingan KD \"&#REF!,IF(F37=\"\",\"\"))))))","v":{"$error":"#REF!"}}]
[24,{"$f":"'Data '!D50","v":"NANDA WINTYA PUTRI"},{"$f":"IF(Pengetahuan!H44=\"\",\"\",Pengetahuan!H44)","v":80},{"$f":"IF(Pengetahuan!N44=\"\",\"\",Pengetahuan!N44)","v":80},{"$f":"IF(Pengetahuan!P44=\"\",\"\",Pengetahuan!P44)","v":75},{"$f":"IF(Pengetahuan!AA43=\"\",\"\",Pengetahuan!AA43)","v":"B"},{"$f":"IF(Pengetahuan!AB44=\"\",\"\",Pengetahuan!AB44)","v":"Kompetensi pengetahuan rerata sangat baik. "},{"$f":"IF(Ketrampilan!G44=\"\",\"\",Ketrampilan!G44)","v":80},{"$f":"IF(Ketrampilan!K44=\"\",\"\",Ketrampilan!K44)","v":80},{"$f":"IF(Ketrampilan!N44=\"\",\"\",Ketrampilan!N44)","v":80},{"$f":"IF(Ketrampilan!Q44=\"\",\"\",Ketrampilan!Q44)","v":"B+"},{"$f":"IF(Ketrampilan!AA44=\"\",\"\",Ketrampilan!AA44)","v":"Kompetensi ketrampilan rerata baik. "},{"$f":"IF(Sikap!E37=\"\",\"\",Sikap!E37)","v":3},{"$f":"IF(Sikap!H37=\"  \",\"  \",Sikap!H37)","v":3},{"$f":"IF(Sikap!K37=\"\",\"\",Sikap!K37)","v":3},{"$f":"IF(Sikap!L37=\"\",\"\",Sikap!L37)","v":3},{"$f":"IF(Sikap!N37=\"\",\"\",Sikap!N37)","v":"B"},null,null,null,null,null,null,null,null,null,null,null,null,null,null,null,null,null,null,null,null,null,null,null,null,null,null,null,null,null,null,null,null,null,null,null,null,{"$f":"CONCATENATE(IF(Q38>87.5,\"Kompetensi pengetahuan rerata sangat baik. \",IF(Q38>62.5,\"Kompetensi pengetahuan rerata baik. \",IF(Q38>37.5,\"Kompetensi pengetahuan rerata cukup. \",IF(Q38>1,\"Kompetensi pengetahuan rerata kurang. \",IF(Q38=\"\",\"\"))))),IF(C38>87.5,\"Sangat menguasai KD \"&#REF!,IF(C38>62.5,\"Menguasai KD \"&#REF!,IF(C38>37.5,\"Masih perlu latihan KD \"&#REF!,IF(C38>1,\"Perlu bimbingan KD \"&#REF!,IF(C38=\"\",\"\"))))),IF(D38>87.5,\", sangat menguasai KD \"&#REF!,IF(D38>62.5,\", menguasai KD \"&#REF!,IF(D38>37.5,\", masih perlu latihan KD \"&#REF!,IF(D38>1,\", perlu bimbingan KD \"&#REF!,IF(D38=\"\",\"\"))))),IF(E38>87.5,\". Sangat menguasai KD \"&#REF!,IF(E38>62.5,\". Menguasai KD \"&#REF!,IF(E38>37.5,\". Masih perlu latihan KD \"&#REF!,IF(E38>1,\". Perlu bimbingan KD \"&#REF!,IF(E38=\"\",\"\"))))),IF(F38>87.5,\", sangat menguasai KD \"&#REF!,IF(F38>62.5,\", menguasai KD \"&#REF!,IF(F38>37.5,\", masih perlu latihan KD \"&#REF!,IF(F38>1,\", perlu bimbingan KD \"&#REF!,IF(F38=\"\",\"\"))))))","v":{"$error":"#REF!"}}]
[25,{"$f":"'Data '!D51","v":"NI'MA NOVA NUR FADHILAH"},{"$f":"IF(Pengetahuan!H45=\"\",\"\",Pengetahuan!H45)","v":80},{"$f":"IF(Pengetahuan!N45=\"\",\"\",Pengetahuan!N45)","v":80},{"$f":"IF(Pengetahuan!P45=\"\",\"\",Pengetahuan!P45)","v":75},{"$f":"IF(Pengetahuan!AA44=\"\",\"\",Pengetahuan!AA44)","v":"B"},{"$f":"IF(Pengetahuan!AB45=\"\",\"\",Pengetahuan!AB45)","v":"Kompetensi pengetahuan rerata sangat baik. "},{"$f":"IF(Ketrampilan!G45=\"\",\"\",Ketrampilan!G45)","v":80},{"$f":"IF(Ketrampilan!K45=\"\",\"\",Ketrampilan!K45)","v":80},{"$f":"IF(Ketrampilan!N45=\"\",\"\",Ketrampilan!N45)","v":80},{"$f":"IF(Ketrampilan!Q45=\"\",\"\",Ketrampilan!Q45)","v":"B+"},{"$f":"IF(Ketrampilan!AA45=\"\",\"\",Ketrampilan!AA45)","v":"Kompetensi ketrampilan rerata baik. "},{"$f":"IF(Sikap!E38=\"\",\"\",Sikap!E38)","v":3},{"$f":"IF(Sikap!H38=\"  \",\"  \",Sikap!H38)","v":3},{"$f":"IF(Sikap!K38=\"\",\"\",Sikap!K38)","v":3},{"$f":"IF(Sikap!L38=\"\",\"\",Sikap!L38)","v":3},{"$f":"IF(Sikap!N38=\"\",\"\",Sikap!N38)","v":"B"},null,null,null,null,null,null,null,null,null,null,null,null,null,null,null,null,null,null,null,null,null,null,null,null,null,null,null,null,null,null,null,null,null,null,null,null,{"$f":"CONCATENATE(IF(Q39>87.5,\"Kompetensi pengetahuan rerata sangat baik. \",IF(Q39>62.5,\"Kompetensi pengetahuan rerata baik. \",IF(Q39>37.5,\"Kompetensi pengetahuan rerata cukup. \",IF(Q39>1,\"Kompetensi pengetahuan rerata kurang. \",IF(Q39=\"\",\"\"))))),IF(C39>87.5,\"Sangat menguasai KD \"&#REF!,IF(C39>62.5,\"Menguasai KD \"&#REF!,IF(C39>37.5,\"Masih perlu latihan KD \"&#REF!,IF(C39>1,\"Perlu bimbingan KD \"&#REF!,IF(C39=\"\",\"\"))))),IF(D39>87.5,\", sangat menguasai KD \"&#REF!,IF(D39>62.5,\", menguasai KD \"&#REF!,IF(D39>37.5,\", masih perlu latihan KD \"&#REF!,IF(D39>1,\", perlu bimbingan KD \"&#REF!,IF(D39=\"\",\"\"))))),IF(E39>87.5,\". Sangat menguasai KD \"&#REF!,IF(E39>62.5,\". Menguasai KD \"&#REF!,IF(E39>37.5,\". Masih perlu latihan KD \"&#REF!,IF(E39>1,\". Perlu bimbingan KD \"&#REF!,IF(E39=\"\",\"\"))))),IF(F39>87.5,\", sangat menguasai KD \"&#REF!,IF(F39>62.5,\", menguasai KD \"&#REF!,IF(F39>37.5,\", masih perlu latihan KD \"&#REF!,IF(F39>1,\", perlu bimbingan KD \"&#REF!,IF(F39=\"\",\"\"))))))","v":{"$error":"#REF!"}}]
[26,{"$f":"'Data '!D52","v":"NITA ZUMROTUT TAQIYAH"},{"$f":"IF(Pengetahuan!H46=\"\",\"\",Pengetahuan!H46)","v":80},{"$f":"IF(Pengetahuan!N46=\"\",\"\",Pengetahuan!N46)","v":80},{"$f":"IF(Pengetahuan!P46=\"\",\"\",Pengetahuan!P46)","v":75},{"$f":"IF(Pengetahuan!AA45=\"\",\"\",Pengetahuan!AA45)","v":"B"},{"$f":"IF(Pengetahuan!AB46=\"\",\"\",Pengetahuan!AB46)","v":"Kompetensi pengetahuan rerata sangat baik. "},{"$f":"IF(Ketrampilan!G46=\"\",\"\",Ketrampilan!G46)","v":80},{"$f":"IF(Ketrampilan!K46=\"\",\"\",Ketrampilan!K46)","v":80},{"$f":"IF(Ketrampilan!N46=\"\",\"\",Ketrampilan!N46)","v":80},{"$f":"IF(Ketrampilan!Q46=\"\",\"\",Ketrampilan!Q46)","v":"B+"},{"$f":"IF(Ketrampilan!AA46=\"\",\"\",Ketrampilan!AA46)","v":"Kompetensi ketrampilan rerata baik. "},{"$f":"IF(Sikap!E39=\"\",\"\",Sikap!E39)","v":3},{"$f":"IF(Sikap!H39=\"  \",\"  \",Sikap!H39)","v":3},{"$f":"IF(Sikap!K39=\"\",\"\",Sikap!K39)","v":3},{"$f":"IF(Sikap!L39=\"\",\"\",Sikap!L39)","v":3},{"$f":"IF(Sikap!N39=\"\",\"\",Sikap!N39)","v":"B"},null,null,null,null,null,null,null,null,null,null,null,null,null,null,null,null,null,null,null,null,null,null,null,null,null,null,null,null,null,null,null,null,null,null,null,null,{"$f":"CONCATENATE(IF(Q40>87.5,\"Kompetensi pengetahuan rerata sangat baik. \",IF(Q40>62.5,\"Kompetensi pengetahuan rerata baik. \",IF(Q40>37.5,\"Kompetensi pengetahuan rerata cukup. \",IF(Q40>1,\"Kompetensi pengetahuan rerata kurang. \",IF(Q40=\"\",\"\"))))),IF(C40>87.5,\"Sangat menguasai KD \"&#REF!,IF(C40>62.5,\"Menguasai KD \"&#REF!,IF(C40>37.5,\"Masih perlu latihan KD \"&#REF!,IF(C40>1,\"Perlu bimbingan KD \"&#REF!,IF(C40=\"\",\"\"))))),IF(D40>87.5,\", sangat menguasai KD \"&#REF!,IF(D40>62.5,\", menguasai KD \"&#REF!,IF(D40>37.5,\", masih perlu latihan KD \"&#REF!,IF(D40>1,\", perlu bimbingan KD \"&#REF!,IF(D40=\"\",\"\"))))),IF(E40>87.5,\". Sangat menguasai KD \"&#REF!,IF(E40>62.5,\". Menguasai KD \"&#REF!,IF(E40>37.5,\". Masih perlu latihan KD \"&#REF!,IF(E40>1,\". Perlu bimbingan KD \"&#REF!,IF(E40=\"\",\"\"))))),IF(F40>87.5,\", sangat menguasai KD \"&#REF!,IF(F40>62.5,\", menguasai KD \"&#REF!,IF(F40>37.5,\", masih perlu latihan KD \"&#REF!,IF(F40>1,\", perlu bimbingan KD \"&#REF!,IF(F40=\"\",\"\"))))))","v":{"$error":"#REF!"}}]
[27,{"$f":"'Data '!D53","v":"RACHMAT SAPUTRA ANDRIANSYAH"},{"$f":"IF(Pengetahuan!H47=\"\",\"\",Pengetahuan!H47)","v":80},{"$f":"IF(Pengetahuan!N47=\"\",\"\",Pengetahuan!N47)","v":80},{"$f":"IF(Pengetahuan!P47=\"\",\"\",Pengetahuan!P47)","v":75},{"$f":"IF(Pengetahuan!AA46=\"\",\"\",Pengetahuan!AA46)","v":"B"},{"$f":"IF(Pengetahuan!AB47=\"\",\"\",Pengetahuan!AB47)","v":"Kompetensi pengetahuan rerata sangat baik. "},{"$f":"IF(Ketrampilan!G47=\"\",\"\",Ketrampilan!G47)","v":80},{"$f":"IF(Ketrampilan!K47=\"\",\"\",Ketrampilan!K47)","v":80},{"$f":"IF(Ketrampilan!N47=\"\",\"\",Ketrampilan!N47)","v":80},{"$f":"IF(Ketrampilan!Q47=\"\",\"\",Ketrampilan!Q47)","v":"B+"},{"$f":"IF(Ketrampilan!AA47=\"\",\"\",Ketrampilan!AA47)","v":"Kompetensi ketrampilan rerata baik. "},{"$f":"IF(Sikap!E40=\"\",\"\",Sikap!E40)","v":3},{"$f":"IF(Sikap!H40=\"  \",\"  \",Sikap!H40)","v":3},{"$f":"IF(Sikap!K40=\"\",\"\",Sikap!K40)","v":3},{"$f":"IF(Sikap!L40=\"\",\"\",Sikap!L40)","v":3},{"$f":"IF(Sikap!N40=\"\",\"\",Sikap!N40)","v":"B"},null,null,null,null,null,null,null,null,null,null,null,null,null,null,null,null,null,null,null,null,null,null,null,null,null,null,null,null,null,null,null,null,null,null,null,null,{"$f":"CONCATENATE(IF(Q41>87.5,\"Kompetensi pengetahuan rerata sangat baik. \",IF(Q41>62.5,\"Kompetensi pengetahuan rerata baik. \",IF(Q41>37.5,\"Kompetensi pengetahuan rerata cukup. \",IF(Q41>1,\"Kompetensi pengetahuan rerata kurang. \",IF(Q41=\"\",\"\"))))),IF(C41>87.5,\"Sangat menguasai KD \"&#REF!,IF(C41>62.5,\"Menguasai KD \"&#REF!,IF(C41>37.5,\"Masih perlu latihan KD \"&#REF!,IF(C41>1,\"Perlu bimbingan KD \"&#REF!,IF(C41=\"\",\"\"))))),IF(D41>87.5,\", sangat menguasai KD \"&#REF!,IF(D41>62.5,\", menguasai KD \"&#REF!,IF(D41>37.5,\", masih perlu latihan KD \"&#REF!,IF(D41>1,\", perlu bimbingan KD \"&#REF!,IF(D41=\"\",\"\"))))),IF(E41>87.5,\". Sangat menguasai KD \"&#REF!,IF(E41>62.5,\". Menguasai KD \"&#REF!,IF(E41>37.5,\". Masih perlu latihan KD \"&#REF!,IF(E41>1,\". Perlu bimbingan KD \"&#REF!,IF(E41=\"\",\"\"))))),IF(F41>87.5,\", sangat menguasai KD \"&#REF!,IF(F41>62.5,\", menguasai KD \"&#REF!,IF(F41>37.5,\", masih perlu latihan KD \"&#REF!,IF(F41>1,\", perlu bimbingan KD \"&#REF!,IF(F41=\"\",\"\"))))))","v":{"$error":"#REF!"}}]
[28,{"$f":"'Data '!D54","v":"RIZAL ANDRIYAN SAPUTRA"},{"$f":"IF(Pengetahuan!H48=\"\",\"\",Pengetahuan!H48)","v":80},{"$f":"IF(Pengetahuan!N48=\"\",\"\",Pengetahuan!N48)","v":80},{"$f":"IF(Pengetahuan!P48=\"\",\"\",Pengetahuan!P48)","v":75},{"$f":"IF(Pengetahuan!AA47=\"\",\"\",Pengetahuan!AA47)","v":"B"},{"$f":"IF(Pengetahuan!AB48=\"\",\"\",Pengetahuan!AB48)","v":"Kompetensi pengetahuan rerata sangat baik. "},{"$f":"IF(Ketrampilan!G48=\"\",\"\",Ketrampilan!G48)","v":80},{"$f":"IF(Ketrampilan!K48=\"\",\"\",Ketrampilan!K48)","v":80},{"$f":"IF(Ketrampilan!N48=\"\",\"\",Ketrampilan!N48)","v":80},{"$f":"IF(Ketrampilan!Q48=\"\",\"\",Ketrampilan!Q48)","v":"B+"},{"$f":"IF(Ketrampilan!AA48=\"\",\"\",Ketrampilan!AA48)","v":"Kompetensi ketrampilan rerata baik. "},{"$f":"IF(Sikap!E41=\"\",\"\",Sikap!E41)","v":3},{"$f":"IF(Sikap!H41=\"  \",\"  \",Sikap!H41)","v":3},{"$f":"IF(Sikap!K41=\"\",\"\",Sikap!K41)","v":3},{"$f":"IF(Sikap!L41=\"\",\"\",Sikap!L41)","v":3},{"$f":"IF(Sikap!N41=\"\",\"\",Sikap!N41)","v":"B"},null,null,null,null,null,null,null,null,null,null,null,null,null,null,null,null,null,null,null,null,null,null,null,null,null,null,null,null,null,null,null,null,null,null,null,null,{"$f":"CONCATENATE(IF(Q42>87.5,\"Kompetensi pengetahuan rerata sangat baik. \",IF(Q42>62.5,\"Kompetensi pengetahuan rerata baik. \",IF(Q42>37.5,\"Kompetensi pengetahuan rerata cukup. \",IF(Q42>1,\"Kompetensi pengetahuan rerata kurang. \",IF(Q42=\"\",\"\"))))),IF(C42>87.5,\"Sangat menguasai KD \"&#REF!,IF(C42>62.5,\"Menguasai KD \"&#REF!,IF(C42>37.5,\"Masih perlu latihan KD \"&#REF!,IF(C42>1,\"Perlu bimbingan KD \"&#REF!,IF(C42=\"\",\"\"))))),IF(D42>87.5,\", sangat menguasai KD \"&#REF!,IF(D42>62.5,\", menguasai KD \"&#REF!,IF(D42>37.5,\", masih perlu latihan KD \"&#REF!,IF(D42>1,\", perlu bimbingan KD \"&#REF!,IF(D42=\"\",\"\"))))),IF(E42>87.5,\". Sangat menguasai KD \"&#REF!,IF(E42>62.5,\". Menguasai KD \"&#REF!,IF(E42>37.5,\". Masih perlu latihan KD \"&#REF!,IF(E42>1,\". Perlu bimbingan KD \"&#REF!,IF(E42=\"\",\"\"))))),IF(F42>87.5,\", sangat menguasai KD \"&#REF!,IF(F42>62.5,\", menguasai KD \"&#REF!,IF(F42>37.5,\", masih perlu latihan KD \"&#REF!,IF(F42>1,\", perlu bimbingan KD \"&#REF!,IF(F42=\"\",\"\"))))))","v":{"$error":"#REF!"}}]
[29,{"$f":"'Data '!D55","v":"SAIFUL ANNAS"},{"$f":"IF(Pengetahuan!H49=\"\",\"\",Pengetahuan!H49)","v":80},{"$f":"IF(Pengetahuan!N49=\"\",\"\",Pengetahuan!N49)","v":80},{"$f":"IF(Pengetahuan!P49=\"\",\"\",Pengetahuan!P49)","v":75},{"$f":"IF(Pengetahuan!AA48=\"\",\"\",Pengetahuan!AA48)","v":"B"},{"$f":"IF(Pengetahuan!AB49=\"\",\"\",Pengetahuan!AB49)","v":"Kompetensi pengetahuan rerata sangat baik. "},{"$f":"IF(Ketrampilan!G49=\"\",\"\",Ketrampilan!G49)","v":80},{"$f":"IF(Ketrampilan!K49=\"\",\"\",Ketrampilan!K49)","v":80},{"$f":"IF(Ketrampilan!N49=\"\",\"\",Ketrampilan!N49)","v":80},{"$f":"IF(Ketrampilan!Q49=\"\",\"\",Ketrampilan!Q49)","v":"B+"},{"$f":"IF(Ketrampilan!AA49=\"\",\"\",Ketrampilan!AA49)","v":"Kompetensi ketrampilan rerata baik. "},{"$f":"IF(Sikap!E42=\"\",\"\",Sikap!E42)","v":3},{"$f":"IF(Sikap!H42=\"  \",\"  \",Sikap!H42)","v":3},{"$f":"IF(Sikap!K42=\"\",\"\",Sikap!K42)","v":3},{"$f":"IF(Sikap!L42=\"\",\"\",Sikap!L42)","v":3},{"$f":"IF(Sikap!N42=\"\",\"\",Sikap!N42)","v":"B"},null,null,null,null,null,null,null,null,null,null,null,null,null,null,null,null,null,null,null,null,null,null,null,null,null,null,null,null,null,null,null,null,null,null,null,null,{"$f":"CONCATENATE(IF(Q43>87.5,\"Kompetensi pengetahuan rerata sangat baik. \",IF(Q43>62.5,\"Kompetensi pengetahuan rerata baik. \",IF(Q43>37.5,\"Kompetensi pengetahuan rerata cukup. \",IF(Q43>1,\"Kompetensi pengetahuan rerata kurang. \",IF(Q43=\"\",\"\"))))),IF(C43>87.5,\"Sangat menguasai KD \"&#REF!,IF(C43>62.5,\"Menguasai KD \"&#REF!,IF(C43>37.5,\"Masih perlu latihan KD \"&#REF!,IF(C43>1,\"Perlu bimbingan KD \"&#REF!,IF(C43=\"\",\"\"))))),IF(D43>87.5,\", sangat menguasai KD \"&#REF!,IF(D43>62.5,\", menguasai KD \"&#REF!,IF(D43>37.5,\", masih perlu latihan KD \"&#REF!,IF(D43>1,\", perlu bimbingan KD \"&#REF!,IF(D43=\"\",\"\"))))),IF(E43>87.5,\". Sangat menguasai KD \"&#REF!,IF(E43>62.5,\". Menguasai KD \"&#REF!,IF(E43>37.5,\". Masih perlu latihan KD \"&#REF!,IF(E43>1,\". Perlu bimbingan KD \"&#REF!,IF(E43=\"\",\"\"))))),IF(F43>87.5,\", sangat menguasai KD \"&#REF!,IF(F43>62.5,\", menguasai KD \"&#REF!,IF(F43>37.5,\", masih perlu latihan KD \"&#REF!,IF(F43>1,\", perlu bimbingan KD \"&#REF!,IF(F43=\"\",\"\"))))))","v":{"$error":"#REF!"}}]
[30,{"$f":"'Data '!D56","v":"SELINA SEPTIANI"},{"$f":"IF(Pengetahuan!H50=\"\",\"\",Pengetahuan!H50)","v":80},{"$f":"IF(Pengetahuan!N50=\"\",\"\",Pengetahuan!N50)","v":80},{"$f":"IF(Pengetahuan!P50=\"\",\"\",Pengetahuan!P50)","v":75},{"$f":"IF(Pengetahuan!AA49=\"\",\"\",Pengetahuan!AA49)","v":"B"},{"$f":"IF(Pengetahuan!AB50=\"\",\"\",Pengetahuan!AB50)","v":"Kompetensi pengetahuan rerata sangat baik. "},{"$f":"IF(Ketrampilan!G50=\"\",\"\",Ketrampilan!G50)","v":80},{"$f":"IF(Ketrampilan!K50=\"\",\"\",Ketrampilan!K50)","v":80},{"$f":"IF(Ketrampilan!N50=\"\",\"\",Ketrampilan!N50)","v":80},{"$f":"IF(Ketrampilan!Q50=\"\",\"\",Ketrampilan!Q50)","v":"B+"},{"$f":"IF(Ketrampilan!AA50=\"\",\"\",Ketrampilan!AA50)","v":"Kompetensi ketrampilan rerata baik. "},{"$f":"IF(Sikap!E43=\"\",\"\",Sikap!E43)","v":3},{"$f":"IF(Sikap!H43=\"  \",\"  \",Sikap!H43)","v":3},{"$f":"IF(Sikap!K43=\"\",\"\",Sikap!K43)","v":3},{"$f":"IF(Sikap!L43=\"\",\"\",Sikap!L43)","v":3},{"$f":"IF(Sikap!N43=\"\",\"\",Sikap!N43)","v":"B"},null,null,null,null,null,null,null,null,null,null,null,null,null,null,null,null,null,null,null,null,null,null,null,null,null,null,null,null,null,null,null,null,null,null,null,null,{"$f":"CONCATENATE(IF(Q44>87.5,\"Kompetensi pengetahuan rerata sangat baik. \",IF(Q44>62.5,\"Kompetensi pengetahuan rerata baik. \",IF(Q44>37.5,\"Kompetensi pengetahuan rerata cukup. \",IF(Q44>1,\"Kompetensi pengetahuan rerata kurang. \",IF(Q44=\"\",\"\"))))),IF(C44>87.5,\"Sangat menguasai KD \"&#REF!,IF(C44>62.5,\"Menguasai KD \"&#REF!,IF(C44>37.5,\"Masih perlu latihan KD \"&#REF!,IF(C44>1,\"Perlu bimbingan KD \"&#REF!,IF(C44=\"\",\"\"))))),IF(D44>87.5,\", sangat menguasai KD \"&#REF!,IF(D44>62.5,\", menguasai KD \"&#REF!,IF(D44>37.5,\", masih perlu latihan KD \"&#REF!,IF(D44>1,\", perlu bimbingan KD \"&#REF!,IF(D44=\"\",\"\"))))),IF(E44>87.5,\". Sangat menguasai KD \"&#REF!,IF(E44>62.5,\". Menguasai KD \"&#REF!,IF(E44>37.5,\". Masih perlu latihan KD \"&#REF!,IF(E44>1,\". Perlu bimbingan KD \"&#REF!,IF(E44=\"\",\"\"))))),IF(F44>87.5,\", sangat menguasai KD \"&#REF!,IF(F44>62.5,\", menguasai KD \"&#REF!,IF(F44>37.5,\", masih perlu latihan KD \"&#REF!,IF(F44>1,\", perlu bimbingan KD \"&#REF!,IF(F44=\"\",\"\"))))))","v":{"$error":"#REF!"}}]
[31,{"$f":"'Data '!D57","v":"SHALSABILA  SHINTA NIRMALA"},{"$f":"IF(Pengetahuan!H51=\"\",\"\",Pengetahuan!H51)","v":80},{"$f":"IF(Pengetahuan!N51=\"\",\"\",Pengetahuan!N51)","v":80},{"$f":"IF(Pengetahuan!P51=\"\",\"\",Pengetahuan!P51)","v":75},{"$f":"IF(Pengetahuan!AA50=\"\",\"\",Pengetahuan!AA50)","v":"B"},{"$f":"IF(Pengetahuan!AB51=\"\",\"\",Pengetahuan!AB51)","v":"Kompetensi pengetahuan rerata sangat baik. "},{"$f":"IF(Ketrampilan!G51=\"\",\"\",Ketrampilan!G51)","v":80},{"$f":"IF(Ketrampilan!K51=\"\",\"\",Ketrampilan!K51)","v":80},{"$f":"IF(Ketrampilan!N51=\"\",\"\",Ketrampilan!N51)","v":80},{"$f":"IF(Ketrampilan!Q51=\"\",\"\",Ketrampilan!Q51)","v":"B+"},{"$f":"IF(Ketrampilan!AA51=\"\",\"\",Ketrampilan!AA51)","v":"Kompetensi ketrampilan rerata baik. "},{"$f":"IF(Sikap!E44=\"\",\"\",Sikap!E44)","v":3},{"$f":"IF(Sikap!H44=\"  \",\"  \",Sikap!H44)","v":3},{"$f":"IF(Sikap!K44=\"\",\"\",Sikap!K44)","v":3},{"$f":"IF(Sikap!L44=\"\",\"\",Sikap!L44)","v":3},{"$f":"IF(Sikap!N44=\"\",\"\",Sikap!N44)","v":"B"},null,null,null,null,null,null,null,null,null,null,null,null,null,null,null,null,null,null,null,null,null,null,null,null,null,null,null,null,null,null,null,null,null,null,null,null,{"$f":"CONCATENATE(IF(Q45>87.5,\"Kompetensi pengetahuan rerata sangat baik. \",IF(Q45>62.5,\"Kompetensi pengetahuan rerata baik. \",IF(Q45>37.5,\"Kompetensi pengetahuan rerata cukup. \",IF(Q45>1,\"Kompetensi pengetahuan rerata kurang. \",IF(Q45=\"\",\"\"))))),IF(C45>87.5,\"Sangat menguasai KD \"&#REF!,IF(C45>62.5,\"Menguasai KD \"&#REF!,IF(C45>37.5,\"Masih perlu latihan KD \"&#REF!,IF(C45>1,\"Perlu bimbingan KD \"&#REF!,IF(C45=\"\",\"\"))))),IF(D45>87.5,\", sangat menguasai KD \"&#REF!,IF(D45>62.5,\", menguasai KD \"&#REF!,IF(D45>37.5,\", masih perlu latihan KD \"&#REF!,IF(D45>1,\", perlu bimbingan KD \"&#REF!,IF(D45=\"\",\"\"))))),IF(E45>87.5,\". Sangat menguasai KD \"&#REF!,IF(E45>62.5,\". Menguasai KD \"&#REF!,IF(E45>37.5,\". Masih perlu latihan KD \"&#REF!,IF(E45>1,\". Perlu bimbingan KD \"&#REF!,IF(E45=\"\",\"\"))))),IF(F45>87.5,\", sangat menguasai KD \"&#REF!,IF(F45>62.5,\", menguasai KD \"&#REF!,IF(F45>37.5,\", masih perlu latihan KD \"&#REF!,IF(F45>1,\", perlu bimbingan KD \"&#REF!,IF(F45=\"\",\"\"))))))","v":{"$error":"#REF!"}}]
[32,{"$f":"'Data '!D58","v":"SITI CHOIRIATUS SA'ADAH"},{"$f":"IF(Pengetahuan!H52=\"\",\"\",Pengetahuan!H52)","v":80},{"$f":"IF(Pengetahuan!N52=\"\",\"\",Pengetahuan!N52)","v":80},{"$f":"IF(Pengetahuan!P52=\"\",\"\",Pengetahuan!P52)","v":75},{"$f":"IF(Pengetahuan!AA51=\"\",\"\",Pengetahuan!AA51)","v":"B"},{"$f":"IF(Pengetahuan!AB52=\"\",\"\",Pengetahuan!AB52)","v":"Kompetensi pengetahuan rerata sangat baik. "},{"$f":"IF(Ketrampilan!G52=\"\",\"\",Ketrampilan!G52)","v":80},{"$f":"IF(Ketrampilan!K52=\"\",\"\",Ketrampilan!K52)","v":80},{"$f":"IF(Ketrampilan!N52=\"\",\"\",Ketrampilan!N52)","v":80},{"$f":"IF(Ketrampilan!Q52=\"\",\"\",Ketrampilan!Q52)","v":"B+"},{"$f":"IF(Ketrampilan!AA52=\"\",\"\",Ketrampilan!AA52)","v":"Kompetensi ketrampilan rerata baik. "},{"$f":"IF(Sikap!E45=\"\",\"\",Sikap!E45)","v":3},{"$f":"IF(Sikap!H45=\"  \",\"  \",Sikap!H45)","v":3},{"$f":"IF(Sikap!K45=\"\",\"\",Sikap!K45)","v":3},{"$f":"IF(Sikap!L45=\"\",\"\",Sikap!L45)","v":3},{"$f":"IF(Sikap!N45=\"\",\"\",Sikap!N45)","v":"B"},null,null,null,null,null,null,null,null,null,null,null,null,null,null,null,null,null,null,null,null,null,null,null,null,null,null,null,null,null,null,null,null,null,null,null,null,{"$f":"CONCATENATE(IF(Q46>87.5,\"Kompetensi pengetahuan rerata sangat baik. \",IF(Q46>62.5,\"Kompetensi pengetahuan rerata baik. \",IF(Q46>37.5,\"Kompetensi pengetahuan rerata cukup. \",IF(Q46>1,\"Kompetensi pengetahuan rerata kurang. \",IF(Q46=\"\",\"\"))))),IF(C46>87.5,\"Sangat menguasai KD \"&#REF!,IF(C46>62.5,\"Menguasai KD \"&#REF!,IF(C46>37.5,\"Masih perlu latihan KD \"&#REF!,IF(C46>1,\"Perlu bimbingan KD \"&#REF!,IF(C46=\"\",\"\"))))),IF(D46>87.5,\", sangat menguasai KD \"&#REF!,IF(D46>62.5,\", menguasai KD \"&#REF!,IF(D46>37.5,\", masih perlu latihan KD \"&#REF!,IF(D46>1,\", perlu bimbingan KD \"&#REF!,IF(D46=\"\",\"\"))))),IF(E46>87.5,\". Sangat menguasai KD \"&#REF!,IF(E46>62.5,\". Menguasai KD \"&#REF!,IF(E46>37.5,\". Masih perlu latihan KD \"&#REF!,IF(E46>1,\". Perlu bimbingan KD \"&#REF!,IF(E46=\"\",\"\"))))),IF(F46>87.5,\", sangat menguasai KD \"&#REF!,IF(F46>62.5,\", menguasai KD \"&#REF!,IF(F46>37.5,\", masih perlu latihan KD \"&#REF!,IF(F46>1,\", perlu bimbingan KD \"&#REF!,IF(F46=\"\",\"\"))))))","v":{"$error":"#REF!"}}]
[33,{"$f":"'Data '!D59","v":"SITI NURFAN AZIZAH"},{"$f":"IF(Pengetahuan!H53=\"\",\"\",Pengetahuan!H53)","v":80},{"$f":"IF(Pengetahuan!N53=\"\",\"\",Pengetahuan!N53)","v":80},{"$f":"IF(Pengetahuan!P53=\"\",\"\",Pengetahuan!P53)","v":75},{"$f":"IF(Pengetahuan!AA52=\"\",\"\",Pengetahuan!AA52)","v":"B"},{"$f":"IF(Pengetahuan!AB53=\"\",\"\",Pengetahuan!AB53)","v":"Kompetensi pengetahuan rerata sangat baik. "},{"$f":"IF(Ketrampilan!G53=\"\",\"\",Ketrampilan!G53)","v":80},{"$f":"IF(Ketrampilan!K53=\"\",\"\",Ketrampilan!K53)","v":80},{"$f":"IF(Ketrampilan!N53=\"\",\"\",Ketrampilan!N53)","v":80},{"$f":"IF(Ketrampilan!Q53=\"\",\"\",Ketrampilan!Q53)","v":"B+"},{"$f":"IF(Ketrampilan!AA53=\"\",\"\",Ketrampilan!AA53)","v":"Kompetensi ketrampilan rerata baik. "},{"$f":"IF(Sikap!E46=\"\",\"\",Sikap!E46)","v":3},{"$f":"IF(Sikap!H46=\"  \",\"  \",Sikap!H46)","v":3},{"$f":"IF(Sikap!K46=\"\",\"\",Sikap!K46)","v":3},{"$f":"IF(Sikap!L46=\"\",\"\",Sikap!L46)","v":3},{"$f":"IF(Sikap!N46=\"\",\"\",Sikap!N46)","v":"B"},null,null,null,null,null,null,null,null,null,null,null,null,null,null,null,null,null,null,null,null,null,null,null,null,null,null,null,null,null,null,null,null,null,null,null,null,{"$f":"CONCATENATE(IF(Q47>87.5,\"Kompetensi pengetahuan rerata sangat baik. \",IF(Q47>62.5,\"Kompetensi pengetahuan rerata baik. \",IF(Q47>37.5,\"Kompetensi pengetahuan rerata cukup. \",IF(Q47>1,\"Kompetensi pengetahuan rerata kurang. \",IF(Q47=\"\",\"\"))))),IF(C47>87.5,\"Sangat menguasai KD \"&#REF!,IF(C47>62.5,\"Menguasai KD \"&#REF!,IF(C47>37.5,\"Masih perlu latihan KD \"&#REF!,IF(C47>1,\"Perlu bimbingan KD \"&#REF!,IF(C47=\"\",\"\"))))),IF(D47>87.5,\", sangat menguasai KD \"&#REF!,IF(D47>62.5,\", menguasai KD \"&#REF!,IF(D47>37.5,\", masih perlu latihan KD \"&#REF!,IF(D47>1,\", perlu bimbingan KD \"&#REF!,IF(D47=\"\",\"\"))))),IF(E47>87.5,\". Sangat menguasai KD \"&#REF!,IF(E47>62.5,\". Menguasai KD \"&#REF!,IF(E47>37.5,\". Masih perlu latihan KD \"&#REF!,IF(E47>1,\". Perlu bimbingan KD \"&#REF!,IF(E47=\"\",\"\"))))),IF(F47>87.5,\", sangat menguasai KD \"&#REF!,IF(F47>62.5,\", menguasai KD \"&#REF!,IF(F47>37.5,\", masih perlu latihan KD \"&#REF!,IF(F47>1,\", perlu bimbingan KD \"&#REF!,IF(F47=\"\",\"\"))))))","v":{"$error":"#REF!"}}]
[34,{"$f":"'Data '!D60","v":"SITI RAHAYU"},{"$f":"IF(Pengetahuan!H54=\"\",\"\",Pengetahuan!H54)","v":80},{"$f":"IF(Pengetahuan!N54=\"\",\"\",Pengetahuan!N54)","v":80},{"$f":"IF(Pengetahuan!P54=\"\",\"\",Pengetahuan!P54)","v":75},{"$f":"IF(Pengetahuan!AA53=\"\",\"\",Pengetahuan!AA53)","v":"B"},{"$f":"IF(Pengetahuan!AB54=\"\",\"\",Pengetahuan!AB54)","v":"Kompetensi pengetahuan rerata sangat baik. "},{"$f":"IF(Ketrampilan!G54=\"\",\"\",Ketrampilan!G54)","v":80},{"$f":"IF(Ketrampilan!K54=\"\",\"\",Ketrampilan!K54)","v":80},{"$f":"IF(Ketrampilan!N54=\"\",\"\",Ketrampilan!N54)","v":80},{"$f":"IF(Ketrampilan!Q54=\"\",\"\",Ketrampilan!Q54)","v":"B+"},{"$f":"IF(Ketrampilan!AA54=\"\",\"\",Ketrampilan!AA54)","v":"Kompetensi ketrampilan rerata baik. "},{"$f":"IF(Sikap!E47=\"\",\"\",Sikap!E47)","v":3},{"$f":"IF(Sikap!H47=\"  \",\"  \",Sikap!H47)","v":3},{"$f":"IF(Sikap!K47=\"\",\"\",Sikap!K47)","v":3},{"$f":"IF(Sikap!L47=\"\",\"\",Sikap!L47)","v":3},{"$f":"IF(Sikap!N47=\"\",\"\",Sikap!N47)","v":"B"},null,null,null,null,null,null,null,null,null,null,null,null,null,null,null,null,null,null,null,null,null,null,null,null,null,null,null,null,null,null,null,null,null,null,null,null,{"$f":"CONCATENATE(IF(Q48>87.5,\"Kompetensi pengetahuan rerata sangat baik. \",IF(Q48>62.5,\"Kompetensi pengetahuan rerata baik. \",IF(Q48>37.5,\"Kompetensi pengetahuan rerata cukup. \",IF(Q48>1,\"Kompetensi pengetahuan rerata kurang. \",IF(Q48=\"\",\"\"))))),IF(C48>87.5,\"Sangat menguasai KD \"&#REF!,IF(C48>62.5,\"Menguasai KD \"&#REF!,IF(C48>37.5,\"Masih perlu latihan KD \"&#REF!,IF(C48>1,\"Perlu bimbingan KD \"&#REF!,IF(C48=\"\",\"\"))))),IF(D48>87.5,\", sangat menguasai KD \"&#REF!,IF(D48>62.5,\", menguasai KD \"&#REF!,IF(D48>37.5,\", masih perlu latihan KD \"&#REF!,IF(D48>1,\", perlu bimbingan KD \"&#REF!,IF(D48=\"\",\"\"))))),IF(E48>87.5,\". Sangat menguasai KD \"&#REF!,IF(E48>62.5,\". Menguasai KD \"&#REF!,IF(E48>37.5,\". Masih perlu latihan KD \"&#REF!,IF(E48>1,\". Perlu bimbingan KD \"&#REF!,IF(E48=\"\",\"\"))))),IF(F48>87.5,\", sangat menguasai KD \"&#REF!,IF(F48>62.5,\", menguasai KD \"&#REF!,IF(F48>37.5,\", masih perlu latihan KD \"&#REF!,IF(F48>1,\", perlu bimbingan KD \"&#REF!,IF(F48=\"\",\"\"))))))","v":{"$error":"#REF!"}}]
[35,{"$f":"'Data '!D61","v":"STEVIANA PUSPITA SARI"},{"$f":"IF(Pengetahuan!H55=\"\",\"\",Pengetahuan!H55)","v":80},{"$f":"IF(Pengetahuan!N55=\"\",\"\",Pengetahuan!N55)","v":80},{"$f":"IF(Pengetahuan!P55=\"\",\"\",Pengetahuan!P55)","v":75},{"$f":"IF(Pengetahuan!AA54=\"\",\"\",Pengetahuan!AA54)","v":"B"},{"$f":"IF(Pengetahuan!AB55=\"\",\"\",Pengetahuan!AB55)","v":"Kompetensi pengetahuan rerata sangat baik. "},{"$f":"IF(Ketrampilan!G55=\"\",\"\",Ketrampilan!G55)","v":80},{"$f":"IF(Ketrampilan!K55=\"\",\"\",Ketrampilan!K55)","v":80},{"$f":"IF(Ketrampilan!N55=\"\",\"\",Ketrampilan!N55)","v":80},{"$f":"IF(Ketrampilan!Q55=\"\",\"\",Ketrampilan!Q55)","v":"B+"},{"$f":"IF(Ketrampilan!AA55=\"\",\"\",Ketrampilan!AA55)","v":"Kompetensi ketrampilan rerata baik. "},{"$f":"IF(Sikap!E48=\"\",\"\",Sikap!E48)","v":3},{"$f":"IF(Sikap!H48=\"  \",\"  \",Sikap!H48)","v":3},{"$f":"IF(Sikap!K48=\"\",\"\",Sikap!K48)","v":3},{"$f":"IF(Sikap!L48=\"\",\"\",Sikap!L48)","v":3},{"$f":"IF(Sikap!N48=\"\",\"\",Sikap!N48)","v":"B"},null,null,null,null,null,null,null,null,null,null,null,null,null,null,null,null,null,null,null,null,null,null,null,null,null,null,null,null,null,null,null,null,null,null,null,null,{"$f":"CONCATENATE(IF(Q49>87.5,\"Kompetensi pengetahuan rerata sangat baik. \",IF(Q49>62.5,\"Kompetensi pengetahuan rerata baik. \",IF(Q49>37.5,\"Kompetensi pengetahuan rerata cukup. \",IF(Q49>1,\"Kompetensi pengetahuan rerata kurang. \",IF(Q49=\"\",\"\"))))),IF(C49>87.5,\"Sangat menguasai KD \"&#REF!,IF(C49>62.5,\"Menguasai KD \"&#REF!,IF(C49>37.5,\"Masih perlu latihan KD \"&#REF!,IF(C49>1,\"Perlu bimbingan KD \"&#REF!,IF(C49=\"\",\"\"))))),IF(D49>87.5,\", sangat menguasai KD \"&#REF!,IF(D49>62.5,\", menguasai KD \"&#REF!,IF(D49>37.5,\", masih perlu latihan KD \"&#REF!,IF(D49>1,\", perlu bimbingan KD \"&#REF!,IF(D49=\"\",\"\"))))),IF(E49>87.5,\". Sangat menguasai KD \"&#REF!,IF(E49>62.5,\". Menguasai KD \"&#REF!,IF(E49>37.5,\". Masih perlu latihan KD \"&#REF!,IF(E49>1,\". Perlu bimbingan KD \"&#REF!,IF(E49=\"\",\"\"))))),IF(F49>87.5,\", sangat menguasai KD \"&#REF!,IF(F49>62.5,\", menguasai KD \"&#REF!,IF(F49>37.5,\", masih perlu latihan KD \"&#REF!,IF(F49>1,\", perlu bimbingan KD \"&#REF!,IF(F49=\"\",\"\"))))))","v":{"$error":"#REF!"}}]
[36,{"$f":"'Data '!D62","v":"TAN LINGGAR PRAMUDITA"},{"$f":"IF(Pengetahuan!H56=\"\",\"\",Pengetahuan!H56)","v":80},{"$f":"IF(Pengetahuan!N56=\"\",\"\",Pengetahuan!N56)","v":80},{"$f":"IF(Pengetahuan!P56=\"\",\"\",Pengetahuan!P56)","v":75},{"$f":"IF(Pengetahuan!AA55=\"\",\"\",Pengetahuan!AA55)","v":"B"},{"$f":"IF(Pengetahuan!AB56=\"\",\"\",Pengetahuan!AB56)","v":"Kompetensi pengetahuan rerata sangat baik. "},{"$f":"IF(Ketrampilan!G56=\"\",\"\",Ketrampilan!G56)","v":80},{"$f":"IF(Ketrampilan!K56=\"\",\"\",Ketrampilan!K56)","v":80},{"$f":"IF(Ketrampilan!N56=\"\",\"\",Ketrampilan!N56)","v":80},{"$f":"IF(Ketrampilan!Q56=\"\",\"\",Ketrampilan!Q56)","v":"B+"},{"$f":"IF(Ketrampilan!AA56=\"\",\"\",Ketrampilan!AA56)","v":"Kompetensi ketrampilan rerata baik. "},{"$f":"IF(Sikap!E49=\"\",\"\",Sikap!E49)","v":3},{"$f":"IF(Sikap!H49=\"  \",\"  \",Sikap!H49)","v":3},{"$f":"IF(Sikap!K49=\"\",\"\",Sikap!K49)","v":3},{"$f":"IF(Sikap!L49=\"\",\"\",Sikap!L49)","v":3},{"$f":"IF(Sikap!N49=\"\",\"\",Sikap!N49)","v":"B"},null,null,null,null,null,null,null,null,null,null,null,null,null,null,null,null,null,null,null,null,null,null,null,null,null,null,null,null,null,null,null,null,null,null,null,null,{"$f":"CONCATENATE(IF(Q50>87.5,\"Kompetensi pengetahuan rerata sangat baik. \",IF(Q50>62.5,\"Kompetensi pengetahuan rerata baik. \",IF(Q50>37.5,\"Kompetensi pengetahuan rerata cukup. \",IF(Q50>1,\"Kompetensi pengetahuan rerata kurang. \",IF(Q50=\"\",\"\"))))),IF(C50>87.5,\"Sangat menguasai KD \"&#REF!,IF(C50>62.5,\"Menguasai KD \"&#REF!,IF(C50>37.5,\"Masih perlu latihan KD \"&#REF!,IF(C50>1,\"Perlu bimbingan KD \"&#REF!,IF(C50=\"\",\"\"))))),IF(D50>87.5,\", sangat menguasai KD \"&#REF!,IF(D50>62.5,\", menguasai KD \"&#REF!,IF(D50>37.5,\", masih perlu latihan KD \"&#REF!,IF(D50>1,\", perlu bimbingan KD \"&#REF!,IF(D50=\"\",\"\"))))),IF(E50>87.5,\". Sangat menguasai KD \"&#REF!,IF(E50>62.5,\". Menguasai KD \"&#REF!,IF(E50>37.5,\". Masih perlu latihan KD \"&#REF!,IF(E50>1,\". Perlu bimbingan KD \"&#REF!,IF(E50=\"\",\"\"))))),IF(F50>87.5,\", sangat menguasai KD \"&#REF!,IF(F50>62.5,\", menguasai KD \"&#REF!,IF(F50>37.5,\", masih perlu latihan KD \"&#REF!,IF(F50>1,\", perlu bimbingan KD \"&#REF!,IF(F50=\"\",\"\"))))))","v":{"$error":"#REF!"}}]
[37,{"$f":"'Data '!D63","v":"TAUFIK NUR AZIZ DANUARTA"},{"$f":"IF(Pengetahuan!H57=\"\",\"\",Pengetahuan!H57)","v":80},{"$f":"IF(Pengetahuan!N57=\"\",\"\",Pengetahuan!N57)","v":80},{"$f":"IF(Pengetahuan!P57=\"\",\"\",Pengetahuan!P57)","v":75},{"$f":"IF(Pengetahuan!AA56=\"\",\"\",Pengetahuan!AA56)","v":"B"},{"$f":"IF(Pengetahuan!AB57=\"\",\"\",Pengetahuan!AB57)","v":"Kompetensi pengetahuan rerata sangat baik. "},{"$f":"IF(Ketrampilan!G57=\"\",\"\",Ketrampilan!G57)","v":80},{"$f":"IF(Ketrampilan!K57=\"\",\"\",Ketrampilan!K57)","v":80},{"$f":"IF(Ketrampilan!N57=\"\",\"\",Ketrampilan!N57)","v":80},{"$f":"IF(Ketrampilan!Q57=\"\",\"\",Ketrampilan!Q57)","v":"B+"},{"$f":"IF(Ketrampilan!AA57=\"\",\"\",Ketrampilan!AA57)","v":"Kompetensi ketrampilan rerata baik. "},{"$f":"IF(Sikap!E50=\"\",\"\",Sikap!E50)","v":3},{"$f":"IF(Sikap!H50=\"  \",\"  \",Sikap!H50)","v":3},{"$f":"IF(Sikap!K50=\"\",\"\",Sikap!K50)","v":3},{"$f":"IF(Sikap!L50=\"\",\"\",Sikap!L50)","v":3},{"$f":"IF(Sikap!N50=\"\",\"\",Sikap!N50)","v":"B"},null,null,"halaman 3",null,null,null,null,null,null,null,null,null,null,null,null,null,null,null,null,null,null,null,null,null,null,null,null,null,null,null,null,null,null,null,null,null,{"$f":"CONCATENATE(IF(Q51>87.5,\"Kompetensi pengetahuan rerata sangat baik. \",IF(Q51>62.5,\"Kompetensi pengetahuan rerata baik. \",IF(Q51>37.5,\"Kompetensi pengetahuan rerata cukup. \",IF(Q51>1,\"Kompetensi pengetahuan rerata kurang. \",IF(Q51=\"\",\"\"))))),IF(C51>87.5,\"Sangat menguasai KD \"&#REF!,IF(C51>62.5,\"Menguasai KD \"&#REF!,IF(C51>37.5,\"Masih perlu latihan KD \"&#REF!,IF(C51>1,\"Perlu bimbingan KD \"&#REF!,IF(C51=\"\",\"\"))))),IF(D51>87.5,\", sangat menguasai KD \"&#REF!,IF(D51>62.5,\", menguasai KD \"&#REF!,IF(D51>37.5,\", masih perlu latihan KD \"&#REF!,IF(D51>1,\", perlu bimbingan KD \"&#REF!,IF(D51=\"\",\"\"))))),IF(E51>87.5,\". Sangat menguasai KD \"&#REF!,IF(E51>62.5,\". Menguasai KD \"&#REF!,IF(E51>37.5,\". Masih perlu latihan KD \"&#REF!,IF(E51>1,\". Perlu bimbingan KD \"&#REF!,IF(E51=\"\",\"\"))))),IF(F51>87.5,\", sangat menguasai KD \"&#REF!,IF(F51>62.5,\", menguasai KD \"&#REF!,IF(F51>37.5,\", masih perlu latihan KD \"&#REF!,IF(F51>1,\", perlu bimbingan KD \"&#REF!,IF(F51=\"\",\"\"))))))","v":{"$error":"#REF!"}}]
[38,{"$f":"'Data '!D64","v":"TIARA PUTRI AYUNINGTIAS"},{"$f":"IF(Pengetahuan!H58=\"\",\"\",Pengetahuan!H58)","v":80},{"$f":"IF(Pengetahuan!N58=\"\",\"\",Pengetahuan!N58)","v":80},{"$f":"IF(Pengetahuan!P58=\"\",\"\",Pengetahuan!P58)","v":75},{"$f":"IF(Pengetahuan!AA57=\"\",\"\",Pengetahuan!AA57)","v":"B"},{"$f":"IF(Pengetahuan!AB58=\"\",\"\",Pengetahuan!AB58)","v":"Kompetensi pengetahuan rerata sangat baik. "},{"$f":"IF(Ketrampilan!G58=\"\",\"\",Ketrampilan!G58)","v":80},{"$f":"IF(Ketrampilan!K58=\"\",\"\",Ketrampilan!K58)","v":80},{"$f":"IF(Ketrampilan!N58=\"\",\"\",Ketrampilan!N58)","v":80},{"$f":"IF(Ketrampilan!Q58=\"\",\"\",Ketrampilan!Q58)","v":"B+"},{"$f":"IF(Ketrampilan!AA58=\"\",\"\",Ketrampilan!AA58)","v":"Kompetensi ketrampilan rerata baik. "},{"$f":"IF(Sikap!E51=\"\",\"\",Sikap!E51)","v":3},{"$f":"IF(Sikap!H51=\"  \",\"  \",Sikap!H51)","v":3},{"$f":"IF(Sikap!K51=\"\",\"\",Sikap!K51)","v":3},{"$f":"IF(Sikap!L51=\"\",\"\",Sikap!L51)","v":3},{"$f":"IF(Sikap!N51=\"\",\"\",Sikap!N51)","v":"B"},null,null,null,null,null,null,null,null,null,null,null,null,null,null,null,null,null,null,null,null,null,null,null,null,null,null,null,null,null,null,null,null,null,null,null,null,{"$f":"CONCATENATE(IF(Q52>87.5,\"Kompetensi pengetahuan rerata sangat baik. \",IF(Q52>62.5,\"Kompetensi pengetahuan rerata baik. \",IF(Q52>37.5,\"Kompetensi pengetahuan rerata cukup. \",IF(Q52>1,\"Kompetensi pengetahuan rerata kurang. \",IF(Q52=\"\",\"\"))))),IF(C52>87.5,\"Sangat menguasai KD \"&#REF!,IF(C52>62.5,\"Menguasai KD \"&#REF!,IF(C52>37.5,\"Masih perlu latihan KD \"&#REF!,IF(C52>1,\"Perlu bimbingan KD \"&#REF!,IF(C52=\"\",\"\"))))),IF(D52>87.5,\", sangat menguasai KD \"&#REF!,IF(D52>62.5,\", menguasai KD \"&#REF!,IF(D52>37.5,\", masih perlu latihan KD \"&#REF!,IF(D52>1,\", perlu bimbingan KD \"&#REF!,IF(D52=\"\",\"\"))))),IF(E52>87.5,\". Sangat menguasai KD \"&#REF!,IF(E52>62.5,\". Menguasai KD \"&#REF!,IF(E52>37.5,\". Masih perlu latihan KD \"&#REF!,IF(E52>1,\". Perlu bimbingan KD \"&#REF!,IF(E52=\"\",\"\"))))),IF(F52>87.5,\", sangat menguasai KD \"&#REF!,IF(F52>62.5,\", menguasai KD \"&#REF!,IF(F52>37.5,\", masih perlu latihan KD \"&#REF!,IF(F52>1,\", perlu bimbingan KD \"&#REF!,IF(F52=\"\",\"\"))))))","v":{"$error":"#REF!"}}]
[39,{"$f":"'Data '!D65","v":"TITANIA GAYATRI PRIANJANI"},{"$f":"IF(Pengetahuan!H59=\"\",\"\",Pengetahuan!H59)","v":80},{"$f":"IF(Pengetahuan!N59=\"\",\"\",Pengetahuan!N59)","v":80},{"$f":"IF(Pengetahuan!P59=\"\",\"\",Pengetahuan!P59)","v":75},{"$f":"IF(Pengetahuan!AA58=\"\",\"\",Pengetahuan!AA58)","v":"B"},{"$f":"IF(Pengetahuan!AB59=\"\",\"\",Pengetahuan!AB59)","v":"Kompetensi pengetahuan rerata sangat baik. "},{"$f":"IF(Ketrampilan!G59=\"\",\"\",Ketrampilan!G59)","v":80},{"$f":"IF(Ketrampilan!K59=\"\",\"\",Ketrampilan!K59)","v":80},{"$f":"IF(Ketrampilan!N59=\"\",\"\",Ketrampilan!N59)","v":80},{"$f":"IF(Ketrampilan!Q59=\"\",\"\",Ketrampilan!Q59)","v":"B+"},{"$f":"IF(Ketrampilan!AA59=\"\",\"\",Ketrampilan!AA59)","v":"Kompetensi ketrampilan rerata baik. "},{"$f":"IF(Sikap!E52=\"\",\"\",Sikap!E52)","v":3},{"$f":"IF(Sikap!H52=\"  \",\"  \",Sikap!H52)","v":3},{"$f":"IF(Sikap!K52=\"\",\"\",Sikap!K52)","v":3},{"$f":"IF(Sikap!L52=\"\",\"\",Sikap!L52)","v":3},{"$f":"IF(Sikap!N52=\"\",\"\",Sikap!N52)","v":"B"},null,null,null,null,null,null,null,null,null,null,null,null,null,null,null,null,null,null,null,null,null,null,null,null,null,null,null,null,null,null,null,null,null,null,null,null,{"$f":"CONCATENATE(IF(Q53>87.5,\"Kompetensi pengetahuan rerata sangat baik. \",IF(Q53>62.5,\"Kompetensi pengetahuan rerata baik. \",IF(Q53>37.5,\"Kompetensi pengetahuan rerata cukup. \",IF(Q53>1,\"Kompetensi pengetahuan rerata kurang. \",IF(Q53=\"\",\"\"))))),IF(C53>87.5,\"Sangat menguasai KD \"&#REF!,IF(C53>62.5,\"Menguasai KD \"&#REF!,IF(C53>37.5,\"Masih perlu latihan KD \"&#REF!,IF(C53>1,\"Perlu bimbingan KD \"&#REF!,IF(C53=\"\",\"\"))))),IF(D53>87.5,\", sangat menguasai KD \"&#REF!,IF(D53>62.5,\", menguasai KD \"&#REF!,IF(D53>37.5,\", masih perlu latihan KD \"&#REF!,IF(D53>1,\", perlu bimbingan KD \"&#REF!,IF(D53=\"\",\"\"))))),IF(E53>87.5,\". Sangat menguasai KD \"&#REF!,IF(E53>62.5,\". Menguasai KD \"&#REF!,IF(E53>37.5,\". Masih perlu latihan KD \"&#REF!,IF(E53>1,\". Perlu bimbingan KD \"&#REF!,IF(E53=\"\",\"\"))))),IF(F53>87.5,\", sangat menguasai KD \"&#REF!,IF(F53>62.5,\", menguasai KD \"&#REF!,IF(F53>37.5,\", masih perlu latihan KD \"&#REF!,IF(F53>1,\", perlu bimbingan KD \"&#REF!,IF(F53=\"\",\"\"))))))","v":{"$error":"#REF!"}}]
[40,{"$f":"'Data '!D66","v":"ULFATUN NI'MAH"},{"$f":"IF(Pengetahuan!H60=\"\",\"\",Pengetahuan!H60)","v":80},{"$f":"IF(Pengetahuan!N60=\"\",\"\",Pengetahuan!N60)","v":80},{"$f":"IF(Pengetahuan!P60=\"\",\"\",Pengetahuan!P60)","v":75},{"$f":"IF(Pengetahuan!AA59=\"\",\"\",Pengetahuan!AA59)","v":"B"},{"$f":"IF(Pengetahuan!AB60=\"\",\"\",Pengetahuan!AB60)","v":"Kompetensi pengetahuan rerata sangat baik. "},{"$f":"IF(Ketrampilan!G60=\"\",\"\",Ketrampilan!G60)","v":80},{"$f":"IF(Ketrampilan!K60=\"\",\"\",Ketrampilan!K60)","v":80},{"$f":"IF(Ketrampilan!N60=\"\",\"\",Ketrampilan!N60)","v":80},{"$f":"IF(Ketrampilan!Q60=\"\",\"\",Ketrampilan!Q60)","v":"B+"},{"$f":"IF(Ketrampilan!AA60=\"\",\"\",Ketrampilan!AA60)","v":"Kompetensi ketrampilan rerata baik. "},{"$f":"IF(Sikap!E53=\"\",\"\",Sikap!E53)","v":3},{"$f":"IF(Sikap!H53=\"  \",\"  \",Sikap!H53)","v":3},{"$f":"IF(Sikap!K53=\"\",\"\",Sikap!K53)","v":3},{"$f":"IF(Sikap!L53=\"\",\"\",Sikap!L53)","v":3},{"$f":"IF(Sikap!N53=\"\",\"\",Sikap!N53)","v":"B"},null,null,null,null,null,null,null,null,null,null,null,null,null,null,null,null,null,null,null,null,null,null,null,null,null,null,null,null,null,null,null,null,null,null,null,null,{"$f":"CONCATENATE(IF(Q54>87.5,\"Kompetensi pengetahuan rerata sangat baik. \",IF(Q54>62.5,\"Kompetensi pengetahuan rerata baik. \",IF(Q54>37.5,\"Kompetensi pengetahuan rerata cukup. \",IF(Q54>1,\"Kompetensi pengetahuan rerata kurang. \",IF(Q54=\"\",\"\"))))),IF(C54>87.5,\"Sangat menguasai KD \"&#REF!,IF(C54>62.5,\"Menguasai KD \"&#REF!,IF(C54>37.5,\"Masih perlu latihan KD \"&#REF!,IF(C54>1,\"Perlu bimbingan KD \"&#REF!,IF(C54=\"\",\"\"))))),IF(D54>87.5,\", sangat menguasai KD \"&#REF!,IF(D54>62.5,\", menguasai KD \"&#REF!,IF(D54>37.5,\", masih perlu latihan KD \"&#REF!,IF(D54>1,\", perlu bimbingan KD \"&#REF!,IF(D54=\"\",\"\"))))),IF(E54>87.5,\". Sangat menguasai KD \"&#REF!,IF(E54>62.5,\". Menguasai KD \"&#REF!,IF(E54>37.5,\". Masih perlu latihan KD \"&#REF!,IF(E54>1,\". Perlu bimbingan KD \"&#REF!,IF(E54=\"\",\"\"))))),IF(F54>87.5,\", sangat menguasai KD \"&#REF!,IF(F54>62.5,\", menguasai KD \"&#REF!,IF(F54>37.5,\", masih perlu latihan KD \"&#REF!,IF(F54>1,\", perlu bimbingan KD \"&#REF!,IF(F54=\"\",\"\"))))))","v":{"$error":"#REF!"}}]
[41,{"$f":"'Data '!D67","v":0},{"$f":"IF(Pengetahuan!H61=\"\",\"\",Pengetahuan!H61)","v":""},{"$f":"IF(Pengetahuan!N61=\"\",\"\",Pengetahuan!N61)","v":""},{"$f":"IF(Pengetahuan!P61=\"\",\"\",Pengetahuan!P61)","v":""},{"$f":"IF(Pengetahuan!AA60=\"\",\"\",Pengetahuan!AA60)","v":""},{"$f":"IF(Pengetahuan!AB61=\"\",\"\",Pengetahuan!AB61)","v":"Kompetensi pengetahuan rerata sangat baik. "},{"$f":"IF(Ketrampilan!G61=\"\",\"\",Ketrampilan!G61)","v":0},{"$f":"IF(Ketrampilan!K61=\"\",\"\",Ketrampilan!K61)","v":0},{"$f":"IF(Ketrampilan!N61=\"\",\"\",Ketrampilan!N61)","v":0},{"$f":"IF(Ketrampilan!Q61=\"\",\"\",Ketrampilan!Q61)","v":"D"},{"$f":"IF(Ketrampilan!AA61=\"\",\"\",Ketrampilan!AA61)","v":""},{"$f":"IF(Sikap!E54=\"\",\"\",Sikap!E54)","v":""},{"$f":"IF(Sikap!H54=\"  \",\"  \",Sikap!H54)","v":""},{"$f":"IF(Sikap!K54=\"\",\"\",Sikap!K54)","v":""},{"$f":"IF(Sikap!L54=\"\",\"\",Sikap!L54)","v":""},{"$f":"IF(Sikap!N54=\"\",\"\",Sikap!N54)","v":"SB"},null,null,null,null,null,null,null,null,null,null,null,null,null,null,null,null,null,null,null,null,null,null,null,null,null,null,null,null,null,null,null,null,null,null,null,null,{"$f":"CONCATENATE(IF(Q55>87.5,\"Kompetensi pengetahuan rerata sangat baik. \",IF(Q55>62.5,\"Kompetensi pengetahuan rerata baik. \",IF(Q55>37.5,\"Kompetensi pengetahuan rerata cukup. \",IF(Q55>1,\"Kompetensi pengetahuan rerata kurang. \",IF(Q55=\"\",\"\"))))),IF(C55>87.5,\"Sangat menguasai KD \"&#REF!,IF(C55>62.5,\"Menguasai KD \"&#REF!,IF(C55>37.5,\"Masih perlu latihan KD \"&#REF!,IF(C55>1,\"Perlu bimbingan KD \"&#REF!,IF(C55=\"\",\"\"))))),IF(D55>87.5,\", sangat menguasai KD \"&#REF!,IF(D55>62.5,\", menguasai KD \"&#REF!,IF(D55>37.5,\", masih perlu latihan KD \"&#REF!,IF(D55>1,\", perlu bimbingan KD \"&#REF!,IF(D55=\"\",\"\"))))),IF(E55>87.5,\". Sangat menguasai KD \"&#REF!,IF(E55>62.5,\". Menguasai KD \"&#REF!,IF(E55>37.5,\". Masih perlu latihan KD \"&#REF!,IF(E55>1,\". Perlu bimbingan KD \"&#REF!,IF(E55=\"\",\"\"))))),IF(F55>87.5,\", sangat menguasai KD \"&#REF!,IF(F55>62.5,\", menguasai KD \"&#REF!,IF(F55>37.5,\", masih perlu latihan KD \"&#REF!,IF(F55>1,\", perlu bimbingan KD \"&#REF!,IF(F55=\"\",\"\"))))))","v":{"$error":"#REF!"}}]
[42,{"$f":"'Data '!D68","v":0},{"$f":"IF(Pengetahuan!H62=\"\",\"\",Pengetahuan!H62)","v":""},{"$f":"IF(Pengetahuan!N62=\"\",\"\",Pengetahuan!N62)","v":""},{"$f":"IF(Pengetahuan!P62=\"\",\"\",Pengetahuan!P62)","v":""},{"$f":"IF(Pengetahuan!AA61=\"\",\"\",Pengetahuan!AA61)","v":""},{"$f":"IF(Pengetahuan!AB62=\"\",\"\",Pengetahuan!AB62)","v":"Kompetensi pengetahuan rerata sangat baik. "},{"$f":"IF(Ketrampilan!G62=\"\",\"\",Ketrampilan!G62)","v":0},{"$f":"IF(Ketrampilan!K62=\"\",\"\",Ketrampilan!K62)","v":0},{"$f":"IF(Ketrampilan!N62=\"\",\"\",Ketrampilan!N62)","v":0},{"$f":"IF(Ketrampilan!Q62=\"\",\"\",Ketrampilan!Q62)","v":"D"},{"$f":"IF(Ketrampilan!AA62=\"\",\"\",Ketrampilan!AA62)","v":""},{"$f":"IF(Sikap!E55=\"\",\"\",Sikap!E55)","v":""},{"$f":"IF(Sikap!H55=\"  \",\"  \",Sikap!H55)","v":""},{"$f":"IF(Sikap!K55=\"\",\"\",Sikap!K55)","v":""},{"$f":"IF(Sikap!L55=\"\",\"\",Sikap!L55)","v":""},{"$f":"IF(Sikap!N55=\"\",\"\",Sikap!N55)","v":"SB"},null,null,null,null,null,null,null,null,null,null,null,null,null,null,null,null,null,null,null,null,null,null,null,null,null,null,null,null,null,null,null,null,null,null,null,null,{"$f":"CONCATENATE(IF(Q56>87.5,\"Kompetensi pengetahuan rerata sangat baik. \",IF(Q56>62.5,\"Kompetensi pengetahuan rerata baik. \",IF(Q56>37.5,\"Kompetensi pengetahuan rerata cukup. \",IF(Q56>1,\"Kompetensi pengetahuan rerata kurang. \",IF(Q56=\"\",\"\"))))),IF(C56>87.5,\"Sangat menguasai KD \"&#REF!,IF(C56>62.5,\"Menguasai KD \"&#REF!,IF(C56>37.5,\"Masih perlu latihan KD \"&#REF!,IF(C56>1,\"Perlu bimbingan KD \"&#REF!,IF(C56=\"\",\"\"))))),IF(D56>87.5,\", sangat menguasai KD \"&#REF!,IF(D56>62.5,\", menguasai KD \"&#REF!,IF(D56>37.5,\", masih perlu latihan KD \"&#REF!,IF(D56>1,\", perlu bimbingan KD \"&#REF!,IF(D56=\"\",\"\"))))),IF(E56>87.5,\". Sangat menguasai KD \"&#REF!,IF(E56>62.5,\". Menguasai KD \"&#REF!,IF(E56>37.5,\". Masih perlu latihan KD \"&#REF!,IF(E56>1,\". Perlu bimbingan KD \"&#REF!,IF(E56=\"\",\"\"))))),IF(F56>87.5,\", sangat menguasai KD \"&#REF!,IF(F56>62.5,\", menguasai KD \"&#REF!,IF(F56>37.5,\", masih perlu latihan KD \"&#REF!,IF(F56>1,\", perlu bimbingan KD \"&#REF!,IF(F56=\"\",\"\"))))))","v":{"$error":"#REF!"}}]
[43,{"$f":"'Data '!D69","v":0},{"$f":"IF(Pengetahuan!H63=\"\",\"\",Pengetahuan!H63)","v":""},{"$f":"IF(Pengetahuan!N63=\"\",\"\",Pengetahuan!N63)","v":""},{"$f":"IF(Pengetahuan!P63=\"\",\"\",Pengetahuan!P63)","v":""},{"$f":"IF(Pengetahuan!AA62=\"\",\"\",Pengetahuan!AA62)","v":""},{"$f":"IF(Pengetahuan!AB63=\"\",\"\",Pengetahuan!AB63)","v":"Kompetensi pengetahuan rerata sangat baik. "},{"$f":"IF(Ketrampilan!G63=\"\",\"\",Ketrampilan!G63)","v":0},{"$f":"IF(Ketrampilan!K63=\"\",\"\",Ketrampilan!K63)","v":0},{"$f":"IF(Ketrampilan!N63=\"\",\"\",Ketrampilan!N63)","v":0},{"$f":"IF(Ketrampilan!Q63=\"\",\"\",Ketrampilan!Q63)","v":"D"},{"$f":"IF(Ketrampilan!AA63=\"\",\"\",Ketrampilan!AA63)","v":""},{"$f":"IF(Sikap!E56=\"\",\"\",Sikap!E56)","v":""},{"$f":"IF(Sikap!H56=\"  \",\"  \",Sikap!H56)","v":""},{"$f":"IF(Sikap!K56=\"\",\"\",Sikap!K56)","v":""},{"$f":"IF(Sikap!L56=\"\",\"\",Sikap!L56)","v":""},{"$f":"IF(Sikap!N56=\"\",\"\",Sikap!N56)","v":"SB"},null,null,null,null,null,null,null,null,null,null,null,null,null,null,null,null,null,null,null,null,null,null,null,null,null,null,null,null,null,null,null,null,null,null,null,null,{"$f":"CONCATENATE(IF(Q57>87.5,\"Kompetensi pengetahuan rerata sangat baik. \",IF(Q57>62.5,\"Kompetensi pengetahuan rerata baik. \",IF(Q57>37.5,\"Kompetensi pengetahuan rerata cukup. \",IF(Q57>1,\"Kompetensi pengetahuan rerata kurang. \",IF(Q57=\"\",\"\"))))),IF(C57>87.5,\"Sangat menguasai KD \"&#REF!,IF(C57>62.5,\"Menguasai KD \"&#REF!,IF(C57>37.5,\"Masih perlu latihan KD \"&#REF!,IF(C57>1,\"Perlu bimbingan KD \"&#REF!,IF(C57=\"\",\"\"))))),IF(D57>87.5,\", sangat menguasai KD \"&#REF!,IF(D57>62.5,\", menguasai KD \"&#REF!,IF(D57>37.5,\", masih perlu latihan KD \"&#REF!,IF(D57>1,\", perlu bimbingan KD \"&#REF!,IF(D57=\"\",\"\"))))),IF(E57>87.5,\". Sangat menguasai KD \"&#REF!,IF(E57>62.5,\". Menguasai KD \"&#REF!,IF(E57>37.5,\". Masih perlu latihan KD \"&#REF!,IF(E57>1,\". Perlu bimbingan KD \"&#REF!,IF(E57=\"\",\"\"))))),IF(F57>87.5,\", sangat menguasai KD \"&#REF!,IF(F57>62.5,\", menguasai KD \"&#REF!,IF(F57>37.5,\", masih perlu latihan KD \"&#REF!,IF(F57>1,\", perlu bimbingan KD \"&#REF!,IF(F57=\"\",\"\"))))))","v":{"$error":"#REF!"}}]
[44,{"$f":"'Data '!D70","v":0},{"$f":"IF(Pengetahuan!H64=\"\",\"\",Pengetahuan!H64)","v":""},{"$f":"IF(Pengetahuan!N64=\"\",\"\",Pengetahuan!N64)","v":""},{"$f":"IF(Pengetahuan!P64=\"\",\"\",Pengetahuan!P64)","v":""},{"$f":"IF(Pengetahuan!AA63=\"\",\"\",Pengetahuan!AA63)","v":""},{"$f":"IF(Pengetahuan!AB64=\"\",\"\",Pengetahuan!AB64)","v":"Kompetensi pengetahuan rerata sangat baik. "},{"$f":"IF(Ketrampilan!G64=\"\",\"\",Ketrampilan!G64)","v":0},{"$f":"IF(Ketrampilan!K64=\"\",\"\",Ketrampilan!K64)","v":0},{"$f":"IF(Ketrampilan!N64=\"\",\"\",Ketrampilan!N64)","v":0},{"$f":"IF(Ketrampilan!Q64=\"\",\"\",Ketrampilan!Q64)","v":"D"},{"$f":"IF(Ketrampilan!AA64=\"\",\"\",Ketrampilan!AA64)","v":""},{"$f":"IF(Sikap!E57=\"\",\"\",Sikap!E57)","v":""},{"$f":"IF(Sikap!H57=\"  \",\"  \",Sikap!H57)","v":""},{"$f":"IF(Sikap!K57=\"\",\"\",Sikap!K57)","v":""},{"$f":"IF(Sikap!L57=\"\",\"\",Sikap!L57)","v":""},{"$f":"IF(Sikap!N57=\"\",\"\",Sikap!N57)","v":"SB"},null,null,null,null,null,null,null,null,null,null,null,null,null,null,null,null,null,null,null,null,null,null,null,null,null,null,null,null,null,null,null,null,null,null,null,null,{"$f":"CONCATENATE(IF(Q58>87.5,\"Kompetensi pengetahuan rerata sangat baik. \",IF(Q58>62.5,\"Kompetensi pengetahuan rerata baik. \",IF(Q58>37.5,\"Kompetensi pengetahuan rerata cukup. \",IF(Q58>1,\"Kompetensi pengetahuan rerata kurang. \",IF(Q58=\"\",\"\"))))),IF(C58>87.5,\"Sangat menguasai KD \"&#REF!,IF(C58>62.5,\"Menguasai KD \"&#REF!,IF(C58>37.5,\"Masih perlu latihan KD \"&#REF!,IF(C58>1,\"Perlu bimbingan KD \"&#REF!,IF(C58=\"\",\"\"))))),IF(D58>87.5,\", sangat menguasai KD \"&#REF!,IF(D58>62.5,\", menguasai KD \"&#REF!,IF(D58>37.5,\", masih perlu latihan KD \"&#REF!,IF(D58>1,\", perlu bimbingan KD \"&#REF!,IF(D58=\"\",\"\"))))),IF(E58>87.5,\". Sangat menguasai KD \"&#REF!,IF(E58>62.5,\". Menguasai KD \"&#REF!,IF(E58>37.5,\". Masih perlu latihan KD \"&#REF!,IF(E58>1,\". Perlu bimbingan KD \"&#REF!,IF(E58=\"\",\"\"))))),IF(F58>87.5,\", sangat menguasai KD \"&#REF!,IF(F58>62.5,\", menguasai KD \"&#REF!,IF(F58>37.5,\", masih perlu latihan KD \"&#REF!,IF(F58>1,\", perlu bimbingan KD \"&#REF!,IF(F58=\"\",\"\"))))))","v":{"$error":"#REF!"}}]
[45,{"$f":"'Data '!D71","v":0},{"$f":"IF(Pengetahuan!H65=\"\",\"\",Pengetahuan!H65)","v":""},{"$f":"IF(Pengetahuan!N65=\"\",\"\",Pengetahuan!N65)","v":""},{"$f":"IF(Pengetahuan!P65=\"\",\"\",Pengetahuan!P65)","v":""},{"$f":"IF(Pengetahuan!AA64=\"\",\"\",Pengetahuan!AA64)","v":""},{"$f":"IF(Pengetahuan!AB65=\"\",\"\",Pengetahuan!AB65)","v":"Kompetensi pengetahuan rerata sangat baik. "},{"$f":"IF(Ketrampilan!G65=\"\",\"\",Ketrampilan!G65)","v":0},{"$f":"IF(Ketrampilan!K65=\"\",\"\",Ketrampilan!K65)","v":0},{"$f":"IF(Ketrampilan!N65=\"\",\"\",Ketrampilan!N65)","v":0},{"$f":"IF(Ketrampilan!Q65=\"\",\"\",Ketrampilan!Q65)","v":"D"},{"$f":"IF(Ketrampilan!AA65=\"\",\"\",Ketrampilan!AA65)","v":""},{"$f":"IF(Sikap!E58=\"\",\"\",Sikap!E58)","v":""},{"$f":"IF(Sikap!H58=\"  \",\"  \",Sikap!H58)","v":""},{"$f":"IF(Sikap!K58=\"\",\"\",Sikap!K58)","v":""},{"$f":"IF(Sikap!L58=\"\",\"\",Sikap!L58)","v":""},{"$f":"IF(Sikap!N58=\"\",\"\",Sikap!N58)","v":"SB"},null,null,null,null,null,null,null,null,null,null,null,null,null,null,null,null,null,null,null,null,null,null,null,null,null,null,null,null,null,null,null,null,null,null,null,null,{"$f":"CONCATENATE(IF(Q59>87.5,\"Kompetensi pengetahuan rerata sangat baik. \",IF(Q59>62.5,\"Kompetensi pengetahuan rerata baik. \",IF(Q59>37.5,\"Kompetensi pengetahuan rerata cukup. \",IF(Q59>1,\"Kompetensi pengetahuan rerata kurang. \",IF(Q59=\"\",\"\"))))),IF(C59>87.5,\"Sangat menguasai KD \"&#REF!,IF(C59>62.5,\"Menguasai KD \"&#REF!,IF(C59>37.5,\"Masih perlu latihan KD \"&#REF!,IF(C59>1,\"Perlu bimbingan KD \"&#REF!,IF(C59=\"\",\"\"))))),IF(D59>87.5,\", sangat menguasai KD \"&#REF!,IF(D59>62.5,\", menguasai KD \"&#REF!,IF(D59>37.5,\", masih perlu latihan KD \"&#REF!,IF(D59>1,\", perlu bimbingan KD \"&#REF!,IF(D59=\"\",\"\"))))),IF(E59>87.5,\". Sangat menguasai KD \"&#REF!,IF(E59>62.5,\". Menguasai KD \"&#REF!,IF(E59>37.5,\". Masih perlu latihan KD \"&#REF!,IF(E59>1,\". Perlu bimbingan KD \"&#REF!,IF(E59=\"\",\"\"))))),IF(F59>87.5,\", sangat menguasai KD \"&#REF!,IF(F59>62.5,\", menguasai KD \"&#REF!,IF(F59>37.5,\", masih perlu latihan KD \"&#REF!,IF(F59>1,\", perlu bimbingan KD \"&#REF!,IF(F59=\"\",\"\"))))))","v":{"$error":"#REF!"}}]
[46,{"$f":"'Data '!D72","v":0},{"$f":"IF(Pengetahuan!H66=\"\",\"\",Pengetahuan!H66)","v":""},{"$f":"IF(Pengetahuan!N66=\"\",\"\",Pengetahuan!N66)","v":""},{"$f":"IF(Pengetahuan!P66=\"\",\"\",Pengetahuan!P66)","v":""},{"$f":"IF(Pengetahuan!AA65=\"\",\"\",Pengetahuan!AA65)","v":""},{"$f":"IF(Pengetahuan!AB66=\"\",\"\",Pengetahuan!AB66)","v":"Kompetensi pengetahuan rerata sangat baik. "},{"$f":"IF(Ketrampilan!G66=\"\",\"\",Ketrampilan!G66)","v":0},{"$f":"IF(Ketrampilan!K66=\"\",\"\",Ketrampilan!K66)","v":0},{"$f":"IF(Ketrampilan!N66=\"\",\"\",Ketrampilan!N66)","v":0},{"$f":"IF(Ketrampilan!Q66=\"\",\"\",Ketrampilan!Q66)","v":"D"},{"$f":"IF(Ketrampilan!AA66=\"\",\"\",Ketrampilan!AA66)","v":""},{"$f":"IF(Sikap!E59=\"\",\"\",Sikap!E59)","v":""},{"$f":"IF(Sikap!H59=\"  \",\"  \",Sikap!H59)","v":""},{"$f":"IF(Sikap!K59=\"\",\"\",Sikap!K59)","v":""},{"$f":"IF(Sikap!L59=\"\",\"\",Sikap!L59)","v":""},{"$f":"IF(Sikap!N59=\"\",\"\",Sikap!N59)","v":"SB"}]
[47,{"$f":"'Data '!D73","v":0},{"$f":"IF(Pengetahuan!H67=\"\",\"\",Pengetahuan!H67)","v":""},{"$f":"IF(Pengetahuan!N67=\"\",\"\",Pengetahuan!N67)","v":""},{"$f":"IF(Pengetahuan!P67=\"\",\"\",Pengetahuan!P67)","v":""},{"$f":"IF(Pengetahuan!AA66=\"\",\"\",Pengetahuan!AA66)","v":""},{"$f":"IF(Pengetahuan!AB67=\"\",\"\",Pengetahuan!AB67)","v":"Kompetensi pengetahuan rerata sangat baik. "},{"$f":"IF(Ketrampilan!G67=\"\",\"\",Ketrampilan!G67)","v":0},{"$f":"IF(Ketrampilan!K67=\"\",\"\",Ketrampilan!K67)","v":0},{"$f":"IF(Ketrampilan!N67=\"\",\"\",Ketrampilan!N67)","v":0},{"$f":"IF(Ketrampilan!Q67=\"\",\"\",Ketrampilan!Q67)","v":"D"},{"$f":"IF(Ketrampilan!AA67=\"\",\"\",Ketrampilan!AA67)","v":""},{"$f":"IF(Sikap!E60=\"\",\"\",Sikap!E60)","v":""},{"$f":"IF(Sikap!H60=\"  \",\"  \",Sikap!H60)","v":""},{"$f":"IF(Sikap!K60=\"\",\"\",Sikap!K60)","v":""},{"$f":"IF(Sikap!L60=\"\",\"\",Sikap!L60)","v":""},{"$f":"IF(Sikap!N60=\"\",\"\",Sikap!N60)","v":"SB"}]
[48,{"$f":"'Data '!D74","v":0},{"$f":"IF(Pengetahuan!H68=\"\",\"\",Pengetahuan!H68)","v":""},{"$f":"IF(Pengetahuan!N68=\"\",\"\",Pengetahuan!N68)","v":""},{"$f":"IF(Pengetahuan!P68=\"\",\"\",Pengetahuan!P68)","v":""},{"$f":"IF(Pengetahuan!AA67=\"\",\"\",Pengetahuan!AA67)","v":""},{"$f":"IF(Pengetahuan!AB68=\"\",\"\",Pengetahuan!AB68)","v":"Kompetensi pengetahuan rerata sangat baik. "},{"$f":"IF(Ketrampilan!G68=\"\",\"\",Ketrampilan!G68)","v":0},{"$f":"IF(Ketrampilan!K68=\"\",\"\",Ketrampilan!K68)","v":0},{"$f":"IF(Ketrampilan!N68=\"\",\"\",Ketrampilan!N68)","v":0},{"$f":"IF(Ketrampilan!Q68=\"\",\"\",Ketrampilan!Q68)","v":"D"},{"$f":"IF(Ketrampilan!AA68=\"\",\"\",Ketrampilan!AA68)","v":""},{"$f":"IF(Sikap!E61=\"\",\"\",Sikap!E61)","v":""},{"$f":"IF(Sikap!H61=\"  \",\"  \",Sikap!H61)","v":""},{"$f":"IF(Sikap!K61=\"\",\"\",Sikap!K61)","v":""},{"$f":"IF(Sikap!L61=\"\",\"\",Sikap!L61)","v":""},{"$f":"IF(Sikap!N61=\"\",\"\",Sikap!N61)","v":"SB"}]
[49,{"$f":"'Data '!D75","v":0},{"$f":"IF(Pengetahuan!H69=\"\",\"\",Pengetahuan!H69)","v":""},{"$f":"IF(Pengetahuan!N69=\"\",\"\",Pengetahuan!N69)","v":""},{"$f":"IF(Pengetahuan!P69=\"\",\"\",Pengetahuan!P69)","v":""},{"$f":"IF(Pengetahuan!AA68=\"\",\"\",Pengetahuan!AA68)","v":""},{"$f":"IF(Pengetahuan!AB69=\"\",\"\",Pengetahuan!AB69)","v":"Kompetensi pengetahuan rerata sangat baik. "},{"$f":"IF(Ketrampilan!G69=\"\",\"\",Ketrampilan!G69)","v":0},{"$f":"IF(Ketrampilan!K69=\"\",\"\",Ketrampilan!K69)","v":0},{"$f":"IF(Ketrampilan!N69=\"\",\"\",Ketrampilan!N69)","v":0},{"$f":"IF(Ketrampilan!Q69=\"\",\"\",Ketrampilan!Q69)","v":"D"},{"$f":"IF(Ketrampilan!AA69=\"\",\"\",Ketrampilan!AA69)","v":""},{"$f":"IF(Sikap!E62=\"\",\"\",Sikap!E62)","v":""},{"$f":"IF(Sikap!H62=\"  \",\"  \",Sikap!H62)","v":""},{"$f":"IF(Sikap!K62=\"\",\"\",Sikap!K62)","v":""},{"$f":"IF(Sikap!L62=\"\",\"\",Sikap!L62)","v":""},{"$f":"IF(Sikap!N62=\"\",\"\",Sikap!N62)","v":"SB"}]
[50,{"$f":"'Data '!D76","v":0},{"$f":"IF(Pengetahuan!H70=\"\",\"\",Pengetahuan!H70)","v":67},{"$f":"IF(Pengetahuan!N70=\"\",\"\",Pengetahuan!N70)","v":90},{"$f":"IF(Pengetahuan!P70=\"\",\"\",Pengetahuan!P70)","v":78},{"$f":"IF(Pengetahuan!AA69=\"\",\"\",Pengetahuan!AA69)","v":"B"},{"$f":"IF(Pengetahuan!AB70=\"\",\"\",Pengetahuan!AB70)","v":"Kompetensi pengetahuan rerata sangat baik. "},{"$f":"IF(Ketrampilan!G70=\"\",\"\",Ketrampilan!G70)","v":56},{"$f":"IF(Ketrampilan!K70=\"\",\"\",Ketrampilan!K70)","v":90},{"$f":"IF(Ketrampilan!N70=\"\",\"\",Ketrampilan!N70)","v":78},{"$f":"IF(Ketrampilan!Q70=\"\",\"\",Ketrampilan!Q70)","v":"B-"},{"$f":"IF(Ketrampilan!AA70=\"\",\"\",Ketrampilan!AA70)","v":"Kompetensi ketrampilan rerata baik. "},{"$f":"IF(Sikap!E63=\"\",\"\",Sikap!E63)","v":""},{"$f":"IF(Sikap!H63=\"  \",\"  \",Sikap!H63)","v":""},{"$f":"IF(Sikap!K63=\"\",\"\",Sikap!K63)","v":""},{"$f":"IF(Sikap!L63=\"\",\"\",Sikap!L63)","v":""},{"$f":"IF(Sikap!N63=\"\",\"\",Sikap!N63)","v":"SB"}]
[null,"Nilai Rata-rata",{"$f":"IFERROR(AVERAGE(C15:C64),\" \")","v":79.682926829268297},{"$f":"IFERROR(AVERAGE(D15:D64),\" \")","v":80.243902439024396},75.073170731707322,"","",65.12,65.8,65.56,"","",3,3,3,3,""]
[]
[null,null,"Jenis",null,"NP","UTS",null,"UAS","Jlh"]
[null,null,"Bobot",null,2,1,null,1,{"$f":"SUM(E68:H68)","v":4}]
[]
[null,"Mengetahui:"]
[null,{"$f":"\"Ka. \" &'Data '!D7","v":"Ka. SMP Negeri 6 Blora"}]
[]
[]
[]
[null,{"$f":"'Data '!D15","v":"Suparno, S.Pd.,M.Hum"}]
[null,{"$f":"\"NIP.  \"&'Data '!D16","v":"NIP.  NIP. 19620712 198403 1 012"}]
[]
[]
[]
[]
[]
[]
[]
[]
[]
[]
[]
[]
[]
[]
[]
[]
[]
[]
[]
[]
[]
[]
[]
[]
[]
[]
[]
[]
[]
[]
[]
[]
[]
[]
[]
[]
[]
[]
[]
[]
[]
[]
[]
[]
[]
[]
[]
[]
[]
[]
[]
[]
[]
[]
[]
[]
[]
[]
[]
[null,null,null,null,null,null,null,null,null,null,null,null,null,null,null,null,null,null,null,"Batas Halaman"]

{"sheet":"Obs 1","index":11,"n_rows":735,"n_cols":20,"rows_kept":735,"cut":false,"hidden":false,"merged":[[280,1,280,13],[281,1,281,13],[282,1,282,13],[148,1,148,13],[149,1,149,13],[346,1,346,13],[347,1,347,13],[348,1,348,13],[216,1,216,13],[209,1,209,13],[210,1,210,13],[212,1,212,13],[213,1,213,13],[214,1,214,13],[215,1,215,13],[273,1,273,6],[273,7,273,12],[7,2,7,3],[7,5,7,7],[7,8,7,9],[7,10,7,12],[7,13,7,14],[8,2,8,5],[0,1,0,14],[1,1,1,14],[2,1,2,14],[3,1,4,14],[6,2,6,5],[6,6,6,7],[6,8,6,9],[6,10,6,12],[10,14,11,14],[10,7,11,7],[10,8,11,8],[10,9,11,9],[10,10,11,10],[10,12,11,12],[10,13,11,13],[80,1,80,13],[10,0,11,0],[10,2,11,2],[10,3,11,3],[10,4,11,4],[10,5,11,5],[10,6,11,6],[76,1,76,13],[77,1,77,13],[78,1,78,13],[66,1,66,2],[74,7,74,12],[74,1,74,6],[85,0,87,0],[85,2,87,2],[85,3,87,3],[85,4,87,4],[85,5,87,5],[85,6,87,6],[81,1,81,13],[82,1,82,13],[83,1,83,13],[85,14,87,14],[143,1,143,14],[144,1,144,13],[145,1,145,13],[85,7,87,7],[85,8,87,8],[85,9,87,9],[85,10,87,10],[85,12,87,12],[85,13,87,13],[140,1,140,6],[140,7,140,12],[151,14,153,14],[208,1,208,13],[146,1,146,13],[151,0,153,0],[151,2,153,2],[151,3,153,3],[151,4,153,4],[151,5,153,5],[151,6,153,6],[151,7,153,7],[151,8,153,8],[151,9,153,9],[147,1,147,13],[151,10,153,10],[151,12,153,12],[151,13,153,13],[206,1,206,6],[206,7,206,12],[284,0,286,0],[284,2,286,2],[284,3,286,3],[284,4,286,4],[284,5,286,5],[284,6,286,6],[218,14,220,14],[275,1,275,13],[276,1,276,13],[277,1,277,13],[279,1,279,13],[218,7,220,7],[218,8,220,8],[218,9,220,9],[218,10,220,10],[218,12,220,12],[218,13,220,13],[218,0,220,0],[218,2,220,2],[218,3,220,3],[218,4,220,4],[218,5,220,5],[218,6,220,6],[284,11,286,11],[284,14,286,14],[341,1,341,13],[342,1,342,13],[343,1,343,13],[344,1,344,13],[284,7,286,7],[284,8,286,8],[284,9,286,9],[284,10,286,10],[284,12,286,12],[284,13,286,13],[339,1,339,6],[339,7,339,12],[350,10,352,10],[350,12,352,12],[350,13,352,13],[350,14,352,14],[407,1,407,13],[345,1,345,13],[350,0,352,0],[350,2,352,2],[350,3,352,3],[350,4,352,4],[350,5,352,5],[350,6,352,6],[350,7,352,7],[350,8,352,8],[350,9,352,9],[350,11,352,11],[405,1,405,6],[405,7,405,12],[408,1,408,13],[409,1,409,13],[410,1,410,13],[415,1,415,13],[417,0,419,0],[417,2,419,2],[417,3,419,3],[417,4,419,4],[417,5,419,5],[417,6,419,6],[411,1,411,13],[412,1,412,13],[413,1,413,13],[414,1,414,13],[417,11,419,11],[417,14,419,14],[474,1,474,13],[475,1,475,13],[476,1,476,13],[477,1,477,13],[417,7,419,7],[417,8,419,8],[417,9,419,9],[417,10,419,10],[417,12,419,12],[417,13,419,13],[472,1,472,6],[472,7,472,12],[483,10,485,10],[483,12,485,12],[483,13,485,13],[483,14,485,14],[540,1,540,13],[478,1,478,13],[483,0,485,0],[483,2,485,2],[483,3,485,3],[483,4,485,4],[483,5,485,5],[483,6,485,6],[483,7,485,7],[483,8,485,8],[483,9,485,9],[483,11,485,11],[479,1,479,13],[480,1,480,13],[481,1,481,13],[538,1,538,6],[538,7,538,12],[541,1,541,13],[542,1,542,13],[543,1,543,13],[544,1,544,13],[549,0,551,0],[549,2,551,2],[549,3,551,3],[549,4,551,4],[549,5,551,5],[549,6,551,6],[545,1,545,13],[546,1,546,13],[547,1,547,13],[616,9,618,9],[616,10,618,10],[616,12,618,12],[616,13,618,13],[549,14,551,14],[549,7,551,7],[549,8,551,8],[549,9,551,9],[549,10,551,10],[549,12,551,12],[549,13,551,13],[616,14,618,14],[605,1,605,6],[605,7,605,12],[607,1,607,13],[608,1,608,13],[609,1,609,13],[610,1,610,13],[611,1,611,13],[682,0,684,0],[682,2,684,2],[682,3,684,3],[682,4,684,4],[682,5,684,5],[682,6,684,6],[682,7,684,7],[682,8,684,8],[682,9,684,9],[616,0,618,0],[616,2,618,2],[616,3,618,3],[616,4,618,4],[616,5,618,5],[616,6,618,6],[616,7,618,7],[616,8,618,8],[682,14,684,14],[10,11,11,11],[85,11,87,11],[151,11,153,11],[218,11,220,11],[678,1,678,13],[679,1,679,13],[680,1,680,13],[682,11,684,11],[612,1,612,13],[613,1,613,13],[614,1,614,13],[616,11,618,11],[549,11,551,11],[671,1,671,6],[671,7,671,12],[673,1,673,13],[674,1,674,13],[675,1,675,13],[676,1,676,13],[677,1,677,13],[682,10,684,10],[682,12,684,12],[682,13,684,13]]}
[null,{"$f":"UPPER('Data '!D10)","v":"PEMERINTAH KABUPATEN BLORA"}]
[null,{"$f":"UPPER('Data '!D6)","v":"DINAS PENDIDIKAN PEMUDA DAN OLAHRAGA"}]
[null,{"$f":"UPPER('Data '!D7)","v":"SMP NEGERI 6 BLORA"}]
[null,"REKAP NILAI OBSERVASI - 1"]
[]
[]
[null,"Mata Pelajaran :",{"$f":"Home!E16","v":"PJOK"},null,null,null,"Semester  :",null,{"$f":"'Data '!D14","v":"Ganjil"},null,"KKM  :",null,null,{"$f":"Home!E26","v":3}]
[null,"Kelas :",{"$f":"Home!E18","v":"VII-A"},null,null,"Tahun Pelajaran :",null,null,{"$f":"'Data '!D13","v":"2014/2015"},null,"Wali Kelas :",null,null,{"$f":"'Data '!D17","v":"Mundari, S.Pd."}]
[null,"Aspek :","Sikap: Observasi"]
[]
["No. ","Sikap",{"$f":"H75","v":"spiritual"},{"$f":"H141","v":"jujur"},{"$f":"H207","v":"disiplin"},{"$f":"H274","v":"tanggungjawab"},{"$f":"H340","v":"toleransi"},{"$f":"H406","v":"gotong royong"},{"$f":"H473","v":"santun"},{"$f":"H539","v":"percaya diri"},{"$f":"H606","v":"ramah tamah"},{"$f":"H672","v":"ingin tahu"},"Nilai Modus","Nilai","Keterangan"]
[null,"Nama"]
[1,{"$f":"'Data '!D27","v":"AHMAD ALEK BRIYANSAPUTRA"},{"$f":"M89","v":3},{"$f":"M155","v":3},{"$f":"M222","v":3},{"$f":"M288","v":3},{"$f":"M354","v":3},{"$f":"M421","v":3},{"$f":"M487","v":3},{"$f":"M553","v":3},{"$f":"M620","v":3},{"$f":"M686","v":3},{"$f":"IFERROR(MODE(C13:L13),\"  \")","v":3},{"$f":"IF(M13=\"  \",\"  \",IF(M13>=$S$13,\"SB\",IF(M13>=$S$14,\"B\",IF(M13>=$S$15,\"C\",\"K\"))))","v":"B"},{"$f":"IF(M13=\"  \",\"  \",IF(M13>=$N$7,\"Tuntas\",\"Tidak Tuntas\"))","v":"Tuntas"},null,null,">",{"$f":"'Data '!M20","v":4},"SB"]
[2,{"$f":"'Data '!D28","v":"AULIA AYU FATINA"},3,3,3,3,3,3,3,3,{"$f":"M621","v":3},{"$f":"M687","v":3},{"$f":"IFERROR(MODE(C14:L14),\"  \")","v":3},{"$f":"IF(M14=\"  \",\"  \",IF(M14>=$S$13,\"SB\",IF(M14>=$S$14,\"B\",IF(M14>=$S$15,\"C\",\"K\"))))","v":"B"},{"$f":"IF(M14=\"  \",\"  \",IF(M14>=$N$7,\"Tuntas\",\"Tidak Tuntas\"))","v":"Tuntas"},null,null,">",{"$f":"'Data '!M22","v":3},"B"]
[3,{"$f":"'Data '!D29","v":"BAGAS YULANDRA PUTRA"},3,3,3,3,3,3,3,3,3,3,3,"B","Tuntas",null,null,">",{"$f":"'Data '!M25","v":2},"C"]
[4,{"$f":"'Data '!D30","v":"CYNTIA AGUSTINA"},3,3,3,3,3,3,3,3,3,3,3,"B","Tuntas",null,null,">",{"$f":"'Data '!M28","v":1},"K"]
[5,{"$f":"'Data '!D31","v":"DAFFA KRISNA PRAMUDYA"},3,3,3,3,3,3,3,3,3,3,3,"B","Tuntas"]
[6,{"$f":"'Data '!D32","v":"DANINDRA RAFIF IRAWAN"},3,3,3,3,3,3,3,3,3,3,3,"B","Tuntas"]
[7,{"$f":"'Data '!D33","v":"DENI PRATAMA"},3,3,3,3,3,3,3,3,3,3,3,"B","Tuntas"]
[8,{"$f":"'Data '!D34","v":"DIKA SUKMA AGUSTIN"},3,3,3,3,3,3,3,3,3,3,3,"B","Tuntas"]
[9,{"$f":"'Data '!D35","v":"DIVA ADITYA"},3,3,3,3,3,3,3,3,3,3,3,"B","Tuntas"]
[10,{"$f":"'Data '!D36","v":"EKO PRASTYO"},3,3,3,3,3,3,3,3,3,3,3,"B","Tuntas"]
[11,{"$f":"'Data '!D37","v":"FAIQUR RIJAL HAMMAM"},3,3,3,3,3,3,3,3,3,3,3,"B","Tuntas"]
[12,{"$f":"'Data '!D38","v":"FATESAR SARI PRASETYO"},3,3,3,3,3,3,3,3,3,3,3,"B","Tuntas"]
[13,{"$f":"'Data '!D39","v":"FEBRI SULISTIYO"},3,3,3,3,3,3,3,3,3,3,3,"B","Tuntas"]
[14,{"$f":"'Data '!D40","v":"FIONA NANDA FETRIAN"},3,3,3,3,3,3,3,3,3,3,3,"B","Tuntas"]
[15,{"$f":"'Data '!D41","v":"GILANG SYAHRUL RAMADHAN"},3,3,3,3,3,3,3,3,3,3,3,"B","Tuntas"]
[16,{"$f":"'Data '!D42","v":"IMAM AGUNG WAHYU PRATAMA"},3,3,3,3,3,3,3,3,3,3,3,"B","Tuntas"]
[17,{"$f":"'Data '!D43","v":"JOHAN MAULANA"},3,3,3,3,3,3,3,3,3,3,3,"B","Tuntas"]
[18,{"$f":"'Data '!D44","v":"JOKO SETIAWAN"},3,3,3,3,3,3,3,3,3,3,3,"B","Tuntas"]
[19,{"$f":"'Data '!D45","v":"LISA OKTAVINASARI"},3,3,3,3,3,3,3,3,3,3,3,"B","Tuntas"]
[20,{"$f":"'Data '!D46","v":"MARIA GILDA SIREGAR"},3,3,3,3,3,3,3,3,3,3,3,"B","Tuntas"]
[21,{"$f":"'Data '!D47","v":"MOHAMMAD NURKHOLISH"},3,3,3,3,3,3,3,3,3,3,3,"B","Tuntas"]
[22,{"$f":"'Data '!D48","v":"MUHAMAD FARIS ULIN NUHA"},3,3,3,3,3,3,3,3,3,3,3,"B","Tuntas"]
[23,{"$f":"'Data '!D49","v":"MUHAMMAD MUSTOFA"},3,3,3,3,3,3,3,3,3,3,3,"B","Tuntas"]
[24,{"$f":"'Data '!D50","v":"NANDA WINTYA PUTRI"},3,3,3,3,3,3,3,3,3,3,3,"B","Tuntas"]
[25,{"$f":"'Data '!D51","v":"NI'MA NOVA NUR FADHILAH"},3,3,3,3,3,3,3,3,3,3,3,"B","Tuntas"]
[26,{"$f":"'Data '!D52","v":"NITA ZUMROTUT TAQIYAH"},3,3,3,3,3,3,3,3,3,3,3,"B","Tuntas"]
[27,{"$f":"'Data '!D53","v":"RACHMAT SAPUTRA ANDRIANSYAH"},3,3,3,3,3,3,3,3,3,3,3,"B","Tuntas"]
[28,{"$f":"'Data '!D54","v":"RIZAL ANDRIYAN SAPUTRA"},3,3,3,3,3,3,3,3,3,3,3,"B","Tuntas"]
[29,{"$f":"'Data '!D55","v":"SAIFUL ANNAS"},3,3,3,3,3,3,3,3,3,3,3,"B","Tuntas"]
[30,{"$f":"'Data '!D56","v":"SELINA SEPTIANI"},3,3,3,3,3,3,3,3,3,3,3,"B","Tuntas"]
[31,{"$f":"'Data '!D57","v":"SHALSABILA  SHINTA NIRMALA"},3,3,3,3,3,3,3,3,3,3,3,"B","Tuntas"]
[32,{"$f":"'Data '!D58","v":"SITI CHOIRIATUS SA'ADAH"},3,3,3,3,3,3,3,3,3,3,3,"B","Tuntas"]
[33,{"$f":"'Data '!D59","v":"SITI NURFAN AZIZAH"},3,3,3,3,3,3,3,3,3,3,3,"B","Tuntas"]
[34,{"$f":"'Data '!D60","v":"SITI RAHAYU"},3,3,3,3,3,3,3,3,3,3,3,"B","Tuntas"]
[35,{"$f":"'Data '!D61","v":"STEVIANA PUSPITA SARI"},3,3,3,3,3,3,3,3,3,3,3,"B","Tuntas"]
[36,{"$f":"'Data '!D62","v":"TAN LINGGAR PRAMUDITA"},3,3,3,3,3,3,3,3,3,3,3,"B","Tuntas"]
[37,{"$f":"'Data '!D63","v":"TAUFIK NUR AZIZ DANUARTA"},3,3,3,3,3,3,3,3,3,3,3,"B","Tuntas"]
[38,{"$f":"'Data '!D64","v":"TIARA PUTRI AYUNINGTIAS"},3,3,3,3,3,3,3,3,3,3,3,"B","Tuntas"]
[39,{"$f":"'Data '!D65","v":"TITANIA GAYATRI PRIANJANI"},3,3,3,3,3,{"$f":"M459","v":3},3,3,3,3,3,"B","Tuntas"]
[40,{"$f":"'Data '!D66","v":"ULFATUN NI'MAH"},{"$f":"M128","v":3},{"$f":"M194","v":3},{"$f":"M261","v":3},{"$f":"M327","v":3},{"$f":"M393","v":3},{"$f":"M460","v":3},{"$f":"M526","v":3},{"$f":"M592","v":3},3,3,3,"B","Tuntas"]
[41,{"$f":"'Data '!D67","v":0},{"$f":"M129","v":""},{"$f":"M195","v":""},{"$f":"M262","v":""},{"$f":"M328","v":""},{"$f":"M394","v":""},{"$f":"M461","v":""},{"$f":"M527","v":""},{"$f":"M593","v":""},"","","","",{"$f":"IF(M53=\"  \",\"  \",IF(M53>=$N$7,\"Tuntas\",\"Tidak Tuntas\"))","v":""}]
[42,{"$f":"'Data '!D68","v":0},{"$f":"M130","v":""},{"$f":"M196","v":""},{"$f":"M263","v":""},{"$f":"M329","v":""},{"$f":"M395","v":""},{"$f":"M462","v":""},{"$f":"M528","v":""},{"$f":"M594","v":""},"","","","",""]
[43,{"$f":"'Data '!D69","v":0},{"$f":"M131","v":""},{"$f":"M197","v":""},{"$f":"M264","v":""},{"$f":"M330","v":""},{"$f":"M396","v":""},{"$f":"M463","v":""},{"$f":"M529","v":""},{"$f":"M595","v":""},"","","","",""]
[44,{"$f":"'Data '!D70","v":0},{"$f":"M132","v":""},{"$f":"M198","v":""},{"$f":"M265","v":""},{"$f":"M331","v":""},{"$f":"M397","v":""},{"$f":"M464","v":""},{"$f":"M530","v":""},{"$f":"M596","v":""},"","","","",""]
[45,{"$f":"'Data '!D71","v":0},{"$f":"M133","v":""},{"$f":"M199","v":""},{"$f":"M266","v":""},{"$f":"M332","v":""},{"$f":"M398","v":""},{"$f":"M465","v":""},{"$f":"M531","v":""},{"$f":"M597","v":""},"","","","",""]
[46,{"$f":"'Data '!D72","v":0},{"$f":"M134","v":""},{"$f":"M200","v":""},{"$f":"M267","v":""},{"$f":"M333","v":""},{"$f":"M399","v":""},{"$f":"M466","v":""},{"$f":"M532","v":""},{"$f":"M598","v":""},"","","","",{"$f":"IF(M58=\"  \",\"  \",IF(M58>=$N$7,\"Tuntas\",\"Tidak Tuntas\"))","v":""}]
[47,{"$f":"'Data '!D73","v":0},"","","","","","","","","","","","",""]
[48,{"$f":"'Data '!D74","v":0},"","","","","","","","","","","","",""]
[49,{"$f":"'Data '!D75","v":0},"","","","","","","","","","","","",""]
[50,{"$f":"'Data '!D76","v":0},"","","","","","","","","","","","",""]
[null,"Nilai Rata-rata",{"$f":"IFERROR(AVERAGE(C13:C52),\"  \")","v":3},null,{"$f":"IFERROR(AVERAGE(E13:E52),\"  \")","v":3},3,3,3,3,3,3,null,3,"B"]
[null,null,"Skala penilaian sikap dibuat dengan rentang antara 1 s.d 4."]
[null,null,null,"1 =","Tidak Pernah",null,null,null,null,null,null,null,{"$f":"'Data '!D21","v":"Blora, 20 Desember 2014"}]
[null,"Mengetahui:",null,"2 =","Kadang-kadang",null,null,null,null,null,null,null,"Guru Mata Pelajaran"]
[null,{"$f":"\"Ka. \"&'Data '!D7","v":"Ka. SMP Negeri 6 Blora"},null,"3 =","Sering"]
[null,null,null,"4 =","Selalu"]
[]
[null,null,null,null,null,null,null,null,null,null,null,null,{"$f":"Home!E12","v":"Drs. Sarid Nugroho"}]
[null,{"$f":"'Data '!D15","v":"Suparno, S.Pd.,M.Hum"},null,null,null,null,null,null,null,null,null,null,{"$f":"Home!E14","v":"NIP. 19631223 198803 1 004"}]
[null,{"$f":"'Data '!D16","v":"NIP. 19620712 198403 1 012"}]
[]
[]
[null,"Pedoman Observasi Sikap",null,null,null,null,null,"spiritual"]
[null,"Aspek Pengamatan"]
[1,"Berdoa sebelum dan sesudah melakukan sesuatu"]
[2,"Mengucapkan rasa syukur atas karunia Tuhan"]
[3,"Memberi salam sebelum dan sesudah menyampaikan pendapat/presentasi"]
[4,"Mengungkapkan kekaguman secara lisan maupun tulisan terhadap Tuhan saat melihat kebesaran Tuhan"]
[5,"Merasakan keberadaan dan kebesaran Tuhan saat mempelajari ilmu pengetahuan"]
[6,"Menjalankan ibadah tepat waktu"]
[7,"Berserah diri kepada Tuhan apabila gagal dalam mengerjakan sesuatu"]
[8,"Menghormati orang lain menjalankan ibadah sesuai agamanya"]
[]
["No. ","Sikap","Aspek 1","Aspek 2","Aspek 3","Aspek 4","Aspek 5",null,null,null,null,null,"Nilai Modus","Nilai","Keterangan"]
[]
[null,"Nama"]
[1,{"$f":"'Data '!D27","v":"AHMAD ALEK BRIYANSAPUTRA"},3,3,3,3,3,null,null,null,null,null,{"$f":"IFERROR(MODE(C89:L89),\"  \")","v":3},{"$f":"IF(M89=\"  \",\"  \",IF(M89>=$S$13,\"SB\",IF(M89>=$S$14,\"B\",IF(M89>=$S$15,\"C\",\"K\"))))","v":"B"},{"$f":"IF(M89=\"  \",\"  \",IF(M89>=$N$7,\"Tuntas\",\"Tidak Tuntas\"))","v":"Tuntas"}]
[2,{"$f":"'Data '!D28","v":"AULIA AYU FATINA"},3,3,3,3,3,null,null,null,null,null,{"$f":"IFERROR(MODE(C90:L90),\"  \")","v":3},{"$f":"IF(M90=\"  \",\"  \",IF(M90>=$S$13,\"SB\",IF(M90>=$S$14,\"B\",IF(M90>=$S$15,\"C\",\"K\"))))","v":"B"},"Tuntas"]
[3,{"$f":"'Data '!D29","v":"BAGAS YULANDRA PUTRA"},3,3,3,3,3,null,null,null,null,null,3,"B","Tuntas"]
[4,{"$f":"'Data '!D30","v":"CYNTIA AGUSTINA"},3,3,3,3,3,null,null,null,null,null,3,"B","Tuntas"]
[5,{"$f":"'Data '!D31","v":"DAFFA KRISNA PRAMUDYA"},3,3,3,3,3,null,null,null,null,null,3,"B","Tuntas"]
[6,{"$f":"'Data '!D32","v":"DANINDRA RAFIF IRAWAN"},3,3,3,3,3,null,null,null,null,null,3,"B","Tuntas"]
[7,{"$f":"'Data '!D33","v":"DENI PRATAMA"},3,3,3,3,3,null,null,null,null,null,3,"B","Tuntas"]
[8,{"$f":"'Data '!D34","v":"DIKA SUKMA AGUSTIN"},3,3,3,3,3,null,null,null,null,null,3,"B","Tuntas"]
[9,{"$f":"'Data '!D35","v":"DIVA ADITYA"},3,3,3,3,3,null,null,null,null,null,3,"B","Tuntas"]
[10,{"$f":"'Data '!D36","v":"EKO PRASTYO"},3,3,3,3,3,null,null,null,null,null,3,"B","Tuntas"]
[11,{"$f":"'Data '!D37","v":"FAIQUR RIJAL HAMMAM"},3,3,3,3,3,null,null,null,null,null,3,"B","Tuntas"]
[12,{"$f":"'Data '!D38","v":"FATESAR SARI PRASETYO"},3,3,3,3,3,null,null,null,null,null,3,"B","Tuntas"]
[13,{"$f":"'Data '!D39","v":"FEBRI SULISTIYO"},3,3,3,3,3,null,null,null,null,null,3,"B","Tuntas"]
[14,{"$f":"'Data '!D40","v":"FIONA NANDA FETRIAN"},3,3,3,3,3,null,null,null,null,null,3,"B","Tuntas"]
[15,{"$f":"'Data '!D41","v":"GILANG SYAHRUL RAMADHAN"},3,3,3,3,3,null,null,null,null,null,3,"B","Tuntas"]
[16,{"$f":"'Data '!D42","v":"IMAM AGUNG WAHYU PRATAMA"},3,3,3,3,3,null,null,null,null,null,3,"B","Tuntas"]
[17,{"$f":"'Data '!D43","v":"JOHAN MAULANA"},3,3,3,3,3,null,null,null,null,null,3,"B","Tuntas"]
[18,{"$f":"'Data '!D44","v":"JOKO SETIAWAN"},3,3,3,3,3,null,null,null,null,null,3,"B","Tuntas"]
[19,{"$f":"'Data '!D45","v":"LISA OKTAVINASARI"},3,3,3,3,3,null,null,null,null,null,3,"B","Tuntas"]
[20,{"$f":"'Data '!D46","v":"MARIA GILDA SIREGAR"},3,3,3,3,3,null,null,null,null,null,3,"B","Tuntas"]
[21,{"$f":"'Data '!D47","v":"MOHAMMAD NURKHOLISH"},3,3,3,3,3,null,null,null,null,null,3,"B","Tuntas"]
[22,{"$f":"'Data '!D48","v":"MUHAMAD FARIS ULIN NUHA"},3,3,3,3,3,null,null,null,null,null,3,"B","Tuntas"]
[23,{"$f":"'Data '!D49","v":"MUHAMMAD MUSTOFA"},3,3,3,3,3,null,null,null,null,null,3,"B","Tuntas"]
[24,{"$f":"'Data '!D50","v":"NANDA WINTYA PUTRI"},3,3,3,3,3,null,null,null,null,null,3,"B","Tuntas"]
[25,{"$f":"'Data '!D51","v":"NI'MA NOVA NUR FADHILAH"},3,3,3,3,3,null,null,null,null,null,3,"B","Tuntas"]
[26,{"$f":"'Data '!D52","v":"NITA ZUMROTUT TAQIYAH"},3,3,3,3,3,null,null,null,null,null,3,"B","Tuntas"]
[27,{"$f":"'Data '!D53","v":"RACHMAT SAPUTRA ANDRIANSYAH"},3,3,3,3,3,null,null,null,null,null,3,"B","Tuntas"]
[28,{"$f":"'Data '!D54","v":"RIZAL ANDRIYAN SAPUTRA"},3,3,3,3,3,null,null,null,null,null,3,"B","Tuntas"]
[29,{"$f":"'Data '!D55","v":"SAIFUL ANNAS"},3,3,3,3,3,null,null,null,null,null,3,"B","Tuntas"]
[30,{"$f":"'Data '!D56","v":"SELINA SEPTIANI"},3,3,3,3,3,null,null,null,null,null,3,"B","Tuntas"]
[31,{"$f":"'Data '!D57","v":"SHALSABILA  SHINTA NIRMALA"},3,3,3,3,3,null,null,null,null,null,3,"B","Tuntas"]
[32,{"$f":"'Data '!D58","v":"SITI CHOIRIATUS SA'ADAH"},3,3,3,3,3,null,null,null,null,null,3,"B","Tuntas"]
[33,{"$f":"'Data '!D59","v":"SITI NURFAN AZIZAH"},3,3,3,3,3,null,null,null,null,null,3,"B","Tuntas"]
[34,{"$f":"'Data '!D60","v":"SITI RAHAYU"},3,3,3,3,3,null,null,null,null,null,3,"B","Tuntas"]
[35,{"$f":"'Data '!D61","v":"STEVIANA PUSPITA SARI"},3,3,3,3,3,null,null,null,null,null,3,"B","Tuntas"]
[36,{"$f":"'Data '!D62","v":"TAN LINGGAR PRAMUDITA"},3,3,3,3,3,null,null,null,null,null,3,"B","Tuntas"]
[37,{"$f":"'Data '!D63","v":"TAUFIK NUR AZIZ DANUARTA"},3,3,3,3,3,null,null,null,null,null,3,"B","Tuntas"]
[38,{"$f":"'Data '!D64","v":"TIARA PUTRI AYUNINGTIAS"},3,3,3,3,3,null,null,null,null,null,3,"B","Tuntas"]
[39,{"$f":"'Data '!D65","v":"TITANIA GAYATRI PRIANJANI"},3,3,3,3,3,null,null,null,null,null,3,"B","Tuntas"]
[40,{"$f":"'Data '!D66","v":"ULFATUN NI'MAH"},3,3,3,3,3,null,null,null,null,null,3,"B","Tuntas"]
[41,{"$f":"'Data '!D67","v":0},null,null,null,null,null,null,null,null,null,null,"","",""]
[42,{"$f":"'Data '!D68","v":0},null,null,null,null,null,null,null,null,null,null,"","",""]
[43,{"$f":"'Data '!D69","v":0},null,null,null,null,null,null,null,null,null,null,"","",""]
[44,{"$f":"'Data '!D70","v":0},null,null,null,null,null,null,null,null,null,null,"","",""]
[45,{"$f":"'Data '!D71","v":0},null,null,null,null,null,null,null,null,null,null,"","",""]
[46,{"$f":"'Data '!D72","v":0},null,null,null,null,null,null,null,null,null,null,"","",{"$f":"IF(M134=\"  \",\"  \",IF(M134>=$N$7,\"Tuntas\",\"Tidak Tuntas\"))","v":""}]
[47,{"$f":"'Data '!D73","v":0},null,null,null,null,null,null,null,null,null,null,"","",""]
[48,{"$f":"'Data '!D74","v":0},null,null,null,null,null,null,null,null,null,null,"","",""]
[49,{"$f":"'Data '!D75","v":0},null,null,null,null,null,null,null,null,null,null,"","",""]
[50,{"$f":"'Data '!D76","v":0},null,null,null,null,null,null,null,null,null,null,"","",""]
[]
[]
[null,"Pedoman Observasi Sikap",null,null,null,null,null,"jujur"]
[null,"Aspek Pengamatan"]
[1,"Tidak nyontek dalam mengerjakan ujian/ulangan/tugas"]
[2,"Tidak melakukan plagiat (mengambil/menyalin karya orang lain tanpa menyebutkan sumber) dalam mengerjakan setiap tugas"]
[3,"Mengungkapkan perasaan terhadap sesuatu apa adanya"]
[4,"Melaporkan data atau informasi apa adanya"]
[5,"Mengakui kesalahan atau kekurangan yang dimiliki"]
[6]
[7]
[8]
[]
["No. ","Sikap","Aspek 1","Aspek 2","Aspek 3","Aspek 4","Aspek 5",null,null,null,null,null,"Nilai Modus","Nilai","Keterangan"]
[]
[null,"Nama"]
[1,{"$f":"'Data '!D27","v":"AHMAD ALEK BRIYANSAPUTRA"},3,3,3,3,3,null,null,null,null,null,{"$f":"IFERROR(MODE(C155:L155),\"  \")","v":3},{"$f":"IF(M155=\"  \",\"  \",IF(M155>=$S$13,\"SB\",IF(M155>=$S$14,\"B\",IF(M155>=$S$15,\"C\",\"K\"))))","v":"B"},{"$f":"IF(M155=\"  \",\"  \",IF(M155>=$N$7,\"Tuntas\",\"Tidak Tuntas\"))","v":"Tuntas"}]
[2,{"$f":"'Data '!D28","v":"AULIA AYU FATINA"},3,3,3,3,3,null,null,null,null,null,{"$f":"IFERROR(MODE(C156:L156),\"  \")","v":3},{"$f":"IF(M156=\"  \",\"  \",IF(M156>=$S$13,\"SB\",IF(M156>=$S$14,\"B\",IF(M156>=$S$15,\"C\",\"K\"))))","v":"B"},"Tuntas"]
[3,{"$f":"'Data '!D29","v":"BAGAS YULANDRA PUTRA"},3,3,3,3,3,null,null,null,null,null,3,"B","Tuntas"]
[4,{"$f":"'Data '!D30","v":"CYNTIA AGUSTINA"},3,3,3,3,3,null,null,null,null,null,3,"B","Tuntas"]
[5,{"$f":"'Data '!D31","v":"DAFFA KRISNA PRAMUDYA"},3,3,3,3,3,null,null,null,null,null,3,"B","Tuntas"]
[6,{"$f":"'Data '!D32","v":"DANINDRA RAFIF IRAWAN"},3,3,3,3,3,null,null,null,null,null,3,"B","Tuntas"]
[7,{"$f":"'Data '!D33","v":"DENI PRATAMA"},3,3,3,3,3,null,null,null,null,null,3,"B","Tuntas"]
[8,{"$f":"'Data '!D34","v":"DIKA SUKMA AGUSTIN"},3,3,3,3,3,null,null,null,null,null,3,"B","Tuntas"]
[9,{"$f":"'Data '!D35","v":"DIVA ADITYA"},3,3,3,3,3,null,null,null,null,null,3,"B","Tuntas"]
[10,{"$f":"'Data '!D36","v":"EKO PRASTYO"},3,3,3,3,3,null,null,null,null,null,3,"B","Tuntas"]
[11,{"$f":"'Data '!D37","v":"FAIQUR RIJAL HAMMAM"},3,3,3,3,3,null,null,null,null,null,3,"B","Tuntas"]
[12,{"$f":"'Data '!D38","v":"FATESAR SARI PRASETYO"},3,3,3,3,3,null,null,null,null,null,3,"B","Tuntas"]
[13,{"$f":"'Data '!D39","v":"FEBRI SULISTIYO"},3,3,3,3,3,null,null,null,null,null,3,"B","Tuntas"]
[14,{"$f":"'Data '!D40","v":"FIONA NANDA FETRIAN"},3,3,3,3,3,null,null,null,null,null,3,"B","Tuntas"]
[15,{"$f":"'Data '!D41","v":"GILANG SYAHRUL RAMADHAN"},3,3,3,3,3,null,null,null,null,null,3,"B","Tuntas"]
[16,{"$f":"'Data '!D42","v":"IMAM AGUNG WAHYU PRATAMA"},3,3,3,3,3,null,null,null,null,null,3,"B","Tuntas"]
[17,{"$f":"'Data '!D43","v":"JOHAN MAULANA"},3,3,3,3,3,null,null,null,null,null,3,"B","Tuntas"]
[18,{"$f":"'Data '!D44","v":"JOKO SETIAWAN"},3,3,3,3,3,null,null,null,null,null,3,"B","Tuntas"]
[19,{"$f":"'Data '!D45","v":"LISA OKTAVINASARI"},3,3,3,3,3,null,null,null,null,null,3,"B","Tuntas"]
[20,{"$f":"'Data '!D46","v":"MARIA GILDA SIREGAR"},3,3,3,3,3,null,null,null,null,null,3,"B","Tuntas"]
[21,{"$f":"'Data '!D47","v":"MOHAMMAD NURKHOLISH"},3,3,3,3,3,null,null,null,null,null,3,"B","Tuntas"]
[22,{"$f":"'Data '!D48","v":"MUHAMAD FARIS ULIN NUHA"},3,3,3,3,3,null,null,null,null,null,3,"B","Tuntas"]
[23,{"$f":"'Data '!D49","v":"MUHAMMAD MUSTOFA"},3,3,3,3,3,null,null,null,null,null,3,"B","Tuntas"]
[24,{"$f":"'Data '!D50","v":"NANDA WINTYA PUTRI"},3,3,3,3,3,null,null,null,null,null,3,"B","Tuntas"]
[25,{"$f":"'Data '!D51","v":"NI'MA NOVA NUR FADHILAH"},3,3,3,3,3,null,null,null,null,null,3,"B","Tuntas"]
[26,{"$f":"'Data '!D52","v":"NITA ZUMROTUT TAQIYAH"},3,3,3,3,3,null,null,null,null,null,3,"B","Tuntas"]
[27,{"$f":"'Data '!D53","v":"RACHMAT SAPUTRA ANDRIANSYAH"},3,3,3,3,3,null,null,null,null,null,3,"B","Tuntas"]
[28,{"$f":"'Data '!D54","v":"RIZAL ANDRIYAN SAPUTRA"},3,3,3,3,3,null,null,null,null,null,3,"B","Tuntas"]
[29,{"$f":"'Data '!D55","v":"SAIFUL ANNAS"},3,3,3,3,3,null,null,null,null,null,3,"B","Tuntas"]
[30,{"$f":"'Data '!D56","v":"SELINA SEPTIANI"},3,3,3,3,3,null,null,null,null,null,3,"B","Tuntas"]
[31,{"$f":"'Data '!D57","v":"SHALSABILA  SHINTA NIRMALA"},3,3,3,3,3,null,null,null,null,null,3,"B","Tuntas"]
[32,{"$f":"'Data '!D58","v":"SITI CHOIRIATUS SA'ADAH"},3,3,3,3,3,null,null,null,null,null,3,"B","Tuntas"]
[33,{"$f":"'Data '!D59","v":"SITI NURFAN AZIZAH"},3,3,3,3,3,null,null,null,null,null,3,"B","Tuntas"]
[34,{"$f":"'Data '!D60","v":"SITI RAHAYU"},3,3,3,3,3,null,null,null,null,null,3,"B","Tuntas"]
[35,{"$f":"'Data '!D61","v":"STEVIANA PUSPITA SARI"},3,3,3,3,3,null,null,null,null,null,3,"B","Tuntas"]
[36,{"$f":"'Data '!D62","v":"TAN LINGGAR PRAMUDITA"},3,3,3,3,3,null,null,null,null,null,3,"B","Tuntas"]
[37,{"$f":"'Data '!D63","v":"TAUFIK NUR AZIZ DANUARTA"},3,3,3,3,3,null,null,null,null,null,3,"B","Tuntas"]
[38,{"$f":"'Data '!D64","v":"TIARA PUTRI AYUNINGTIAS"},3,3,3,3,3,null,null,null,null,null,3,"B","Tuntas"]
[39,{"$f":"'Data '!D65","v":"TITANIA GAYATRI PRIANJANI"},3,3,3,3,3,null,null,null,null,null,3,"B","Tuntas"]
[40,{"$f":"'Data '!D66","v":"ULFATUN NI'MAH"},3,3,3,3,3,null,null,null,null,null,3,"B","Tuntas"]
[41,{"$f":"'Data '!D67","v":0},null,null,null,null,null,null,null,null,null,null,"","",""]
[42,{"$f":"'Data '!D68","v":0},null,null,null,null,null,null,null,null,null,null,"","",""]
[43,{"$f":"'Data '!D69","v":0},null,null,null,null,null,null,null,null,null,null,"","",""]
[44,{"$f":"'Data '!D70","v":0},null,null,null,null,null,null,null,null,null,null,"","",""]
[45,{"$f":"'Data '!D71","v":0},null,null,null,null,null,null,null,null,null,null,"","",""]
[46,{"$f":"'Data '!D72","v":0},null,null,null,null,null,null,null,null,null,null,"","",{"$f":"IF(M200=\"  \",\"  \",IF(M200>=$N$7,\"Tuntas\",\"Tidak Tuntas\"))","v":""}]
[47,{"$f":"'Data '!D73","v":0},null,null,null,null,null,null,null,null,null,null,"","",""]
[48,{"$f":"'Data '!D74","v":0},null,null,null,null,null,null,null,null,null,null,"","",""]
[49,{"$f":"'Data '!D75","v":0},null,null,null,null,null,null,null,null,null,null,"","",""]
[50,{"$f":"'Data '!D76","v":0},null,null,null,null,null,null,null,null,null,null,"","",""]
[]
[]
[null,"Pedoman Observasi Sikap",null,null,null,null,null,"disiplin"]
[null,"Aspek Pengamatan"]
[1,"Masuk kelas tepat waktu"]
[2,"Mengumpulkan tugas tepat waktu"]
[3,"Memakai seragam sesuai tata tertib"]
[4,"Mengerjakan tugas yang diberikan"]
[5,"Tertib dalam mengikuti pembelajaran"]
[6,"Mengikuti praktikum sesuai dengan langkah yang ditetapkan"]
[7,"Membawa buku tulis sesuai mata pelajaran"]
[8,"Membawa buku teks mata pelajaran"]
[9]
[]
["No. ","Sikap","Aspek 1","Aspek 2","Aspek 3","Aspek 4","Aspek 5","Aspek 6","Aspek 7","Aspek 8",null,null,"Nilai Modus","Nilai","Keterangan"]
[]
[null,"Nama"]
[1,{"$f":"'Data '!D27","v":"AHMAD ALEK BRIYANSAPUTRA"},3,3,3,3,3,3,3,3,null,null,{"$f":"IFERROR(MODE(C222:L222),\"  \")","v":3},{"$f":"IF(M222=\"  \",\"  \",IF(M222>=$S$13,\"SB\",IF(M222>=$S$14,\"B\",IF(M222>=$S$15,\"C\",\"K\"))))","v":"B"},{"$f":"IF(M222=\"  \",\"  \",IF(M222>=$N$7,\"Tuntas\",\"Tidak Tuntas\"))","v":"Tuntas"}]
[2,{"$f":"'Data '!D28","v":"AULIA AYU FATINA"},3,3,3,3,3,3,3,3,null,null,{"$f":"IFERROR(MODE(C223:L223),\"  \")","v":3},{"$f":"IF(M223=\"  \",\"  \",IF(M223>=$S$13,\"SB\",IF(M223>=$S$14,\"B\",IF(M223>=$S$15,\"C\",\"K\"))))","v":"B"},"Tuntas"]
[3,{"$f":"'Data '!D29","v":"BAGAS YULANDRA PUTRA"},3,3,3,3,3,3,3,3,null,null,3,"B","Tuntas"]
[4,{"$f":"'Data '!D30","v":"CYNTIA AGUSTINA"},3,3,3,3,3,3,3,3,null,null,3,"B","Tuntas"]
[5,{"$f":"'Data '!D31","v":"DAFFA KRISNA PRAMUDYA"},3,3,3,3,3,3,3,3,null,null,3,"B","Tuntas"]
[6,{"$f":"'Data '!D32","v":"DANINDRA RAFIF IRAWAN"},3,3,3,3,3,3,3,3,null,null,3,"B","Tuntas"]
[7,{"$f":"'Data '!D33","v":"DENI PRATAMA"},3,3,3,3,3,3,3,3,null,null,3,"B","Tuntas"]
[8,{"$f":"'Data '!D34","v":"DIKA SUKMA AGUSTIN"},3,3,3,3,3,3,3,3,null,null,3,"B","Tuntas"]
[9,{"$f":"'Data '!D35","v":"DIVA ADITYA"},3,3,3,3,3,3,3,3,null,null,3,"B","Tuntas"]
[10,{"$f":"'Data '!D36","v":"EKO PRASTYO"},3,3,3,3,3,3,3,3,null,null,3,"B","Tuntas"]
[11,{"$f":"'Data '!D37","v":"FAIQUR RIJAL HAMMAM"},3,3,3,3,3,3,3,3,null,null,3,"B","Tuntas"]
[12,{"$f":"'Data '!D38","v":"FATESAR SARI PRASETYO"},3,3,3,3,3,3,3,3,null,null,3,"B","Tuntas"]
[13,{"$f":"'Data '!D39","v":"FEBRI SULISTIYO"},3,3,3,3,3,3,3,3,null,null,3,"B","Tuntas"]
[14,{"$f":"'Data '!D40","v":"FIONA NANDA FETRIAN"},3,3,3,3,3,3,3,3,null,null,3,"B","Tuntas"]
[15,{"$f":"'Data '!D41","v":"GILANG SYAHRUL RAMADHAN"},3,3,3,3,3,3,3,3,null,null,3,"B","Tuntas"]
[16,{"$f":"'Data '!D42","v":"IMAM AGUNG WAHYU PRATAMA"},3,3,3,3,3,3,3,3,null,null,3,"B","Tuntas"]
[17,{"$f":"'Data '!D43","v":"JOHAN MAULANA"},3,3,3,3,3,3,3,3,null,null,3,"B","Tuntas"]
[18,{"$f":"'Data '!D44","v":"JOKO SETIAWAN"},3,3,3,3,3,3,3,3,null,null,3,"B","Tuntas"]
[19,{"$f":"'Data '!D45","v":"LISA OKTAVINASARI"},3,3,3,3,3,3,3,3,null,null,3,"B","Tuntas"]
[20,{"$f":"'Data '!D46","v":"MARIA GILDA SIREGAR"},3,3,3,3,3,3,3,3,null,null,3,"B","Tuntas"]
[21,{"$f":"'Data '!D47","v":"MOHAMMAD NURKHOLISH"},3,3,3,3,3,3,3,3,null,null,3,"B","Tuntas"]
[22,{"$f":"'Data '!D48","v":"MUHAMAD FARIS ULIN NUHA"},3,3,3,3,3,3,3,3,null,null,3,"B","Tuntas"]
[23,{"$f":"'Data '!D49","v":"MUHAMMAD MUSTOFA"},3,3,3,3,3,3,3,3,null,null,3,"B","Tuntas"]
[24,{"$f":"'Data '!D50","v":"NANDA WINTYA PUTRI"},3,3,3,3,3,3,3,3,null,null,3,"B","Tuntas"]
[25,{"$f":"'Data '!D51","v":"NI'MA NOVA NUR FADHILAH"},3,3,3,3,3,3,3,3,null,null,3,"B","Tuntas"]
[26,{"$f":"'Data '!D52","v":"NITA ZUMROTUT TAQIYAH"},3,3,3,3,3,3,3,3,null,null,3,"B","Tuntas"]
[27,{"$f":"'Data '!D53","v":"RACHMAT SAPUTRA ANDRIANSYAH"},3,3,3,3,3,3,3,3,null,null,3,"B","Tuntas"]
[28,{"$f":"'Data '!D54","v":"RIZAL ANDRIYAN SAPUTRA"},3,3,3,3,3,3,3,3,null,null,3,"B","Tuntas"]
[29,{"$f":"'Data '!D55","v":"SAIFUL ANNAS"},3,3,3,3,3,3,3,3,null,null,3,"B","Tuntas"]
[30,{"$f":"'Data '!D56","v":"SELINA SEPTIANI"},3,3,3,3,3,3,3,3,null,null,3,"B","Tuntas"]
[31,{"$f":"'Data '!D57","v":"SHALSABILA  SHINTA NIRMALA"},3,3,3,3,3,3,3,3,null,null,3,"B","Tuntas"]
[32,{"$f":"'Data '!D58","v":"SITI CHOIRIATUS SA'ADAH"},3,3,3,3,3,3,3,3,null,null,3,"B","Tuntas"]
[33,{"$f":"'Data '!D59","v":"SITI NURFAN AZIZAH"},3,3,3,3,3,3,3,3,null,null,3,"B","Tuntas"]
[34,{"$f":"'Data '!D60","v":"SITI RAHAYU"},3,3,3,3,3,3,3,3,null,null,3,"B","Tuntas"]
[35,{"$f":"'Data '!D61","v":"STEVIANA PUSPITA SARI"},3,3,3,3,3,3,3,3,null,null,3,"B","Tuntas"]
[36,{"$f":"'Data '!D62","v":"TAN LINGGAR PRAMUDITA"},3,3,3,3,3,3,3,3,null,null,3,"B","Tuntas"]
[37,{"$f":"'Data '!D63","v":"TAUFIK NUR AZIZ DANUARTA"},3,3,3,3,3,3,3,3,null,null,3,"B","Tuntas"]
[38,{"$f":"'Data '!D64","v":"TIARA PUTRI AYUNINGTIAS"},3,3,3,3,3,3,3,3,null,null,3,"B","Tuntas"]
[39,{"$f":"'Data '!D65","v":"TITANIA GAYATRI PRIANJANI"},3,3,3,3,3,3,3,3,null,null,3,"B","Tuntas"]
[40,{"$f":"'Data '!D66","v":"ULFATUN NI'MAH"},3,3,3,3,3,3,3,3,null,null,3,"B","Tuntas"]
[41,{"$f":"'Data '!D67","v":0},null,null,null,null,null,null,null,null,null,null,"","",""]
[42,{"$f":"'Data '!D68","v":0},null,null,null,null,null,null,null,null,null,null,"","",""]
[43,{"$f":"'Data '!D69","v":0},null,null,null,null,null,null,null,null,null,null,"","",""]
[44,{"$f":"'Data '!D70","v":0},null,null,null,null,null,null,null,null,null,null,"","",""]
[45,{"$f":"'Data '!D71","v":0},null,null,null,null,null,null,null,null,null,null,"","",""]
[46,{"$f":"'Data '!D72","v":0},null,null,null,null,null,null,null,null,null,null,"","",{"$f":"IF(M267=\"  \",\"  \",IF(M267>=$N$7,\"Tuntas\",\"Tidak Tuntas\"))","v":""}]
[47,{"$f":"'Data '!D73","v":0},null,null,null,null,null,null,null,null,null,null,"","",""]
[48,{"$f":"'Data '!D74","v":0},null,null,null,null,null,null,null,null,null,null,"","",""]
[49,{"$f":"'Data '!D75","v":0},null,null,null,null,null,null,null,null,null,null,"","",""]
[50,{"$f":"'Data '!D76","v":0},null,null,null,null,null,null,null,null,null,null,"","",""]
[]
[]
[null,"Pedoman Observasi Sikap",null,null,null,null,null,"tanggungjawab"]
[null,"Aspek Pengamatan"]
[1,"Melaksanakan tugas individu dengan baik"]
[2,"Menerima resiko dari tindakan yang dilakukan"]
[3,"Tidak menuduh orang lain tanpa bukti yang akurat"]
[4,"Mengembalikan barang yang dipinjam"]
[5,"Meminta maaf atas kesalahan yang dilakukan"]
[6]
[7]
[8]
[]
["No. ","Sikap","Aspek 1","Aspek 2","Aspek 3","Aspek 4","Aspek 5",null,null,null,null,null,"Nilai Modus","Nilai","Keterangan"]
[]
[null,"Nama"]
[1,{"$f":"'Data '!D27","v":"AHMAD ALEK BRIYANSAPUTRA"},3,3,3,3,3,null,null,null,null,null,{"$f":"IFERROR(MODE(C288:L288),\"  \")","v":3},{"$f":"IF(M288=\"  \",\"  \",IF(M288>=$S$13,\"SB\",IF(M288>=$S$14,\"B\",IF(M288>=$S$15,\"C\",\"K\"))))","v":"B"},{"$f":"IF(M288=\"  \",\"  \",IF(M288>=$N$7,\"Tuntas\",\"Tidak Tuntas\"))","v":"Tuntas"}]
[2,{"$f":"'Data '!D28","v":"AULIA AYU FATINA"},3,3,3,3,3,null,null,null,null,null,{"$f":"IFERROR(MODE(C289:L289),\"  \")","v":3},{"$f":"IF(M289=\"  \",\"  \",IF(M289>=$S$13,\"SB\",IF(M289>=$S$14,\"B\",IF(M289>=$S$15,\"C\",\"K\"))))","v":"B"},"Tuntas"]
[3,{"$f":"'Data '!D29","v":"BAGAS YULANDRA PUTRA"},3,3,3,3,3,null,null,null,null,null,3,"B","Tuntas"]
[4,{"$f":"'Data '!D30","v":"CYNTIA AGUSTINA"},3,3,3,3,3,null,null,null,null,null,3,"B","Tuntas"]
[5,{"$f":"'Data '!D31","v":"DAFFA KRISNA PRAMUDYA"},3,3,3,3,3,null,null,null,null,null,3,"B","Tuntas"]
[6,{"$f":"'Data '!D32","v":"DANINDRA RAFIF IRAWAN"},3,3,3,3,3,null,null,null,null,null,3,"B","Tuntas"]
[7,{"$f":"'Data '!D33","v":"DENI PRATAMA"},3,3,3,3,3,null,null,null,null,null,3,"B","Tuntas"]
[8,{"$f":"'Data '!D34","v":"DIKA SUKMA AGUSTIN"},3,3,3,3,3,null,null,null,null,null,3,"B","Tuntas"]
[9,{"$f":"'Data '!D35","v":"DIVA ADITYA"},3,3,3,3,3,null,null,null,null,null,3,"B","Tuntas"]
[10,{"$f":"'Data '!D36","v":"EKO PRASTYO"},3,3,3,3,3,null,null,null,null,null,3,"B","Tuntas"]
[11,{"$f":"'Data '!D37","v":"FAIQUR RIJAL HAMMAM"},3,3,3,3,3,null,null,null,null,null,3,"B","Tuntas"]
[12,{"$f":"'Data '!D38","v":"FATESAR SARI PRASETYO"},3,3,3,3,3,null,null,null,null,null,3,"B","Tuntas"]
[13,{"$f":"'Data '!D39","v":"FEBRI SULISTIYO"},3,3,3,3,3,null,null,null,null,null,3,"B","Tuntas"]
[14,{"$f":"'Data '!D40","v":"FIONA NANDA FETRIAN"},3,3,3,3,3,null,null,null,null,null,3,"B","Tuntas"]
[15,{"$f":"'Data '!D41","v":"GILANG SYAHRUL RAMADHAN"},3,3,3,3,3,null,null,null,null,null,3,"B","Tuntas"]
[16,{"$f":"'Data '!D42","v":"IMAM AGUNG WAHYU PRATAMA"},3,3,3,3,3,null,null,null,null,null,3,"B","Tuntas"]
[17,{"$f":"'Data '!D43","v":"JOHAN MAULANA"},3,3,3,3,3,null,null,null,null,null,3,"B","Tuntas"]
[18,{"$f":"'Data '!D44","v":"JOKO SETIAWAN"},3,3,3,3,3,null,null,null,null,null,3,"B","Tuntas"]
[19,{"$f":"'Data '!D45","v":"LISA OKTAVINASARI"},3,3,3,3,3,null,null,null,null,null,3,"B","Tuntas"]
[20,{"$f":"'Data '!D46","v":"MARIA GILDA SIREGAR"},3,3,3,3,3,null,null,null,null,null,3,"B","Tuntas"]
[21,{"$f":"'Data '!D47","v":"MOHAMMAD NURKHOLISH"},3,3,3,3,3,null,null,null,null,null,3,"B","Tuntas"]
[22,{"$f":"'Data '!D48","v":"MUHAMAD FARIS ULIN NUHA"},3,3,3,3,3,null,null,null,null,null,3,"B","Tuntas"]
[23,{"$f":"'Data '!D49","v":"MUHAMMAD MUSTOFA"},3,3,3,3,3,null,null,null,null,null,3,"B","Tuntas"]
[24,{"$f":"'Data '!D50","v":"NANDA WINTYA PUTRI"},3,3,3,3,3,null,null,null,null,null,3,"B","Tuntas"]
[25,{"$f":"'Data '!D51","v":"NI'MA NOVA NUR FADHILAH"},3,3,3,3,3,null,null,null,null,null,3,"B","Tuntas"]
[26,{"$f":"'Data '!D52","v":"NITA ZUMROTUT TAQIYAH"},3,3,3,3,3,null,null,null,null,null,3,"B","Tuntas"]
[27,{"$f":"'Data '!D53","v":"RACHMAT SAPUTRA ANDRIANSYAH"},3,3,3,3,3,null,null,null,null,null,3,"B","Tuntas"]
[28,{"$f":"'Data '!D54","v":"RIZAL ANDRIYAN SAPUTRA"},3,3,3,3,3,null,null,null,null,null,3,"B","Tuntas"]
[29,{"$f":"'Data '!D55","v":"SAIFUL ANNAS"},3,3,3,3,3,null,null,null,null,null,3,"B","Tuntas"]
[30,{"$f":"'Data '!D56","v":"SELINA SEPTIANI"},3,3,3,3,3,null,null,null,null,null,3,"B","Tuntas"]
[31,{"$f":"'Data '!D57","v":"SHALSABILA  SHINTA NIRMALA"},3,3,3,3,3,null,null,null,null,null,3,"B","Tuntas"]
[32,{"$f":"'Data '!D58","v":"SITI CHOIRIATUS SA'ADAH"},3,3,3,3,3,null,null,null,null,null,3,"B","Tuntas"]
[33,{"$f":"'Data '!D59","v":"SITI NURFAN AZIZAH"},3,3,3,3,3,null,null,null,null,null,3,"B","Tuntas"]
[34,{"$f":"'Data '!D60","v":"SITI RAHAYU"},3,3,3,3,3,null,null,null,null,null,3,"B","Tuntas"]
[35,{"$f":"'Data '!D61","v":"STEVIANA PUSPITA SARI"},3,3,3,3,3,null,null,null,null,null,3,"B","Tuntas"]
[36,{"$f":"'Data '!D62","v":"TAN LINGGAR PRAMUDITA"},3,3,3,3,3,null,null,null,null,null,3,"B","Tuntas"]
[37,{"$f":"'Data '!D63","v":"TAUFIK NUR AZIZ DANUARTA"},3,3,3,3,3,null,null,null,null,null,3,"B","Tuntas"]
[38,{"$f":"'Data '!D64","v":"TIARA PUTRI AYUNINGTIAS"},3,3,3,3,3,null,null,null,null,null,3,"B","Tuntas"]
[39,{"$f":"'Data '!D65","v":"TITANIA GAYATRI PRIANJANI"},3,3,3,3,3,null,null,null,null,null,3,"B","Tuntas"]
[40,{"$f":"'Data '!D66","v":"ULFATUN NI'MAH"},3,3,3,3,3,null,null,null,null,null,3,"B","Tuntas"]
[41,{"$f":"'Data '!D67","v":0},null,null,null,null,null,null,null,null,null,null,"","",""]
[42,{"$f":"'Data '!D68","v":0},null,null,null,null,null,null,null,null,null,null,"","",""]
[43,{"$f":"'Data '!D69","v":0},null,null,null,null,null,null,null,null,null,null,"","",""]
[44,{"$f":"'Data '!D70","v":0},null,null,null,null,null,null,null,null,null,null,"","",""]
[45,{"$f":"'Data '!D71","v":0},null,null,null,null,null,null,null,null,null,null,"","",""]
[46,{"$f":"'Data '!D72","v":0},null,null,null,null,null,null,null,null,null,null,"","",{"$f":"IF(M333=\"  \",\"  \",IF(M333>=$N$7,\"Tuntas\",\"Tidak Tuntas\"))","v":""}]
[47,{"$f":"'Data '!D73","v":0},null,null,null,null,null,null,null,null,null,null,"","",""]
[48,{"$f":"'Data '!D74","v":0},null,null,null,null,null,null,null,null,null,null,"","",""]
[49,{"$f":"'Data '!D75","v":0},null,null,null,null,null,null,null,null,null,null,"","",""]
[50,{"$f":"'Data '!D76","v":0},null,null,null,null,null,null,null,null,null,null,"","",""]
[]
[]
[null,"Pedoman Observasi Sikap",null,null,null,null,null,"toleransi"]
[null,"Aspek Pengamatan"]
[1,"Menghormati pendapat teman"]
[2,"Menghormati teman yang berbeda suku, agama, ras, budaya, dan gender"]
[3,"Menerima kesepakatan meskipun berbeda dengan pendapatnya"]
[4,"Menerima kekurangan orang lain"]
[5,"Mememaafkan kesalahan orang lain"]
[6]
[7]
[8]
[]
["No. ","Sikap","Aspek 1","Aspek 2","Aspek 3","Aspek 4","Aspek 5",null,null,null,null,null,"Nilai Modus","Nilai","Keterangan"]
[]
[null,"Nama"]
[1,{"$f":"'Data '!D27","v":"AHMAD ALEK BRIYANSAPUTRA"},3,3,3,3,3,null,null,null,null,null,{"$f":"IFERROR(MODE(C354:L354),\"  \")","v":3},{"$f":"IF(M354=\"  \",\"  \",IF(M354>=$S$13,\"SB\",IF(M354>=$S$14,\"B\",IF(M354>=$S$15,\"C\",\"K\"))))","v":"B"},{"$f":"IF(M354=\"  \",\"  \",IF(M354>=$N$7,\"Tuntas\",\"Tidak Tuntas\"))","v":"Tuntas"}]
[2,{"$f":"'Data '!D28","v":"AULIA AYU FATINA"},3,3,3,3,3,null,null,null,null,null,{"$f":"IFERROR(MODE(C355:L355),\"  \")","v":3},{"$f":"IF(M355=\"  \",\"  \",IF(M355>=$S$13,\"SB\",IF(M355>=$S$14,\"B\",IF(M355>=$S$15,\"C\",\"K\"))))","v":"B"},"Tuntas"]
[3,{"$f":"'Data '!D29","v":"BAGAS YULANDRA PUTRA"},3,3,3,3,3,null,null,null,null,null,3,"B","Tuntas"]
[4,{"$f":"'Data '!D30","v":"CYNTIA AGUSTINA"},3,3,3,3,3,null,null,null,null,null,3,"B","Tuntas"]
[5,{"$f":"'Data '!D31","v":"DAFFA KRISNA PRAMUDYA"},3,3,3,3,3,null,null,null,null,null,3,"B","Tuntas"]
[6,{"$f":"'Data '!D32","v":"DANINDRA RAFIF IRAWAN"},3,3,3,3,3,null,null,null,null,null,3,"B","Tuntas"]
[7,{"$f":"'Data '!D33","v":"DENI PRATAMA"},3,3,3,3,3,null,null,null,null,null,3,"B","Tuntas"]
[8,{"$f":"'Data '!D34","v":"DIKA SUKMA AGUSTIN"},3,3,3,3,3,null,null,null,null,null,3,"B","Tuntas"]
[9,{"$f":"'Data '!D35","v":"DIVA ADITYA"},3,3,3,3,3,null,null,null,null,null,3,"B","Tuntas"]
[10,{"$f":"'Data '!D36","v":"EKO PRASTYO"},3,3,3,3,3,null,null,null,null,null,3,"B","Tuntas"]
[11,{"$f":"'Data '!D37","v":"FAIQUR RIJAL HAMMAM"},3,3,3,3,3,null,null,null,null,null,3,"B","Tuntas"]
[12,{"$f":"'Data '!D38","v":"FATESAR SARI PRASETYO"},3,3,3,3,3,null,null,null,null,null,3,"B","Tuntas"]
[13,{"$f":"'Data '!D39","v":"FEBRI SULISTIYO"},3,3,3,3,3,null,null,null,null,null,3,"B","Tuntas"]
[14,{"$f":"'Data '!D40","v":"FIONA NANDA FETRIAN"},3,3,3,3,3,null,null,null,null,null,3,"B","Tuntas"]
[15,{"$f":"'Data '!D41","v":"GILANG SYAHRUL RAMADHAN"},3,3,3,3,3,null,null,null,null,null,3,"B","Tuntas"]
[16,{"$f":"'Data '!D42","v":"IMAM AGUNG WAHYU PRATAMA"},3,3,3,3,3,null,null,null,null,null,3,"B","Tuntas"]
[17,{"$f":"'Data '!D43","v":"JOHAN MAULANA"},3,3,3,3,3,null,null,null,null,null,3,"B","Tuntas"]
[18,{"$f":"'Data '!D44","v":"JOKO SETIAWAN"},3,3,3,3,3,null,null,null,null,null,3,"B","Tuntas"]
[19,{"$f":"'Data '!D45","v":"LISA OKTAVINASARI"},3,3,3,3,3,null,null,null,null,null,3,"B","Tuntas"]
[20,{"$f":"'Data '!D46","v":"MARIA GILDA SIREGAR"},3,3,3,3,3,null,null,null,null,null,3,"B","Tuntas"]
[21,{"$f":"'Data '!D47","v":"MOHAMMAD NURKHOLISH"},3,3,3,3,3,null,null,null,null,null,3,"B","Tuntas"]
[22,{"$f":"'Data '!D48","v":"MUHAMAD FARIS ULIN NUHA"},3,3,3,3,3,null,null,null,null,null,3,"B","Tuntas"]
[23,{"$f":"'Data '!D49","v":"MUHAMMAD MUSTOFA"},3,3,3,3,3,null,null,null,null,null,3,"B","Tuntas"]
[24,{"$f":"'Data '!D50","v":"NANDA WINTYA PUTRI"},3,3,3,3,3,null,null,null,null,null,3,"B","Tuntas"]
[25,{"$f":"'Data '!D51","v":"NI'MA NOVA NUR FADHILAH"},3,3,3,3,3,null,null,null,null,null,3,"B","Tuntas"]
[26,{"$f":"'Data '!D52","v":"NITA ZUMROTUT TAQIYAH"},3,3,3,3,3,null,null,null,null,null,3,"B","Tuntas"]
[27,{"$f":"'Data '!D53","v":"RACHMAT SAPUTRA ANDRIANSYAH"},3,3,3,3,3,null,null,null,null,null,3,"B","Tuntas"]
[28,{"$f":"'Data '!D54","v":"RIZAL ANDRIYAN SAPUTRA"},3,3,3,3,3,null,null,null,null,null,3,"B","Tuntas"]
[29,{"$f":"'Data '!D55","v":"SAIFUL ANNAS"},3,3,3,3,3,null,null,null,null,null,3,"B","Tuntas"]
[30,{"$f":"'Data '!D56","v":"SELINA SEPTIANI"},3,3,3,3,3,null,null,null,null,null,3,"B","Tuntas"]
[31,{"$f":"'Data '!D57","v":"SHALSABILA  SHINTA NIRMALA"},3,3,3,3,3,null,null,null,null,null,3,"B","Tuntas"]
[32,{"$f":"'Data '!D58","v":"SITI CHOIRIATUS SA'ADAH"},3,3,3,3,3,null,null,null,null,null,3,"B","Tuntas"]
[33,{"$f":"'Data '!D59","v":"SITI NURFAN AZIZAH"},3,3,3,3,3,null,null,null,null,null,3,"B","Tuntas"]
[34,{"$f":"'Data '!D60","v":"SITI RAHAYU"},3,3,3,3,3,null,null,null,null,null,3,"B","Tuntas"]
[35,{"$f":"'Data '!D61","v":"STEVIANA PUSPITA SARI"},3,3,3,3,3,null,null,null,null,null,3,"B","Tuntas"]
[36,{"$f":"'Data '!D62","v":"TAN LINGGAR PRAMUDITA"},3,3,3,3,3,null,null,null,null,null,3,"B","Tuntas"]
[37,{"$f":"'Data '!D63","v":"TAUFIK NUR AZIZ DANUARTA"},3,3,3,3,3,null,null,null,null,null,3,"B","Tuntas"]
[38,{"$f":"'Data '!D64","v":"TIARA PUTRI AYUNINGTIAS"},3,3,3,3,3,null,null,null,null,null,3,"B","Tuntas"]
[39,{"$f":"'Data '!D65","v":"TITANIA GAYATRI PRIANJANI"},3,3,3,3,3,null,null,null,null,null,3,"B","Tuntas"]
[40,{"$f":"'Data '!D66","v":"ULFATUN NI'MAH"},3,3,3,3,3,null,null,null,null,null,3,"B","Tuntas"]
[41,{"$f":"'Data '!D67","v":0},null,null,null,null,null,null,null,null,null,null,"","",""]
[42,{"$f":"'Data '!D68","v":0},null,null,null,null,null,null,null,null,null,null,"","",""]
[43,{"$f":"'Data '!D69","v":0},null,null,null,null,null,null,null,null,null,null,"","",""]
[44,{"$f":"'Data '!D70","v":0},null,null,null,null,null,null,null,null,null,null,"","",""]
[45,{"$f":"'Data '!D71","v":0},null,null,null,null,null,null,null,null,null,null,"","",""]
[46,{"$f":"'Data '!D72","v":0},null,null,null,null,null,null,null,null,null,null,"","",{"$f":"IF(M399=\"  \",\"  \",IF(M399>=$N$7,\"Tuntas\",\"Tidak Tuntas\"))","v":""}]
[47,{"$f":"'Data '!D73","v":0},null,null,null,null,null,null,null,null,null,null,"","",""]
[48,{"$f":"'Data '!D74","v":0},null,null,null,null,null,null,null,null,null,null,"","",""]
[49,{"$f":"'Data '!D75","v":0},null,null,null,null,null,null,null,null,null,null,"","",""]
[50,{"$f":"'Data '!D76","v":0},null,null,null,null,null,null,null,null,null,null,"","",""]
[]
[]
[null,"Pedoman Observasi Sikap",null,null,null,null,null,"gotong royong"]
[null,"Aspek Pengamatan"]
[1,"Aktif dalam kerja kelompok"]
[2,"Suka menolong teman/orang lain"]
[3,"Kesediaan melakukan tugas sesuai kesepakatan"]
[4,"Rela berkorban untuk orang lain"]
[5]
[6]
[7]
[8]
[]
[]
["No. ","Sikap","Aspek 1","Aspek 2","Aspek 3","Aspek 4",null,null,null,null,null,null,"Nilai Modus","Nilai","Keterangan"]
[]
[null,"Nama"]
[1,{"$f":"'Data '!D27","v":"AHMAD ALEK BRIYANSAPUTRA"},3,3,3,3,null,null,null,null,null,null,{"$f":"IFERROR(MODE(C421:L421),\"  \")","v":3},{"$f":"IF(M421=\"  \",\"  \",IF(M421>=$S$13,\"SB\",IF(M421>=$S$14,\"B\",IF(M421>=$S$15,\"C\",\"K\"))))","v":"B"},{"$f":"IF(M421=\"  \",\"  \",IF(M421>=$N$7,\"Tuntas\",\"Tidak Tuntas\"))","v":"Tuntas"}]
[2,{"$f":"'Data '!D28","v":"AULIA AYU FATINA"},3,3,3,3,null,null,null,null,null,null,{"$f":"IFERROR(MODE(C422:L422),\"  \")","v":3},{"$f":"IF(M422=\"  \",\"  \",IF(M422>=$S$13,\"SB\",IF(M422>=$S$14,\"B\",IF(M422>=$S$15,\"C\",\"K\"))))","v":"B"},"Tuntas"]
[3,{"$f":"'Data '!D29","v":"BAGAS YULANDRA PUTRA"},3,3,3,3,null,null,null,null,null,null,3,"B","Tuntas"]
[4,{"$f":"'Data '!D30","v":"CYNTIA AGUSTINA"},3,3,3,3,null,null,null,null,null,null,3,"B","Tuntas"]
[5,{"$f":"'Data '!D31","v":"DAFFA KRISNA PRAMUDYA"},3,3,3,3,null,null,null,null,null,null,3,"B","Tuntas"]
[6,{"$f":"'Data '!D32","v":"DANINDRA RAFIF IRAWAN"},3,3,3,3,null,null,null,null,null,null,3,"B","Tuntas"]
[7,{"$f":"'Data '!D33","v":"DENI PRATAMA"},3,3,3,3,null,null,null,null,null,null,3,"B","Tuntas"]
[8,{"$f":"'Data '!D34","v":"DIKA SUKMA AGUSTIN"},3,3,3,3,null,null,null,null,null,null,3,"B","Tuntas"]
[9,{"$f":"'Data '!D35","v":"DIVA ADITYA"},3,3,3,3,null,null,null,null,null,null,3,"B","Tuntas"]
[10,{"$f":"'Data '!D36","v":"EKO PRASTYO"},3,3,3,3,null,null,null,null,null,null,3,"B","Tuntas"]
[11,{"$f":"'Data '!D37","v":"FAIQUR RIJAL HAMMAM"},3,3,3,3,null,null,null,null,null,null,3,"B","Tuntas"]
[12,{"$f":"'Data '!D38","v":"FATESAR SARI PRASETYO"},3,3,3,3,null,null,null,null,null,null,3,"B","Tuntas"]
[13,{"$f":"'Data '!D39","v":"FEBRI SULISTIYO"},3,3,3,3,null,null,null,null,null,null,3,"B","Tuntas"]
[14,{"$f":"'Data '!D40","v":"FIONA NANDA FETRIAN"},3,3,3,3,null,null,null,null,null,null,3,"B","Tuntas"]
[15,{"$f":"'Data '!D41","v":"GILANG SYAHRUL RAMADHAN"},3,3,3,3,null,null,null,null,null,null,3,"B","Tuntas"]
[16,{"$f":"'Data '!D42","v":"IMAM AGUNG WAHYU PRATAMA"},3,3,3,3,null,null,null,null,null,null,3,"B","Tuntas"]
[17,{"$f":"'Data '!D43","v":"JOHAN MAULANA"},3,3,3,3,null,null,null,null,null,null,3,"B","Tuntas"]
[18,{"$f":"'Data '!D44","v":"JOKO SETIAWAN"},3,3,3,3,null,null,null,null,null,null,3,"B","Tuntas"]
[19,{"$f":"'Data '!D45","v":"LISA OKTAVINASARI"},3,3,3,3,null,null,null,null,null,null,3,"B","Tuntas"]
[20,{"$f":"'Data '!D46","v":"MARIA GILDA SIREGAR"},3,3,3,3,null,null,null,null,null,null,3,"B","Tuntas"]
[21,{"$f":"'Data '!D47","v":"MOHAMMAD NURKHOLISH"},3,3,3,3,null,null,null,null,null,null,3,"B","Tuntas"]
[22,{"$f":"'Data '!D48","v":"MUHAMAD FARIS ULIN NUHA"},3,3,3,3,null,null,null,null,null,null,3,"B","Tuntas"]
[23,{"$f":"'Data '!D49","v":"MUHAMMAD MUSTOFA"},3,3,3,3,null,null,null,null,null,null,3,"B","Tuntas"]
[24,{"$f":"'Data '!D50","v":"NANDA WINTYA PUTRI"},3,3,3,3,null,null,null,null,null,null,3,"B","Tuntas"]
[25,{"$f":"'Data '!D51","v":"NI'MA NOVA NUR FADHILAH"},3,3,3,3,null,null,null,null,null,null,3,"B","Tuntas"]
[26,{"$f":"'Data '!D52","v":"NITA ZUMROTUT TAQIYAH"},3,3,3,3,null,null,null,null,null,null,3,"B","Tuntas"]
[27,{"$f":"'Data '!D53","v":"RACHMAT SAPUTRA ANDRIANSYAH"},3,3,3,3,null,null,null,null,null,null,3,"B","Tuntas"]
[28,{"$f":"'Data '!D54","v":"RIZAL ANDRIYAN SAPUTRA"},3,3,3,3,null,null,null,null,null,null,3,"B","Tuntas"]
[29,{"$f":"'Data '!D55","v":"SAIFUL ANNAS"},3,3,3,3,null,null,null,null,null,null,3,"B","Tuntas"]
[30,{"$f":"'Data '!D56","v":"SELINA SEPTIANI"},3,3,3,3,null,null,null,null,null,null,3,"B","Tuntas"]
[31,{"$f":"'Data '!D57","v":"SHALSABILA  SHINTA NIRMALA"},3,3,3,3,null,null,null,null,null,null,3,"B","Tuntas"]
[32,{"$f":"'Data '!D58","v":"SITI CHOIRIATUS SA'ADAH"},3,3,3,3,null,null,null,null,null,null,3,"B","Tuntas"]
[33,{"$f":"'Data '!D59","v":"SITI NURFAN AZIZAH"},3,3,3,3,null,null,null,null,null,null,3,"B","Tuntas"]
[34,{"$f":"'Data '!D60","v":"SITI RAHAYU"},3,3,3,3,null,null,null,null,null,null,3,"B","Tuntas"]
[35,{"$f":"'Data '!D61","v":"STEVIANA PUSPITA SARI"},3,3,3,3,null,null,null,null,null,null,3,"B","Tuntas"]
[36,{"$f":"'Data '!D62","v":"TAN LINGGAR PRAMUDITA"},3,3,3,3,null,null,null,null,null,null,3,"B","Tuntas"]
[37,{"$f":"'Data '!D63","v":"TAUFIK NUR AZIZ DANUARTA"},3,3,3,3,null,null,null,null,null,null,3,"B","Tuntas"]
[38,{"$f":"'Data '!D64","v":"TIARA PUTRI AYUNINGTIAS"},3,3,3,3,null,null,null,null,null,null,3,"B","Tuntas"]
[39,{"$f":"'Data '!D65","v":"TITANIA GAYATRI PRIANJANI"},3,3,3,3,null,null,null,null,null,null,3,"B","Tuntas"]
[40,{"$f":"'Data '!D66","v":"ULFATUN NI'MAH"},3,3,3,3,null,null,null,null,null,null,3,"B","Tuntas"]
[41,{"$f":"'Data '!D67","v":0},null,null,null,null,null,null,null,null,null,null,"","",""]
[42,{"$f":"'Data '!D68","v":0},null,null,null,null,null,null,null,null,null,null,"","",""]
[43,{"$f":"'Data '!D69","v":0},null,null,null,null,null,null,null,null,null,null,"","",""]
[44,{"$f":"'Data '!D70","v":0},null,null,null,null,null,null,null,null,null,null,"","",""]
[45,{"$f":"'Data '!D71","v":0},null,null,null,null,null,null,null,null,null,null,"","",""]
[46,{"$f":"'Data '!D72","v":0},null,null,null,null,null,null,null,null,null,null,"","",{"$f":"IF(M466=\"  \",\"  \",IF(M466>=$N$7,\"Tuntas\",\"Tidak Tuntas\"))","v":""}]
[47,{"$f":"'Data '!D73","v":0},null,null,null,null,null,null,null,null,null,null,"","",""]
[48,{"$f":"'Data '!D74","v":0},null,null,null,null,null,null,null,null,null,null,"","",""]
[49,{"$f":"'Data '!D75","v":0},null,null,null,null,null,null,null,null,null,null,"","",""]
[50,{"$f":"'Data '!D76","v":0},null,null,null,null,null,null,null,null,null,null,"","",""]
[]
[]
[null,"Pedoman Observasi Sikap",null,null,null,null,null,"santun"]
[null,"Aspek Pengamatan"]
[1,"Menghormati orang yang lebih tua"]
[2,"Mengucapkan terima kasih setelah menerima bantuan orang lain"]
[3,"Menggunakan bahasa santun saat menyampaikan pendapat"]
[4,"Menggunakan bahasa santun saat mengkritik pendapat teman"]
[5,"Bersikap 3S (salam, senyum, sapa) saat bertemu orang lain"]
[6]
[7]
[8]
[]
["No. ","Sikap","Aspek 1","Aspek 2","Aspek 3","Aspek 4","Aspek 5",null,null,null,null,null,"Nilai Modus","Nilai","Keterangan"]
[]
[null,"Nama"]
[1,{"$f":"'Data '!D27","v":"AHMAD ALEK BRIYANSAPUTRA"},3,3,3,3,3,null,null,null,null,null,{"$f":"IFERROR(MODE(C487:L487),\"  \")","v":3},{"$f":"IF(M487=\"  \",\"  \",IF(M487>=$S$13,\"SB\",IF(M487>=$S$14,\"B\",IF(M487>=$S$15,\"C\",\"K\"))))","v":"B"},{"$f":"IF(M487=\"  \",\"  \",IF(M487>=$N$7,\"Tuntas\",\"Tidak Tuntas\"))","v":"Tuntas"}]
[2,{"$f":"'Data '!D28","v":"AULIA AYU FATINA"},3,3,3,3,3,null,null,null,null,null,{"$f":"IFERROR(MODE(C488:L488),\"  \")","v":3},{"$f":"IF(M488=\"  \",\"  \",IF(M488>=$S$13,\"SB\",IF(M488>=$S$14,\"B\",IF(M488>=$S$15,\"C\",\"K\"))))","v":"B"},"Tuntas"]
[3,{"$f":"'Data '!D29","v":"BAGAS YULANDRA PUTRA"},3,3,3,3,3,null,null,null,null,null,3,"B","Tuntas"]
[4,{"$f":"'Data '!D30","v":"CYNTIA AGUSTINA"},3,3,3,3,3,null,null,null,null,null,3,"B","Tuntas"]
[5,{"$f":"'Data '!D31","v":"DAFFA KRISNA PRAMUDYA"},3,3,3,3,3,null,null,null,null,null,3,"B","Tuntas"]
[6,{"$f":"'Data '!D32","v":"DANINDRA RAFIF IRAWAN"},3,3,3,3,3,null,null,null,null,null,3,"B","Tuntas"]
[7,{"$f":"'Data '!D33","v":"DENI PRATAMA"},3,3,3,3,3,null,null,null,null,null,3,"B","Tuntas"]
[8,{"$f":"'Data '!D34","v":"DIKA SUKMA AGUSTIN"},3,3,3,3,3,null,null,null,null,null,3,"B","Tuntas"]
[9,{"$f":"'Data '!D35","v":"DIVA ADITYA"},3,3,3,3,3,null,null,null,null,null,3,"B","Tuntas"]
[10,{"$f":"'Data '!D36","v":"EKO PRASTYO"},3,3,3,3,3,null,null,null,null,null,3,"B","Tuntas"]
[11,{"$f":"'Data '!D37","v":"FAIQUR RIJAL HAMMAM"},3,3,3,3,3,null,null,null,null,null,3,"B","Tuntas"]
[12,{"$f":"'Data '!D38","v":"FATESAR SARI PRASETYO"},3,3,3,3,3,null,null,null,null,null,3,"B","Tuntas"]
[13,{"$f":"'Data '!D39","v":"FEBRI SULISTIYO"},3,3,3,3,3,null,null,null,null,null,3,"B","Tuntas"]
[14,{"$f":"'Data '!D40","v":"FIONA NANDA FETRIAN"},3,3,3,3,3,null,null,null,null,null,3,"B","Tuntas"]
[15,{"$f":"'Data '!D41","v":"GILANG SYAHRUL RAMADHAN"},3,3,3,3,3,null,null,null,null,null,3,"B","Tuntas"]
[16,{"$f":"'Data '!D42","v":"IMAM AGUNG WAHYU PRATAMA"},3,3,3,3,3,null,null,null,null,null,3,"B","Tuntas"]
[17,{"$f":"'Data '!D43","v":"JOHAN MAULANA"},3,3,3,3,3,null,null,null,null,null,3,"B","Tuntas"]
[18,{"$f":"'Data '!D44","v":"JOKO SETIAWAN"},3,3,3,3,3,null,null,null,null,null,3,"B","Tuntas"]
[19,{"$f":"'Data '!D45","v":"LISA OKTAVINASARI"},3,3,3,3,3,null,null,null,null,null,3,"B","Tuntas"]
[20,{"$f":"'Data '!D46","v":"MARIA GILDA SIREGAR"},3,3,3,3,3,null,null,null,null,null,3,"B","Tuntas"]
[21,{"$f":"'Data '!D47","v":"MOHAMMAD NURKHOLISH"},3,3,3,3,3,null,null,null,null,null,3,"B","Tuntas"]
[22,{"$f":"'Data '!D48","v":"MUHAMAD FARIS ULIN NUHA"},3,3,3,3,3,null,null,null,null,null,3,"B","Tuntas"]
[23,{"$f":"'Data '!D49","v":"MUHAMMAD MUSTOFA"},3,3,3,3,3,null,null,null,null,null,3,"B","Tuntas"]
[24,{"$f":"'Data '!D50","v":"NANDA WINTYA PUTRI"},3,3,3,3,3,null,null,null,null,null,3,"B","Tuntas"]
[25,{"$f":"'Data '!D51","v":"NI'MA NOVA NUR FADHILAH"},3,3,3,3,3,null,null,null,null,null,3,"B","Tuntas"]
[26,{"$f":"'Data '!D52","v":"NITA ZUMROTUT TAQIYAH"},3,3,3,3,3,null,null,null,null,null,3,"B","Tuntas"]
[27,{"$f":"'Data '!D53","v":"RACHMAT SAPUTRA ANDRIANSYAH"},3,3,3,3,3,null,null,null,null,null,3,"B","Tuntas"]
[28,{"$f":"'Data '!D54","v":"RIZAL ANDRIYAN SAPUTRA"},3,3,3,3,3,null,null,null,null,null,3,"B","Tuntas"]
[29,{"$f":"'Data '!D55","v":"SAIFUL ANNAS"},3,3,3,3,3,null,null,null,null,null,3,"B","Tuntas"]
[30,{"$f":"'Data '!D56","v":"SELINA SEPTIANI"},3,3,3,3,3,null,null,null,null,null,3,"B","Tuntas"]
[31,{"$f":"'Data '!D57","v":"SHALSABILA  SHINTA NIRMALA"},3,3,3,3,3,null,null,null,null,null,3,"B","Tuntas"]
[32,{"$f":"'Data '!D58","v":"SITI CHOIRIATUS SA'ADAH"},3,3,3,3,3,null,null,null,null,null,3,"B","Tuntas"]
[33,{"$f":"'Data '!D59","v":"SITI NURFAN AZIZAH"},3,3,3,3,3,null,null,null,null,null,3,"B","Tuntas"]
[34,{"$f":"'Data '!D60","v":"SITI RAHAYU"},3,3,3,3,3,null,null,null,null,null,3,"B","Tuntas"]
[35,{"$f":"'Data '!D61","v":"STEVIANA PUSPITA SARI"},3,3,3,3,3,null,null,null,null,null,3,"B","Tuntas"]
[36,{"$f":"'Data '!D62","v":"TAN LINGGAR PRAMUDITA"},3,3,3,3,3,null,null,null,null,null,3,"B","Tuntas"]
[37,{"$f":"'Data '!D63","v":"TAUFIK NUR AZIZ DANUARTA"},3,3,3,3,3,null,null,null,null,null,3,"B","Tuntas"]
[38,{"$f":"'Data '!D64","v":"TIARA PUTRI AYUNINGTIAS"},3,3,3,3,3,null,null,null,null,null,3,"B","Tuntas"]
[39,{"$f":"'Data '!D65","v":"TITANIA GAYATRI PRIANJANI"},3,3,3,3,3,null,null,null,null,null,3,"B","Tuntas"]
[40,{"$f":"'Data '!D66","v":"ULFATUN NI'MAH"},3,3,3,3,3,null,null,null,null,null,3,"B","Tuntas"]
[41,{"$f":"'Data '!D67","v":0},null,null,null,null,null,null,null,null,null,null,"","",""]
[42,{"$f":"'Data '!D68","v":0},null,null,null,null,null,null,null,null,null,null,"","",""]
[43,{"$f":"'Data '!D69","v":0},null,null,null,null,null,null,null,null,null,null,"","",""]
[44,{"$f":"'Data '!D70","v":0},null,null,null,null,null,null,null,null,null,null,"","",""]
[45,{"$f":"'Data '!D71","v":0},null,null,null,null,null,null,null,null,null,null,"","",""]
[46,{"$f":"'Data '!D72","v":0},null,null,null,null,null,null,null,null,null,null,"","",{"$f":"IF(M532=\"  \",\"  \",IF(M532>=$N$7,\"Tuntas\",\"Tidak Tuntas\"))","v":""}]
[47,{"$f":"'Data '!D73","v":0},null,null,null,null,null,null,null,null,null,null,"","",""]
[48,{"$f":"'Data '!D74","v":0},null,null,null,null,null,null,null,null,null,null,"","",""]
[49,{"$f":"'Data '!D75","v":0},null,null,null,null,null,null,null,null,null,null,"","",""]
[50,{"$f":"'Data '!D76","v":0},null,null,null,null,null,null,null,null,null,null,"","",""]
[]
[]
[null,"Pedoman Observasi Sikap",null,null,null,null,null,"percaya diri"]
[null,"Aspek Pengamatan"]
[1,"Berani presentasi di depan kelas"]
[2,"Berani berpendapat, bertanya, atau menjawab pertanyaan"]
[3,"Berpendapat atau melakukan kegiatan tanpa ragu-ragu"]
[4,"Mampu membuat keputusan dengan cepat"]
[5,"Tidak mudah putus asa/pantang menyerah"]
[6]
[7]
[8]
[]
["No. ","Sikap","Aspek 1","Aspek 2","Aspek 3","Aspek 4","Aspek 5",null,null,null,null,null,"Nilai Modus","Nilai","Keterangan"]
[]
[null,"Nama"]
[1,{"$f":"'Data '!D27","v":"AHMAD ALEK BRIYANSAPUTRA"},3,3,3,3,3,null,null,null,null,null,{"$f":"IFERROR(MODE(C553:L553),\"  \")","v":3},{"$f":"IF(M553=\"  \",\"  \",IF(M553>=$S$13,\"SB\",IF(M553>=$S$14,\"B\",IF(M553>=$S$15,\"C\",\"K\"))))","v":"B"},{"$f":"IF(M553=\"  \",\"  \",IF(M553>=$N$7,\"Tuntas\",\"Tidak Tuntas\"))","v":"Tuntas"}]
[2,{"$f":"'Data '!D28","v":"AULIA AYU FATINA"},3,3,3,3,3,null,null,null,null,null,{"$f":"IFERROR(MODE(C554:L554),\"  \")","v":3},{"$f":"IF(M554=\"  \",\"  \",IF(M554>=$S$13,\"SB\",IF(M554>=$S$14,\"B\",IF(M554>=$S$15,\"C\",\"K\"))))","v":"B"},"Tuntas"]
[3,{"$f":"'Data '!D29","v":"BAGAS YULANDRA PUTRA"},3,3,3,3,3,null,null,null,null,null,3,"B","Tuntas"]
[4,{"$f":"'Data '!D30","v":"CYNTIA AGUSTINA"},3,3,3,3,3,null,null,null,null,null,3,"B","Tuntas"]
[5,{"$f":"'Data '!D31","v":"DAFFA KRISNA PRAMUDYA"},3,3,3,3,3,null,null,null,null,null,3,"B","Tuntas"]
[6,{"$f":"'Data '!D32","v":"DANINDRA RAFIF IRAWAN"},3,3,3,3,3,null,null,null,null,null,3,"B","Tuntas"]
[7,{"$f":"'Data '!D33","v":"DENI PRATAMA"},3,3,3,3,3,null,null,null,null,null,3,"B","Tuntas"]
[8,{"$f":"'Data '!D34","v":"DIKA SUKMA AGUSTIN"},3,3,3,3,3,null,null,null,null,null,3,"B","Tuntas"]
[9,{"$f":"'Data '!D35","v":"DIVA ADITYA"},3,3,3,3,3,null,null,null,null,null,3,"B","Tuntas"]
[10,{"$f":"'Data '!D36","v":"EKO PRASTYO"},3,3,3,3,3,null,null,null,null,null,3,"B","Tuntas"]
[11,{"$f":"'Data '!D37","v":"FAIQUR RIJAL HAMMAM"},3,3,3,3,3,null,null,null,null,null,3,"B","Tuntas"]
[12,{"$f":"'Data '!D38","v":"FATESAR SARI PRASETYO"},3,3,3,3,3,null,null,null,null,null,3,"B","Tuntas"]
[13,{"$f":"'Data '!D39","v":"FEBRI SULISTIYO"},3,3,3,3,3,null,null,null,null,null,3,"B","Tuntas"]
[14,{"$f":"'Data '!D40","v":"FIONA NANDA FETRIAN"},3,3,3,3,3,null,null,null,null,null,3,"B","Tuntas"]
[15,{"$f":"'Data '!D41","v":"GILANG SYAHRUL RAMADHAN"},3,3,3,3,3,null,null,null,null,null,3,"B","Tuntas"]
[16,{"$f":"'Data '!D42","v":"IMAM AGUNG WAHYU PRATAMA"},3,3,3,3,3,null,null,null,null,null,3,"B","Tuntas"]
[17,{"$f":"'Data '!D43","v":"JOHAN MAULANA"},3,3,3,3,3,null,null,null,null,null,3,"B","Tuntas"]
[18,{"$f":"'Data '!D44","v":"JOKO SETIAWAN"},3,3,3,3,3,null,null,null,null,null,3,"B","Tuntas"]
[19,{"$f":"'Data '!D45","v":"LISA OKTAVINASARI"},3,3,3,3,3,null,null,null,null,null,3,"B","Tuntas"]
[20,{"$f":"'Data '!D46","v":"MARIA GILDA SIREGAR"},3,3,3,3,3,null,null,null,null,null,3,"B","Tuntas"]
[21,{"$f":"'Data '!D47","v":"MOHAMMAD NURKHOLISH"},3,3,3,3,3,null,null,null,null,null,3,"B","Tuntas"]
[22,{"$f":"'Data '!D48","v":"MUHAMAD FARIS ULIN NUHA"},3,3,3,3,3,null,null,null,null,null,3,"B","Tuntas"]
[23,{"$f":"'Data '!D49","v":"MUHAMMAD MUSTOFA"},3,3,3,3,3,null,null,null,null,null,3,"B","Tuntas"]
[24,{"$f":"'Data '!D50","v":"NANDA WINTYA PUTRI"},3,3,3,3,3,null,null,null,null,null,3,"B","Tuntas"]
[25,{"$f":"'Data '!D51","v":"NI'MA NOVA NUR FADHILAH"},3,3,3,3,3,null,null,null,null,null,3,"B","Tuntas"]
[26,{"$f":"'Data '!D52","v":"NITA ZUMROTUT TAQIYAH"},3,3,3,3,3,null,null,null,null,null,3,"B","Tuntas"]
[27,{"$f":"'Data '!D53","v":"RACHMAT SAPUTRA ANDRIANSYAH"},3,3,3,3,3,null,null,null,null,null,3,"B","Tuntas"]
[28,{"$f":"'Data '!D54","v":"RIZAL ANDRIYAN SAPUTRA"},3,3,3,3,3,null,null,null,null,null,3,"B","Tuntas"]
[29,{"$f":"'Data '!D55","v":"SAIFUL ANNAS"},3,3,3,3,3,null,null,null,null,null,3,"B","Tuntas"]
[30,{"$f":"'Data '!D56","v":"SELINA SEPTIANI"},3,3,3,3,3,null,null,null,null,null,3,"B","Tuntas"]
[31,{"$f":"'Data '!D57","v":"SHALSABILA  SHINTA NIRMALA"},3,3,3,3,3,null,null,null,null,null,3,"B","Tuntas"]
[32,{"$f":"'Data '!D58","v":"SITI CHOIRIATUS SA'ADAH"},3,3,3,3,3,null,null,null,null,null,3,"B","Tuntas"]
[33,{"$f":"'Data '!D59","v":"SITI NURFAN AZIZAH"},3,3,3,3,3,null,null,null,null,null,3,"B","Tuntas"]
[34,{"$f":"'Data '!D60","v":"SITI RAHAYU"},3,3,3,3,3,null,null,null,null,null,3,"B","Tuntas"]
[35,{"$f":"'Data '!D61","v":"STEVIANA PUSPITA SARI"},3,3,3,3,3,null,null,null,null,null,3,"B","Tuntas"]
[36,{"$f":"'Data '!D62","v":"TAN LINGGAR PRAMUDITA"},3,3,3,3,3,null,null,null,null,null,3,"B","Tuntas"]
[37,{"$f":"'Data '!D63","v":"TAUFIK NUR AZIZ DANUARTA"},3,3,3,3,3,null,null,null,null,null,3,"B","Tuntas"]
[38,{"$f":"'Data '!D64","v":"TIARA PUTRI AYUNINGTIAS"},3,3,3,3,3,null,null,null,null,null,3,"B","Tuntas"]
[39,{"$f":"'Data '!D65","v":"TITANIA GAYATRI PRIANJANI"},3,3,3,3,3,null,null,null,null,null,3,"B","Tuntas"]
[40,{"$f":"'Data '!D66","v":"ULFATUN NI'MAH"},3,3,3,3,3,null,null,null,null,null,3,"B","Tuntas"]
[41,{"$f":"'Data '!D67","v":0},null,null,null,null,null,null,null,null,null,null,"","",""]
[42,{"$f":"'Data '!D68","v":0},null,null,null,null,null,null,null,null,null,null,"","",""]
[43,{"$f":"'Data '!D69","v":0},null,null,null,null,null,null,null,null,null,null,"","",""]
[44,{"$f":"'Data '!D70","v":0},null,null,null,null,null,null,null,null,null,null,"","",""]
[45,{"$f":"'Data '!D71","v":0},null,null,null,null,null,null,null,null,null,null,"","",""]
[46,{"$f":"'Data '!D72","v":0},null,null,null,null,null,null,null,null,null,null,"","",{"$f":"IF(M598=\"  \",\"  \",IF(M598>=$N$7,\"Tuntas\",\"Tidak Tuntas\"))","v":""}]
[47,{"$f":"'Data '!D73","v":0},null,null,null,null,null,null,null,null,null,null,"","",""]
[48,{"$f":"'Data '!D74","v":0},null,null,null,null,null,null,null,null,null,null,"","",""]
[49,{"$f":"'Data '!D75","v":0},null,null,null,null,null,null,null,null,null,null,"","",""]
[50,{"$f":"'Data '!D76","v":0},null,null,null,null,null,null,null,null,null,null,"","",""]
[]
[]
[]
[null,"Pedoman Observasi Sikap",null,null,null,null,null,"ramah tamah"]
[null,"Aspek Pengamatan"]
[1,"Selalu menyapa orang lain dengan santun"]
[2]
[3]
[4]
[5]
[6]
[7]
[8]
[]
["No. ","Sikap","Aspek 1","Aspek 2","Aspek 3","Aspek 4","Aspek 5",null,null,null,null,null,"Nilai Modus","Nilai","Keterangan"]
[]
[null,"Nama"]
[1,{"$f":"B13","v":"AHMAD ALEK BRIYANSAPUTRA"},3,3,3,3,3,null,null,null,null,null,{"$f":"IFERROR(MODE(C620:L620),\"  \")","v":3},{"$f":"IF(M620=\"  \",\"  \",IF(M620>=$S$13,\"SB\",IF(M620>=$S$14,\"B\",IF(M620>=$S$15,\"C\",\"K\"))))","v":"B"},{"$f":"IF(M620=\"  \",\"  \",IF(M620>=$N$7,\"Tuntas\",\"Tidak Tuntas\"))","v":"Tuntas"}]
[2,{"$f":"B14","v":"AULIA AYU FATINA"},3,3,3,3,3,null,null,null,null,null,{"$f":"IFERROR(MODE(C621:L621),\"  \")","v":3},{"$f":"IF(M621=\"  \",\"  \",IF(M621>=$S$13,\"SB\",IF(M621>=$S$14,\"B\",IF(M621>=$S$15,\"C\",\"K\"))))","v":"B"},"Tuntas"]
[3,"BAGAS YULANDRA PUTRA",3,3,3,3,3,null,null,null,null,null,3,"B","Tuntas"]
[4,"CYNTIA AGUSTINA",3,3,3,3,3,null,null,null,null,null,3,"B","Tuntas"]
[5,"DAFFA KRISNA PRAMUDYA",3,3,3,3,3,null,null,null,null,null,3,"B","Tuntas"]
[6,"DANINDRA RAFIF IRAWAN",3,3,3,3,3,null,null,null,null,null,3,"B","Tuntas"]
[7,"DENI PRATAMA",3,3,3,3,3,null,null,null,null,null,3,"B","Tuntas"]
[8,"DIKA SUKMA AGUSTIN",3,3,3,3,3,null,null,null,null,null,3,"B","Tuntas"]
[9,"DIVA ADITYA",3,3,3,3,3,null,null,null,null,null,3,"B","Tuntas"]
[10,"EKO PRASTYO",3,3,3,3,3,null,null,null,null,null,3,"B","Tuntas"]
[11,"FAIQUR RIJAL HAMMAM",3,3,3,3,3,null,null,null,null,null,3,"B","Tuntas"]
[12,"FATESAR SARI PRASETYO",3,3,3,3,3,null,null,null,null,null,3,"B","Tuntas"]
[13,"FEBRI SULISTIYO",3,3,3,3,3,null,null,null,null,null,3,"B","Tuntas"]
[14,"FIONA NANDA FETRIAN",3,3,3,3,3,null,null,null,null,null,3,"B","Tuntas"]
[15,"GILANG SYAHRUL RAMADHAN",3,3,3,3,3,null,null,null,null,null,3,"B","Tuntas"]
[16,"IMAM AGUNG WAHYU PRATAMA",3,3,3,3,3,null,null,null,null,null,3,"B","Tuntas"]
[17,"JOHAN MAULANA",3,3,3,3,3,null,null,null,null,null,3,"B","Tuntas"]
[18,"JOKO SETIAWAN",3,3,3,3,3,null,null,null,null,null,3,"B","Tuntas"]
[19,"LISA OKTAVINASARI",3,3,3,3,3,null,null,null,null,null,3,"B","Tuntas"]
[20,"MARIA GILDA SIREGAR",3,3,3,3,3,null,null,null,null,null,3,"B","Tuntas"]
[21,"MOHAMMAD NURKHOLISH",3,3,3,3,3,null,null,null,null,null,3,"B","Tuntas"]
[22,"MUHAMAD FARIS ULIN NUHA",3,3,3,3,3,null,null,null,null,null,3,"B","Tuntas"]
[23,"MUHAMMAD MUSTOFA",3,3,3,3,3,null,null,null,null,null,3,"B","Tuntas"]
[24,"NANDA WINTYA PUTRI",3,3,3,3,3,null,null,null,null,null,3,"B","Tuntas"]
[25,"NI'MA NOVA NUR FADHILAH",3,3,3,3,3,null,null,null,null,null,3,"B","Tuntas"]
[26,"NITA ZUMROTUT TAQIYAH",3,3,3,3,3,null,null,null,null,null,3,"B","Tuntas"]
[27,"RACHMAT SAPUTRA ANDRIANSYAH",3,3,3,3,3,null,null,null,null,null,3,"B","Tuntas"]
[28,"RIZAL ANDRIYAN SAPUTRA",3,3,3,3,3,null,null,null,null,null,3,"B","Tuntas"]
[29,"SAIFUL ANNAS",3,3,3,3,3,null,null,null,null,null,3,"B","Tuntas"]
[30,"SELINA SEPTIANI",3,3,3,3,3,null,null,null,null,null,3,"B","Tuntas"]
[31,"SHALSABILA  SHINTA NIRMALA",3,3,3,3,3,null,null,null,null,null,3,"B","Tuntas"]
[32,"SITI CHOIRIATUS SA'ADAH",3,3,3,3,3,null,null,null,null,null,3,"B","Tuntas"]
[33,"SITI NURFAN AZIZAH",3,3,3,3,3,null,null,null,null,null,3,"B","Tuntas"]
[34,"SITI RAHAYU",3,3,3,3,3,null,null,null,null,null,3,"B","Tuntas"]
[35,"STEVIANA PUSPITA SARI",3,3,3,3,3,null,null,null,null,null,3,"B","Tuntas"]
[36,"TAN LINGGAR PRAMUDITA",3,3,3,3,3,null,null,null,null,null,3,"B","Tuntas"]
[37,"TAUFIK NUR AZIZ DANUARTA",3,3,3,3,3,null,null,null,null,null,3,"B","Tuntas"]
[38,"TIARA PUTRI AYUNINGTIAS",3,3,3,3,3,null,null,null,null,null,3,"B","Tuntas"]
[39,"TITANIA GAYATRI PRIANJANI",3,3,3,3,3,null,null,null,null,null,3,"B","Tuntas"]
[40,"ULFATUN NI'MAH",3,3,3,3,3,null,null,null,null,null,3,"B","Tuntas"]
[41,0,null,null,null,null,null,null,null,null,null,null,"","",""]
[42,0,null,null,null,null,null,null,null,null,null,null,"","",""]
[43,0,null,null,null,null,null,null,null,null,null,null,"","",""]
[44,0,null,null,null,null,null,null,null,null,null,null,"","",""]
[45,0,null,null,null,null,null,null,null,null,null,null,"","",""]
[46,0,null,null,null,null,null,null,null,null,null,null,"","",""]
[47,0,null,null,null,null,null,null,null,null,null,null,"","",""]
[48,0,null,null,null,null,null,null,null,null,null,null,"","",""]
[49,0,null,null,null,null,null,null,null,null,null,null,"","",""]
[50,0,null,null,null,null,null,null,null,null,null,null,"","",""]
[]
[]
[null,"Pedoman Observasi Sikap",null,null,null,null,null,"ingin tahu"]
[null,"Aspek Pengamatan"]
[1,"Suka/selalu bertanya ketika dalam proses pembelajaran"]
[2]
[3]
[4]
[5]
[6]
[7]
[8]
[]
["No. ","Sikap","Aspek 1","Aspek 2","Aspek 3","Aspek 4","Aspek 5",null,null,null,null,null,"Nilai Modus","Nilai","Keterangan"]
[]
[null,"Nama"]
[1,{"$f":"B13","v":"AHMAD ALEK BRIYANSAPUTRA"},3,3,3,3,3,null,null,null,null,null,{"$f":"IFERROR(MODE(C686:L686),\"  \")","v":3},{"$f":"IF(M686=\"  \",\"  \",IF(M686>=$S$13,\"SB\",IF(M686>=$S$14,\"B\",IF(M686>=$S$15,\"C\",\"K\"))))","v":"B"},{"$f":"IF(M686=\"  \",\"  \",IF(M686>=$N$7,\"Tuntas\",\"Tidak Tuntas\"))","v":"Tuntas"}]
[2,{"$f":"B14","v":"AULIA AYU FATINA"},3,3,3,3,3,null,null,null,null,null,{"$f":"IFERROR(MODE(C687:L687),\"  \")","v":3},{"$f":"IF(M687=\"  \",\"  \",IF(M687>=$S$13,\"SB\",IF(M687>=$S$14,\"B\",IF(M687>=$S$15,\"C\",\"K\"))))","v":"B"},"Tuntas"]
[3,"BAGAS YULANDRA PUTRA",3,3,3,3,3,null,null,null,null,null,3,"B","Tuntas"]
[4,"CYNTIA AGUSTINA",3,3,3,3,3,null,null,null,null,null,3,"B","Tuntas"]
[5,"DAFFA KRISNA PRAMUDYA",3,3,3,3,3,null,null,null,null,null,3,"B","Tuntas"]
[6,"DANINDRA RAFIF IRAWAN",3,3,3,3,3,null,null,null,null,null,3,"B","Tuntas"]
[7,"DENI PRATAMA",3,3,3,3,3,null,null,null,null,null,3,"B","Tuntas"]
[8,"DIKA SUKMA AGUSTIN",3,3,3,3,3,null,null,null,null,null,3,"B","Tuntas"]
[9,"DIVA ADITYA",3,3,3,3,3,null,null,null,null,null,3,"B","Tuntas"]
[10,"EKO PRASTYO",3,3,3,3,3,null,null,null,null,null,3,"B","Tuntas"]
[11,"FAIQUR RIJAL HAMMAM",3,3,3,3,3,null,null,null,null,null,3,"B","Tuntas"]
[12,"FATESAR SARI PRASETYO",3,3,3,3,3,null,null,null,null,null,3,"B","Tuntas"]
[13,"FEBRI SULISTIYO",3,3,3,3,3,null,null,null,null,null,3,"B","Tuntas"]
[14,"FIONA NANDA FETRIAN",3,3,3,3,3,null,null,null,null,null,3,"B","Tuntas"]
[15,"GILANG SYAHRUL RAMADHAN",3,3,3,3,3,null,null,null,null,null,3,"B","Tuntas"]
[16,"IMAM AGUNG WAHYU PRATAMA",3,3,3,3,3,null,null,null,null,null,3,"B","Tuntas"]
[17,"JOHAN MAULANA",3,3,3,3,3,null,null,null,null,null,3,"B","Tuntas"]
[18,"JOKO SETIAWAN",3,3,3,3,3,null,null,null,null,null,3,"B","Tuntas"]
[19,"LISA OKTAVINASARI",3,3,3,3,3,null,null,null,null,null,3,"B","Tuntas"]
[20,"MARIA GILDA SIREGAR",3,3,3,3,3,null,null,null,null,null,3,"B","Tuntas"]
[21,"MOHAMMAD NURKHOLISH",3,3,3,3,3,null,null,null,null,null,3,"B","Tuntas"]
[22,"MUHAMAD FARIS ULIN NUHA",3,3,3,3,3,null,null,null,null,null,3,"B","Tuntas"]
[23,"MUHAMMAD MUSTOFA",3,3,3,3,3,null,null,null,null,null,3,"B","Tuntas"]
[24,"NANDA WINTYA PUTRI",3,3,3,3,3,null,null,null,null,null,3,"B","Tuntas"]
[25,"NI'MA NOVA NUR FADHILAH",3,3,3,3,3,null,null,null,null,null,3,"B","Tuntas"]
[26,"NITA ZUMROTUT TAQIYAH",3,3,3,3,3,null,null,null,null,null,3,"B","Tuntas"]
[27,"RACHMAT SAPUTRA ANDRIANSYAH",3,3,3,3,3,null,null,null,null,null,3,"B","Tuntas"]
[28,"RIZAL ANDRIYAN SAPUTRA",3,3,3,3,3,null,null,null,null,null,3,"B","Tuntas"]
[29,"SAIFUL ANNAS",3,3,3,3,3,null,null,null,null,null,3,"B","Tuntas"]
[30,"SELINA SEPTIANI",3,3,3,3,3,null,null,null,null,null,3,"B","Tuntas"]
[31,"SHALSABILA  SHINTA NIRMALA",3,3,3,3,3,null,null,null,null,null,3,"B","Tuntas"]
[32,"SITI CHOIRIATUS SA'ADAH",3,3,3,3,3,null,null,null,null,null,3,"B","Tuntas"]
[33,"SITI NURFAN AZIZAH",3,3,3,3,3,null,null,null,null,null,3,"B","Tuntas"]
[34,"SITI RAHAYU",3,3,3,3,3,null,null,null,null,null,3,"B","Tuntas"]
[35,"STEVIANA PUSPITA SARI",3,3,3,3,3,null,null,null,null,null,3,"B","Tuntas"]
[36,"TAN LINGGAR PRAMUDITA",3,3,3,3,3,null,null,null,null,null,3,"B","Tuntas"]
[37,"TAUFIK NUR AZIZ DANUARTA",3,3,3,3,3,null,null,null,null,null,3,"B","Tuntas"]
[38,"TIARA PUTRI AYUNINGTIAS",3,3,3,3,3,null,null,null,null,null,3,"B","Tuntas"]
[39,"TITANIA GAYATRI PRIANJANI",3,3,3,3,3,null,null,null,null,null,3,"B","Tuntas"]
[40,"ULFATUN NI'MAH",3,3,3,3,3,null,null,null,null,null,3,"B","Tuntas"]
[41,0,null,null,null,null,null,null,null,null,null,null,"","",""]
[42,0,null,null,null,null,null,null,null,null,null,null,"","",""]
[43,0,null,null,null,null,null,null,null,null,null,null,"","",""]
[44,0,null,null,null,null,null,null,null,null,null,null,"","",""]
[45,0,null,null,null,null,null,null,null,null,null,null,"","",""]
[46,0,null,null,null,null,null,null,null,null,null,null,"","",""]
[47,0,null,null,null,null,null,null,null,null,null,null,"","",""]
[48,0,null,null,null,null,null,null,null,null,null,null,"","",""]
[49,0,null,null,null,null,null,null,null,null,null,null,"","",""]
[50,0,null,null,null,null,null,null,null,null,null,null,"","",""]

{"sheet":"Sikap","index":12,"n_rows":72,"n_cols":20,"rows_kept":72,"cut":false,"hidden":false,"merged":[[11,16,12,16],[11,2,11,4],[11,5,11,7],[11,8,11,10],[11,11,12,11],[11,0,12,0],[11,1,12,1],[7,2,7,4],[7,11,7,12],[8,2,8,4],[8,11,8,12],[7,6,7,8],[8,6,8,8],[7,9,7,10],[8,9,8,10],[77,2,77,10],[78,2,78,10],[0,2,0,14],[1,2,1,14],[2,2,2,14],[8,13,8,14],[9,2,9,4],[3,2,5,14]]}
[null,null,{"$f":"UPPER('Data '!D10)","v":"PEMERINTAH KABUPATEN BLORA"}]
[null,null,{"$f":"UPPER('Data '!D6)","v":"DINAS PENDIDIKAN PEMUDA DAN OLAHRAGA"}]
[null,null,{"$f":"UPPER('Data '!D7)","v":"SMP NEGERI 6 BLORA"}]
[null,null,"DAFTAR   REKAP NILAI   SIKAP SISWA  (KI - 1 & 2)"]
[]
[]
[]
[null,"Mata Pelajaran :",{"$f":"Home!E16","v":"PJOK"},null,null,null,"Semester :",null,null,{"$f":"'Data '!D14","v":"Ganjil"},null,"KKM  :",null,{"$f":"Home!E26","v":3}]
[null,"Kelas :",{"$f":"Home!E18","v":"VII-A"},null,null,null,"Tahun Pelajaran :",null,null,{"$f":"'Data '!D13","v":"2014/2015"},null,"Wali Kelas  :",null,{"$f":"'Data '!D17","v":"Mundari, S.Pd."}]
[null,"Aspek :","Sikap"]
[]
["No. ","Nama","Observasi",null,null,"Penilaian Diri",null,null,"Penilaian Teman",null,null,"Jurnal","Nilai","Nilai","Ket",null,"Deskripsi Kemajuan Belajar"]
[null,null,"Ob1","Ob2","Rerata","Pd1","Pd2","Rerata","PT1","PT2","Rerata",null,"Raport","Konversi","T/TT"]
[1,{"$f":"'Data '!D27","v":"AHMAD ALEK BRIYANSAPUTRA"},{"$f":"'Obs 1'!M13","v":3},{"$f":"'Obs2'!M13","v":3},{"$f":"IFERROR(AVERAGE(C14:D14),\"   \")","v":3},{"$f":"'N Diri-1'!X14","v":3},{"$f":"'N Diri-2'!X14","v":3},{"$f":"IFERROR(AVERAGE(F14:G14),\"  \")","v":3},{"$f":"'AT-1'!AA14","v":3},{"$f":"'AT-2'!AA14","v":3},{"$f":"IFERROR(AVERAGE(I14:J14),\"  \")","v":3},{"$f":"Jurnal!I14","v":3},{"$f":"IFERROR(MODE(C14:L14),\"  \")","v":3},{"$f":"IF(M14=\"   \",\"   \",IF(M14>=$S$14,\"SB\",IF(M14>=$S$15,\"B\",IF(M14>=$S$16,\"C\",\"K\"))))","v":"B"},{"$f":"IF(M14=\"   \",\"   \",IF(M14>=$N$8,\"Tuntas\",\"Tidak Tuntas\"))","v":"Tuntas"},null,{"$f":"CONCATENATE(IF(M14=\"  \",\"  \",IF(M14>=$S$14,\"Kompetensi sikap rerata sangat baik.  \",IF(M14>=$S$15,\"Kompetensi sikap rerata baik.  \",IF(M14>=$S$16,\"Kompetensi sikat rerata cukup. \",\"Kompetensi sikap rerata kurang. \")))))&(Obs!AV13)","v":"Kompetensi sikap rerata baik.  Menunjukkan sikap baik dalam spiritual, baik dalam jujur, baik dalam disiplin, baik dalam tanggungjawab, baik dalam toleransi, baik dalam gotong royong, baik dalam santun, baik dalam percaya diri, baik dalam ramah tamah, baik dalam ingin tahu"},">",{"$f":"'Data '!M20","v":4},"SB"]
[2,{"$f":"'Data '!D28","v":"AULIA AYU FATINA"},{"$f":"'Obs 1'!M14","v":3},{"$f":"'Obs2'!M14","v":3},{"$f":"IFERROR(AVERAGE(C15:D15),\"   \")","v":3},{"$f":"'N Diri-1'!X15","v":3},{"$f":"'N Diri-2'!X15","v":3},{"$f":"IFERROR(AVERAGE(F15:G15),\"  \")","v":3},{"$f":"'AT-1'!AA15","v":3},{"$f":"'AT-2'!AA15","v":3},{"$f":"IFERROR(AVERAGE(I15:J15),\"  \")","v":3},{"$f":"Jurnal!I15","v":3},{"$f":"IFERROR(MODE(C15:L15),\"  \")","v":3},{"$f":"IF(M15=\"   \",\"   \",IF(M15>=$S$14,\"SB\",IF(M15>=$S$15,\"B\",IF(M15>=$S$16,\"C\",\"K\"))))","v":"B"},{"$f":"IF(M15=\"   \",\"   \",IF(M15>=$N$8,\"Tuntas\",\"Tidak Tuntas\"))","v":"Tuntas"},null,{"$f":"CONCATENATE(IF(M15=\"  \",\"  \",IF(M15>=$S$14,\"Kompetensi sikap rerata sangat baik.  \",IF(M15>=$S$15,\"Kompetensi sikap rerata baik.  \",IF(M15>=$S$16,\"Kompetensi sikat rerata cukup. \",\"Kompetensi sikap rerata kurang. \")))))&(Obs!AV14)","v":"Kompetensi sikap rerata baik.  Menunjukkan sikap baik dalam spiritual, baik dalam jujur, baik dalam disiplin, baik dalam tanggungjawab, baik dalam toleransi, baik dalam gotong royong, baik dalam santun, baik dalam percaya diri, baik dalam ramah tamah, baik dalam ingin tahu"},">",{"$f":"'Data '!M22","v":3},"B"]
[3,{"$f":"'Data '!D29","v":"BAGAS YULANDRA PUTRA"},{"$f":"'Obs 1'!M15","v":3},{"$f":"'Obs2'!M15","v":3},3,{"$f":"'N Diri-1'!X16","v":3},{"$f":"'N Diri-2'!X16","v":3},3,{"$f":"'AT-1'!AA16","v":3},{"$f":"'AT-2'!AA16","v":3},3,{"$f":"Jurnal!I16","v":3},3,"B","Tuntas",null,{"$f":"CONCATENATE(IF(M16=\"  \",\"  \",IF(M16>=$S$14,\"Kompetensi sikap rerata sangat baik.  \",IF(M16>=$S$15,\"Kompetensi sikap rerata baik.  \",IF(M16>=$S$16,\"Kompetensi sikat rerata cukup. \",\"Kompetensi sikap rerata kurang. \")))))&(Obs!AV15)","v":"Kompetensi sikap rerata baik.  Menunjukkan sikap baik dalam spiritual, baik dalam jujur, baik dalam disiplin, baik dalam tanggungjawab, baik dalam toleransi, baik dalam gotong royong, baik dalam santun, baik dalam percaya diri, baik dalam ramah tamah, baik dalam ingin tahu"},">",{"$f":"'Data '!M25","v":2},"C"]
[4,{"$f":"'Data '!D30","v":"CYNTIA AGUSTINA"},{"$f":"'Obs 1'!M16","v":3},{"$f":"'Obs2'!M16","v":3},3,{"$f":"'N Diri-1'!X17","v":3},{"$f":"'N Diri-2'!X17","v":3},3,{"$f":"'AT-1'!AA17","v":3},{"$f":"'AT-2'!AA17","v":3},3,{"$f":"Jurnal!I17","v":3},3,"B","Tuntas",null,{"$f":"CONCATENATE(IF(M17=\"  \",\"  \",IF(M17>=$S$14,\"Kompetensi sikap rerata sangat baik.  \",IF(M17>=$S$15,\"Kompetensi sikap rerata baik.  \",IF(M17>=$S$16,\"Kompetensi sikat rerata cukup. \",\"Kompetensi sikap rerata kurang. \")))))&(Obs!AV16)","v":"Kompetensi sikap rerata baik.  Menunjukkan sikap baik dalam spiritual, baik dalam jujur, baik dalam disiplin, baik dalam tanggungjawab, baik dalam toleransi, baik dalam gotong royong, baik dalam santun, baik dalam percaya diri, baik dalam ramah tamah, baik dalam ingin tahu"},">",{"$f":"'Data '!M28","v":1},"K"]
[5,{"$f":"'Data '!D31","v":"DAFFA KRISNA PRAMUDYA"},{"$f":"'Obs 1'!M17","v":3},{"$f":"'Obs2'!M17","v":3},3,{"$f":"'N Diri-1'!X18","v":3},{"$f":"'N Diri-2'!X18","v":3},{"$f":"IFERROR(AVERAGE(F18:G18),\"  \")","v":3},{"$f":"'AT-1'!AA18","v":3},{"$f":"'AT-2'!AA18","v":3},3,{"$f":"Jurnal!I18","v":3},3,"B","Tuntas",null,{"$f":"CONCATENATE(IF(M18=\"  \",\"  \",IF(M18>=$S$14,\"Kompetensi sikap rerata sangat baik.  \",IF(M18>=$S$15,\"Kompetensi sikap rerata baik.  \",IF(M18>=$S$16,\"Kompetensi sikat rerata cukup. \",\"Kompetensi sikap rerata kurang. \")))))&(Obs!AV17)","v":"Kompetensi sikap rerata baik.  Menunjukkan sikap baik dalam spiritual, baik dalam jujur, baik dalam disiplin, baik dalam tanggungjawab, baik dalam toleransi, baik dalam gotong royong, baik dalam santun, baik dalam percaya diri, baik dalam ramah tamah, baik dalam ingin tahu"}]
[6,{"$f":"'Data '!D32","v":"DANINDRA RAFIF IRAWAN"},{"$f":"'Obs 1'!M18","v":3},{"$f":"'Obs2'!M18","v":3},3,{"$f":"'N Diri-1'!X19","v":3},{"$f":"'N Diri-2'!X19","v":3},3,{"$f":"'AT-1'!AA19","v":3},{"$f":"'AT-2'!AA19","v":3},3,{"$f":"Jurnal!I19","v":3},3,"B","Tuntas",null,{"$f":"CONCATENATE(IF(M19=\"  \",\"  \",IF(M19>=$S$14,\"Kompetensi sikap rerata sangat baik.  \",IF(M19>=$S$15,\"Kompetensi sikap rerata baik.  \",IF(M19>=$S$16,\"Kompetensi sikat rerata cukup. \",\"Kompetensi sikap rerata kurang. \")))))&(Obs!AV18)","v":"Kompetensi sikap rerata baik.  Menunjukkan sikap baik dalam spiritual, baik dalam jujur, baik dalam disiplin, baik dalam tanggungjawab, baik dalam toleransi, baik dalam gotong royong, baik dalam santun, baik dalam percaya diri, baik dalam ramah tamah, baik dalam ingin tahu"}]
[7,{"$f":"'Data '!D33","v":"DENI PRATAMA"},{"$f":"'Obs 1'!M19","v":3},{"$f":"'Obs2'!M19","v":3},3,{"$f":"'N Diri-1'!X20","v":3},{"$f":"'N Diri-2'!X20","v":3},3,{"$f":"'AT-1'!AA20","v":3},{"$f":"'AT-2'!AA20","v":3},3,{"$f":"Jurnal!I20","v":3},3,"B","Tuntas",null,{"$f":"CONCATENATE(IF(M20=\"  \",\"  \",IF(M20>=$S$14,\"Kompetensi sikap rerata sangat baik.  \",IF(M20>=$S$15,\"Kompetensi sikap rerata baik.  \",IF(M20>=$S$16,\"Kompetensi sikat rerata cukup. \",\"Kompetensi sikap rerata kurang. \")))))&(Obs!AV19)","v":"Kompetensi sikap rerata baik.  Menunjukkan sikap baik dalam spiritual, baik dalam jujur, baik dalam disiplin, baik dalam tanggungjawab, baik dalam toleransi, baik dalam gotong royong, baik dalam santun, baik dalam percaya diri, baik dalam ramah tamah, baik dalam ingin tahu"}]
[8,{"$f":"'Data '!D34","v":"DIKA SUKMA AGUSTIN"},{"$f":"'Obs 1'!M20","v":3},{"$f":"'Obs2'!M20","v":3},3,{"$f":"'N Diri-1'!X21","v":3},{"$f":"'N Diri-2'!X21","v":3},3,{"$f":"'AT-1'!AA21","v":3},{"$f":"'AT-2'!AA21","v":3},3,{"$f":"Jurnal!I21","v":3},3,"B","Tuntas",null,{"$f":"CONCATENATE(IF(M21=\"  \",\"  \",IF(M21>=$S$14,\"Kompetensi sikap rerata sangat baik.  \",IF(M21>=$S$15,\"Kompetensi sikap rerata baik.  \",IF(M21>=$S$16,\"Kompetensi sikat rerata cukup. \",\"Kompetensi sikap rerata kurang. \")))))&(Obs!AV20)","v":"Kompetensi sikap rerata baik.  Menunjukkan sikap baik dalam spiritual, baik dalam jujur, baik dalam disiplin, baik dalam tanggungjawab, baik dalam toleransi, baik dalam gotong royong, baik dalam santun, baik dalam percaya diri, baik dalam ramah tamah, baik dalam ingin tahu"}]
[9,{"$f":"'Data '!D35","v":"DIVA ADITYA"},{"$f":"'Obs 1'!M21","v":3},{"$f":"'Obs2'!M21","v":3},3,{"$f":"'N Diri-1'!X22","v":3},{"$f":"'N Diri-2'!X22","v":3},3,{"$f":"'AT-1'!AA22","v":3},{"$f":"'AT-2'!AA22","v":3},3,{"$f":"Jurnal!I22","v":3},3,"B","Tuntas",null,{"$f":"CONCATENATE(IF(M22=\"  \",\"  \",IF(M22>=$S$14,\"Kompetensi sikap rerata sangat baik.  \",IF(M22>=$S$15,\"Kompetensi sikap rerata baik.  \",IF(M22>=$S$16,\"Kompetensi sikat rerata cukup. \",\"Kompetensi sikap rerata kurang. \")))))&(Obs!AV21)","v":"Kompetensi sikap rerata baik.  Menunjukkan sikap baik dalam spiritual, baik dalam jujur, baik dalam disiplin, baik dalam tanggungjawab, baik dalam toleransi, baik dalam gotong royong, baik dalam santun, baik dalam percaya diri, baik dalam ramah tamah, baik dalam ingin tahu"}]
[10,{"$f":"'Data '!D36","v":"EKO PRASTYO"},{"$f":"'Obs 1'!M22","v":3},{"$f":"'Obs2'!M22","v":3},3,{"$f":"'N Diri-1'!X23","v":3},{"$f":"'N Diri-2'!X23","v":3},3,{"$f":"'AT-1'!AA23","v":3},{"$f":"'AT-2'!AA23","v":3},3,{"$f":"Jurnal!I23","v":3},3,"B","Tuntas",null,{"$f":"CONCATENATE(IF(M23=\"  \",\"  \",IF(M23>=$S$14,\"Kompetensi sikap rerata sangat baik.  \",IF(M23>=$S$15,\"Kompetensi sikap rerata baik.  \",IF(M23>=$S$16,\"Kompetensi sikat rerata cukup. \",\"Kompetensi sikap rerata kurang. \")))))&(Obs!AV22)","v":"Kompetensi sikap rerata baik.  Menunjukkan sikap baik dalam spiritual, baik dalam jujur, baik dalam disiplin, baik dalam tanggungjawab, baik dalam toleransi, baik dalam gotong royong, baik dalam santun, baik dalam percaya diri, baik dalam ramah tamah, baik dalam ingin tahu"}]
[11,{"$f":"'Data '!D37","v":"FAIQUR RIJAL HAMMAM"},{"$f":"'Obs 1'!M23","v":3},{"$f":"'Obs2'!M23","v":3},3,{"$f":"'N Diri-1'!X24","v":3},{"$f":"'N Diri-2'!X24","v":3},3,{"$f":"'AT-1'!AA24","v":3},{"$f":"'AT-2'!AA24","v":3},3,{"$f":"Jurnal!I24","v":3},3,"B","Tuntas",null,{"$f":"CONCATENATE(IF(M24=\"  \",\"  \",IF(M24>=$S$14,\"Kompetensi sikap rerata sangat baik.  \",IF(M24>=$S$15,\"Kompetensi sikap rerata baik.  \",IF(M24>=$S$16,\"Kompetensi sikat rerata cukup. \",\"Kompetensi sikap rerata kurang. \")))))&(Obs!AV23)","v":"Kompetensi sikap rerata baik.  Menunjukkan sikap baik dalam spiritual, baik dalam jujur, baik dalam disiplin, baik dalam tanggungjawab, baik dalam toleransi, baik dalam gotong royong, baik dalam santun, baik dalam percaya diri, baik dalam ramah tamah, baik dalam ingin tahu"}]
[12,{"$f":"'Data '!D38","v":"FATESAR SARI PRASETYO"},{"$f":"'Obs 1'!M24","v":3},{"$f":"'Obs2'!M24","v":3},3,{"$f":"'N Diri-1'!X25","v":3},{"$f":"'N Diri-2'!X25","v":3},3,{"$f":"'AT-1'!AA25","v":3},{"$f":"'AT-2'!AA25","v":3},3,{"$f":"Jurnal!I25","v":3},3,"B","Tuntas",null,{"$f":"CONCATENATE(IF(M25=\"  \",\"  \",IF(M25>=$S$14,\"Kompetensi sikap rerata sangat baik.  \",IF(M25>=$S$15,\"Kompetensi sikap rerata baik.  \",IF(M25>=$S$16,\"Kompetensi sikat rerata cukup. \",\"Kompetensi sikap rerata kurang. \")))))&(Obs!AV24)","v":"Kompetensi sikap rerata baik.  Menunjukkan sikap baik dalam spiritual, baik dalam jujur, baik dalam disiplin, baik dalam tanggungjawab, baik dalam toleransi, baik dalam gotong royong, baik dalam santun, baik dalam percaya diri, baik dalam ramah tamah, baik dalam ingin tahu"}]
[13,{"$f":"'Data '!D39","v":"FEBRI SULISTIYO"},{"$f":"'Obs 1'!M25","v":3},{"$f":"'Obs2'!M25","v":3},3,{"$f":"'N Diri-1'!X26","v":3},{"$f":"'N Diri-2'!X26","v":3},3,{"$f":"'AT-1'!AA26","v":3},{"$f":"'AT-2'!AA26","v":3},3,{"$f":"Jurnal!I26","v":3},3,"B","Tuntas",null,{"$f":"CONCATENATE(IF(M26=\"  \",\"  \",IF(M26>=$S$14,\"Kompetensi sikap rerata sangat baik.  \",IF(M26>=$S$15,\"Kompetensi sikap rerata baik.  \",IF(M26>=$S$16,\"Kompetensi sikat rerata cukup. \",\"Kompetensi sikap rerata kurang. \")))))&(Obs!AV25)","v":"Kompetensi sikap rerata baik.  Menunjukkan sikap baik dalam spiritual, baik dalam jujur, baik dalam disiplin, baik dalam tanggungjawab, baik dalam toleransi, baik dalam gotong royong, baik dalam santun, baik dalam percaya diri, baik dalam ramah tamah, baik dalam ingin tahu"}]
[14,{"$f":"'Data '!D40","v":"FIONA NANDA FETRIAN"},{"$f":"'Obs 1'!M26","v":3},{"$f":"'Obs2'!M26","v":3},3,{"$f":"'N Diri-1'!X27","v":3},{"$f":"'N Diri-2'!X27","v":3},3,{"$f":"'AT-1'!AA27","v":3},{"$f":"'AT-2'!AA27","v":3},3,{"$f":"Jurnal!I27","v":3},3,"B","Tuntas",null,{"$f":"CONCATENATE(IF(M27=\"  \",\"  \",IF(M27>=$S$14,\"Kompetensi sikap rerata sangat baik.  \",IF(M27>=$S$15,\"Kompetensi sikap rerata baik.  \",IF(M27>=$S$16,\"Kompetensi sikat rerata cukup. \",\"Kompetensi sikap rerata kurang. \")))))&(Obs!AV26)","v":"Kompetensi sikap rerata baik.  Menunjukkan sikap baik dalam spiritual, baik dalam jujur, baik dalam disiplin, baik dalam tanggungjawab, baik dalam toleransi, baik dalam gotong royong, baik dalam santun, baik dalam percaya diri, baik dalam ramah tamah, baik dalam ingin tahu"}]
[15,{"$f":"'Data '!D41","v":"GILANG SYAHRUL RAMADHAN"},{"$f":"'Obs 1'!M27","v":3},{"$f":"'Obs2'!M27","v":3},3,{"$f":"'N Diri-1'!X28","v":3},{"$f":"'N Diri-2'!X28","v":3},3,{"$f":"'AT-1'!AA28","v":3},{"$f":"'AT-2'!AA28","v":3},3,{"$f":"Jurnal!I28","v":3},3,"B","Tuntas",null,{"$f":"CONCATENATE(IF(M28=\"  \",\"  \",IF(M28>=$S$14,\"Kompetensi sikap rerata sangat baik.  \",IF(M28>=$S$15,\"Kompetensi sikap rerata baik.  \",IF(M28>=$S$16,\"Kompetensi sikat rerata cukup. \",\"Kompetensi sikap rerata kurang. \")))))&(Obs!AV27)","v":"Kompetensi sikap rerata baik.  Menunjukkan sikap baik dalam spiritual, baik dalam jujur, baik dalam disiplin, baik dalam tanggungjawab, baik dalam toleransi, baik dalam gotong royong, baik dalam santun, baik dalam percaya diri, baik dalam ramah tamah, baik dalam ingin tahu"}]
[16,{"$f":"'Data '!D42","v":"IMAM AGUNG WAHYU PRATAMA"},{"$f":"'Obs 1'!M28","v":3},{"$f":"'Obs2'!M28","v":3},3,{"$f":"'N Diri-1'!X29","v":3},{"$f":"'N Diri-2'!X29","v":3},3,{"$f":"'AT-1'!AA29","v":3},{"$f":"'AT-2'!AA29","v":3},3,{"$f":"Jurnal!I29","v":3},3,"B","Tuntas",null,{"$f":"CONCATENATE(IF(M29=\"  \",\"  \",IF(M29>=$S$14,\"Kompetensi sikap rerata sangat baik.  \",IF(M29>=$S$15,\"Kompetensi sikap rerata baik.  \",IF(M29>=$S$16,\"Kompetensi sikat rerata cukup. \",\"Kompetensi sikap rerata kurang. \")))))&(Obs!AV28)","v":"Kompetensi sikap rerata baik.  Menunjukkan sikap baik dalam spiritual, baik dalam jujur, baik dalam disiplin, baik dalam tanggungjawab, baik dalam toleransi, baik dalam gotong royong, baik dalam santun, baik dalam percaya diri, baik dalam ramah tamah, baik dalam ingin tahu"}]
[17,{"$f":"'Data '!D43","v":"JOHAN MAULANA"},{"$f":"'Obs 1'!M29","v":3},{"$f":"'Obs2'!M29","v":3},3,{"$f":"'N Diri-1'!X30","v":3},{"$f":"'N Diri-2'!X30","v":3},3,{"$f":"'AT-1'!AA30","v":3},{"$f":"'AT-2'!AA30","v":3},3,{"$f":"Jurnal!I30","v":3},3,"B","Tuntas",null,{"$f":"CONCATENATE(IF(M30=\"  \",\"  \",IF(M30>=$S$14,\"Kompetensi sikap rerata sangat baik.  \",IF(M30>=$S$15,\"Kompetensi sikap rerata baik.  \",IF(M30>=$S$16,\"Kompetensi sikat rerata cukup. \",\"Kompetensi sikap rerata kurang. \")))))&(Obs!AV29)","v":"Kompetensi sikap rerata baik.  Menunjukkan sikap baik dalam spiritual, baik dalam jujur, baik dalam disiplin, baik dalam tanggungjawab, baik dalam toleransi, baik dalam gotong royong, baik dalam santun, baik dalam percaya diri, baik dalam ramah tamah, baik dalam ingin tahu"}]
[18,{"$f":"'Data '!D44","v":"JOKO SETIAWAN"},{"$f":"'Obs 1'!M30","v":3},{"$f":"'Obs2'!M30","v":3},3,{"$f":"'N Diri-1'!X31","v":3},{"$f":"'N Diri-2'!X31","v":3},3,{"$f":"'AT-1'!AA31","v":3},{"$f":"'AT-2'!AA31","v":3},3,{"$f":"Jurnal!I31","v":3},3,"B","Tuntas",null,{"$f":"CONCATENATE(IF(M31=\"  \",\"  \",IF(M31>=$S$14,\"Kompetensi sikap rerata sangat baik.  \",IF(M31>=$S$15,\"Kompetensi sikap rerata baik.  \",IF(M31>=$S$16,\"Kompetensi sikat rerata cukup. \",\"Kompetensi sikap rerata kurang. \")))))&(Obs!AV30)","v":"Kompetensi sikap rerata baik.  Menunjukkan sikap baik dalam spiritual, baik dalam jujur, baik dalam disiplin, baik dalam tanggungjawab, baik dalam toleransi, baik dalam gotong royong, baik dalam santun, baik dalam percaya diri, baik dalam ramah tamah, baik dalam ingin tahu"}]
[19,{"$f":"'Data '!D45","v":"LISA OKTAVINASARI"},{"$f":"'Obs 1'!M31","v":3},{"$f":"'Obs2'!M31","v":3},3,{"$f":"'N Diri-1'!X32","v":3},{"$f":"'N Diri-2'!X32","v":3},3,{"$f":"'AT-1'!AA32","v":3},{"$f":"'AT-2'!AA32","v":3},3,{"$f":"Jurnal!I32","v":3},3,"B","Tuntas",null,{"$f":"CONCATENATE(IF(M32=\"  \",\"  \",IF(M32>=$S$14,\"Kompetensi sikap rerata sangat baik.  \",IF(M32>=$S$15,\"Kompetensi sikap rerata baik.  \",IF(M32>=$S$16,\"Kompetensi sikat rerata cukup. \",\"Kompetensi sikap rerata kurang. \")))))&(Obs!AV31)","v":"Kompetensi sikap rerata baik.  Menunjukkan sikap baik dalam spiritual, baik dalam jujur, baik dalam disiplin, baik dalam tanggungjawab, baik dalam toleransi, baik dalam gotong royong, baik dalam santun, baik dalam percaya diri, baik dalam ramah tamah, baik dalam ingin tahu"}]
[20,{"$f":"'Data '!D46","v":"MARIA GILDA SIREGAR"},{"$f":"'Obs 1'!M32","v":3},{"$f":"'Obs2'!M32","v":3},3,{"$f":"'N Diri-1'!X33","v":3},{"$f":"'N Diri-2'!X33","v":3},3,{"$f":"'AT-1'!AA33","v":3},{"$f":"'AT-2'!AA33","v":3},3,{"$f":"Jurnal!I33","v":3},3,"B","Tuntas",null,{"$f":"CONCATENATE(IF(M33=\"  \",\"  \",IF(M33>=$S$14,\"Kompetensi sikap rerata sangat baik.  \",IF(M33>=$S$15,\"Kompetensi sikap rerata baik.  \",IF(M33>=$S$16,\"Kompetensi sikat rerata cukup. \",\"Kompetensi sikap rerata kurang. \")))))&(Obs!AV32)","v":"Kompetensi sikap rerata baik.  Menunjukkan sikap baik dalam spiritual, baik dalam jujur, baik dalam disiplin, baik dalam tanggungjawab, baik dalam toleransi, baik dalam gotong royong, baik dalam santun, baik dalam percaya diri, baik dalam ramah tamah, baik dalam ingin tahu"}]
[21,{"$f":"'Data '!D47","v":"MOHAMMAD NURKHOLISH"},{"$f":"'Obs 1'!M33","v":3},{"$f":"'Obs2'!M33","v":3},3,{"$f":"'N Diri-1'!X34","v":3},{"$f":"'N Diri-2'!X34","v":3},3,{"$f":"'AT-1'!AA34","v":3},{"$f":"'AT-2'!AA34","v":3},3,{"$f":"Jurnal!I34","v":3},3,"B","Tuntas",null,{"$f":"CONCATENATE(IF(M34=\"  \",\"  \",IF(M34>=$S$14,\"Kompetensi sikap rerata sangat baik.  \",IF(M34>=$S$15,\"Kompetensi sikap rerata baik.  \",IF(M34>=$S$16,\"Kompetensi sikat rerata cukup. \",\"Kompetensi sikap rerata kurang. \")))))&(Obs!AV33)","v":"Kompetensi sikap rerata baik.  Menunjukkan sikap baik dalam spiritual, baik dalam jujur, baik dalam disiplin, baik dalam tanggungjawab, baik dalam toleransi, baik dalam gotong royong, baik dalam santun, baik dalam percaya diri, baik dalam ramah tamah, baik dalam ingin tahu"}]
[22,{"$f":"'Data '!D48","v":"MUHAMAD FARIS ULIN NUHA"},{"$f":"'Obs 1'!M34","v":3},{"$f":"'Obs2'!M34","v":3},3,{"$f":"'N Diri-1'!X35","v":3},{"$f":"'N Diri-2'!X35","v":3},3,{"$f":"'AT-1'!AA35","v":3},{"$f":"'AT-2'!AA35","v":3},3,{"$f":"Jurnal!I35","v":3},3,"B","Tuntas",null,{"$f":"CONCATENATE(IF(M35=\"  \",\"  \",IF(M35>=$S$14,\"Kompetensi sikap rerata sangat baik.  \",IF(M35>=$S$15,\"Kompetensi sikap rerata baik.  \",IF(M35>=$S$16,\"Kompetensi sikat rerata cukup. \",\"Kompetensi sikap rerata kurang. \")))))&(Obs!AV34)","v":"Kompetensi sikap rerata baik.  Menunjukkan sikap baik dalam spiritual, baik dalam jujur, baik dalam disiplin, baik dalam tanggungjawab, baik dalam toleransi, baik dalam gotong royong, baik dalam santun, baik dalam percaya diri, baik dalam ramah tamah, baik dalam ingin tahu"}]
[23,{"$f":"'Data '!D49","v":"MUHAMMAD MUSTOFA"},{"$f":"'Obs 1'!M35","v":3},{"$f":"'Obs2'!M35","v":3},3,{"$f":"'N Diri-1'!X36","v":3},{"$f":"'N Diri-2'!X36","v":3},3,{"$f":"'AT-1'!AA36","v":3},{"$f":"'AT-2'!AA36","v":3},3,{"$f":"Jurnal!I36","v":3},3,"B","Tuntas",null,{"$f":"CONCATENATE(IF(M36=\"  \",\"  \",IF(M36>=$S$14,\"Kompetensi sikap rerata sangat baik.  \",IF(M36>=$S$15,\"Kompetensi sikap rerata baik.  \",IF(M36>=$S$16,\"Kompetensi sikat rerata cukup. \",\"Kompetensi sikap rerata kurang. \")))))&(Obs!AV35)","v":"Kompetensi sikap rerata baik.  Menunjukkan sikap baik dalam spiritual, baik dalam jujur, baik dalam disiplin, baik dalam tanggungjawab, baik dalam toleransi, baik dalam gotong royong, baik dalam santun, baik dalam percaya diri, baik dalam ramah tamah, baik dalam ingin tahu"}]
[24,{"$f":"'Data '!D50","v":"NANDA WINTYA PUTRI"},{"$f":"'Obs 1'!M36","v":3},{"$f":"'Obs2'!M36","v":3},3,{"$f":"'N Diri-1'!X37","v":3},{"$f":"'N Diri-2'!X37","v":3},3,{"$f":"'AT-1'!AA37","v":3},{"$f":"'AT-2'!AA37","v":3},3,{"$f":"Jurnal!I37","v":3},3,"B","Tuntas",null,{"$f":"CONCATENATE(IF(M37=\"  \",\"  \",IF(M37>=$S$14,\"Kompetensi sikap rerata sangat baik.  \",IF(M37>=$S$15,\"Kompetensi sikap rerata baik.  \",IF(M37>=$S$16,\"Kompetensi sikat rerata cukup. \",\"Kompetensi sikap rerata kurang. \")))))&(Obs!AV36)","v":"Kompetensi sikap rerata baik.  Menunjukkan sikap baik dalam spiritual, baik dalam jujur, baik dalam disiplin, baik dalam tanggungjawab, baik dalam toleransi, baik dalam gotong royong, baik dalam santun, baik dalam percaya diri, baik dalam ramah tamah, baik dalam ingin tahu"}]
[25,{"$f":"'Data '!D51","v":"NI'MA NOVA NUR FADHILAH"},{"$f":"'Obs 1'!M37","v":3},{"$f":"'Obs2'!M37","v":3},3,{"$f":"'N Diri-1'!X38","v":3},{"$f":"'N Diri-2'!X38","v":3},3,{"$f":"'AT-1'!AA38","v":3},{"$f":"'AT-2'!AA38","v":3},3,{"$f":"Jurnal!I38","v":3},3,"B","Tuntas",null,{"$f":"CONCATENATE(IF(M38=\"  \",\"  \",IF(M38>=$S$14,\"Kompetensi sikap rerata sangat baik.  \",IF(M38>=$S$15,\"Kompetensi sikap rerata baik.  \",IF(M38>=$S$16,\"Kompetensi sikat rerata cukup. \",\"Kompetensi sikap rerata kurang. \")))))&(Obs!AV37)","v":"Kompetensi sikap rerata baik.  Menunjukkan sikap baik dalam spiritual, baik dalam jujur, baik dalam disiplin, baik dalam tanggungjawab, baik dalam toleransi, baik dalam gotong royong, baik dalam santun, baik dalam percaya diri, baik dalam ramah tamah, baik dalam ingin tahu"}]
[26,{"$f":"'Data '!D52","v":"NITA ZUMROTUT TAQIYAH"},{"$f":"'Obs 1'!M38","v":3},{"$f":"'Obs2'!M38","v":3},3,{"$f":"'N Diri-1'!X39","v":3},{"$f":"'N Diri-2'!X39","v":3},3,{"$f":"'AT-1'!AA39","v":3},{"$f":"'AT-2'!AA39","v":3},3,{"$f":"Jurnal!I39","v":3},3,"B","Tuntas",null,{"$f":"CONCATENATE(IF(M39=\"  \",\"  \",IF(M39>=$S$14,\"Kompetensi sikap rerata sangat baik.  \",IF(M39>=$S$15,\"Kompetensi sikap rerata baik.  \",IF(M39>=$S$16,\"Kompetensi sikat rerata cukup. \",\"Kompetensi sikap rerata kurang. \")))))&(Obs!AV38)","v":"Kompetensi sikap rerata baik.  Menunjukkan sikap baik dalam spiritual, baik dalam jujur, baik dalam disiplin, baik dalam tanggungjawab, baik dalam toleransi, baik dalam gotong royong, baik dalam santun, baik dalam percaya diri, baik dalam ramah tamah, baik dalam ingin tahu"}]
[27,{"$f":"'Data '!D53","v":"RACHMAT SAPUTRA ANDRIANSYAH"},{"$f":"'Obs 1'!M39","v":3},{"$f":"'Obs2'!M39","v":3},3,{"$f":"'N Diri-1'!X40","v":3},{"$f":"'N Diri-2'!X40","v":3},3,{"$f":"'AT-1'!AA40","v":3},{"$f":"'AT-2'!AA40","v":3},3,{"$f":"Jurnal!I40","v":3},3,"B","Tuntas",null,{"$f":"CONCATENATE(IF(M40=\"  \",\"  \",IF(M40>=$S$14,\"Kompetensi sikap rerata sangat baik.  \",IF(M40>=$S$15,\"Kompetensi sikap rerata baik.  \",IF(M40>=$S$16,\"Kompetensi sikat rerata cukup. \",\"Kompetensi sikap rerata kurang. \")))))&(Obs!AV39)","v":"Kompetensi sikap rerata baik.  Menunjukkan sikap baik dalam spiritual, baik dalam jujur, baik dalam disiplin, baik dalam tanggungjawab, baik dalam toleransi, baik dalam gotong royong, baik dalam santun, baik dalam percaya diri, baik dalam ramah tamah, baik dalam ingin tahu"}]
[28,{"$f":"'Data '!D54","v":"RIZAL ANDRIYAN SAPUTRA"},{"$f":"'Obs 1'!M40","v":3},{"$f":"'Obs2'!M40","v":3},3,{"$f":"'N Diri-1'!X41","v":3},{"$f":"'N Diri-2'!X41","v":3},3,{"$f":"'AT-1'!AA41","v":3},{"$f":"'AT-2'!AA41","v":3},3,{"$f":"Jurnal!I41","v":3},3,"B","Tuntas",null,{"$f":"CONCATENATE(IF(M41=\"  \",\"  \",IF(M41>=$S$14,\"Kompetensi sikap rerata sangat baik.  \",IF(M41>=$S$15,\"Kompetensi sikap rerata baik.  \",IF(M41>=$S$16,\"Kompetensi sikat rerata cukup. \",\"Kompetensi sikap rerata kurang. \")))))&(Obs!AV40)","v":"Kompetensi sikap rerata baik.  Menunjukkan sikap baik dalam spiritual, baik dalam jujur, baik dalam disiplin, baik dalam tanggungjawab, baik dalam toleransi, baik dalam gotong royong, baik dalam santun, baik dalam percaya diri, baik dalam ramah tamah, baik dalam ingin tahu"}]
[29,{"$f":"'Data '!D55","v":"SAIFUL ANNAS"},{"$f":"'Obs 1'!M41","v":3},{"$f":"'Obs2'!M41","v":3},3,{"$f":"'N Diri-1'!X42","v":3},{"$f":"'N Diri-2'!X42","v":3},3,{"$f":"'AT-1'!AA42","v":3},{"$f":"'AT-2'!AA42","v":3},3,{"$f":"Jurnal!I42","v":3},3,"B","Tuntas",null,{"$f":"CONCATENATE(IF(M42=\"  \",\"  \",IF(M42>=$S$14,\"Kompetensi sikap rerata sangat baik.  \",IF(M42>=$S$15,\"Kompetensi sikap rerata baik.  \",IF(M42>=$S$16,\"Kompetensi sikat rerata cukup. \",\"Kompetensi sikap rerata kurang. \")))))&(Obs!AV41)","v":"Kompetensi sikap rerata baik.  Menunjukkan sikap baik dalam spiritual, baik dalam jujur, baik dalam disiplin, baik dalam tanggungjawab, baik dalam toleransi, baik dalam gotong royong, baik dalam santun, baik dalam percaya diri, baik dalam ramah tamah, baik dalam ingin tahu"}]
[30,{"$f":"'Data '!D56","v":"SELINA SEPTIANI"},{"$f":"'Obs 1'!M42","v":3},{"$f":"'Obs2'!M42","v":3},3,{"$f":"'N Diri-1'!X43","v":3},{"$f":"'N Diri-2'!X43","v":3},3,{"$f":"'AT-1'!AA43","v":3},{"$f":"'AT-2'!AA43","v":3},3,{"$f":"Jurnal!I43","v":3},3,"B","Tuntas",null,{"$f":"CONCATENATE(IF(M43=\"  \",\"  \",IF(M43>=$S$14,\"Kompetensi sikap rerata sangat baik.  \",IF(M43>=$S$15,\"Kompetensi sikap rerata baik.  \",IF(M43>=$S$16,\"Kompetensi sikat rerata cukup. \",\"Kompetensi sikap rerata kurang. \")))))&(Obs!AV42)","v":"Kompetensi sikap rerata baik.  Menunjukkan sikap baik dalam spiritual, baik dalam jujur, baik dalam disiplin, baik dalam tanggungjawab, baik dalam toleransi, baik dalam gotong royong, baik dalam santun, baik dalam percaya diri, baik dalam ramah tamah, baik dalam ingin tahu"}]
[31,{"$f":"'Data '!D57","v":"SHALSABILA  SHINTA NIRMALA"},{"$f":"'Obs 1'!M43","v":3},{"$f":"'Obs2'!M43","v":3},3,{"$f":"'N Diri-1'!X44","v":3},{"$f":"'N Diri-2'!X44","v":3},3,{"$f":"'AT-1'!AA44","v":3},{"$f":"'AT-2'!AA44","v":3},3,{"$f":"Jurnal!I44","v":3},3,"B","Tuntas",null,{"$f":"CONCATENATE(IF(M44=\"  \",\"  \",IF(M44>=$S$14,\"Kompetensi sikap rerata sangat baik.  \",IF(M44>=$S$15,\"Kompetensi sikap rerata baik.  \",IF(M44>=$S$16,\"Kompetensi sikat rerata cukup. \",\"Kompetensi sikap rerata kurang. \")))))&(Obs!AV43)","v":"Kompetensi sikap rerata baik.  Menunjukkan sikap baik dalam spiritual, baik dalam jujur, baik dalam disiplin, baik dalam tanggungjawab, baik dalam toleransi, baik dalam gotong royong, baik dalam santun, baik dalam percaya diri, baik dalam ramah tamah, baik dalam ingin tahu"}]
[32,{"$f":"'Data '!D58","v":"SITI CHOIRIATUS SA'ADAH"},{"$f":"'Obs 1'!M44","v":3},{"$f":"'Obs2'!M44","v":3},3,{"$f":"'N Diri-1'!X45","v":3},{"$f":"'N Diri-2'!X45","v":3},3,{"$f":"'AT-1'!AA45","v":3},{"$f":"'AT-2'!AA45","v":3},3,{"$f":"Jurnal!I45","v":3},3,"B","Tuntas",null,{"$f":"CONCATENATE(IF(M45=\"  \",\"  \",IF(M45>=$S$14,\"Kompetensi sikap rerata sangat baik.  \",IF(M45>=$S$15,\"Kompetensi sikap rerata baik.  \",IF(M45>=$S$16,\"Kompetensi sikat rerata cukup. \",\"Kompetensi sikap rerata kurang. \")))))&(Obs!AV44)","v":"Kompetensi sikap rerata baik.  Menunjukkan sikap baik dalam spiritual, baik dalam jujur, baik dalam disiplin, baik dalam tanggungjawab, baik dalam toleransi, baik dalam gotong royong, baik dalam santun, baik dalam percaya diri, baik dalam ramah tamah, baik dalam ingin tahu"}]
[33,{"$f":"'Data '!D59","v":"SITI NURFAN AZIZAH"},{"$f":"'Obs 1'!M45","v":3},{"$f":"'Obs2'!M45","v":3},3,{"$f":"'N Diri-1'!X46","v":3},{"$f":"'N Diri-2'!X46","v":3},3,{"$f":"'AT-1'!AA46","v":3},{"$f":"'AT-2'!AA46","v":3},3,{"$f":"Jurnal!I46","v":3},3,"B","Tuntas",null,{"$f":"CONCATENATE(IF(M46=\"  \",\"  \",IF(M46>=$S$14,\"Kompetensi sikap rerata sangat baik.  \",IF(M46>=$S$15,\"Kompetensi sikap rerata baik.  \",IF(M46>=$S$16,\"Kompetensi sikat rerata cukup. \",\"Kompetensi sikap rerata kurang. \")))))&(Obs!AV45)","v":"Kompetensi sikap rerata baik.  Menunjukkan sikap baik dalam spiritual, baik dalam jujur, baik dalam disiplin, baik dalam tanggungjawab, baik dalam toleransi, baik dalam gotong royong, baik dalam santun, baik dalam percaya diri, baik dalam ramah tamah, baik dalam ingin tahu"}]
[34,{"$f":"'Data '!D60","v":"SITI RAHAYU"},{"$f":"'Obs 1'!M46","v":3},{"$f":"'Obs2'!M46","v":3},3,{"$f":"'N Diri-1'!X47","v":3},{"$f":"'N Diri-2'!X47","v":3},3,{"$f":"'AT-1'!AA47","v":3},{"$f":"'AT-2'!AA47","v":3},3,{"$f":"Jurnal!I47","v":3},3,"B","Tuntas","halaman 2",{"$f":"CONCATENATE(IF(M47=\"  \",\"  \",IF(M47>=$S$14,\"Kompetensi sikap rerata sangat baik.  \",IF(M47>=$S$15,\"Kompetensi sikap rerata baik.  \",IF(M47>=$S$16,\"Kompetensi sikat rerata cukup. \",\"Kompetensi sikap rerata kurang. \")))))&(Obs!AV46)","v":"Kompetensi sikap rerata baik.  Menunjukkan sikap baik dalam spiritual, baik dalam jujur, baik dalam disiplin, baik dalam tanggungjawab, baik dalam toleransi, baik dalam gotong royong, baik dalam santun, baik dalam percaya diri, baik dalam ramah tamah, baik dalam ingin tahu"}]
[35,{"$f":"'Data '!D61","v":"STEVIANA PUSPITA SARI"},{"$f":"'Obs 1'!M47","v":3},{"$f":"'Obs2'!M47","v":3},3,{"$f":"'N Diri-1'!X48","v":3},{"$f":"'N Diri-2'!X48","v":3},3,{"$f":"'AT-1'!AA48","v":3},{"$f":"'AT-2'!AA48","v":3},3,{"$f":"Jurnal!I48","v":3},3,"B","Tuntas",null,{"$f":"CONCATENATE(IF(M48=\"  \",\"  \",IF(M48>=$S$14,\"Kompetensi sikap rerata sangat baik.  \",IF(M48>=$S$15,\"Kompetensi sikap rerata baik.  \",IF(M48>=$S$16,\"Kompetensi sikat rerata cukup. \",\"Kompetensi sikap rerata kurang. \")))))&(Obs!AV47)","v":"Kompetensi sikap rerata baik.  Menunjukkan sikap baik dalam spiritual, baik dalam jujur, baik dalam disiplin, baik dalam tanggungjawab, baik dalam toleransi, baik dalam gotong royong, baik dalam santun, baik dalam percaya diri, baik dalam ramah tamah, baik dalam ingin tahu"}]
[36,{"$f":"'Data '!D62","v":"TAN LINGGAR PRAMUDITA"},{"$f":"'Obs 1'!M48","v":3},{"$f":"'Obs2'!M48","v":3},3,{"$f":"'N Diri-1'!X49","v":3},{"$f":"'N Diri-2'!X49","v":3},3,{"$f":"'AT-1'!AA49","v":3},{"$f":"'AT-2'!AA49","v":3},3,{"$f":"Jurnal!I49","v":3},3,"B","Tuntas",null,{"$f":"CONCATENATE(IF(M49=\"  \",\"  \",IF(M49>=$S$14,\"Kompetensi sikap rerata sangat baik.  \",IF(M49>=$S$15,\"Kompetensi sikap rerata baik.  \",IF(M49>=$S$16,\"Kompetensi sikat rerata cukup. \",\"Kompetensi sikap rerata kurang. \")))))&(Obs!AV48)","v":"Kompetensi sikap rerata baik.  Menunjukkan sikap baik dalam spiritual, baik dalam jujur, baik dalam disiplin, baik dalam tanggungjawab, baik dalam toleransi, baik dalam gotong royong, baik dalam santun, baik dalam percaya diri, baik dalam ramah tamah, baik dalam ingin tahu"}]
[37,{"$f":"'Data '!D63","v":"TAUFIK NUR AZIZ DANUARTA"},{"$f":"'Obs 1'!M49","v":3},{"$f":"'Obs2'!M49","v":3},3,{"$f":"'N Diri-1'!X50","v":3},{"$f":"'N Diri-2'!X50","v":3},3,{"$f":"'AT-1'!AA50","v":3},{"$f":"'AT-2'!AA50","v":3},3,{"$f":"Jurnal!I50","v":3},3,"B","Tuntas",null,{"$f":"CONCATENATE(IF(M50=\"  \",\"  \",IF(M50>=$S$14,\"Kompetensi sikap rerata sangat baik.  \",IF(M50>=$S$15,\"Kompetensi sikap rerata baik.  \",IF(M50>=$S$16,\"Kompetensi sikat rerata cukup. \",\"Kompetensi sikap rerata kurang. \")))))&(Obs!AV49)","v":"Kompetensi sikap rerata baik.  Menunjukkan sikap baik dalam spiritual, baik dalam jujur, baik dalam disiplin, baik dalam tanggungjawab, baik dalam toleransi, baik dalam gotong royong, baik dalam santun, baik dalam percaya diri, baik dalam ramah tamah, baik dalam ingin tahu"}]
[38,{"$f":"'Data '!D64","v":"TIARA PUTRI AYUNINGTIAS"},{"$f":"'Obs 1'!M50","v":3},{"$f":"'Obs2'!M50","v":3},3,{"$f":"'N Diri-1'!X51","v":3},{"$f":"'N Diri-2'!X51","v":3},3,{"$f":"'AT-1'!AA51","v":3},{"$f":"'AT-2'!AA51","v":3},3,{"$f":"Jurnal!I51","v":3},3,"B","Tuntas",null,{"$f":"CONCATENATE(IF(M51=\"  \",\"  \",IF(M51>=$S$14,\"Kompetensi sikap rerata sangat baik.  \",IF(M51>=$S$15,\"Kompetensi sikap rerata baik.  \",IF(M51>=$S$16,\"Kompetensi sikat rerata cukup. \",\"Kompetensi sikap rerata kurang. \")))))&(Obs!AV50)","v":"Kompetensi sikap rerata baik.  Menunjukkan sikap baik dalam spiritual, baik dalam jujur, baik dalam disiplin, baik dalam tanggungjawab, baik dalam toleransi, baik dalam gotong royong, baik dalam santun, baik dalam percaya diri, baik dalam ramah tamah, baik dalam ingin tahu"}]
[39,{"$f":"'Data '!D65","v":"TITANIA GAYATRI PRIANJANI"},{"$f":"'Obs 1'!M51","v":3},{"$f":"'Obs2'!M51","v":3},3,{"$f":"'N Diri-1'!X52","v":3},{"$f":"'N Diri-2'!X52","v":3},3,{"$f":"'AT-1'!AA52","v":3},{"$f":"'AT-2'!AA52","v":3},3,{"$f":"Jurnal!I52","v":3},3,"B","Tuntas",null,{"$f":"CONCATENATE(IF(M52=\"  \",\"  \",IF(M52>=$S$14,\"Kompetensi sikap rerata sangat baik.  \",IF(M52>=$S$15,\"Kompetensi sikap rerata baik.  \",IF(M52>=$S$16,\"Kompetensi sikat rerata cukup. \",\"Kompetensi sikap rerata kurang. \")))))&(Obs!AV51)","v":"Kompetensi sikap rerata baik.  Menunjukkan sikap baik dalam spiritual, baik dalam jujur, baik dalam disiplin, baik dalam tanggungjawab, baik dalam toleransi, baik dalam gotong royong, baik dalam santun, baik dalam percaya diri, baik dalam ramah tamah, baik dalam ingin tahu"}]
[40,{"$f":"'Data '!D66","v":"ULFATUN NI'MAH"},{"$f":"'Obs 1'!M52","v":3},{"$f":"'Obs2'!M52","v":3},3,{"$f":"'N Diri-1'!X53","v":3},{"$f":"'N Diri-2'!X53","v":3},3,{"$f":"'AT-1'!AA53","v":3},{"$f":"'AT-2'!AA53","v":3},3,{"$f":"Jurnal!I53","v":3},3,"B","Tuntas",null,{"$f":"CONCATENATE(IF(M53=\"  \",\"  \",IF(M53>=$S$14,\"Kompetensi sikap rerata sangat baik.  \",IF(M53>=$S$15,\"Kompetensi sikap rerata baik.  \",IF(M53>=$S$16,\"Kompetensi sikat rerata cukup. \",\"Kompetensi sikap rerata kurang. \")))))&(Obs!AV52)","v":"Kompetensi sikap rerata baik.  Menunjukkan sikap baik dalam spiritual, baik dalam jujur, baik dalam disiplin, baik dalam tanggungjawab, baik dalam toleransi, baik dalam gotong royong, baik dalam santun, baik dalam percaya diri, baik dalam ramah tamah, baik dalam ingin tahu"}]
[41,{"$f":"'Data '!D67","v":0},{"$f":"'Obs 1'!M53","v":""},{"$f":"'Obs2'!M53","v":""},"",{"$f":"'N Diri-1'!X54","v":""},{"$f":"'N Diri-2'!X54","v":""},"",{"$f":"'AT-1'!AA54","v":""},{"$f":"'AT-2'!AA54","v":""},"",{"$f":"Jurnal!I54","v":""},"","SB",{"$f":"IF(M54=\"   \",\"   \",IF(M54>=$N$8,\"Tuntas\",\"Tidak Tuntas\"))","v":"Tuntas"},null,{"$f":"CONCATENATE(IF(M54=\"  \",\"  \",IF(M54>=$S$14,\"Kompetensi sikap rerata sangat baik.  \",IF(M54>=$S$15,\"Kompetensi sikap rerata baik.  \",IF(M54>=$S$16,\"Kompetensi sikat rerata cukup. \",\"Kompetensi sikap rerata kurang. \")))))&(Obs!AV53)","v":""}]
[42,{"$f":"'Data '!D68","v":0},{"$f":"'Obs 1'!M54","v":""},{"$f":"'Obs2'!M54","v":""},"",{"$f":"'N Diri-1'!X55","v":""},{"$f":"'N Diri-2'!X55","v":""},"",{"$f":"'AT-1'!AA55","v":""},{"$f":"'AT-2'!AA55","v":""},"",{"$f":"Jurnal!I55","v":""},"","SB","Tuntas",null,{"$f":"CONCATENATE(IF(M55=\"  \",\"  \",IF(M55>=$S$14,\"Kompetensi sikap rerata sangat baik.  \",IF(M55>=$S$15,\"Kompetensi sikap rerata baik.  \",IF(M55>=$S$16,\"Kompetensi sikat rerata cukup. \",\"Kompetensi sikap rerata kurang. \")))))&(Obs!AV54)","v":""}]
[43,{"$f":"'Data '!D69","v":0},{"$f":"'Obs 1'!M55","v":""},{"$f":"'Obs2'!M55","v":""},"",{"$f":"'N Diri-1'!X56","v":""},{"$f":"'N Diri-2'!X56","v":""},"",{"$f":"'AT-1'!AA56","v":""},{"$f":"'AT-2'!AA56","v":""},"",{"$f":"Jurnal!I56","v":""},"","SB","Tuntas",null,{"$f":"CONCATENATE(IF(M56=\"  \",\"  \",IF(M56>=$S$14,\"Kompetensi sikap rerata sangat baik.  \",IF(M56>=$S$15,\"Kompetensi sikap rerata baik.  \",IF(M56>=$S$16,\"Kompetensi sikat rerata cukup. \",\"Kompetensi sikap rerata kurang. \")))))&(Obs!AV55)","v":""}]
[44,{"$f":"'Data '!D70","v":0},{"$f":"'Obs 1'!M56","v":""},{"$f":"'Obs2'!M56","v":""},"",{"$f":"'N Diri-1'!X57","v":""},{"$f":"'N Diri-2'!X57","v":""},"",{"$f":"'AT-1'!AA57","v":""},{"$f":"'AT-2'!AA57","v":""},"",{"$f":"Jurnal!I57","v":""},"","SB","Tuntas",null,{"$f":"CONCATENATE(IF(M57=\"  \",\"  \",IF(M57>=$S$14,\"Kompetensi sikap rerata sangat baik.  \",IF(M57>=$S$15,\"Kompetensi sikap rerata baik.  \",IF(M57>=$S$16,\"Kompetensi sikat rerata cukup. \",\"Kompetensi sikap rerata kurang. \")))))&(Obs!AV56)","v":""}]
[45,{"$f":"'Data '!D71","v":0},{"$f":"'Obs 1'!M57","v":""},{"$f":"'Obs2'!M57","v":""},"",{"$f":"'N Diri-1'!X58","v":""},{"$f":"'N Diri-2'!X58","v":""},"",{"$f":"'AT-1'!AA58","v":""},{"$f":"'AT-2'!AA58","v":""},"",{"$f":"Jurnal!I58","v":""},"","SB","Tuntas",null,{"$f":"CONCATENATE(IF(M58=\"  \",\"  \",IF(M58>=$S$14,\"Kompetensi sikap rerata sangat baik.  \",IF(M58>=$S$15,\"Kompetensi sikap rerata baik.  \",IF(M58>=$S$16,\"Kompetensi sikat rerata cukup. \",\"Kompetensi sikap rerata kurang. \")))))&(Obs!AV57)","v":""}]
[46,{"$f":"'Data '!D72","v":0},{"$f":"'Obs 1'!M58","v":""},{"$f":"'Obs2'!M58","v":""},{"$f":"IFERROR(AVERAGE(C59:D59),\"   \")","v":""},{"$f":"'N Diri-1'!X59","v":""},{"$f":"'N Diri-2'!X59","v":""},{"$f":"IFERROR(AVERAGE(F59:G59),\"  \")","v":""},{"$f":"'AT-1'!AA59","v":""},{"$f":"'AT-2'!AA59","v":""},{"$f":"IFERROR(AVERAGE(I59:J59),\"  \")","v":""},{"$f":"Jurnal!I59","v":""},"","SB",{"$f":"IF(M59=\"   \",\"   \",IF(M59>=$N$8,\"Tuntas\",\"Tidak Tuntas\"))","v":"Tuntas"},null,{"$f":"CONCATENATE(IF(M59=\"  \",\"  \",IF(M59>=$S$14,\"Kompetensi sikap rerata sangat baik.  \",IF(M59>=$S$15,\"Kompetensi sikap rerata baik.  \",IF(M59>=$S$16,\"Kompetensi sikat rerata cukup. \",\"Kompetensi sikap rerata kurang. \")))))&(Obs!AV58)","v":""}]
[47,{"$f":"'Data '!D73","v":0},{"$f":"'Obs 1'!M59","v":""},{"$f":"'Obs2'!M59","v":""},"",{"$f":"'N Diri-1'!X60","v":""},{"$f":"'N Diri-2'!X60","v":""},"",{"$f":"'AT-1'!AA60","v":""},{"$f":"'AT-2'!AA60","v":""},"",{"$f":"Jurnal!I60","v":""},"","SB","Tuntas",null,{"$f":"CONCATENATE(IF(M60=\"  \",\"  \",IF(M60>=$S$14,\"Kompetensi sikap rerata sangat baik.  \",IF(M60>=$S$15,\"Kompetensi sikap rerata baik.  \",IF(M60>=$S$16,\"Kompetensi sikat rerata cukup. \",\"Kompetensi sikap rerata kurang. \")))))&(Obs!AV59)","v":""}]
[48,{"$f":"'Data '!D74","v":0},{"$f":"'Obs 1'!M60","v":""},{"$f":"'Obs2'!M60","v":""},"",{"$f":"'N Diri-1'!X61","v":""},{"$f":"'N Diri-2'!X61","v":""},"",{"$f":"'AT-1'!AA61","v":""},{"$f":"'AT-2'!AA61","v":""},"",{"$f":"Jurnal!I61","v":""},"","SB","Tuntas",null,{"$f":"CONCATENATE(IF(M61=\"  \",\"  \",IF(M61>=$S$14,\"Kompetensi sikap rerata sangat baik.  \",IF(M61>=$S$15,\"Kompetensi sikap rerata baik.  \",IF(M61>=$S$16,\"Kompetensi sikat rerata cukup. \",\"Kompetensi sikap rerata kurang. \")))))&(Obs!AV60)","v":""}]
[49,{"$f":"'Data '!D75","v":0},{"$f":"'Obs 1'!M61","v":""},{"$f":"'Obs2'!M61","v":""},"",{"$f":"'N Diri-1'!X62","v":""},{"$f":"'N Diri-2'!X62","v":""},"",{"$f":"'AT-1'!AA62","v":""},{"$f":"'AT-2'!AA62","v":""},"",{"$f":"Jurnal!I62","v":""},"","SB","Tuntas",null,{"$f":"CONCATENATE(IF(M62=\"  \",\"  \",IF(M62>=$S$14,\"Kompetensi sikap rerata sangat baik.  \",IF(M62>=$S$15,\"Kompetensi sikap rerata baik.  \",IF(M62>=$S$16,\"Kompetensi sikat rerata cukup. \",\"Kompetensi sikap rerata kurang. \")))))&(Obs!AV61)","v":""}]
[50,{"$f":"'Data '!D76","v":0},{"$f":"'Obs 1'!M62","v":""},{"$f":"'Obs2'!M62","v":""},"",{"$f":"'N Diri-1'!X63","v":""},{"$f":"'N Diri-2'!X63","v":""},"",{"$f":"'AT-1'!AA63","v":""},{"$f":"'AT-2'!AA63","v":""},"",{"$f":"Jurnal!I63","v":""},"","SB","Tuntas",null,{"$f":"CONCATENATE(IF(M63=\"  \",\"  \",IF(M63>=$S$14,\"Kompetensi sikap rerata sangat baik.  \",IF(M63>=$S$15,\"Kompetensi sikap rerata baik.  \",IF(M63>=$S$16,\"Kompetensi sikat rerata cukup. \",\"Kompetensi sikap rerata kurang. \")))))&(Obs!AV62)","v":""}]
[null,"Nilai Rata-rata",{"$f":"IFERROR(AVERAGE(C14:C63),\" \")","v":3},{"$f":"IFERROR(AVERAGE(D14:D63),\" \")","v":3},3,3,3,3,3,3,3,3,3]
[]
[null,"Mengetahui:",null,null,"CATATAN:",null,null,null,null,null,null,null,{"$f":"'Data '!D21","v":"Blora, 20 Desember 2014"}]
[null,{"$f":"\"Ka. \"&'Data '!D7","v":"Ka. SMP Negeri 6 Blora"},null,null,"- Nilai Observasi menggunakan skala 1 s/d 4",null,null,null,null,null,null,null,"Guru Mata Pelajaran"]
[null,null,null,null,"- Nilai Obs1 berasal dari sheet Observasi 1."]
[null,null,null,null,"- Nilai Obs2 berasal dari sheet Observasi 2."]
[]
[null,{"$f":"'Data '!D15","v":"Suparno, S.Pd.,M.Hum"},null,null,null,null,null,null,null,null,null,null,{"$f":"Home!E12","v":"Drs. Sarid Nugroho"}]
[null,{"$f":"'Data '!D16","v":"NIP. 19620712 198403 1 012"},null,null,null,null,null,null,null,null,null,null,{"$f":"Home!E14","v":"NIP. 19631223 198803 1 004"}]

{"sheet":"Rekap C","index":13,"n_rows":73,"n_cols":17,"rows_kept":73,"cut":false,"hidden":false,"merged":[[8,3,8,5],[8,11,8,12],[0,3,0,13],[1,3,1,13],[2,3,2,13],[3,3,5,13],[7,3,7,5],[18,16,22,16],[9,11,9,12],[11,0,12,0],[11,2,12,2],[11,3,11,6],[11,7,11,10],[11,11,11,13]]}
[null,null,null,{"$f":"UPPER('Data '!D10)","v":"PEMERINTAH KABUPATEN BLORA"}]
[null,null,null,{"$f":"UPPER('Data '!D6)","v":"DINAS PENDIDIKAN PEMUDA DAN OLAHRAGA"}]
[null,null,null,{"$f":"UPPER('Data '!D7)","v":"SMP NEGERI 6 BLORA"}]
[null,null,null,"DAFTAR  REKAP NILAI ASPEK PENGETAHUAN, KETRAMPILAN DAN SIKAP"]
[]
[]
[]
[null,null,"Mata Pelajaran :",{"$f":"Home!E16","v":"PJOK"},null,null,null,null,null,"Semester :",{"$f":"'Data '!D14","v":"Ganjil"}]
[null,null,"Kelas :",{"$f":"Home!E18","v":"VII-A"},null,null,null,null,null,"Tahun Pelajaran :",{"$f":"'Data '!D13","v":"2014/2015"},"Wali Kelas   :",null,{"$f":"'Data '!D17","v":"Mundari, S.Pd."}]
[]
[]
["No. ","NIS /","Nama","Pengetahuan",null,null,null,"Ketrampilan",null,null,null,"Sikap Sosial & Spiritual"]
[null,"NISN",null,"0-100","1-4","Huruf","Deskripsi","0-100","1-4","Huruf","Deskripsi","Angka","Huruf","Deskripsi"]
[1,{"$f":"'Data '!B27","v":9025},{"$f":"'Data '!D27","v":"AHMAD ALEK BRIYANSAPUTRA"},{"$f":"Pengetahuan!R21","v":77.5},{"$f":"Pengetahuan!S21","v":3.1},{"$f":"Pengetahuan!T21","v":"B"},{"$f":"Pengetahuan!AD21","v":"Kompetensi pengetahuan rerata baik. Menguasai Atletik, menguasai Senam. Menguasai Bola Volley, menguasai Sepak Bola"},{"$f":"Ketrampilan!O21","v":80},{"$f":"Ketrampilan!P21","v":3.2},{"$f":"Ketrampilan!Q21","v":"B+"},{"$f":"Ketrampilan!BA21","v":"Kompetensi ketrampilan rerata baik. Sudah trampil Atletik, sudah trampil Senam, sudah trampil Bola Volley, sudah trampil Sepak Bola"},{"$f":"Sikap!M14","v":3},{"$f":"Sikap!N14","v":"B"},{"$f":"Sikap!Q14","v":"Kompetensi sikap rerata baik.  Menunjukkan sikap baik dalam spiritual, baik dalam jujur, baik dalam disiplin, baik dalam tanggungjawab, baik dalam toleransi, baik dalam gotong royong, baik dalam santun, baik dalam percaya diri, baik dalam ramah tamah, baik dalam ingin tahu"}]
[2,{"$f":"'Data '!B28","v":9053},{"$f":"'Data '!D28","v":"AULIA AYU FATINA"},{"$f":"Pengetahuan!R22","v":77.5},{"$f":"Pengetahuan!S22","v":3.1},{"$f":"Pengetahuan!T22","v":"B"},{"$f":"Pengetahuan!AD22","v":"Kompetensi pengetahuan rerata baik. Menguasai Atletik, menguasai Senam. Menguasai Bola Volley, menguasai Sepak Bola"},{"$f":"Ketrampilan!O22","v":80},{"$f":"Ketrampilan!P22","v":3.2},{"$f":"Ketrampilan!Q22","v":"B+"},{"$f":"Ketrampilan!BA22","v":"Kompetensi ketrampilan rerata baik. Sudah trampil Atletik, sudah trampil Senam, sudah trampil Bola Volley, sudah trampil Sepak Bola"},{"$f":"Sikap!M15","v":3},{"$f":"Sikap!N15","v":"B"},{"$f":"Sikap!Q15","v":"Kompetensi sikap rerata baik.  Menunjukkan sikap baik dalam spiritual, baik dalam jujur, baik dalam disiplin, baik dalam tanggungjawab, baik dalam toleransi, baik dalam gotong royong, baik dalam santun, baik dalam percaya diri, baik dalam ramah tamah, baik dalam ingin tahu"}]
[3,{"$f":"'Data '!B29","v":9060},{"$f":"'Data '!D29","v":"BAGAS YULANDRA PUTRA"},{"$f":"Pengetahuan!R23","v":77.5},{"$f":"Pengetahuan!S23","v":3.1},{"$f":"Pengetahuan!T23","v":"B"},{"$f":"Pengetahuan!AD23","v":"Kompetensi pengetahuan rerata baik. Menguasai Atletik, menguasai Senam. Menguasai Bola Volley, menguasai Sepak Bola"},{"$f":"Ketrampilan!O23","v":80},{"$f":"Ketrampilan!P23","v":3.2},{"$f":"Ketrampilan!Q23","v":"B+"},{"$f":"Ketrampilan!BA23","v":"Kompetensi ketrampilan rerata baik. Sudah trampil Atletik, sudah trampil Senam, sudah trampil Bola Volley, sudah trampil Sepak Bola"},{"$f":"Sikap!M16","v":3},{"$f":"Sikap!N16","v":"B"},{"$f":"Sikap!Q16","v":"Kompetensi sikap rerata baik.  Menunjukkan sikap baik dalam spiritual, baik dalam jujur, baik dalam disiplin, baik dalam tanggungjawab, baik dalam toleransi, baik dalam gotong royong, baik dalam santun, baik dalam percaya diri, baik dalam ramah tamah, baik dalam ingin tahu"}]
[4,{"$f":"'Data '!B30","v":9068},{"$f":"'Data '!D30","v":"CYNTIA AGUSTINA"},{"$f":"Pengetahuan!R24","v":77.5},{"$f":"Pengetahuan!S24","v":3.1},{"$f":"Pengetahuan!T24","v":"B"},{"$f":"Pengetahuan!AD24","v":"Kompetensi pengetahuan rerata baik. Menguasai Atletik, menguasai Senam. Menguasai Bola Volley, menguasai Sepak Bola"},{"$f":"Ketrampilan!O24","v":80},{"$f":"Ketrampilan!P24","v":3.2},{"$f":"Ketrampilan!Q24","v":"B+"},{"$f":"Ketrampilan!BA24","v":"Kompetensi ketrampilan rerata baik. Sudah trampil Atletik, sudah trampil Senam, sudah trampil Bola Volley, sudah trampil Sepak Bola"},{"$f":"Sikap!M17","v":3},{"$f":"Sikap!N17","v":"B"},{"$f":"Sikap!Q17","v":"Kompetensi sikap rerata baik.  Menunjukkan sikap baik dalam spiritual, baik dalam jujur, baik dalam disiplin, baik dalam tanggungjawab, baik dalam toleransi, baik dalam gotong royong, baik dalam santun, baik dalam percaya diri, baik dalam ramah tamah, baik dalam ingin tahu"}]
[5,{"$f":"'Data '!B31","v":9069},{"$f":"'Data '!D31","v":"DAFFA KRISNA PRAMUDYA"},{"$f":"Pengetahuan!R25","v":77.5},{"$f":"Pengetahuan!S25","v":3.1},{"$f":"Pengetahuan!T25","v":"B"},{"$f":"Pengetahuan!AD25","v":"Kompetensi pengetahuan rerata baik. Menguasai Atletik, menguasai Senam. Menguasai Bola Volley, menguasai Sepak Bola"},{"$f":"Ketrampilan!O25","v":80},{"$f":"Ketrampilan!P25","v":3.2},{"$f":"Ketrampilan!Q25","v":"B+"},{"$f":"Ketrampilan!BA25","v":"Kompetensi ketrampilan rerata baik. Sudah trampil Atletik, sudah trampil Senam, sudah trampil Bola Volley, sudah trampil Sepak Bola"},{"$f":"Sikap!M18","v":3},{"$f":"Sikap!N18","v":"B"},{"$f":"Sikap!Q18","v":"Kompetensi sikap rerata baik.  Menunjukkan sikap baik dalam spiritual, baik dalam jujur, baik dalam disiplin, baik dalam tanggungjawab, baik dalam toleransi, baik dalam gotong royong, baik dalam santun, baik dalam percaya diri, baik dalam ramah tamah, baik dalam ingin tahu"},null,null,"PETUNJUK UNTUK MENCETAK/PRINT OUT"]
[6,{"$f":"'Data '!B32","v":9070},{"$f":"'Data '!D32","v":"DANINDRA RAFIF IRAWAN"},{"$f":"Pengetahuan!R26","v":77.5},{"$f":"Pengetahuan!S26","v":3.1},{"$f":"Pengetahuan!T26","v":"B"},{"$f":"Pengetahuan!AD26","v":"Kompetensi pengetahuan rerata baik. Menguasai Atletik, menguasai Senam. Menguasai Bola Volley, menguasai Sepak Bola"},{"$f":"Ketrampilan!O26","v":80},{"$f":"Ketrampilan!P26","v":3.2},{"$f":"Ketrampilan!Q26","v":"B+"},{"$f":"Ketrampilan!BA26","v":"Kompetensi ketrampilan rerata baik. Sudah trampil Atletik, sudah trampil Senam, sudah trampil Bola Volley, sudah trampil Sepak Bola"},{"$f":"Sikap!M19","v":3},{"$f":"Sikap!N19","v":"B"},{"$f":"Sikap!Q19","v":"Kompetensi sikap rerata baik.  Menunjukkan sikap baik dalam spiritual, baik dalam jujur, baik dalam disiplin, baik dalam tanggungjawab, baik dalam toleransi, baik dalam gotong royong, baik dalam santun, baik dalam percaya diri, baik dalam ramah tamah, baik dalam ingin tahu"},null,null,"Password pada sheet ini purnawanto. Gunakan untuk mengedit page setup halaman, dsb.\n\nJika ingin mengurangi jumlah baris (misal jumlah siswa hanya 30 orang), JANGAN MENGHAPUS BARIS. Blok baris, klik kanan, pilih HIDE. \n\nProtek kembali sheet untuk keamanan rumus dan link antar sheet. \nTERIMA KASIH"]
[7,{"$f":"'Data '!B33","v":9074},{"$f":"'Data '!D33","v":"DENI PRATAMA"},{"$f":"Pengetahuan!R27","v":77.5},{"$f":"Pengetahuan!S27","v":3.1},{"$f":"Pengetahuan!T27","v":"B"},{"$f":"Pengetahuan!AD27","v":"Kompetensi pengetahuan rerata baik. Menguasai Atletik, menguasai Senam. Menguasai Bola Volley, menguasai Sepak Bola"},{"$f":"Ketrampilan!O27","v":80},{"$f":"Ketrampilan!P27","v":3.2},{"$f":"Ketrampilan!Q27","v":"B+"},{"$f":"Ketrampilan!BA27","v":"Kompetensi ketrampilan rerata baik. Sudah trampil Atletik, sudah trampil Senam, sudah trampil Bola Volley, sudah trampil Sepak Bola"},{"$f":"Sikap!M20","v":3},{"$f":"Sikap!N20","v":"B"},{"$f":"Sikap!Q20","v":"Kompetensi sikap rerata baik.  Menunjukkan sikap baik dalam spiritual, baik dalam jujur, baik dalam disiplin, baik dalam tanggungjawab, baik dalam toleransi, baik dalam gotong royong, baik dalam santun, baik dalam percaya diri, baik dalam ramah tamah, baik dalam ingin tahu"}]
[8,{"$f":"'Data '!B34","v":9081},{"$f":"'Data '!D34","v":"DIKA SUKMA AGUSTIN"},{"$f":"Pengetahuan!R28","v":77.5},{"$f":"Pengetahuan!S28","v":3.1},{"$f":"Pengetahuan!T28","v":"B"},{"$f":"Pengetahuan!AD28","v":"Kompetensi pengetahuan rerata baik. Menguasai Atletik, menguasai Senam. Menguasai Bola Volley, menguasai Sepak Bola"},{"$f":"Ketrampilan!O28","v":80},{"$f":"Ketrampilan!P28","v":3.2},{"$f":"Ketrampilan!Q28","v":"B+"},{"$f":"Ketrampilan!BA28","v":"Kompetensi ketrampilan rerata baik. Sudah trampil Atletik, sudah trampil Senam, sudah trampil Bola Volley, sudah trampil Sepak Bola"},{"$f":"Sikap!M21","v":3},{"$f":"Sikap!N21","v":"B"},{"$f":"Sikap!Q21","v":"Kompetensi sikap rerata baik.  Menunjukkan sikap baik dalam spiritual, baik dalam jujur, baik dalam disiplin, baik dalam tanggungjawab, baik dalam toleransi, baik dalam gotong royong, baik dalam santun, baik dalam percaya diri, baik dalam ramah tamah, baik dalam ingin tahu"}]
[9,{"$f":"'Data '!B35","v":9087},{"$f":"'Data '!D35","v":"DIVA ADITYA"},{"$f":"Pengetahuan!R29","v":77.5},{"$f":"Pengetahuan!S29","v":3.1},{"$f":"Pengetahuan!T29","v":"B"},{"$f":"Pengetahuan!AD29","v":"Kompetensi pengetahuan rerata baik. Menguasai Atletik, menguasai Senam. Menguasai Bola Volley, menguasai Sepak Bola"},{"$f":"Ketrampilan!O29","v":80},{"$f":"Ketrampilan!P29","v":3.2},{"$f":"Ketrampilan!Q29","v":"B+"},{"$f":"Ketrampilan!BA29","v":"Kompetensi ketrampilan rerata baik. Sudah trampil Atletik, sudah trampil Senam, sudah trampil Bola Volley, sudah trampil Sepak Bola"},{"$f":"Sikap!M22","v":3},{"$f":"Sikap!N22","v":"B"},{"$f":"Sikap!Q22","v":"Kompetensi sikap rerata baik.  Menunjukkan sikap baik dalam spiritual, baik dalam jujur, baik dalam disiplin, baik dalam tanggungjawab, baik dalam toleransi, baik dalam gotong royong, baik dalam santun, baik dalam percaya diri, baik dalam ramah tamah, baik dalam ingin tahu"}]
[10,{"$f":"'Data '!B36","v":9098},{"$f":"'Data '!D36","v":"EKO PRASTYO"},{"$f":"Pengetahuan!R30","v":77.5},{"$f":"Pengetahuan!S30","v":3.1},{"$f":"Pengetahuan!T30","v":"B"},{"$f":"Pengetahuan!AD30","v":"Kompetensi pengetahuan rerata baik. Menguasai Atletik, menguasai Senam. Menguasai Bola Volley, menguasai Sepak Bola"},{"$f":"Ketrampilan!O30","v":80},{"$f":"Ketrampilan!P30","v":3.2},{"$f":"Ketrampilan!Q30","v":"B+"},{"$f":"Ketrampilan!BA30","v":"Kompetensi ketrampilan rerata baik. Sudah trampil Atletik, sudah trampil Senam, sudah trampil Bola Volley, sudah trampil Sepak Bola"},{"$f":"Sikap!M23","v":3},{"$f":"Sikap!N23","v":"B"},{"$f":"Sikap!Q23","v":"Kompetensi sikap rerata baik.  Menunjukkan sikap baik dalam spiritual, baik dalam jujur, baik dalam disiplin, baik dalam tanggungjawab, baik dalam toleransi, baik dalam gotong royong, baik dalam santun, baik dalam percaya diri, baik dalam ramah tamah, baik dalam ingin tahu"}]
[11,{"$f":"'Data '!B37","v":9107},{"$f":"'Data '!D37","v":"FAIQUR RIJAL HAMMAM"},{"$f":"Pengetahuan!R31","v":77.5},{"$f":"Pengetahuan!S31","v":3.1},{"$f":"Pengetahuan!T31","v":"B"},{"$f":"Pengetahuan!AD31","v":"Kompetensi pengetahuan rerata baik. Menguasai Atletik, menguasai Senam. Menguasai Bola Volley, menguasai Sepak Bola"},{"$f":"Ketrampilan!O31","v":80},{"$f":"Ketrampilan!P31","v":3.2},{"$f":"Ketrampilan!Q31","v":"B+"},{"$f":"Ketrampilan!BA31","v":"Kompetensi ketrampilan rerata baik. Sudah trampil Atletik, sudah trampil Senam, sudah trampil Bola Volley, sudah trampil Sepak Bola"},{"$f":"Sikap!M24","v":3},{"$f":"Sikap!N24","v":"B"},{"$f":"Sikap!Q24","v":"Kompetensi sikap rerata baik.  Menunjukkan sikap baik dalam spiritual, baik dalam jujur, baik dalam disiplin, baik dalam tanggungjawab, baik dalam toleransi, baik dalam gotong royong, baik dalam santun, baik dalam percaya diri, baik dalam ramah tamah, baik dalam ingin tahu"}]
[12,{"$f":"'Data '!B38","v":9114},{"$f":"'Data '!D38","v":"FATESAR SARI PRASETYO"},{"$f":"Pengetahuan!R32","v":77.5},{"$f":"Pengetahuan!S32","v":3.1},{"$f":"Pengetahuan!T32","v":"B"},{"$f":"Pengetahuan!AD32","v":"Kompetensi pengetahuan rerata baik. Menguasai Atletik, menguasai Senam. Menguasai Bola Volley, menguasai Sepak Bola"},{"$f":"Ketrampilan!O32","v":80},{"$f":"Ketrampilan!P32","v":3.2},{"$f":"Ketrampilan!Q32","v":"B+"},{"$f":"Ketrampilan!BA32","v":"Kompetensi ketrampilan rerata baik. Sudah trampil Atletik, sudah trampil Senam, sudah trampil Bola Volley, sudah trampil Sepak Bola"},{"$f":"Sikap!M25","v":3},{"$f":"Sikap!N25","v":"B"},{"$f":"Sikap!Q25","v":"Kompetensi sikap rerata baik.  Menunjukkan sikap baik dalam spiritual, baik dalam jujur, baik dalam disiplin, baik dalam tanggungjawab, baik dalam toleransi, baik dalam gotong royong, baik dalam santun, baik dalam percaya diri, baik dalam ramah tamah, baik dalam ingin tahu"}]
[13,{"$f":"'Data '!B39","v":9115},{"$f":"'Data '!D39","v":"FEBRI SULISTIYO"},{"$f":"Pengetahuan!R33","v":77.5},{"$f":"Pengetahuan!S33","v":3.1},{"$f":"Pengetahuan!T33","v":"B"},{"$f":"Pengetahuan!AD33","v":"Kompetensi pengetahuan rerata baik. Menguasai Atletik, menguasai Senam. Menguasai Bola Volley, menguasai Sepak Bola"},{"$f":"Ketrampilan!O33","v":80},{"$f":"Ketrampilan!P33","v":3.2},{"$f":"Ketrampilan!Q33","v":"B+"},{"$f":"Ketrampilan!BA33","v":"Kompetensi ketrampilan rerata baik. Sudah trampil Atletik, sudah trampil Senam, sudah trampil Bola Volley, sudah trampil Sepak Bola"},{"$f":"Sikap!M26","v":3},{"$f":"Sikap!N26","v":"B"},{"$f":"Sikap!Q26","v":"Kompetensi sikap rerata baik.  Menunjukkan sikap baik dalam spiritual, baik dalam jujur, baik dalam disiplin, baik dalam tanggungjawab, baik dalam toleransi, baik dalam gotong royong, baik dalam santun, baik dalam percaya diri, baik dalam ramah tamah, baik dalam ingin tahu"}]
[14,{"$f":"'Data '!B40","v":9119},{"$f":"'Data '!D40","v":"FIONA NANDA FETRIAN"},{"$f":"Pengetahuan!R34","v":77.5},{"$f":"Pengetahuan!S34","v":3.1},{"$f":"Pengetahuan!T34","v":"B"},{"$f":"Pengetahuan!AD34","v":"Kompetensi pengetahuan rerata baik. Menguasai Atletik, menguasai Senam. Menguasai Bola Volley, menguasai Sepak Bola"},{"$f":"Ketrampilan!O34","v":80},{"$f":"Ketrampilan!P34","v":3.2},{"$f":"Ketrampilan!Q34","v":"B+"},{"$f":"Ketrampilan!BA34","v":"Kompetensi ketrampilan rerata baik. Sudah trampil Atletik, sudah trampil Senam, sudah trampil Bola Volley, sudah trampil Sepak Bola"},{"$f":"Sikap!M27","v":3},{"$f":"Sikap!N27","v":"B"},{"$f":"Sikap!Q27","v":"Kompetensi sikap rerata baik.  Menunjukkan sikap baik dalam spiritual, baik dalam jujur, baik dalam disiplin, baik dalam tanggungjawab, baik dalam toleransi, baik dalam gotong royong, baik dalam santun, baik dalam percaya diri, baik dalam ramah tamah, baik dalam ingin tahu"}]
[15,{"$f":"'Data '!B41","v":9125},{"$f":"'Data '!D41","v":"GILANG SYAHRUL RAMADHAN"},{"$f":"Pengetahuan!R35","v":77.5},{"$f":"Pengetahuan!S35","v":3.1},{"$f":"Pengetahuan!T35","v":"B"},{"$f":"Pengetahuan!AD35","v":"Kompetensi pengetahuan rerata baik. Menguasai Atletik, menguasai Senam. Menguasai Bola Volley, menguasai Sepak Bola"},{"$f":"Ketrampilan!O35","v":80},{"$f":"Ketrampilan!P35","v":3.2},{"$f":"Ketrampilan!Q35","v":"B+"},{"$f":"Ketrampilan!BA35","v":"Kompetensi ketrampilan rerata baik. Sudah trampil Atletik, sudah trampil Senam, sudah trampil Bola Volley, sudah trampil Sepak Bola"},{"$f":"Sikap!M28","v":3},{"$f":"Sikap!N28","v":"B"},{"$f":"Sikap!Q28","v":"Kompetensi sikap rerata baik.  Menunjukkan sikap baik dalam spiritual, baik dalam jujur, baik dalam disiplin, baik dalam tanggungjawab, baik dalam toleransi, baik dalam gotong royong, baik dalam santun, baik dalam percaya diri, baik dalam ramah tamah, baik dalam ingin tahu"}]
[16,{"$f":"'Data '!B42","v":9136},{"$f":"'Data '!D42","v":"IMAM AGUNG WAHYU PRATAMA"},{"$f":"Pengetahuan!R36","v":77.5},{"$f":"Pengetahuan!S36","v":3.1},{"$f":"Pengetahuan!T36","v":"B"},{"$f":"Pengetahuan!AD36","v":"Kompetensi pengetahuan rerata baik. Menguasai Atletik, menguasai Senam. Menguasai Bola Volley, menguasai Sepak Bola"},{"$f":"Ketrampilan!O36","v":80},{"$f":"Ketrampilan!P36","v":3.2},{"$f":"Ketrampilan!Q36","v":"B+"},{"$f":"Ketrampilan!BA36","v":"Kompetensi ketrampilan rerata baik. Sudah trampil Atletik, sudah trampil Senam, sudah trampil Bola Volley, sudah trampil Sepak Bola"},{"$f":"Sikap!M29","v":3},{"$f":"Sikap!N29","v":"B"},{"$f":"Sikap!Q29","v":"Kompetensi sikap rerata baik.  Menunjukkan sikap baik dalam spiritual, baik dalam jujur, baik dalam disiplin, baik dalam tanggungjawab, baik dalam toleransi, baik dalam gotong royong, baik dalam santun, baik dalam percaya diri, baik dalam ramah tamah, baik dalam ingin tahu"}]
[17,{"$f":"'Data '!B43","v":9149},{"$f":"'Data '!D43","v":"JOHAN MAULANA"},{"$f":"Pengetahuan!R37","v":77.5},{"$f":"Pengetahuan!S37","v":3.1},{"$f":"Pengetahuan!T37","v":"B"},{"$f":"Pengetahuan!AD37","v":"Kompetensi pengetahuan rerata baik. Menguasai Atletik, menguasai Senam. Menguasai Bola Volley, menguasai Sepak Bola"},{"$f":"Ketrampilan!O37","v":80},{"$f":"Ketrampilan!P37","v":3.2},{"$f":"Ketrampilan!Q37","v":"B+"},{"$f":"Ketrampilan!BA37","v":"Kompetensi ketrampilan rerata baik. Sudah trampil Atletik, sudah trampil Senam, sudah trampil Bola Volley, sudah trampil Sepak Bola"},{"$f":"Sikap!M30","v":3},{"$f":"Sikap!N30","v":"B"},{"$f":"Sikap!Q30","v":"Kompetensi sikap rerata baik.  Menunjukkan sikap baik dalam spiritual, baik dalam jujur, baik dalam disiplin, baik dalam tanggungjawab, baik dalam toleransi, baik dalam gotong royong, baik dalam santun, baik dalam percaya diri, baik dalam ramah tamah, baik dalam ingin tahu"}]
[18,{"$f":"'Data '!B44","v":9150},{"$f":"'Data '!D44","v":"JOKO SETIAWAN"},{"$f":"Pengetahuan!R38","v":77.5},{"$f":"Pengetahuan!S38","v":3.1},{"$f":"Pengetahuan!T38","v":"B"},{"$f":"Pengetahuan!AD38","v":"Kompetensi pengetahuan rerata baik. Menguasai Atletik, menguasai Senam. Menguasai Bola Volley, menguasai Sepak Bola"},{"$f":"Ketrampilan!O38","v":80},{"$f":"Ketrampilan!P38","v":3.2},{"$f":"Ketrampilan!Q38","v":"B+"},{"$f":"Ketrampilan!BA38","v":"Kompetensi ketrampilan rerata baik. Sudah trampil Atletik, sudah trampil Senam, sudah trampil Bola Volley, sudah trampil Sepak Bola"},{"$f":"Sikap!M31","v":3},{"$f":"Sikap!N31","v":"B"},{"$f":"Sikap!Q31","v":"Kompetensi sikap rerata baik.  Menunjukkan sikap baik dalam spiritual, baik dalam jujur, baik dalam disiplin, baik dalam tanggungjawab, baik dalam toleransi, baik dalam gotong royong, baik dalam santun, baik dalam percaya diri, baik dalam ramah tamah, baik dalam ingin tahu"},null,null,"halaman 2"]
[19,{"$f":"'Data '!B45","v":9159},{"$f":"'Data '!D45","v":"LISA OKTAVINASARI"},{"$f":"Pengetahuan!R39","v":77.5},{"$f":"Pengetahuan!S39","v":3.1},{"$f":"Pengetahuan!T39","v":"B"},{"$f":"Pengetahuan!AD39","v":"Kompetensi pengetahuan rerata baik. Menguasai Atletik, menguasai Senam. Menguasai Bola Volley, menguasai Sepak Bola"},{"$f":"Ketrampilan!O39","v":80},{"$f":"Ketrampilan!P39","v":3.2},{"$f":"Ketrampilan!Q39","v":"B+"},{"$f":"Ketrampilan!BA39","v":"Kompetensi ketrampilan rerata baik. Sudah trampil Atletik, sudah trampil Senam, sudah trampil Bola Volley, sudah trampil Sepak Bola"},{"$f":"Sikap!M32","v":3},{"$f":"Sikap!N32","v":"B"},{"$f":"Sikap!Q32","v":"Kompetensi sikap rerata baik.  Menunjukkan sikap baik dalam spiritual, baik dalam jujur, baik dalam disiplin, baik dalam tanggungjawab, baik dalam toleransi, baik dalam gotong royong, baik dalam santun, baik dalam percaya diri, baik dalam ramah tamah, baik dalam ingin tahu"}]
[20,{"$f":"'Data '!B46","v":9163},{"$f":"'Data '!D46","v":"MARIA GILDA SIREGAR"},{"$f":"Pengetahuan!R40","v":77.5},{"$f":"Pengetahuan!S40","v":3.1},{"$f":"Pengetahuan!T40","v":"B"},{"$f":"Pengetahuan!AD40","v":"Kompetensi pengetahuan rerata baik. Menguasai Atletik, menguasai Senam. Menguasai Bola Volley, menguasai Sepak Bola"},{"$f":"Ketrampilan!O40","v":80},{"$f":"Ketrampilan!P40","v":3.2},{"$f":"Ketrampilan!Q40","v":"B+"},{"$f":"Ketrampilan!BA40","v":"Kompetensi ketrampilan rerata baik. Sudah trampil Atletik, sudah trampil Senam, sudah trampil Bola Volley, sudah trampil Sepak Bola"},{"$f":"Sikap!M33","v":3},{"$f":"Sikap!N33","v":"B"},{"$f":"Sikap!Q33","v":"Kompetensi sikap rerata baik.  Menunjukkan sikap baik dalam spiritual, baik dalam jujur, baik dalam disiplin, baik dalam tanggungjawab, baik dalam toleransi, baik dalam gotong royong, baik dalam santun, baik dalam percaya diri, baik dalam ramah tamah, baik dalam ingin tahu"}]
[21,{"$f":"'Data '!B47","v":9178},{"$f":"'Data '!D47","v":"MOHAMMAD NURKHOLISH"},{"$f":"Pengetahuan!R41","v":77.5},{"$f":"Pengetahuan!S41","v":3.1},{"$f":"Pengetahuan!T41","v":"B"},{"$f":"Pengetahuan!AD41","v":"Kompetensi pengetahuan rerata baik. Menguasai Atletik, menguasai Senam. Menguasai Bola Volley, menguasai Sepak Bola"},{"$f":"Ketrampilan!O41","v":80},{"$f":"Ketrampilan!P41","v":3.2},{"$f":"Ketrampilan!Q41","v":"B+"},{"$f":"Ketrampilan!BA41","v":"Kompetensi ketrampilan rerata baik. Sudah trampil Atletik, sudah trampil Senam, sudah trampil Bola Volley, sudah trampil Sepak Bola"},{"$f":"Sikap!M34","v":3},{"$f":"Sikap!N34","v":"B"},{"$f":"Sikap!Q34","v":"Kompetensi sikap rerata baik.  Menunjukkan sikap baik dalam spiritual, baik dalam jujur, baik dalam disiplin, baik dalam tanggungjawab, baik dalam toleransi, baik dalam gotong royong, baik dalam santun, baik dalam percaya diri, baik dalam ramah tamah, baik dalam ingin tahu"}]
[22,{"$f":"'Data '!B48","v":9185},{"$f":"'Data '!D48","v":"MUHAMAD FARIS ULIN NUHA"},{"$f":"Pengetahuan!R42","v":77.5},{"$f":"Pengetahuan!S42","v":3.1},{"$f":"Pengetahuan!T42","v":"B"},{"$f":"Pengetahuan!AD42","v":"Kompetensi pengetahuan rerata baik. Menguasai Atletik, menguasai Senam. Menguasai Bola Volley, menguasai Sepak Bola"},{"$f":"Ketrampilan!O42","v":80},{"$f":"Ketrampilan!P42","v":3.2},{"$f":"Ketrampilan!Q42","v":"B+"},{"$f":"Ketrampilan!BA42","v":"Kompetensi ketrampilan rerata baik. Sudah trampil Atletik, sudah trampil Senam, sudah trampil Bola Volley, sudah trampil Sepak Bola"},{"$f":"Sikap!M35","v":3},{"$f":"Sikap!N35","v":"B"},{"$f":"Sikap!Q35","v":"Kompetensi sikap rerata baik.  Menunjukkan sikap baik dalam spiritual, baik dalam jujur, baik dalam disiplin, baik dalam tanggungjawab, baik dalam toleransi, baik dalam gotong royong, baik dalam santun, baik dalam percaya diri, baik dalam ramah tamah, baik dalam ingin tahu"}]
[23,{"$f":"'Data '!B49","v":9322},{"$f":"'Data '!D49","v":"MUHAMMAD MUSTOFA"},{"$f":"Pengetahuan!R43","v":77.5},{"$f":"Pengetahuan!S43","v":3.1},{"$f":"Pengetahuan!T43","v":"B"},{"$f":"Pengetahuan!AD43","v":"Kompetensi pengetahuan rerata baik. Menguasai Atletik, menguasai Senam. Menguasai Bola Volley, menguasai Sepak Bola"},{"$f":"Ketrampilan!O43","v":80},{"$f":"Ketrampilan!P43","v":3.2},{"$f":"Ketrampilan!Q43","v":"B+"},{"$f":"Ketrampilan!BA43","v":"Kompetensi ketrampilan rerata baik. Sudah trampil Atletik, sudah trampil Senam, sudah trampil Bola Volley, sudah trampil Sepak Bola"},{"$f":"Sikap!M36","v":3},{"$f":"Sikap!N36","v":"B"},{"$f":"Sikap!Q36","v":"Kompetensi sikap rerata baik.  Menunjukkan sikap baik dalam spiritual, baik dalam jujur, baik dalam disiplin, baik dalam tanggungjawab, baik dalam toleransi, baik dalam gotong royong, baik dalam santun, baik dalam percaya diri, baik dalam ramah tamah, baik dalam ingin tahu"}]
[24,{"$f":"'Data '!B50","v":9204},{"$f":"'Data '!D50","v":"NANDA WINTYA PUTRI"},{"$f":"Pengetahuan!R44","v":77.5},{"$f":"Pengetahuan!S44","v":3.1},{"$f":"Pengetahuan!T44","v":"B"},{"$f":"Pengetahuan!AD44","v":"Kompetensi pengetahuan rerata baik. Menguasai Atletik, menguasai Senam. Menguasai Bola Volley, menguasai Sepak Bola"},{"$f":"Ketrampilan!O44","v":80},{"$f":"Ketrampilan!P44","v":3.2},{"$f":"Ketrampilan!Q44","v":"B+"},{"$f":"Ketrampilan!BA44","v":"Kompetensi ketrampilan rerata baik. Sudah trampil Atletik, sudah trampil Senam, sudah trampil Bola Volley, sudah trampil Sepak Bola"},{"$f":"Sikap!M37","v":3},{"$f":"Sikap!N37","v":"B"},{"$f":"Sikap!Q37","v":"Kompetensi sikap rerata baik.  Menunjukkan sikap baik dalam spiritual, baik dalam jujur, baik dalam disiplin, baik dalam tanggungjawab, baik dalam toleransi, baik dalam gotong royong, baik dalam santun, baik dalam percaya diri, baik dalam ramah tamah, baik dalam ingin tahu"}]
[25,{"$f":"'Data '!B51","v":9210},{"$f":"'Data '!D51","v":"NI'MA NOVA NUR FADHILAH"},{"$f":"Pengetahuan!R45","v":77.5},{"$f":"Pengetahuan!S45","v":3.1},{"$f":"Pengetahuan!T45","v":"B"},{"$f":"Pengetahuan!AD45","v":"Kompetensi pengetahuan rerata baik. Menguasai Atletik, menguasai Senam. Menguasai Bola Volley, menguasai Sepak Bola"},{"$f":"Ketrampilan!O45","v":80},{"$f":"Ketrampilan!P45","v":3.2},{"$f":"Ketrampilan!Q45","v":"B+"},{"$f":"Ketrampilan!BA45","v":"Kompetensi ketrampilan rerata baik. Sudah trampil Atletik, sudah trampil Senam, sudah trampil Bola Volley, sudah trampil Sepak Bola"},{"$f":"Sikap!M38","v":3},{"$f":"Sikap!N38","v":"B"},{"$f":"Sikap!Q38","v":"Kompetensi sikap rerata baik.  Menunjukkan sikap baik dalam spiritual, baik dalam jujur, baik dalam disiplin, baik dalam tanggungjawab, baik dalam toleransi, baik dalam gotong royong, baik dalam santun, baik dalam percaya diri, baik dalam ramah tamah, baik dalam ingin tahu"}]
[26,{"$f":"'Data '!B52","v":9212},{"$f":"'Data '!D52","v":"NITA ZUMROTUT TAQIYAH"},{"$f":"Pengetahuan!R46","v":77.5},{"$f":"Pengetahuan!S46","v":3.1},{"$f":"Pengetahuan!T46","v":"B"},{"$f":"Pengetahuan!AD46","v":"Kompetensi pengetahuan rerata baik. Menguasai Atletik, menguasai Senam. Menguasai Bola Volley, menguasai Sepak Bola"},{"$f":"Ketrampilan!O46","v":80},{"$f":"Ketrampilan!P46","v":3.2},{"$f":"Ketrampilan!Q46","v":"B+"},{"$f":"Ketrampilan!BA46","v":"Kompetensi ketrampilan rerata baik. Sudah trampil Atletik, sudah trampil Senam, sudah trampil Bola Volley, sudah trampil Sepak Bola"},{"$f":"Sikap!M39","v":3},{"$f":"Sikap!N39","v":"B"},{"$f":"Sikap!Q39","v":"Kompetensi sikap rerata baik.  Menunjukkan sikap baik dalam spiritual, baik dalam jujur, baik dalam disiplin, baik dalam tanggungjawab, baik dalam toleransi, baik dalam gotong royong, baik dalam santun, baik dalam percaya diri, baik dalam ramah tamah, baik dalam ingin tahu"}]
[27,{"$f":"'Data '!B53","v":9234},{"$f":"'Data '!D53","v":"RACHMAT SAPUTRA ANDRIANSYAH"},{"$f":"Pengetahuan!R47","v":77.5},{"$f":"Pengetahuan!S47","v":3.1},{"$f":"Pengetahuan!T47","v":"B"},{"$f":"Pengetahuan!AD47","v":"Kompetensi pengetahuan rerata baik. Menguasai Atletik, menguasai Senam. Menguasai Bola Volley, menguasai Sepak Bola"},{"$f":"Ketrampilan!O47","v":80},{"$f":"Ketrampilan!P47","v":3.2},{"$f":"Ketrampilan!Q47","v":"B+"},{"$f":"Ketrampilan!BA47","v":"Kompetensi ketrampilan rerata baik. Sudah trampil Atletik, sudah trampil Senam, sudah trampil Bola Volley, sudah trampil Sepak Bola"},{"$f":"Sikap!M40","v":3},{"$f":"Sikap!N40","v":"B"},{"$f":"Sikap!Q40","v":"Kompetensi sikap rerata baik.  Menunjukkan sikap baik dalam spiritual, baik dalam jujur, baik dalam disiplin, baik dalam tanggungjawab, baik dalam toleransi, baik dalam gotong royong, baik dalam santun, baik dalam percaya diri, baik dalam ramah tamah, baik dalam ingin tahu"}]
[28,{"$f":"'Data '!B54","v":9255},{"$f":"'Data '!D54","v":"RIZAL ANDRIYAN SAPUTRA"},{"$f":"Pengetahuan!R48","v":77.5},{"$f":"Pengetahuan!S48","v":3.1},{"$f":"Pengetahuan!T48","v":"B"},{"$f":"Pengetahuan!AD48","v":"Kompetensi pengetahuan rerata baik. Menguasai Atletik, menguasai Senam. Menguasai Bola Volley, menguasai Sepak Bola"},{"$f":"Ketrampilan!O48","v":80},{"$f":"Ketrampilan!P48","v":3.2},{"$f":"Ketrampilan!Q48","v":"B+"},{"$f":"Ketrampilan!BA48","v":"Kompetensi ketrampilan rerata baik. Sudah trampil Atletik, sudah trampil Senam, sudah trampil Bola Volley, sudah trampil Sepak Bola"},{"$f":"Sikap!M41","v":3},{"$f":"Sikap!N41","v":"B"},{"$f":"Sikap!Q41","v":"Kompetensi sikap rerata baik.  Menunjukkan sikap baik dalam spiritual, baik dalam jujur, baik dalam disiplin, baik dalam tanggungjawab, baik dalam toleransi, baik dalam gotong royong, baik dalam santun, baik dalam percaya diri, baik dalam ramah tamah, baik dalam ingin tahu"}]
[29,{"$f":"'Data '!B55","v":9265},{"$f":"'Data '!D55","v":"SAIFUL ANNAS"},{"$f":"Pengetahuan!R49","v":77.5},{"$f":"Pengetahuan!S49","v":3.1},{"$f":"Pengetahuan!T49","v":"B"},{"$f":"Pengetahuan!AD49","v":"Kompetensi pengetahuan rerata baik. Menguasai Atletik, menguasai Senam. Menguasai Bola Volley, menguasai Sepak Bola"},{"$f":"Ketrampilan!O49","v":80},{"$f":"Ketrampilan!P49","v":3.2},{"$f":"Ketrampilan!Q49","v":"B+"},{"$f":"Ketrampilan!BA49","v":"Kompetensi ketrampilan rerata baik. Sudah trampil Atletik, sudah trampil Senam, sudah trampil Bola Volley, sudah trampil Sepak Bola"},{"$f":"Sikap!M42","v":3},{"$f":"Sikap!N42","v":"B"},{"$f":"Sikap!Q42","v":"Kompetensi sikap rerata baik.  Menunjukkan sikap baik dalam spiritual, baik dalam jujur, baik dalam disiplin, baik dalam tanggungjawab, baik dalam toleransi, baik dalam gotong royong, baik dalam santun, baik dalam percaya diri, baik dalam ramah tamah, baik dalam ingin tahu"}]
[30,{"$f":"'Data '!B56","v":9270},{"$f":"'Data '!D56","v":"SELINA SEPTIANI"},{"$f":"Pengetahuan!R50","v":77.5},{"$f":"Pengetahuan!S50","v":3.1},{"$f":"Pengetahuan!T50","v":"B"},{"$f":"Pengetahuan!AD50","v":"Kompetensi pengetahuan rerata baik. Menguasai Atletik, menguasai Senam. Menguasai Bola Volley, menguasai Sepak Bola"},{"$f":"Ketrampilan!O50","v":80},{"$f":"Ketrampilan!P50","v":3.2},{"$f":"Ketrampilan!Q50","v":"B+"},{"$f":"Ketrampilan!BA50","v":"Kompetensi ketrampilan rerata baik. Sudah trampil Atletik, sudah trampil Senam, sudah trampil Bola Volley, sudah trampil Sepak Bola"},{"$f":"Sikap!M43","v":3},{"$f":"Sikap!N43","v":"B"},{"$f":"Sikap!Q43","v":"Kompetensi sikap rerata baik.  Menunjukkan sikap baik dalam spiritual, baik dalam jujur, baik dalam disiplin, baik dalam tanggungjawab, baik dalam toleransi, baik dalam gotong royong, baik dalam santun, baik dalam percaya diri, baik dalam ramah tamah, baik dalam ingin tahu"}]
[31,{"$f":"'Data '!B57","v":9275},{"$f":"'Data '!D57","v":"SHALSABILA  SHINTA NIRMALA"},{"$f":"Pengetahuan!R51","v":77.5},{"$f":"Pengetahuan!S51","v":3.1},{"$f":"Pengetahuan!T51","v":"B"},{"$f":"Pengetahuan!AD51","v":"Kompetensi pengetahuan rerata baik. Menguasai Atletik, menguasai Senam. Menguasai Bola Volley, menguasai Sepak Bola"},{"$f":"Ketrampilan!O51","v":80},{"$f":"Ketrampilan!P51","v":3.2},{"$f":"Ketrampilan!Q51","v":"B+"},{"$f":"Ketrampilan!BA51","v":"Kompetensi ketrampilan rerata baik. Sudah trampil Atletik, sudah trampil Senam, sudah trampil Bola Volley, sudah trampil Sepak Bola"},{"$f":"Sikap!M44","v":3},{"$f":"Sikap!N44","v":"B"},{"$f":"Sikap!Q44","v":"Kompetensi sikap rerata baik.  Menunjukkan sikap baik dalam spiritual, baik dalam jujur, baik dalam disiplin, baik dalam tanggungjawab, baik dalam toleransi, baik dalam gotong royong, baik dalam santun, baik dalam percaya diri, baik dalam ramah tamah, baik dalam ingin tahu"}]
[32,{"$f":"'Data '!B58","v":9281},{"$f":"'Data '!D58","v":"SITI CHOIRIATUS SA'ADAH"},{"$f":"Pengetahuan!R52","v":77.5},{"$f":"Pengetahuan!S52","v":3.1},{"$f":"Pengetahuan!T52","v":"B"},{"$f":"Pengetahuan!AD52","v":"Kompetensi pengetahuan rerata baik. Menguasai Atletik, menguasai Senam. Menguasai Bola Volley, menguasai Sepak Bola"},{"$f":"Ketrampilan!O52","v":80},{"$f":"Ketrampilan!P52","v":3.2},{"$f":"Ketrampilan!Q52","v":"B+"},{"$f":"Ketrampilan!BA52","v":"Kompetensi ketrampilan rerata baik. Sudah trampil Atletik, sudah trampil Senam, sudah trampil Bola Volley, sudah trampil Sepak Bola"},{"$f":"Sikap!M45","v":3},{"$f":"Sikap!N45","v":"B"},{"$f":"Sikap!Q45","v":"Kompetensi sikap rerata baik.  Menunjukkan sikap baik dalam spiritual, baik dalam jujur, baik dalam disiplin, baik dalam tanggungjawab, baik dalam toleransi, baik dalam gotong royong, baik dalam santun, baik dalam percaya diri, baik dalam ramah tamah, baik dalam ingin tahu"}]
[33,{"$f":"'Data '!B59","v":9284},{"$f":"'Data '!D59","v":"SITI NURFAN AZIZAH"},{"$f":"Pengetahuan!R53","v":77.5},{"$f":"Pengetahuan!S53","v":3.1},{"$f":"Pengetahuan!T53","v":"B"},{"$f":"Pengetahuan!AD53","v":"Kompetensi pengetahuan rerata baik. Menguasai Atletik, menguasai Senam. Menguasai Bola Volley, menguasai Sepak Bola"},{"$f":"Ketrampilan!O53","v":80},{"$f":"Ketrampilan!P53","v":3.2},{"$f":"Ketrampilan!Q53","v":"B+"},{"$f":"Ketrampilan!BA53","v":"Kompetensi ketrampilan rerata baik. Sudah trampil Atletik, sudah trampil Senam, sudah trampil Bola Volley, sudah trampil Sepak Bola"},{"$f":"Sikap!M46","v":3},{"$f":"Sikap!N46","v":"B"},{"$f":"Sikap!Q46","v":"Kompetensi sikap rerata baik.  Menunjukkan sikap baik dalam spiritual, baik dalam jujur, baik dalam disiplin, baik dalam tanggungjawab, baik dalam toleransi, baik dalam gotong royong, baik dalam santun, baik dalam percaya diri, baik dalam ramah tamah, baik dalam ingin tahu"}]
[34,{"$f":"'Data '!B60","v":9286},{"$f":"'Data '!D60","v":"SITI RAHAYU"},{"$f":"Pengetahuan!R54","v":77.5},{"$f":"Pengetahuan!S54","v":3.1},{"$f":"Pengetahuan!T54","v":"B"},{"$f":"Pengetahuan!AD54","v":"Kompetensi pengetahuan rerata baik. Menguasai Atletik, menguasai Senam. Menguasai Bola Volley, menguasai Sepak Bola"},{"$f":"Ketrampilan!O54","v":80},{"$f":"Ketrampilan!P54","v":3.2},{"$f":"Ketrampilan!Q54","v":"B+"},{"$f":"Ketrampilan!BA54","v":"Kompetensi ketrampilan rerata baik. Sudah trampil Atletik, sudah trampil Senam, sudah trampil Bola Volley, sudah trampil Sepak Bola"},{"$f":"Sikap!M47","v":3},{"$f":"Sikap!N47","v":"B"},{"$f":"Sikap!Q47","v":"Kompetensi sikap rerata baik.  Menunjukkan sikap baik dalam spiritual, baik dalam jujur, baik dalam disiplin, baik dalam tanggungjawab, baik dalam toleransi, baik dalam gotong royong, baik dalam santun, baik dalam percaya diri, baik dalam ramah tamah, baik dalam ingin tahu"}]
[35,{"$f":"'Data '!B61","v":9289},{"$f":"'Data '!D61","v":"STEVIANA PUSPITA SARI"},{"$f":"Pengetahuan!R55","v":77.5},{"$f":"Pengetahuan!S55","v":3.1},{"$f":"Pengetahuan!T55","v":"B"},{"$f":"Pengetahuan!AD55","v":"Kompetensi pengetahuan rerata baik. Menguasai Atletik, menguasai Senam. Menguasai Bola Volley, menguasai Sepak Bola"},{"$f":"Ketrampilan!O55","v":80},{"$f":"Ketrampilan!P55","v":3.2},{"$f":"Ketrampilan!Q55","v":"B+"},{"$f":"Ketrampilan!BA55","v":"Kompetensi ketrampilan rerata baik. Sudah trampil Atletik, sudah trampil Senam, sudah trampil Bola Volley, sudah trampil Sepak Bola"},{"$f":"Sikap!M48","v":3},{"$f":"Sikap!N48","v":"B"},{"$f":"Sikap!Q48","v":"Kompetensi sikap rerata baik.  Menunjukkan sikap baik dalam spiritual, baik dalam jujur, baik dalam disiplin, baik dalam tanggungjawab, baik dalam toleransi, baik dalam gotong royong, baik dalam santun, baik dalam percaya diri, baik dalam ramah tamah, baik dalam ingin tahu"}]
[36,{"$f":"'Data '!B62","v":9290},{"$f":"'Data '!D62","v":"TAN LINGGAR PRAMUDITA"},{"$f":"Pengetahuan!R56","v":77.5},{"$f":"Pengetahuan!S56","v":3.1},{"$f":"Pengetahuan!T56","v":"B"},{"$f":"Pengetahuan!AD56","v":"Kompetensi pengetahuan rerata baik. Menguasai Atletik, menguasai Senam. Menguasai Bola Volley, menguasai Sepak Bola"},{"$f":"Ketrampilan!O56","v":80},{"$f":"Ketrampilan!P56","v":3.2},{"$f":"Ketrampilan!Q56","v":"B+"},{"$f":"Ketrampilan!BA56","v":"Kompetensi ketrampilan rerata baik. Sudah trampil Atletik, sudah trampil Senam, sudah trampil Bola Volley, sudah trampil Sepak Bola"},{"$f":"Sikap!M49","v":3},{"$f":"Sikap!N49","v":"B"},{"$f":"Sikap!Q49","v":"Kompetensi sikap rerata baik.  Menunjukkan sikap baik dalam spiritual, baik dalam jujur, baik dalam disiplin, baik dalam tanggungjawab, baik dalam toleransi, baik dalam gotong royong, baik dalam santun, baik dalam percaya diri, baik dalam ramah tamah, baik dalam ingin tahu"}]
[37,{"$f":"'Data '!B63","v":9291},{"$f":"'Data '!D63","v":"TAUFIK NUR AZIZ DANUARTA"},{"$f":"Pengetahuan!R57","v":77.5},{"$f":"Pengetahuan!S57","v":3.1},{"$f":"Pengetahuan!T57","v":"B"},{"$f":"Pengetahuan!AD57","v":"Kompetensi pengetahuan rerata baik. Menguasai Atletik, menguasai Senam. Menguasai Bola Volley, menguasai Sepak Bola"},{"$f":"Ketrampilan!O57","v":80},{"$f":"Ketrampilan!P57","v":3.2},{"$f":"Ketrampilan!Q57","v":"B+"},{"$f":"Ketrampilan!BA57","v":"Kompetensi ketrampilan rerata baik. Sudah trampil Atletik, sudah trampil Senam, sudah trampil Bola Volley, sudah trampil Sepak Bola"},{"$f":"Sikap!M50","v":3},{"$f":"Sikap!N50","v":"B"},{"$f":"Sikap!Q50","v":"Kompetensi sikap rerata baik.  Menunjukkan sikap baik dalam spiritual, baik dalam jujur, baik dalam disiplin, baik dalam tanggungjawab, baik dalam toleransi, baik dalam gotong royong, baik dalam santun, baik dalam percaya diri, baik dalam ramah tamah, baik dalam ingin tahu"}]
[38,{"$f":"'Data '!B64","v":9293},{"$f":"'Data '!D64","v":"TIARA PUTRI AYUNINGTIAS"},{"$f":"Pengetahuan!R58","v":77.5},{"$f":"Pengetahuan!S58","v":3.1},{"$f":"Pengetahuan!T58","v":"B"},{"$f":"Pengetahuan!AD58","v":"Kompetensi pengetahuan rerata baik. Menguasai Atletik, menguasai Senam. Menguasai Bola Volley, menguasai Sepak Bola"},{"$f":"Ketrampilan!O58","v":80},{"$f":"Ketrampilan!P58","v":3.2},{"$f":"Ketrampilan!Q58","v":"B+"},{"$f":"Ketrampilan!BA58","v":"Kompetensi ketrampilan rerata baik. Sudah trampil Atletik, sudah trampil Senam, sudah trampil Bola Volley, sudah trampil Sepak Bola"},{"$f":"Sikap!M51","v":3},{"$f":"Sikap!N51","v":"B"},{"$f":"Sikap!Q51","v":"Kompetensi sikap rerata baik.  Menunjukkan sikap baik dalam spiritual, baik dalam jujur, baik dalam disiplin, baik dalam tanggungjawab, baik dalam toleransi, baik dalam gotong royong, baik dalam santun, baik dalam percaya diri, baik dalam ramah tamah, baik dalam ingin tahu"}]
[39,{"$f":"'Data '!B65","v":9294},{"$f":"'Data '!D65","v":"TITANIA GAYATRI PRIANJANI"},{"$f":"Pengetahuan!R59","v":77.5},{"$f":"Pengetahuan!S59","v":3.1},{"$f":"Pengetahuan!T59","v":"B"},{"$f":"Pengetahuan!AD59","v":"Kompetensi pengetahuan rerata baik. Menguasai Atletik, menguasai Senam. Menguasai Bola Volley, menguasai Sepak Bola"},{"$f":"Ketrampilan!O59","v":80},{"$f":"Ketrampilan!P59","v":3.2},{"$f":"Ketrampilan!Q59","v":"B+"},{"$f":"Ketrampilan!BA59","v":"Kompetensi ketrampilan rerata baik. Sudah trampil Atletik, sudah trampil Senam, sudah trampil Bola Volley, sudah trampil Sepak Bola"},{"$f":"Sikap!M52","v":3},{"$f":"Sikap!N52","v":"B"},{"$f":"Sikap!Q52","v":"Kompetensi sikap rerata baik.  Menunjukkan sikap baik dalam spiritual, baik dalam jujur, baik dalam disiplin, baik dalam tanggungjawab, baik dalam toleransi, baik dalam gotong royong, baik dalam santun, baik dalam percaya diri, baik dalam ramah tamah, baik dalam ingin tahu"}]
[40,{"$f":"'Data '!B66","v":9296},{"$f":"'Data '!D66","v":"ULFATUN NI'MAH"},{"$f":"Pengetahuan!R60","v":77.5},{"$f":"Pengetahuan!S60","v":3.1},{"$f":"Pengetahuan!T60","v":"B"},{"$f":"Pengetahuan!AD60","v":"Kompetensi pengetahuan rerata baik. Menguasai Atletik, menguasai Senam. Menguasai Bola Volley, menguasai Sepak Bola"},{"$f":"Ketrampilan!O60","v":80},{"$f":"Ketrampilan!P60","v":3.2},{"$f":"Ketrampilan!Q60","v":"B+"},{"$f":"Ketrampilan!BA60","v":"Kompetensi ketrampilan rerata baik. Sudah trampil Atletik, sudah trampil Senam, sudah trampil Bola Volley, sudah trampil Sepak Bola"},{"$f":"Sikap!M53","v":3},{"$f":"Sikap!N53","v":"B"},{"$f":"Sikap!Q53","v":"Kompetensi sikap rerata baik.  Menunjukkan sikap baik dalam spiritual, baik dalam jujur, baik dalam disiplin, baik dalam tanggungjawab, baik dalam toleransi, baik dalam gotong royong, baik dalam santun, baik dalam percaya diri, baik dalam ramah tamah, baik dalam ingin tahu"}]
[41,{"$f":"'Data '!B67","v":0},{"$f":"'Data '!D67","v":0},{"$f":"Pengetahuan!R61","v":""},{"$f":"Pengetahuan!S61","v":""},{"$f":"Pengetahuan!T61","v":""},{"$f":"Pengetahuan!AD61","v":"Kompetensi pengetahuan rerata sangat baik. "},{"$f":"Ketrampilan!O61","v":0},{"$f":"Ketrampilan!P61","v":0},{"$f":"Ketrampilan!Q61","v":"D"},{"$f":"Ketrampilan!BA61","v":""},{"$f":"Sikap!M54","v":""},{"$f":"Sikap!N54","v":"SB"},{"$f":"Sikap!Q54","v":""},null,null,"halaman 3"]
[42,{"$f":"'Data '!B68","v":0},{"$f":"'Data '!D68","v":0},{"$f":"Pengetahuan!R62","v":""},{"$f":"Pengetahuan!S62","v":""},{"$f":"Pengetahuan!T62","v":""},{"$f":"Pengetahuan!AD62","v":"Kompetensi pengetahuan rerata sangat baik. "},{"$f":"Ketrampilan!O62","v":0},{"$f":"Ketrampilan!P62","v":0},{"$f":"Ketrampilan!Q62","v":"D"},{"$f":"Ketrampilan!BA62","v":""},{"$f":"Sikap!M55","v":""},{"$f":"Sikap!N55","v":"SB"},{"$f":"Sikap!Q55","v":""}]
[43,{"$f":"'Data '!B69","v":0},{"$f":"'Data '!D69","v":0},{"$f":"Pengetahuan!R63","v":""},{"$f":"Pengetahuan!S63","v":""},{"$f":"Pengetahuan!T63","v":""},{"$f":"Pengetahuan!AD63","v":"Kompetensi pengetahuan rerata sangat baik. "},{"$f":"Ketrampilan!O63","v":0},{"$f":"Ketrampilan!P63","v":0},{"$f":"Ketrampilan!Q63","v":"D"},{"$f":"Ketrampilan!BA63","v":""},{"$f":"Sikap!M56","v":""},{"$f":"Sikap!N56","v":"SB"},{"$f":"Sikap!Q56","v":""}]
[44,{"$f":"'Data '!B70","v":0},{"$f":"'Data '!D70","v":0},{"$f":"Pengetahuan!R64","v":""},{"$f":"Pengetahuan!S64","v":""},{"$f":"Pengetahuan!T64","v":""},{"$f":"Pengetahuan!AD64","v":"Kompetensi pengetahuan rerata sangat baik. "},{"$f":"Ketrampilan!O64","v":0},{"$f":"Ketrampilan!P64","v":0},{"$f":"Ketrampilan!Q64","v":"D"},{"$f":"Ketrampilan!BA64","v":""},{"$f":"Sikap!M57","v":""},{"$f":"Sikap!N57","v":"SB"},{"$f":"Sikap!Q57","v":""}]
[45,{"$f":"'Data '!B71","v":0},{"$f":"'Data '!D71","v":0},{"$f":"Pengetahuan!R65","v":""},{"$f":"Pengetahuan!S65","v":""},{"$f":"Pengetahuan!T65","v":""},{"$f":"Pengetahuan!AD65","v":"Kompetensi pengetahuan rerata sangat baik. "},{"$f":"Ketrampilan!O65","v":0},{"$f":"Ketrampilan!P65","v":0},{"$f":"Ketrampilan!Q65","v":"D"},{"$f":"Ketrampilan!BA65","v":""},{"$f":"Sikap!M58","v":""},{"$f":"Sikap!N58","v":"SB"},{"$f":"Sikap!Q58","v":""}]
[46,{"$f":"'Data '!B72","v":0},{"$f":"'Data '!D72","v":0},{"$f":"Pengetahuan!R66","v":""},{"$f":"Pengetahuan!S66","v":""},{"$f":"Pengetahuan!T66","v":""},{"$f":"Pengetahuan!AD66","v":"Kompetensi pengetahuan rerata sangat baik. "},{"$f":"Ketrampilan!O66","v":0},{"$f":"Ketrampilan!P66","v":0},{"$f":"Ketrampilan!Q66","v":"D"},{"$f":"Ketrampilan!BA66","v":""},{"$f":"Sikap!M59","v":""},{"$f":"Sikap!N59","v":"SB"},{"$f":"Sikap!Q59","v":""}]
[47,{"$f":"'Data '!B73","v":0},{"$f":"'Data '!D73","v":0},{"$f":"Pengetahuan!R67","v":""},{"$f":"Pengetahuan!S67","v":""},{"$f":"Pengetahuan!T67","v":""},{"$f":"Pengetahuan!AD67","v":"Kompetensi pengetahuan rerata sangat baik. "},{"$f":"Ketrampilan!O67","v":0},{"$f":"Ketrampilan!P67","v":0},{"$f":"Ketrampilan!Q67","v":"D"},{"$f":"Ketrampilan!BA67","v":""},{"$f":"Sikap!M60","v":""},{"$f":"Sikap!N60","v":"SB"},{"$f":"Sikap!Q60","v":""}]
[48,{"$f":"'Data '!B74","v":0},{"$f":"'Data '!D74","v":0},{"$f":"Pengetahuan!R68","v":""},{"$f":"Pengetahuan!S68","v":""},{"$f":"Pengetahuan!T68","v":""},{"$f":"Pengetahuan!AD68","v":"Kompetensi pengetahuan rerata sangat baik. "},{"$f":"Ketrampilan!O68","v":0},{"$f":"Ketrampilan!P68","v":0},{"$f":"Ketrampilan!Q68","v":"D"},{"$f":"Ketrampilan!BA68","v":""},{"$f":"Sikap!M61","v":""},{"$f":"Sikap!N61","v":"SB"},{"$f":"Sikap!Q61","v":""}]
[49,{"$f":"'Data '!B75","v":0},{"$f":"'Data '!D75","v":0},{"$f":"Pengetahuan!R69","v":""},{"$f":"Pengetahuan!S69","v":""},{"$f":"Pengetahuan!T69","v":""},{"$f":"Pengetahuan!AD69","v":"Kompetensi pengetahuan rerata sangat baik. "},{"$f":"Ketrampilan!O69","v":0},{"$f":"Ketrampilan!P69","v":0},{"$f":"Ketrampilan!Q69","v":"D"},{"$f":"Ketrampilan!BA69","v":""},{"$f":"Sikap!M62","v":""},{"$f":"Sikap!N62","v":"SB"},{"$f":"Sikap!Q62","v":""}]
[50,{"$f":"'Data '!B76","v":0},{"$f":"'Data '!D76","v":0},{"$f":"Pengetahuan!R70","v":81.25},{"$f":"Pengetahuan!S70","v":3.25},{"$f":"Pengetahuan!T70","v":"B+"},{"$f":"Pengetahuan!AD70","v":"Kompetensi pengetahuan rerata baik. Menguasai Atletik"},{"$f":"Ketrampilan!O70","v":70},{"$f":"Ketrampilan!P70","v":2.8},{"$f":"Ketrampilan!Q70","v":"B-"},{"$f":"Ketrampilan!BA70","v":"Kompetensi ketrampilan rerata baik. Masih perlu latihan AtletikFALSE"},{"$f":"Sikap!M63","v":""},{"$f":"Sikap!N63","v":"SB"},{"$f":"Sikap!Q63","v":""}]
[null,null,"Nilai Rata-rata",{"$f":"IFERROR(AVERAGE(D14:D63),\"  \")","v":77.591463414634148},{"$f":"IFERROR(AVERAGE(E14:E63),\"  \")","v":3.1036585365853639},"",null,{"$f":"IFERROR(AVERAGE(H14:H63),\"  \")","v":65.400000000000006},2.6160000000000014,"",null,{"$f":"IFERROR(AVERAGE(L14:L63),\"  \")","v":3},""]
[]
[]
[null,null,"Mengetahui:",null,null,null,null,null,null,null,{"$f":"'Data '!D21","v":"Blora, 20 Desember 2014"}]
[null,null,{"$f":"\"Ka. \"&'Data '!D7","v":"Ka. SMP Negeri 6 Blora"},null,null,null,null,null,null,null,"Guru Mata Pelajaran"]
[]
[]
[]
[null,null,{"$f":"'Data '!D15","v":"Suparno, S.Pd.,M.Hum"},null,null,null,null,null,null,null,{"$f":"Home!E12","v":"Drs. Sarid Nugroho"}]
[null,null,{"$f":"'Data '!D16","v":"NIP. 19620712 198403 1 012"},null,null,null,null,null,null,null,{"$f":"Home!E14","v":"NIP. 19631223 198803 1 004"}]

{"sheet":"Rekap","index":14,"n_rows":73,"n_cols":14,"rows_kept":73,"cut":false,"hidden":false,"merged":[[18,16,22,16],[11,0,12,0],[11,2,12,2],[11,3,11,6],[11,7,11,10],[11,11,11,13],[0,3,0,13],[1,3,1,13],[2,3,2,13],[8,11,8,12],[9,11,9,12],[7,3,7,5],[8,3,8,5],[3,3,5,13]]}
[null,null,null,{"$f":"UPPER('Data '!D10)","v":"PEMERINTAH KABUPATEN BLORA"}]
[null,null,null,{"$f":"UPPER('Data '!D6)","v":"DINAS PENDIDIKAN PEMUDA DAN OLAHRAGA"}]
[null,null,null,{"$f":"UPPER('Data '!D7)","v":"SMP NEGERI 6 BLORA"}]
[null,null,null,"DAFTAR  REKAP NILAI ASPEK PENGETAHUAN, KETRAMPILAN DAN SIKAP"]
[]
[]
[]
[null,null,"Mata Pelajaran :",{"$f":"Home!E16","v":"PJOK"},null,null,null,null,null,"Semester :",{"$f":"'Data '!D14","v":"Ganjil"}]
[null,null,"Kelas :",{"$f":"Home!E18","v":"VII-A"},null,null,null,null,null,"Tahun Pelajaran :",{"$f":"'Data '!D13","v":"2014/2015"},"Wali Kelas   :",null,{"$f":"'Data '!D17","v":"Mundari, S.Pd."}]
[]
[]
["No. ","NIS /","Nama","Pengetahuan",null,null,null,"Ketrampilan",null,null,null,"Sikap Sosial & Spiritual"]
[null,"NISN",null,"0-100","1-4","Huruf","Deskripsi","0-100","1-4","Huruf","Deskripsi","Angka","Huruf","Deskripsi"]
[1,{"$f":"'Data '!B27","v":9025},{"$f":"'Data '!D27","v":"AHMAD ALEK BRIYANSAPUTRA"},{"$f":"Pengetahuan!R21","v":77.5},{"$f":"Pengetahuan!S21","v":3.1},{"$f":"Pengetahuan!T21","v":"B"},{"$f":"Pengetahuan!AD21","v":"Kompetensi pengetahuan rerata baik. Menguasai Atletik, menguasai Senam. Menguasai Bola Volley, menguasai Sepak Bola"},{"$f":"Ketrampilan!O21","v":80},{"$f":"Ketrampilan!P21","v":3.2},{"$f":"Ketrampilan!Q21","v":"B+"},{"$f":"Ketrampilan!BA21","v":"Kompetensi ketrampilan rerata baik. Sudah trampil Atletik, sudah trampil Senam, sudah trampil Bola Volley, sudah trampil Sepak Bola"},{"$f":"Sikap!M14","v":3},{"$f":"Sikap!N14","v":"B"},{"$f":"Sikap!Q14","v":"Kompetensi sikap rerata baik.  Menunjukkan sikap baik dalam spiritual, baik dalam jujur, baik dalam disiplin, baik dalam tanggungjawab, baik dalam toleransi, baik dalam gotong royong, baik dalam santun, baik dalam percaya diri, baik dalam ramah tamah, baik dalam ingin tahu"}]
[2,{"$f":"'Data '!B28","v":9053},{"$f":"'Data '!D28","v":"AULIA AYU FATINA"},{"$f":"Pengetahuan!R22","v":77.5},{"$f":"Pengetahuan!S22","v":3.1},{"$f":"Pengetahuan!T22","v":"B"},{"$f":"Pengetahuan!AD22","v":"Kompetensi pengetahuan rerata baik. Menguasai Atletik, menguasai Senam. Menguasai Bola Volley, menguasai Sepak Bola"},{"$f":"Ketrampilan!O22","v":80},{"$f":"Ketrampilan!P22","v":3.2},{"$f":"Ketrampilan!Q22","v":"B+"},{"$f":"Ketrampilan!BA22","v":"Kompetensi ketrampilan rerata baik. Sudah trampil Atletik, sudah trampil Senam, sudah trampil Bola Volley, sudah trampil Sepak Bola"},{"$f":"Sikap!M15","v":3},{"$f":"Sikap!N15","v":"B"},{"$f":"Sikap!Q15","v":"Kompetensi sikap rerata baik.  Menunjukkan sikap baik dalam spiritual, baik dalam jujur, baik dalam disiplin, baik dalam tanggungjawab, baik dalam toleransi, baik dalam gotong royong, baik dalam santun, baik dalam percaya diri, baik dalam ramah tamah, baik dalam ingin tahu"}]
[3,{"$f":"'Data '!B29","v":9060},{"$f":"'Data '!D29","v":"BAGAS YULANDRA PUTRA"},{"$f":"Pengetahuan!R23","v":77.5},{"$f":"Pengetahuan!S23","v":3.1},{"$f":"Pengetahuan!T23","v":"B"},{"$f":"Pengetahuan!AD23","v":"Kompetensi pengetahuan rerata baik. Menguasai Atletik, menguasai Senam. Menguasai Bola Volley, menguasai Sepak Bola"},{"$f":"Ketrampilan!O23","v":80},{"$f":"Ketrampilan!P23","v":3.2},{"$f":"Ketrampilan!Q23","v":"B+"},{"$f":"Ketrampilan!BA23","v":"Kompetensi ketrampilan rerata baik. Sudah trampil Atletik, sudah trampil Senam, sudah trampil Bola Volley, sudah trampil Sepak Bola"},{"$f":"Sikap!M16","v":3},{"$f":"Sikap!N16","v":"B"},{"$f":"Sikap!Q16","v":"Kompetensi sikap rerata baik.  Menunjukkan sikap baik dalam spiritual, baik dalam jujur, baik dalam disiplin, baik dalam tanggungjawab, baik dalam toleransi, baik dalam gotong royong, baik dalam santun, baik dalam percaya diri, baik dalam ramah tamah, baik dalam ingin tahu"}]
[4,{"$f":"'Data '!B30","v":9068},{"$f":"'Data '!D30","v":"CYNTIA AGUSTINA"},{"$f":"Pengetahuan!R24","v":77.5},{"$f":"Pengetahuan!S24","v":3.1},{"$f":"Pengetahuan!T24","v":"B"},{"$f":"Pengetahuan!AD24","v":"Kompetensi pengetahuan rerata baik. Menguasai Atletik, menguasai Senam. Menguasai Bola Volley, menguasai Sepak Bola"},{"$f":"Ketrampilan!O24","v":80},{"$f":"Ketrampilan!P24","v":3.2},{"$f":"Ketrampilan!Q24","v":"B+"},{"$f":"Ketrampilan!BA24","v":"Kompetensi ketrampilan rerata baik. Sudah trampil Atletik, sudah trampil Senam, sudah trampil Bola Volley, sudah trampil Sepak Bola"},{"$f":"Sikap!M17","v":3},{"$f":"Sikap!N17","v":"B"},{"$f":"Sikap!Q17","v":"Kompetensi sikap rerata baik.  Menunjukkan sikap baik dalam spiritual, baik dalam jujur, baik dalam disiplin, baik dalam tanggungjawab, baik dalam toleransi, baik dalam gotong royong, baik dalam santun, baik dalam percaya diri, baik dalam ramah tamah, baik dalam ingin tahu"}]
[5,{"$f":"'Data '!B31","v":9069},{"$f":"'Data '!D31","v":"DAFFA KRISNA PRAMUDYA"},{"$f":"Pengetahuan!R25","v":77.5},{"$f":"Pengetahuan!S25","v":3.1},{"$f":"Pengetahuan!T25","v":"B"},{"$f":"Pengetahuan!AD25","v":"Kompetensi pengetahuan rerata baik. Menguasai Atletik, menguasai Senam. Menguasai Bola Volley, menguasai Sepak Bola"},{"$f":"Ketrampilan!O25","v":80},{"$f":"Ketrampilan!P25","v":3.2},{"$f":"Ketrampilan!Q25","v":"B+"},{"$f":"Ketrampilan!BA25","v":"Kompetensi ketrampilan rerata baik. Sudah trampil Atletik, sudah trampil Senam, sudah trampil Bola Volley, sudah trampil Sepak Bola"},{"$f":"Sikap!M18","v":3},{"$f":"Sikap!N18","v":"B"},{"$f":"Sikap!Q18","v":"Kompetensi sikap rerata baik.  Menunjukkan sikap baik dalam spiritual, baik dalam jujur, baik dalam disiplin, baik dalam tanggungjawab, baik dalam toleransi, baik dalam gotong royong, baik dalam santun, baik dalam percaya diri, baik dalam ramah tamah, baik dalam ingin tahu"}]
[6,{"$f":"'Data '!B32","v":9070},{"$f":"'Data '!D32","v":"DANINDRA RAFIF IRAWAN"},{"$f":"Pengetahuan!R26","v":77.5},{"$f":"Pengetahuan!S26","v":3.1},{"$f":"Pengetahuan!T26","v":"B"},{"$f":"Pengetahuan!AD26","v":"Kompetensi pengetahuan rerata baik. Menguasai Atletik, menguasai Senam. Menguasai Bola Volley, menguasai Sepak Bola"},{"$f":"Ketrampilan!O26","v":80},{"$f":"Ketrampilan!P26","v":3.2},{"$f":"Ketrampilan!Q26","v":"B+"},{"$f":"Ketrampilan!BA26","v":"Kompetensi ketrampilan rerata baik. Sudah trampil Atletik, sudah trampil Senam, sudah trampil Bola Volley, sudah trampil Sepak Bola"},{"$f":"Sikap!M19","v":3},{"$f":"Sikap!N19","v":"B"},{"$f":"Sikap!Q19","v":"Kompetensi sikap rerata baik.  Menunjukkan sikap baik dalam spiritual, baik dalam jujur, baik dalam disiplin, baik dalam tanggungjawab, baik dalam toleransi, baik dalam gotong royong, baik dalam santun, baik dalam percaya diri, baik dalam ramah tamah, baik dalam ingin tahu"}]
[7,{"$f":"'Data '!B33","v":9074},{"$f":"'Data '!D33","v":"DENI PRATAMA"},{"$f":"Pengetahuan!R27","v":77.5},{"$f":"Pengetahuan!S27","v":3.1},{"$f":"Pengetahuan!T27","v":"B"},{"$f":"Pengetahuan!AD27","v":"Kompetensi pengetahuan rerata baik. Menguasai Atletik, menguasai Senam. Menguasai Bola Volley, menguasai Sepak Bola"},{"$f":"Ketrampilan!O27","v":80},{"$f":"Ketrampilan!P27","v":3.2},{"$f":"Ketrampilan!Q27","v":"B+"},{"$f":"Ketrampilan!BA27","v":"Kompetensi ketrampilan rerata baik. Sudah trampil Atletik, sudah trampil Senam, sudah trampil Bola Volley, sudah trampil Sepak Bola"},{"$f":"Sikap!M20","v":3},{"$f":"Sikap!N20","v":"B"},{"$f":"Sikap!Q20","v":"Kompetensi sikap rerata baik.  Menunjukkan sikap baik dalam spiritual, baik dalam jujur, baik dalam disiplin, baik dalam tanggungjawab, baik dalam toleransi, baik dalam gotong royong, baik dalam santun, baik dalam percaya diri, baik dalam ramah tamah, baik dalam ingin tahu"}]
[8,{"$f":"'Data '!B34","v":9081},{"$f":"'Data '!D34","v":"DIKA SUKMA AGUSTIN"},{"$f":"Pengetahuan!R28","v":77.5},{"$f":"Pengetahuan!S28","v":3.1},{"$f":"Pengetahuan!T28","v":"B"},{"$f":"Pengetahuan!AD28","v":"Kompetensi pengetahuan rerata baik. Menguasai Atletik, menguasai Senam. Menguasai Bola Volley, menguasai Sepak Bola"},{"$f":"Ketrampilan!O28","v":80},{"$f":"Ketrampilan!P28","v":3.2},{"$f":"Ketrampilan!Q28","v":"B+"},{"$f":"Ketrampilan!BA28","v":"Kompetensi ketrampilan rerata baik. Sudah trampil Atletik, sudah trampil Senam, sudah trampil Bola Volley, sudah trampil Sepak Bola"},{"$f":"Sikap!M21","v":3},{"$f":"Sikap!N21","v":"B"},{"$f":"Sikap!Q21","v":"Kompetensi sikap rerata baik.  Menunjukkan sikap baik dalam spiritual, baik dalam jujur, baik dalam disiplin, baik dalam tanggungjawab, baik dalam toleransi, baik dalam gotong royong, baik dalam santun, baik dalam percaya diri, baik dalam ramah tamah, baik dalam ingin tahu"}]
[9,{"$f":"'Data '!B35","v":9087},{"$f":"'Data '!D35","v":"DIVA ADITYA"},{"$f":"Pengetahuan!R29","v":77.5},{"$f":"Pengetahuan!S29","v":3.1},{"$f":"Pengetahuan!T29","v":"B"},{"$f":"Pengetahuan!AD29","v":"Kompetensi pengetahuan rerata baik. Menguasai Atletik, menguasai Senam. Menguasai Bola Volley, menguasai Sepak Bola"},{"$f":"Ketrampilan!O29","v":80},{"$f":"Ketrampilan!P29","v":3.2},{"$f":"Ketrampilan!Q29","v":"B+"},{"$f":"Ketrampilan!BA29","v":"Kompetensi ketrampilan rerata baik. Sudah trampil Atletik, sudah trampil Senam, sudah trampil Bola Volley, sudah trampil Sepak Bola"},{"$f":"Sikap!M22","v":3},{"$f":"Sikap!N22","v":"B"},{"$f":"Sikap!Q22","v":"Kompetensi sikap rerata baik.  Menunjukkan sikap baik dalam spiritual, baik dalam jujur, baik dalam disiplin, baik dalam tanggungjawab, baik dalam toleransi, baik dalam gotong royong, baik dalam santun, baik dalam percaya diri, baik dalam ramah tamah, baik dalam ingin tahu"}]
[10,{"$f":"'Data '!B36","v":9098},{"$f":"'Data '!D36","v":"EKO PRASTYO"},{"$f":"Pengetahuan!R30","v":77.5},{"$f":"Pengetahuan!S30","v":3.1},{"$f":"Pengetahuan!T30","v":"B"},{"$f":"Pengetahuan!AD30","v":"Kompetensi pengetahuan rerata baik. Menguasai Atletik, menguasai Senam. Menguasai Bola Volley, menguasai Sepak Bola"},{"$f":"Ketrampilan!O30","v":80},{"$f":"Ketrampilan!P30","v":3.2},{"$f":"Ketrampilan!Q30","v":"B+"},{"$f":"Ketrampilan!BA30","v":"Kompetensi ketrampilan rerata baik. Sudah trampil Atletik, sudah trampil Senam, sudah trampil Bola Volley, sudah trampil Sepak Bola"},{"$f":"Sikap!M23","v":3},{"$f":"Sikap!N23","v":"B"},{"$f":"Sikap!Q23","v":"Kompetensi sikap rerata baik.  Menunjukkan sikap baik dalam spiritual, baik dalam jujur, baik dalam disiplin, baik dalam tanggungjawab, baik dalam toleransi, baik dalam gotong royong, baik dalam santun, baik dalam percaya diri, baik dalam ramah tamah, baik dalam ingin tahu"}]
[11,{"$f":"'Data '!B37","v":9107},{"$f":"'Data '!D37","v":"FAIQUR RIJAL HAMMAM"},{"$f":"Pengetahuan!R31","v":77.5},{"$f":"Pengetahuan!S31","v":3.1},{"$f":"Pengetahuan!T31","v":"B"},{"$f":"Pengetahuan!AD31","v":"Kompetensi pengetahuan rerata baik. Menguasai Atletik, menguasai Senam. Menguasai Bola Volley, menguasai Sepak Bola"},{"$f":"Ketrampilan!O31","v":80},{"$f":"Ketrampilan!P31","v":3.2},{"$f":"Ketrampilan!Q31","v":"B+"},{"$f":"Ketrampilan!BA31","v":"Kompetensi ketrampilan rerata baik. Sudah trampil Atletik, sudah trampil Senam, sudah trampil Bola Volley, sudah trampil Sepak Bola"},{"$f":"Sikap!M24","v":3},{"$f":"Sikap!N24","v":"B"},{"$f":"Sikap!Q24","v":"Kompetensi sikap rerata baik.  Menunjukkan sikap baik dalam spiritual, baik dalam jujur, baik dalam disiplin, baik dalam tanggungjawab, baik dalam toleransi, baik dalam gotong royong, baik dalam santun, baik dalam percaya diri, baik dalam ramah tamah, baik dalam ingin tahu"}]
[12,{"$f":"'Data '!B38","v":9114},{"$f":"'Data '!D38","v":"FATESAR SARI PRASETYO"},{"$f":"Pengetahuan!R32","v":77.5},{"$f":"Pengetahuan!S32","v":3.1},{"$f":"Pengetahuan!T32","v":"B"},{"$f":"Pengetahuan!AD32","v":"Kompetensi pengetahuan rerata baik. Menguasai Atletik, menguasai Senam. Menguasai Bola Volley, menguasai Sepak Bola"},{"$f":"Ketrampilan!O32","v":80},{"$f":"Ketrampilan!P32","v":3.2},{"$f":"Ketrampilan!Q32","v":"B+"},{"$f":"Ketrampilan!BA32","v":"Kompetensi ketrampilan rerata baik. Sudah trampil Atletik, sudah trampil Senam, sudah trampil Bola Volley, sudah trampil Sepak Bola"},{"$f":"Sikap!M25","v":3},{"$f":"Sikap!N25","v":"B"},{"$f":"Sikap!Q25","v":"Kompetensi sikap rerata baik.  Menunjukkan sikap baik dalam spiritual, baik dalam jujur, baik dalam disiplin, baik dalam tanggungjawab, baik dalam toleransi, baik dalam gotong royong, baik dalam santun, baik dalam percaya diri, baik dalam ramah tamah, baik dalam ingin tahu"}]
[13,{"$f":"'Data '!B39","v":9115},{"$f":"'Data '!D39","v":"FEBRI SULISTIYO"},{"$f":"Pengetahuan!R33","v":77.5},{"$f":"Pengetahuan!S33","v":3.1},{"$f":"Pengetahuan!T33","v":"B"},{"$f":"Pengetahuan!AD33","v":"Kompetensi pengetahuan rerata baik. Menguasai Atletik, menguasai Senam. Menguasai Bola Volley, menguasai Sepak Bola"},{"$f":"Ketrampilan!O33","v":80},{"$f":"Ketrampilan!P33","v":3.2},{"$f":"Ketrampilan!Q33","v":"B+"},{"$f":"Ketrampilan!BA33","v":"Kompetensi ketrampilan rerata baik. Sudah trampil Atletik, sudah trampil Senam, sudah trampil Bola Volley, sudah trampil Sepak Bola"},{"$f":"Sikap!M26","v":3},{"$f":"Sikap!N26","v":"B"},{"$f":"Sikap!Q26","v":"Kompetensi sikap rerata baik.  Menunjukkan sikap baik dalam spiritual, baik dalam jujur, baik dalam disiplin, baik dalam tanggungjawab, baik dalam toleransi, baik dalam gotong royong, baik dalam santun, baik dalam percaya diri, baik dalam ramah tamah, baik dalam ingin tahu"}]
[14,{"$f":"'Data '!B40","v":9119},{"$f":"'Data '!D40","v":"FIONA NANDA FETRIAN"},{"$f":"Pengetahuan!R34","v":77.5},{"$f":"Pengetahuan!S34","v":3.1},{"$f":"Pengetahuan!T34","v":"B"},{"$f":"Pengetahuan!AD34","v":"Kompetensi pengetahuan rerata baik. Menguasai Atletik, menguasai Senam. Menguasai Bola Volley, menguasai Sepak Bola"},{"$f":"Ketrampilan!O34","v":80},{"$f":"Ketrampilan!P34","v":3.2},{"$f":"Ketrampilan!Q34","v":"B+"},{"$f":"Ketrampilan!BA34","v":"Kompetensi ketrampilan rerata baik. Sudah trampil Atletik, sudah trampil Senam, sudah trampil Bola Volley, sudah trampil Sepak Bola"},{"$f":"Sikap!M27","v":3},{"$f":"Sikap!N27","v":"B"},{"$f":"Sikap!Q27","v":"Kompetensi sikap rerata baik.  Menunjukkan sikap baik dalam spiritual, baik dalam jujur, baik dalam disiplin, baik dalam tanggungjawab, baik dalam toleransi, baik dalam gotong royong, baik dalam santun, baik dalam percaya diri, baik dalam ramah tamah, baik dalam ingin tahu"}]
[15,{"$f":"'Data '!B41","v":9125},{"$f":"'Data '!D41","v":"GILANG SYAHRUL RAMADHAN"},{"$f":"Pengetahuan!R35","v":77.5},{"$f":"Pengetahuan!S35","v":3.1},{"$f":"Pengetahuan!T35","v":"B"},{"$f":"Pengetahuan!AD35","v":"Kompetensi pengetahuan rerata baik. Menguasai Atletik, menguasai Senam. Menguasai Bola Volley, menguasai Sepak Bola"},{"$f":"Ketrampilan!O35","v":80},{"$f":"Ketrampilan!P35","v":3.2},{"$f":"Ketrampilan!Q35","v":"B+"},{"$f":"Ketrampilan!BA35","v":"Kompetensi ketrampilan rerata baik. Sudah trampil Atletik, sudah trampil Senam, sudah trampil Bola Volley, sudah trampil Sepak Bola"},{"$f":"Sikap!M28","v":3},{"$f":"Sikap!N28","v":"B"},{"$f":"Sikap!Q28","v":"Kompetensi sikap rerata baik.  Menunjukkan sikap baik dalam spiritual, baik dalam jujur, baik dalam disiplin, baik dalam tanggungjawab, baik dalam toleransi, baik dalam gotong royong, baik dalam santun, baik dalam percaya diri, baik dalam ramah tamah, baik dalam ingin tahu"}]
[16,{"$f":"'Data '!B42","v":9136},{"$f":"'Data '!D42","v":"IMAM AGUNG WAHYU PRATAMA"},{"$f":"Pengetahuan!R36","v":77.5},{"$f":"Pengetahuan!S36","v":3.1},{"$f":"Pengetahuan!T36","v":"B"},{"$f":"Pengetahuan!AD36","v":"Kompetensi pengetahuan rerata baik. Menguasai Atletik, menguasai Senam. Menguasai Bola Volley, menguasai Sepak Bola"},{"$f":"Ketrampilan!O36","v":80},{"$f":"Ketrampilan!P36","v":3.2},{"$f":"Ketrampilan!Q36","v":"B+"},{"$f":"Ketrampilan!BA36","v":"Kompetensi ketrampilan rerata baik. Sudah trampil Atletik, sudah trampil Senam, sudah trampil Bola Volley, sudah trampil Sepak Bola"},{"$f":"Sikap!M29","v":3},{"$f":"Sikap!N29","v":"B"},{"$f":"Sikap!Q29","v":"Kompetensi sikap rerata baik.  Menunjukkan sikap baik dalam spiritual, baik dalam jujur, baik dalam disiplin, baik dalam tanggungjawab, baik dalam toleransi, baik dalam gotong royong, baik dalam santun, baik dalam percaya diri, baik dalam ramah tamah, baik dalam ingin tahu"}]
[17,{"$f":"'Data '!B43","v":9149},{"$f":"'Data '!D43","v":"JOHAN MAULANA"},{"$f":"Pengetahuan!R37","v":77.5},{"$f":"Pengetahuan!S37","v":3.1},{"$f":"Pengetahuan!T37","v":"B"},{"$f":"Pengetahuan!AD37","v":"Kompetensi pengetahuan rerata baik. Menguasai Atletik, menguasai Senam. Menguasai Bola Volley, menguasai Sepak Bola"},{"$f":"Ketrampilan!O37","v":80},{"$f":"Ketrampilan!P37","v":3.2},{"$f":"Ketrampilan!Q37","v":"B+"},{"$f":"Ketrampilan!BA37","v":"Kompetensi ketrampilan rerata baik. Sudah trampil Atletik, sudah trampil Senam, sudah trampil Bola Volley, sudah trampil Sepak Bola"},{"$f":"Sikap!M30","v":3},{"$f":"Sikap!N30","v":"B"},{"$f":"Sikap!Q30","v":"Kompetensi sikap rerata baik.  Menunjukkan sikap baik dalam spiritual, baik dalam jujur, baik dalam disiplin, baik dalam tanggungjawab, baik dalam toleransi, baik dalam gotong royong, baik dalam santun, baik dalam percaya diri, baik dalam ramah tamah, baik dalam ingin tahu"}]
[18,{"$f":"'Data '!B44","v":9150},{"$f":"'Data '!D44","v":"JOKO SETIAWAN"},{"$f":"Pengetahuan!R38","v":77.5},{"$f":"Pengetahuan!S38","v":3.1},{"$f":"Pengetahuan!T38","v":"B"},{"$f":"Pengetahuan!AD38","v":"Kompetensi pengetahuan rerata baik. Menguasai Atletik, menguasai Senam. Menguasai Bola Volley, menguasai Sepak Bola"},{"$f":"Ketrampilan!O38","v":80},{"$f":"Ketrampilan!P38","v":3.2},{"$f":"Ketrampilan!Q38","v":"B+"},{"$f":"Ketrampilan!BA38","v":"Kompetensi ketrampilan rerata baik. Sudah trampil Atletik, sudah trampil Senam, sudah trampil Bola Volley, sudah trampil Sepak Bola"},{"$f":"Sikap!M31","v":3},{"$f":"Sikap!N31","v":"B"},{"$f":"Sikap!Q31","v":"Kompetensi sikap rerata baik.  Menunjukkan sikap baik dalam spiritual, baik dalam jujur, baik dalam disiplin, baik dalam tanggungjawab, baik dalam toleransi, baik dalam gotong royong, baik dalam santun, baik dalam percaya diri, baik dalam ramah tamah, baik dalam ingin tahu"}]
[19,{"$f":"'Data '!B45","v":9159},{"$f":"'Data '!D45","v":"LISA OKTAVINASARI"},{"$f":"Pengetahuan!R39","v":77.5},{"$f":"Pengetahuan!S39","v":3.1},{"$f":"Pengetahuan!T39","v":"B"},{"$f":"Pengetahuan!AD39","v":"Kompetensi pengetahuan rerata baik. Menguasai Atletik, menguasai Senam. Menguasai Bola Volley, menguasai Sepak Bola"},{"$f":"Ketrampilan!O39","v":80},{"$f":"Ketrampilan!P39","v":3.2},{"$f":"Ketrampilan!Q39","v":"B+"},{"$f":"Ketrampilan!BA39","v":"Kompetensi ketrampilan rerata baik. Sudah trampil Atletik, sudah trampil Senam, sudah trampil Bola Volley, sudah trampil Sepak Bola"},{"$f":"Sikap!M32","v":3},{"$f":"Sikap!N32","v":"B"},{"$f":"Sikap!Q32","v":"Kompetensi sikap rerata baik.  Menunjukkan sikap baik dalam spiritual, baik dalam jujur, baik dalam disiplin, baik dalam tanggungjawab, baik dalam toleransi, baik dalam gotong royong, baik dalam santun, baik dalam percaya diri, baik dalam ramah tamah, baik dalam ingin tahu"}]
[20,{"$f":"'Data '!B46","v":9163},{"$f":"'Data '!D46","v":"MARIA GILDA SIREGAR"},{"$f":"Pengetahuan!R40","v":77.5},{"$f":"Pengetahuan!S40","v":3.1},{"$f":"Pengetahuan!T40","v":"B"},{"$f":"Pengetahuan!AD40","v":"Kompetensi pengetahuan rerata baik. Menguasai Atletik, menguasai Senam. Menguasai Bola Volley, menguasai Sepak Bola"},{"$f":"Ketrampilan!O40","v":80},{"$f":"Ketrampilan!P40","v":3.2},{"$f":"Ketrampilan!Q40","v":"B+"},{"$f":"Ketrampilan!BA40","v":"Kompetensi ketrampilan rerata baik. Sudah trampil Atletik, sudah trampil Senam, sudah trampil Bola Volley, sudah trampil Sepak Bola"},{"$f":"Sikap!M33","v":3},{"$f":"Sikap!N33","v":"B"},{"$f":"Sikap!Q33","v":"Kompetensi sikap rerata baik.  Menunjukkan sikap baik dalam spiritual, baik dalam jujur, baik dalam disiplin, baik dalam tanggungjawab, baik dalam toleransi, baik dalam gotong royong, baik dalam santun, baik dalam percaya diri, baik dalam ramah tamah, baik dalam ingin tahu"}]
[21,{"$f":"'Data '!B47","v":9178},{"$f":"'Data '!D47","v":"MOHAMMAD NURKHOLISH"},{"$f":"Pengetahuan!R41","v":77.5},{"$f":"Pengetahuan!S41","v":3.1},{"$f":"Pengetahuan!T41","v":"B"},{"$f":"Pengetahuan!AD41","v":"Kompetensi pengetahuan rerata baik. Menguasai Atletik, menguasai Senam. Menguasai Bola Volley, menguasai Sepak Bola"},{"$f":"Ketrampilan!O41","v":80},{"$f":"Ketrampilan!P41","v":3.2},{"$f":"Ketrampilan!Q41","v":"B+"},{"$f":"Ketrampilan!BA41","v":"Kompetensi ketrampilan rerata baik. Sudah trampil Atletik, sudah trampil Senam, sudah trampil Bola Volley, sudah trampil Sepak Bola"},{"$f":"Sikap!M34","v":3},{"$f":"Sikap!N34","v":"B"},{"$f":"Sikap!Q34","v":"Kompetensi sikap rerata baik.  Menunjukkan sikap baik dalam spiritual, baik dalam jujur, baik dalam disiplin, baik dalam tanggungjawab, baik dalam toleransi, baik dalam gotong royong, baik dalam santun, baik dalam percaya diri, baik dalam ramah tamah, baik dalam ingin tahu"}]
[22,{"$f":"'Data '!B48","v":9185},{"$f":"'Data '!D48","v":"MUHAMAD FARIS ULIN NUHA"},{"$f":"Pengetahuan!R42","v":77.5},{"$f":"Pengetahuan!S42","v":3.1},{"$f":"Pengetahuan!T42","v":"B"},{"$f":"Pengetahuan!AD42","v":"Kompetensi pengetahuan rerata baik. Menguasai Atletik, menguasai Senam. Menguasai Bola Volley, menguasai Sepak Bola"},{"$f":"Ketrampilan!O42","v":80},{"$f":"Ketrampilan!P42","v":3.2},{"$f":"Ketrampilan!Q42","v":"B+"},{"$f":"Ketrampilan!BA42","v":"Kompetensi ketrampilan rerata baik. Sudah trampil Atletik, sudah trampil Senam, sudah trampil Bola Volley, sudah trampil Sepak Bola"},{"$f":"Sikap!M35","v":3},{"$f":"Sikap!N35","v":"B"},{"$f":"Sikap!Q35","v":"Kompetensi sikap rerata baik.  Menunjukkan sikap baik dalam spiritual, baik dalam jujur, baik dalam disiplin, baik dalam tanggungjawab, baik dalam toleransi, baik dalam gotong royong, baik dalam santun, baik dalam percaya diri, baik dalam ramah tamah, baik dalam ingin tahu"}]
[23,{"$f":"'Data '!B49","v":9322},{"$f":"'Data '!D49","v":"MUHAMMAD MUSTOFA"},{"$f":"Pengetahuan!R43","v":77.5},{"$f":"Pengetahuan!S43","v":3.1},{"$f":"Pengetahuan!T43","v":"B"},{"$f":"Pengetahuan!AD43","v":"Kompetensi pengetahuan rerata baik. Menguasai Atletik, menguasai Senam. Menguasai Bola Volley, menguasai Sepak Bola"},{"$f":"Ketrampilan!O43","v":80},{"$f":"Ketrampilan!P43","v":3.2},{"$f":"Ketrampilan!Q43","v":"B+"},{"$f":"Ketrampilan!BA43","v":"Kompetensi ketrampilan rerata baik. Sudah trampil Atletik, sudah trampil Senam, sudah trampil Bola Volley, sudah trampil Sepak Bola"},{"$f":"Sikap!M36","v":3},{"$f":"Sikap!N36","v":"B"},{"$f":"Sikap!Q36","v":"Kompetensi sikap rerata baik.  Menunjukkan sikap baik dalam spiritual, baik dalam jujur, baik dalam disiplin, baik dalam tanggungjawab, baik dalam toleransi, baik dalam gotong royong, baik dalam santun, baik dalam percaya diri, baik dalam ramah tamah, baik dalam ingin tahu"}]
[24,{"$f":"'Data '!B50","v":9204},{"$f":"'Data '!D50","v":"NANDA WINTYA PUTRI"},{"$f":"Pengetahuan!R44","v":77.5},{"$f":"Pengetahuan!S44","v":3.1},{"$f":"Pengetahuan!T44","v":"B"},{"$f":"Pengetahuan!AD44","v":"Kompetensi pengetahuan rerata baik. Menguasai Atletik, menguasai Senam. Menguasai Bola Volley, menguasai Sepak Bola"},{"$f":"Ketrampilan!O44","v":80},{"$f":"Ketrampilan!P44","v":3.2},{"$f":"Ketrampilan!Q44","v":"B+"},{"$f":"Ketrampilan!BA44","v":"Kompetensi ketrampilan rerata baik. Sudah trampil Atletik, sudah trampil Senam, sudah trampil Bola Volley, sudah trampil Sepak Bola"},{"$f":"Sikap!M37","v":3},{"$f":"Sikap!N37","v":"B"},{"$f":"Sikap!Q37","v":"Kompetensi sikap rerata baik.  Menunjukkan sikap baik dalam spiritual, baik dalam jujur, baik dalam disiplin, baik dalam tanggungjawab, baik dalam toleransi, baik dalam gotong royong, baik dalam santun, baik dalam percaya diri, baik dalam ramah tamah, baik dalam ingin tahu"}]
[25,{"$f":"'Data '!B51","v":9210},{"$f":"'Data '!D51","v":"NI'MA NOVA NUR FADHILAH"},{"$f":"Pengetahuan!R45","v":77.5},{"$f":"Pengetahuan!S45","v":3.1},{"$f":"Pengetahuan!T45","v":"B"},{"$f":"Pengetahuan!AD45","v":"Kompetensi pengetahuan rerata baik. Menguasai Atletik, menguasai Senam. Menguasai Bola Volley, menguasai Sepak Bola"},{"$f":"Ketrampilan!O45","v":80},{"$f":"Ketrampilan!P45","v":3.2},{"$f":"Ketrampilan!Q45","v":"B+"},{"$f":"Ketrampilan!BA45","v":"Kompetensi ketrampilan rerata baik. Sudah trampil Atletik, sudah trampil Senam, sudah trampil Bola Volley, sudah trampil Sepak Bola"},{"$f":"Sikap!M38","v":3},{"$f":"Sikap!N38","v":"B"},{"$f":"Sikap!Q38","v":"Kompetensi sikap rerata baik.  Menunjukkan sikap baik dalam spiritual, baik dalam jujur, baik dalam disiplin, baik dalam tanggungjawab, baik dalam toleransi, baik dalam gotong royong, baik dalam santun, baik dalam percaya diri, baik dalam ramah tamah, baik dalam ingin tahu"}]
[26,{"$f":"'Data '!B52","v":9212},{"$f":"'Data '!D52","v":"NITA ZUMROTUT TAQIYAH"},{"$f":"Pengetahuan!R46","v":77.5},{"$f":"Pengetahuan!S46","v":3.1},{"$f":"Pengetahuan!T46","v":"B"},{"$f":"Pengetahuan!AD46","v":"Kompetensi pengetahuan rerata baik. Menguasai Atletik, menguasai Senam. Menguasai Bola Volley, menguasai Sepak Bola"},{"$f":"Ketrampilan!O46","v":80},{"$f":"Ketrampilan!P46","v":3.2},{"$f":"Ketrampilan!Q46","v":"B+"},{"$f":"Ketrampilan!BA46","v":"Kompetensi ketrampilan rerata baik. Sudah trampil Atletik, sudah trampil Senam, sudah trampil Bola Volley, sudah trampil Sepak Bola"},{"$f":"Sikap!M39","v":3},{"$f":"Sikap!N39","v":"B"},{"$f":"Sikap!Q39","v":"Kompetensi sikap rerata baik.  Menunjukkan sikap baik dalam spiritual, baik dalam jujur, baik dalam disiplin, baik dalam tanggungjawab, baik dalam toleransi, baik dalam gotong royong, baik dalam santun, baik dalam percaya diri, baik dalam ramah tamah, baik dalam ingin tahu"}]
[27,{"$f":"'Data '!B53","v":9234},{"$f":"'Data '!D53","v":"RACHMAT SAPUTRA ANDRIANSYAH"},{"$f":"Pengetahuan!R47","v":77.5},{"$f":"Pengetahuan!S47","v":3.1},{"$f":"Pengetahuan!T47","v":"B"},{"$f":"Pengetahuan!AD47","v":"Kompetensi pengetahuan rerata baik. Menguasai Atletik, menguasai Senam. Menguasai Bola Volley, menguasai Sepak Bola"},{"$f":"Ketrampilan!O47","v":80},{"$f":"Ketrampilan!P47","v":3.2},{"$f":"Ketrampilan!Q47","v":"B+"},{"$f":"Ketrampilan!BA47","v":"Kompetensi ketrampilan rerata baik. Sudah trampil Atletik, sudah trampil Senam, sudah trampil Bola Volley, sudah trampil Sepak Bola"},{"$f":"Sikap!M40","v":3},{"$f":"Sikap!N40","v":"B"},{"$f":"Sikap!Q40","v":"Kompetensi sikap rerata baik.  Menunjukkan sikap baik dalam spiritual, baik dalam jujur, baik dalam disiplin, baik dalam tanggungjawab, baik dalam toleransi, baik dalam gotong royong, baik dalam santun, baik dalam percaya diri, baik dalam ramah tamah, baik dalam ingin tahu"}]
[28,{"$f":"'Data '!B54","v":9255},{"$f":"'Data '!D54","v":"RIZAL ANDRIYAN SAPUTRA"},{"$f":"Pengetahuan!R48","v":77.5},{"$f":"Pengetahuan!S48","v":3.1},{"$f":"Pengetahuan!T48","v":"B"},{"$f":"Pengetahuan!AD48","v":"Kompetensi pengetahuan rerata baik. Menguasai Atletik, menguasai Senam. Menguasai Bola Volley, menguasai Sepak Bola"},{"$f":"Ketrampilan!O48","v":80},{"$f":"Ketrampilan!P48","v":3.2},{"$f":"Ketrampilan!Q48","v":"B+"},{"$f":"Ketrampilan!BA48","v":"Kompetensi ketrampilan rerata baik. Sudah trampil Atletik, sudah trampil Senam, sudah trampil Bola Volley, sudah trampil Sepak Bola"},{"$f":"Sikap!M41","v":3},{"$f":"Sikap!N41","v":"B"},{"$f":"Sikap!Q41","v":"Kompetensi sikap rerata baik.  Menunjukkan sikap baik dalam spiritual, baik dalam jujur, baik dalam disiplin, baik dalam tanggungjawab, baik dalam toleransi, baik dalam gotong royong, baik dalam santun, baik dalam percaya diri, baik dalam ramah tamah, baik dalam ingin tahu"}]
[29,{"$f":"'Data '!B55","v":9265},{"$f":"'Data '!D55","v":"SAIFUL ANNAS"},{"$f":"Pengetahuan!R49","v":77.5},{"$f":"Pengetahuan!S49","v":3.1},{"$f":"Pengetahuan!T49","v":"B"},{"$f":"Pengetahuan!AD49","v":"Kompetensi pengetahuan rerata baik. Menguasai Atletik, menguasai Senam. Menguasai Bola Volley, menguasai Sepak Bola"},{"$f":"Ketrampilan!O49","v":80},{"$f":"Ketrampilan!P49","v":3.2},{"$f":"Ketrampilan!Q49","v":"B+"},{"$f":"Ketrampilan!BA49","v":"Kompetensi ketrampilan rerata baik. Sudah trampil Atletik, sudah trampil Senam, sudah trampil Bola Volley, sudah trampil Sepak Bola"},{"$f":"Sikap!M42","v":3},{"$f":"Sikap!N42","v":"B"},{"$f":"Sikap!Q42","v":"Kompetensi sikap rerata baik.  Menunjukkan sikap baik dalam spiritual, baik dalam jujur, baik dalam disiplin, baik dalam tanggungjawab, baik dalam toleransi, baik dalam gotong royong, baik dalam santun, baik dalam percaya diri, baik dalam ramah tamah, baik dalam ingin tahu"}]
[30,{"$f":"'Data '!B56","v":9270},{"$f":"'Data '!D56","v":"SELINA SEPTIANI"},{"$f":"Pengetahuan!R50","v":77.5},{"$f":"Pengetahuan!S50","v":3.1},{"$f":"Pengetahuan!T50","v":"B"},{"$f":"Pengetahuan!AD50","v":"Kompetensi pengetahuan rerata baik. Menguasai Atletik, menguasai Senam. Menguasai Bola Volley, menguasai Sepak Bola"},{"$f":"Ketrampilan!O50","v":80},{"$f":"Ketrampilan!P50","v":3.2},{"$f":"Ketrampilan!Q50","v":"B+"},{"$f":"Ketrampilan!BA50","v":"Kompetensi ketrampilan rerata baik. Sudah trampil Atletik, sudah trampil Senam, sudah trampil Bola Volley, sudah trampil Sepak Bola"},{"$f":"Sikap!M43","v":3},{"$f":"Sikap!N43","v":"B"},{"$f":"Sikap!Q43","v":"Kompetensi sikap rerata baik.  Menunjukkan sikap baik dalam spiritual, baik dalam jujur, baik dalam disiplin, baik dalam tanggungjawab, baik dalam toleransi, baik dalam gotong royong, baik dalam santun, baik dalam percaya diri, baik dalam ramah tamah, baik dalam ingin tahu"}]
[31,{"$f":"'Data '!B57","v":9275},{"$f":"'Data '!D57","v":"SHALSABILA  SHINTA NIRMALA"},{"$f":"Pengetahuan!R51","v":77.5},{"$f":"Pengetahuan!S51","v":3.1},{"$f":"Pengetahuan!T51","v":"B"},{"$f":"Pengetahuan!AD51","v":"Kompetensi pengetahuan rerata baik. Menguasai Atletik, menguasai Senam. Menguasai Bola Volley, menguasai Sepak Bola"},{"$f":"Ketrampilan!O51","v":80},{"$f":"Ketrampilan!P51","v":3.2},{"$f":"Ketrampilan!Q51","v":"B+"},{"$f":"Ketrampilan!BA51","v":"Kompetensi ketrampilan rerata baik. Sudah trampil Atletik, sudah trampil Senam, sudah trampil Bola Volley, sudah trampil Sepak Bola"},{"$f":"Sikap!M44","v":3},{"$f":"Sikap!N44","v":"B"},{"$f":"Sikap!Q44","v":"Kompetensi sikap rerata baik.  Menunjukkan sikap baik dalam spiritual, baik dalam jujur, baik dalam disiplin, baik dalam tanggungjawab, baik dalam toleransi, baik dalam gotong royong, baik dalam santun, baik dalam percaya diri, baik dalam ramah tamah, baik dalam ingin tahu"}]
[32,{"$f":"'Data '!B58","v":9281},{"$f":"'Data '!D58","v":"SITI CHOIRIATUS SA'ADAH"},{"$f":"Pengetahuan!R52","v":77.5},{"$f":"Pengetahuan!S52","v":3.1},{"$f":"Pengetahuan!T52","v":"B"},{"$f":"Pengetahuan!AD52","v":"Kompetensi pengetahuan rerata baik. Menguasai Atletik, menguasai Senam. Menguasai Bola Volley, menguasai Sepak Bola"},{"$f":"Ketrampilan!O52","v":80},{"$f":"Ketrampilan!P52","v":3.2},{"$f":"Ketrampilan!Q52","v":"B+"},{"$f":"Ketrampilan!BA52","v":"Kompetensi ketrampilan rerata baik. Sudah trampil Atletik, sudah trampil Senam, sudah trampil Bola Volley, sudah trampil Sepak Bola"},{"$f":"Sikap!M45","v":3},{"$f":"Sikap!N45","v":"B"},{"$f":"Sikap!Q45","v":"Kompetensi sikap rerata baik.  Menunjukkan sikap baik dalam spiritual, baik dalam jujur, baik dalam disiplin, baik dalam tanggungjawab, baik dalam toleransi, baik dalam gotong royong, baik dalam santun, baik dalam percaya diri, baik dalam ramah tamah, baik dalam ingin tahu"}]
[33,{"$f":"'Data '!B59","v":9284},{"$f":"'Data '!D59","v":"SITI NURFAN AZIZAH"},{"$f":"Pengetahuan!R53","v":77.5},{"$f":"Pengetahuan!S53","v":3.1},{"$f":"Pengetahuan!T53","v":"B"},{"$f":"Pengetahuan!AD53","v":"Kompetensi pengetahuan rerata baik. Menguasai Atletik, menguasai Senam. Menguasai Bola Volley, menguasai Sepak Bola"},{"$f":"Ketrampilan!O53","v":80},{"$f":"Ketrampilan!P53","v":3.2},{"$f":"Ketrampilan!Q53","v":"B+"},{"$f":"Ketrampilan!BA53","v":"Kompetensi ketrampilan rerata baik. Sudah trampil Atletik, sudah trampil Senam, sudah trampil Bola Volley, sudah trampil Sepak Bola"},{"$f":"Sikap!M46","v":3},{"$f":"Sikap!N46","v":"B"},{"$f":"Sikap!Q46","v":"Kompetensi sikap rerata baik.  Menunjukkan sikap baik dalam spiritual, baik dalam jujur, baik dalam disiplin, baik dalam tanggungjawab, baik dalam toleransi, baik dalam gotong royong, baik dalam santun, baik dalam percaya diri, baik dalam ramah tamah, baik dalam ingin tahu"}]
[34,{"$f":"'Data '!B60","v":9286},{"$f":"'Data '!D60","v":"SITI RAHAYU"},{"$f":"Pengetahuan!R54","v":77.5},{"$f":"Pengetahuan!S54","v":3.1},{"$f":"Pengetahuan!T54","v":"B"},{"$f":"Pengetahuan!AD54","v":"Kompetensi pengetahuan rerata baik. Menguasai Atletik, menguasai Senam. Menguasai Bola Volley, menguasai Sepak Bola"},{"$f":"Ketrampilan!O54","v":80},{"$f":"Ketrampilan!P54","v":3.2},{"$f":"Ketrampilan!Q54","v":"B+"},{"$f":"Ketrampilan!BA54","v":"Kompetensi ketrampilan rerata baik. Sudah trampil Atletik, sudah trampil Senam, sudah trampil Bola Volley, sudah trampil Sepak Bola"},{"$f":"Sikap!M47","v":3},{"$f":"Sikap!N47","v":"B"},{"$f":"Sikap!Q47","v":"Kompetensi sikap rerata baik.  Menunjukkan sikap baik dalam spiritual, baik dalam jujur, baik dalam disiplin, baik dalam tanggungjawab, baik dalam toleransi, baik dalam gotong royong, baik dalam santun, baik dalam percaya diri, baik dalam ramah tamah, baik dalam ingin tahu"}]
[35,{"$f":"'Data '!B61","v":9289},{"$f":"'Data '!D61","v":"STEVIANA PUSPITA SARI"},{"$f":"Pengetahuan!R55","v":77.5},{"$f":"Pengetahuan!S55","v":3.1},{"$f":"Pengetahuan!T55","v":"B"},{"$f":"Pengetahuan!AD55","v":"Kompetensi pengetahuan rerata baik. Menguasai Atletik, menguasai Senam. Menguasai Bola Volley, menguasai Sepak Bola"},{"$f":"Ketrampilan!O55","v":80},{"$f":"Ketrampilan!P55","v":3.2},{"$f":"Ketrampilan!Q55","v":"B+"},{"$f":"Ketrampilan!BA55","v":"Kompetensi ketrampilan rerata baik. Sudah trampil Atletik, sudah trampil Senam, sudah trampil Bola Volley, sudah trampil Sepak Bola"},{"$f":"Sikap!M48","v":3},{"$f":"Sikap!N48","v":"B"},{"$f":"Sikap!Q48","v":"Kompetensi sikap rerata baik.  Menunjukkan sikap baik dalam spiritual, baik dalam jujur, baik dalam disiplin, baik dalam tanggungjawab, baik dalam toleransi, baik dalam gotong royong, baik dalam santun, baik dalam percaya diri, baik dalam ramah tamah, baik dalam ingin tahu"}]
[36,{"$f":"'Data '!B62","v":9290},{"$f":"'Data '!D62","v":"TAN LINGGAR PRAMUDITA"},{"$f":"Pengetahuan!R56","v":77.5},{"$f":"Pengetahuan!S56","v":3.1},{"$f":"Pengetahuan!T56","v":"B"},{"$f":"Pengetahuan!AD56","v":"Kompetensi pengetahuan rerata baik. Menguasai Atletik, menguasai Senam. Menguasai Bola Volley, menguasai Sepak Bola"},{"$f":"Ketrampilan!O56","v":80},{"$f":"Ketrampilan!P56","v":3.2},{"$f":"Ketrampilan!Q56","v":"B+"},{"$f":"Ketrampilan!BA56","v":"Kompetensi ketrampilan rerata baik. Sudah trampil Atletik, sudah trampil Senam, sudah trampil Bola Volley, sudah trampil Sepak Bola"},{"$f":"Sikap!M49","v":3},{"$f":"Sikap!N49","v":"B"},{"$f":"Sikap!Q49","v":"Kompetensi sikap rerata baik.  Menunjukkan sikap baik dalam spiritual, baik dalam jujur, baik dalam disiplin, baik dalam tanggungjawab, baik dalam toleransi, baik dalam gotong royong, baik dalam santun, baik dalam percaya diri, baik dalam ramah tamah, baik dalam ingin tahu"}]
[37,{"$f":"'Data '!B63","v":9291},{"$f":"'Data '!D63","v":"TAUFIK NUR AZIZ DANUARTA"},{"$f":"Pengetahuan!R57","v":77.5},{"$f":"Pengetahuan!S57","v":3.1},{"$f":"Pengetahuan!T57","v":"B"},{"$f":"Pengetahuan!AD57","v":"Kompetensi pengetahuan rerata baik. Menguasai Atletik, menguasai Senam. Menguasai Bola Volley, menguasai Sepak Bola"},{"$f":"Ketrampilan!O57","v":80},{"$f":"Ketrampilan!P57","v":3.2},{"$f":"Ketrampilan!Q57","v":"B+"},{"$f":"Ketrampilan!BA57","v":"Kompetensi ketrampilan rerata baik. Sudah trampil Atletik, sudah trampil Senam, sudah trampil Bola Volley, sudah trampil Sepak Bola"},{"$f":"Sikap!M50","v":3},{"$f":"Sikap!N50","v":"B"},{"$f":"Sikap!Q50","v":"Kompetensi sikap rerata baik.  Menunjukkan sikap baik dalam spiritual, baik dalam jujur, baik dalam disiplin, baik dalam tanggungjawab, baik dalam toleransi, baik dalam gotong royong, baik dalam santun, baik dalam percaya diri, baik dalam ramah tamah, baik dalam ingin tahu"}]
[38,{"$f":"'Data '!B64","v":9293},{"$f":"'Data '!D64","v":"TIARA PUTRI AYUNINGTIAS"},{"$f":"Pengetahuan!R58","v":77.5},{"$f":"Pengetahuan!S58","v":3.1},{"$f":"Pengetahuan!T58","v":"B"},{"$f":"Pengetahuan!AD58","v":"Kompetensi pengetahuan rerata baik. Menguasai Atletik, menguasai Senam. Menguasai Bola Volley, menguasai Sepak Bola"},{"$f":"Ketrampilan!O58","v":80},{"$f":"Ketrampilan!P58","v":3.2},{"$f":"Ketrampilan!Q58","v":"B+"},{"$f":"Ketrampilan!BA58","v":"Kompetensi ketrampilan rerata baik. Sudah trampil Atletik, sudah trampil Senam, sudah trampil Bola Volley, sudah trampil Sepak Bola"},{"$f":"Sikap!M51","v":3},{"$f":"Sikap!N51","v":"B"},{"$f":"Sikap!Q51","v":"Kompetensi sikap rerata baik.  Menunjukkan sikap baik dalam spiritual, baik dalam jujur, baik dalam disiplin, baik dalam tanggungjawab, baik dalam toleransi, baik dalam gotong royong, baik dalam santun, baik dalam percaya diri, baik dalam ramah tamah, baik dalam ingin tahu"}]
[39,{"$f":"'Data '!B65","v":9294},{"$f":"'Data '!D65","v":"TITANIA GAYATRI PRIANJANI"},{"$f":"Pengetahuan!R59","v":77.5},{"$f":"Pengetahuan!S59","v":3.1},{"$f":"Pengetahuan!T59","v":"B"},{"$f":"Pengetahuan!AD59","v":"Kompetensi pengetahuan rerata baik. Menguasai Atletik, menguasai Senam. Menguasai Bola Volley, menguasai Sepak Bola"},{"$f":"Ketrampilan!O59","v":80},{"$f":"Ketrampilan!P59","v":3.2},{"$f":"Ketrampilan!Q59","v":"B+"},{"$f":"Ketrampilan!BA59","v":"Kompetensi ketrampilan rerata baik. Sudah trampil Atletik, sudah trampil Senam, sudah trampil Bola Volley, sudah trampil Sepak Bola"},{"$f":"Sikap!M52","v":3},{"$f":"Sikap!N52","v":"B"},{"$f":"Sikap!Q52","v":"Kompetensi sikap rerata baik.  Menunjukkan sikap baik dalam spiritual, baik dalam jujur, baik dalam disiplin, baik dalam tanggungjawab, baik dalam toleransi, baik dalam gotong royong, baik dalam santun, baik dalam percaya diri, baik dalam ramah tamah, baik dalam ingin tahu"}]
[40,{"$f":"'Data '!B66","v":9296},{"$f":"'Data '!D66","v":"ULFATUN NI'MAH"},{"$f":"Pengetahuan!R60","v":77.5},{"$f":"Pengetahuan!S60","v":3.1},{"$f":"Pengetahuan!T60","v":"B"},{"$f":"Pengetahuan!AD60","v":"Kompetensi pengetahuan rerata baik. Menguasai Atletik, menguasai Senam. Menguasai Bola Volley, menguasai Sepak Bola"},{"$f":"Ketrampilan!O60","v":80},{"$f":"Ketrampilan!P60","v":3.2},{"$f":"Ketrampilan!Q60","v":"B+"},{"$f":"Ketrampilan!BA60","v":"Kompetensi ketrampilan rerata baik. Sudah trampil Atletik, sudah trampil Senam, sudah trampil Bola Volley, sudah trampil Sepak Bola"},{"$f":"Sikap!M53","v":3},{"$f":"Sikap!N53","v":"B"},{"$f":"Sikap!Q53","v":"Kompetensi sikap rerata baik.  Menunjukkan sikap baik dalam spiritual, baik dalam jujur, baik dalam disiplin, baik dalam tanggungjawab, baik dalam toleransi, baik dalam gotong royong, baik dalam santun, baik dalam percaya diri, baik dalam ramah tamah, baik dalam ingin tahu"}]
[41,{"$f":"'Data '!B67","v":0},{"$f":"'Data '!D67","v":0},{"$f":"Pengetahuan!R61","v":""},{"$f":"Pengetahuan!S61","v":""},{"$f":"Pengetahuan!T61","v":""},{"$f":"Pengetahuan!AD61","v":"Kompetensi pengetahuan rerata sangat baik. "},{"$f":"Ketrampilan!O61","v":0},{"$f":"Ketrampilan!P61","v":0},{"$f":"Ketrampilan!Q61","v":"D"},{"$f":"Ketrampilan!BA61","v":""},{"$f":"Sikap!M54","v":""},{"$f":"Sikap!N54","v":"SB"},{"$f":"Sikap!Q54","v":""}]
[42,{"$f":"'Data '!B68","v":0},{"$f":"'Data '!D68","v":0},{"$f":"Pengetahuan!R62","v":""},{"$f":"Pengetahuan!S62","v":""},{"$f":"Pengetahuan!T62","v":""},{"$f":"Pengetahuan!AD62","v":"Kompetensi pengetahuan rerata sangat baik. "},{"$f":"Ketrampilan!O62","v":0},{"$f":"Ketrampilan!P62","v":0},{"$f":"Ketrampilan!Q62","v":"D"},{"$f":"Ketrampilan!BA62","v":""},{"$f":"Sikap!M55","v":""},{"$f":"Sikap!N55","v":"SB"},{"$f":"Sikap!Q55","v":""}]
[43,{"$f":"'Data '!B69","v":0},{"$f":"'Data '!D69","v":0},{"$f":"Pengetahuan!R63","v":""},{"$f":"Pengetahuan!S63","v":""},{"$f":"Pengetahuan!T63","v":""},{"$f":"Pengetahuan!AD63","v":"Kompetensi pengetahuan rerata sangat baik. "},{"$f":"Ketrampilan!O63","v":0},{"$f":"Ketrampilan!P63","v":0},{"$f":"Ketrampilan!Q63","v":"D"},{"$f":"Ketrampilan!BA63","v":""},{"$f":"Sikap!M56","v":""},{"$f":"Sikap!N56","v":"SB"},{"$f":"Sikap!Q56","v":""}]
[44,{"$f":"'Data '!B70","v":0},{"$f":"'Data '!D70","v":0},{"$f":"Pengetahuan!R64","v":""},{"$f":"Pengetahuan!S64","v":""},{"$f":"Pengetahuan!T64","v":""},{"$f":"Pengetahuan!AD64","v":"Kompetensi pengetahuan rerata sangat baik. "},{"$f":"Ketrampilan!O64","v":0},{"$f":"Ketrampilan!P64","v":0},{"$f":"Ketrampilan!Q64","v":"D"},{"$f":"Ketrampilan!BA64","v":""},{"$f":"Sikap!M57","v":""},{"$f":"Sikap!N57","v":"SB"},{"$f":"Sikap!Q57","v":""}]
[45,{"$f":"'Data '!B71","v":0},{"$f":"'Data '!D71","v":0},{"$f":"Pengetahuan!R65","v":""},{"$f":"Pengetahuan!S65","v":""},{"$f":"Pengetahuan!T65","v":""},{"$f":"Pengetahuan!AD65","v":"Kompetensi pengetahuan rerata sangat baik. "},{"$f":"Ketrampilan!O65","v":0},{"$f":"Ketrampilan!P65","v":0},{"$f":"Ketrampilan!Q65","v":"D"},{"$f":"Ketrampilan!BA65","v":""},{"$f":"Sikap!M58","v":""},{"$f":"Sikap!N58","v":"SB"},{"$f":"Sikap!Q58","v":""}]
[46,{"$f":"'Data '!B72","v":0},{"$f":"'Data '!D72","v":0},{"$f":"Pengetahuan!R66","v":""},{"$f":"Pengetahuan!S66","v":""},{"$f":"Pengetahuan!T66","v":""},{"$f":"Pengetahuan!AD66","v":"Kompetensi pengetahuan rerata sangat baik. "},{"$f":"Ketrampilan!O66","v":0},{"$f":"Ketrampilan!P66","v":0},{"$f":"Ketrampilan!Q66","v":"D"},{"$f":"Ketrampilan!BA66","v":""},{"$f":"Sikap!M59","v":""},{"$f":"Sikap!N59","v":"SB"},{"$f":"Sikap!Q59","v":""}]
[47,{"$f":"'Data '!B73","v":0},{"$f":"'Data '!D73","v":0},{"$f":"Pengetahuan!R67","v":""},{"$f":"Pengetahuan!S67","v":""},{"$f":"Pengetahuan!T67","v":""},{"$f":"Pengetahuan!AD67","v":"Kompetensi pengetahuan rerata sangat baik. "},{"$f":"Ketrampilan!O67","v":0},{"$f":"Ketrampilan!P67","v":0},{"$f":"Ketrampilan!Q67","v":"D"},{"$f":"Ketrampilan!BA67","v":""},{"$f":"Sikap!M60","v":""},{"$f":"Sikap!N60","v":"SB"},{"$f":"Sikap!Q60","v":""}]
[48,{"$f":"'Data '!B74","v":0},{"$f":"'Data '!D74","v":0},{"$f":"Pengetahuan!R68","v":""},{"$f":"Pengetahuan!S68","v":""},{"$f":"Pengetahuan!T68","v":""},{"$f":"Pengetahuan!AD68","v":"Kompetensi pengetahuan rerata sangat baik. "},{"$f":"Ketrampilan!O68","v":0},{"$f":"Ketrampilan!P68","v":0},{"$f":"Ketrampilan!Q68","v":"D"},{"$f":"Ketrampilan!BA68","v":""},{"$f":"Sikap!M61","v":""},{"$f":"Sikap!N61","v":"SB"},{"$f":"Sikap!Q61","v":""}]
[49,{"$f":"'Data '!B75","v":0},{"$f":"'Data '!D75","v":0},{"$f":"Pengetahuan!R69","v":""},{"$f":"Pengetahuan!S69","v":""},{"$f":"Pengetahuan!T69","v":""},{"$f":"Pengetahuan!AD69","v":"Kompetensi pengetahuan rerata sangat baik. "},{"$f":"Ketrampilan!O69","v":0},{"$f":"Ketrampilan!P69","v":0},{"$f":"Ketrampilan!Q69","v":"D"},{"$f":"Ketrampilan!BA69","v":""},{"$f":"Sikap!M62","v":""},{"$f":"Sikap!N62","v":"SB"},{"$f":"Sikap!Q62","v":""}]
[50,{"$f":"'Data '!B76","v":0},{"$f":"'Data '!D76","v":0},{"$f":"Pengetahuan!R70","v":81.25},{"$f":"Pengetahuan!S70","v":3.25},{"$f":"Pengetahuan!T70","v":"B+"},{"$f":"Pengetahuan!AD70","v":"Kompetensi pengetahuan rerata baik. Menguasai Atletik"},{"$f":"Ketrampilan!O70","v":70},{"$f":"Ketrampilan!P70","v":2.8},{"$f":"Ketrampilan!Q70","v":"B-"},{"$f":"Ketrampilan!BA70","v":"Kompetensi ketrampilan rerata baik. Masih perlu latihan AtletikFALSE"},{"$f":"Sikap!M63","v":""},{"$f":"Sikap!N63","v":"SB"},{"$f":"Sikap!Q63","v":""}]
[null,null,"Nilai Rata-rata",{"$f":"IFERROR(AVERAGE(D14:D63),\"  \")","v":77.591463414634148},{"$f":"IFERROR(AVERAGE(E14:E63),\"  \")","v":3.1036585365853639},"",null,{"$f":"IFERROR(AVERAGE(H14:H63),\"  \")","v":65.400000000000006},2.6160000000000014,"",null,{"$f":"IFERROR(AVERAGE(L14:L63),\"  \")","v":3},""]
[]
[]
[null,null,"Mengetahui:",null,null,null,null,null,null,null,{"$f":"'Data '!D21","v":"Blora, 20 Desember 2014"}]
[null,null,{"$f":"\"Ka. \"&'Data '!D7","v":"Ka. SMP Negeri 6 Blora"},null,null,null,null,null,null,null,"Guru Mata Pelajaran"]
[]
[]
[]
[null,null,{"$f":"'Data '!D15","v":"Suparno, S.Pd.,M.Hum"},null,null,null,null,null,null,null,{"$f":"Home!E12","v":"Drs. Sarid Nugroho"}]
[null,null,{"$f":"'Data '!D16","v":"NIP. 19620712 198403 1 012"},null,null,null,null,null,null,null,{"$f":"Home!E14","v":"NIP. 19631223 198803 1 004"}]

{"sheet":"Obs","index":15,"n_rows":92,"n_cols":53,"rows_kept":92,"cut":false,"hidden":false,"merged":[[17,52,19,52],[20,52,21,52],[11,50,11,52],[10,42,11,42],[10,43,11,43],[10,47,11,47],[10,0,11,0],[10,44,11,44],[10,30,11,30],[10,31,11,31],[10,26,11,26],[10,27,11,27],[10,18,11,18],[10,19,11,19],[10,3,11,3],[10,2,11,2],[10,6,11,6],[10,7,11,7],[10,22,11,22],[10,23,11,23],[10,10,11,10],[10,11,11,11],[10,14,11,14],[10,15,11,15],[7,5,7,9],[8,5,8,17],[0,1,0,44],[1,1,1,44],[2,1,2,44],[7,29,7,33],[7,37,7,42],[7,43,7,44],[6,29,6,33],[6,37,6,42],[3,1,4,44],[6,21,6,25],[6,5,6,17],[7,17,7,25]]}
[null,{"$f":"UPPER('Data '!D10)","v":"PEMERINTAH KABUPATEN BLORA"}]
[null,{"$f":"UPPER('Data '!D6)","v":"DINAS PENDIDIKAN PEMUDA DAN OLAHRAGA"}]
[null,{"$f":"UPPER('Data '!D7)","v":"SMP NEGERI 6 BLORA"}]
[null,"REKAP NILAI OBSERVASI"]
[]
[]
[null,"Mata Pelajaran :",null,null,null,{"$f":"Home!E16","v":"PJOK"},null,null,null,null,null,null,null,null,null,null,null,null,null,null,null,"Semester  :",null,null,null,null,null,null,null,{"$f":"'Data '!D14","v":"Ganjil"},null,null,null,null,null,null,null,"KKM  :",null,null,null,null,null,{"$f":"Home!E26","v":3}]
[null,"Kelas :",null,null,null,{"$f":"Home!E18","v":"VII-A"},null,null,null,null,null,null,null,null,null,null,null,"Tahun Pelajaran :",null,null,null,null,null,null,null,null,null,null,null,{"$f":"'Data '!D13","v":"2014/2015"},null,null,null,null,null,null,null,"Wali Kelas :",null,null,null,null,null,{"$f":"'Data '!D17","v":"Mundari, S.Pd."}]
[null,"Aspek :",null,null,null,"Sikap: Observasi"]
[]
["No. ","Sikap","Spir-1","Spir-2","Spiritual",{"$f":"'Obs 1'!C11","v":"spiritual"},"Jujur 1","Jujur 2",null,{"$f":"'Obs 1'!D11","v":"jujur"},"Disiplin-1","Disiplin-2",null,{"$f":"'Obs 1'!E11","v":"disiplin"},"Tgjwb-1","Tgjwb-2",null,{"$f":"'Obs 1'!F11","v":"tanggungjawab"},"Toleran -1","Toleran-2",null,{"$f":"'Obs 1'!G11","v":"toleransi"},"Gotory-1","Gotroy-2",null,{"$f":"'Obs 1'!H11","v":"gotong royong"},"Santun-1","Santun-2",null,{"$f":"'Obs 1'!I11","v":"santun"},"P.Diri - 1","P. Diri -2",null,{"$f":"'Obs 1'!J11","v":"percaya diri"},1,2,"rerata",{"$f":"'Obs 1'!K11","v":"ramah tamah"},1,2,"rerata",{"$f":"'Obs 1'!L11","v":"ingin tahu"},"Modus","Nilai","Keterangan",null,null,"Deskripsi"]
[null,"Nama",null,null,null,null,null,null,null,null,null,null,null,null,null,null,null,null,null,null,null,null,null,null,null,null,null,null,null,null,null,null,null,null,null,null,null,null,null,null,null,null,null,null,null,null,null,null,null,null,"SIKAP"]
[1,{"$f":"'Data '!D27","v":"AHMAD ALEK BRIYANSAPUTRA"},{"$f":"'Obs 1'!C13","v":3},{"$f":"'Obs2'!C13","v":3},{"$f":"IFERROR(AVERAGE(C13:D13),\"  \")","v":3},{"$f":"E13","v":3},{"$f":"'Obs 1'!D13","v":3},{"$f":"'Obs2'!D13","v":3},{"$f":"IFERROR(AVERAGE(G13:H13),\"  \")","v":3},{"$f":"I13","v":3},{"$f":"'Obs 1'!E13","v":3},{"$f":"'Obs2'!E13","v":3},{"$f":"IFERROR(AVERAGE(K13:L13),\"  \")","v":3},{"$f":"M13","v":3},{"$f":"'Obs 1'!F13","v":3},{"$f":"'Obs2'!F13","v":3},{"$f":"IFERROR(AVERAGE(O13:P13),\"  \")","v":3},{"$f":"Q13","v":3},{"$f":"'Obs 1'!G13","v":3},{"$f":"'Obs2'!G13","v":3},{"$f":"IFERROR(AVERAGE(S13:T13),\"  \")","v":3},{"$f":"U13","v":3},{"$f":"'Obs 1'!H13","v":3},{"$f":"'Obs2'!H13","v":3},{"$f":"IFERROR(AVERAGE(W13:X13),\"  \")","v":3},{"$f":"Y13","v":3},{"$f":"'Obs 1'!I13","v":3},{"$f":"'Obs2'!I13","v":3},{"$f":"IFERROR(AVERAGE(AA13:AB13),\"  \")","v":3},{"$f":"AC13","v":3},{"$f":"'Obs 1'!J13","v":3},{"$f":"'Obs2'!J13","v":3},{"$f":"IFERROR(AVERAGE(AE13:AF13),\"  \")","v":3},{"$f":"AG13","v":3},{"$f":"'Obs 1'!K13","v":3},{"$f":"'Obs2'!K13","v":3},{"$f":"IFERROR(AVERAGE(AH13:AI13),\"  \")","v":3},{"$f":"AK13","v":3},{"$f":"'Obs 1'!L13","v":3},{"$f":"'Obs2'!L13","v":3},{"$f":"IFERROR(AVERAGE(AM13:AN13),\"  \")","v":3},{"$f":"AO13","v":3},{"$f":"IFERROR(MODE(F13:AL13),\"  \")","v":3},{"$f":"IF(AQ13=\"  \",\"  \",IF(AQ13>=$AZ$13,\"SB\",IF(AQ13>=$AZ$14,\"B\",IF(AQ13>=$AZ$13,\"C\",\"K\"))))","v":"B"},{"$f":"IF(AQ13=\"  \",\"  \",IF(AQ13>=$AR$7,\"Tuntas\",\"Tidak Tuntas\"))","v":"Tuntas"},null,null,{"$f":"CONCATENATE(IF(F13=\"  \",\"  \",IF(F13>=$AZ$13,\"Menunjukkan sikap sangat baik dalam \"&$F$11,IF(F13>=$AZ$14,\"Menunjukkan sikap baik dalam \"&$F$11,IF(F13>=1,\"Perlu bimbingan dalam \"&$F$11)))),IF(J13=\"  \",\"  \",IF(J13>=$AZ$13,\", sangat baik dalam \"&$J$11,IF(J13>=$AZ$14,\", baik dalam \"&$J$11,IF(J13>=1,\", perlu bimbingan dalam \"&$J$11)))),IF(N13=\"  \",\"  \",IF(N13>=$AZ$13,\", sangat baik dalam \"&$N$11,IF(N13>=$AZ$14,\", baik dalam \"&$N$11,IF(N13>=1,\", perlu bimbingan dalam \"&$N$11)))),IF(R13=\"  \",\"  \",IF(R13>=$AZ$13,\", sangat baik dalam \"&$R$11,IF(R13>=$AZ$14,\", baik dalam \"&$R$11,IF(R13>=1,\", perlu bimbingan dalam \"&$R$11)))),IF(V13=\"  \",\"  \",IF(V13>=$AZ$13,\", sangat baik dalam \"&$V$11,IF(V13>=$AZ$14,\", baik dalam \"&$V$11,IF(V13>=1,\", perlu bimbingan dalam \"&$V$11)))),IF(Z13=\"  \",\"  \",IF(Z13>=$AZ$13,\", sangat baik dalam \"&$Z$11,IF(Z13>=$AZ$14,\", baik dalam \"&$Z$11,IF(Z13>=1,\", perlu bimbingan dalam \"&$Z$11)))),IF(AD13=\"  \",\"  \",IF(AD13>=$AZ$13,\", sangat baik dalam \"&$AD$11,IF(AD13>=$AZ$14,\", baik dalam \"&$AD$11,IF(AD13>=1,\", perlu bimbingan dalam \"&$AD$11)))),IF(AH13=\"  \",\"  \",IF(AH13>=$AZ$13,\", sangat baik dalam \"&$AH$11,IF(AH13>=$AZ$14,\", baik dalam \"&$AH$11,IF(AH13>=1,\", perlu bimbingan dalam \"&$AH$11)))),IF(AL13=\"  \",\"  \",IF(AL13>=$AZ$13,\", sangat baik dalam \"&$AL$11,IF(AL13>=$AZ$14,\", baik dalam \"&$AL$11,IF(AL13>=1,\", perlu bimbingan dalam \"&$AL$11)))),IF(AP13=\"  \",\"  \",IF(AP13>=$AZ$13,\", sangat baik dalam \"&$AP$11,IF(AP13>=$AZ$14,\", baik dalam \"&$AP$11,IF(AP13>=1,\", perlu bimbingan dalam \"&$AP$11)))))","v":"Menunjukkan sikap baik dalam spiritual, baik dalam jujur, baik dalam disiplin, baik dalam tanggungjawab, baik dalam toleransi, baik dalam gotong royong, baik dalam santun, baik dalam percaya diri, baik dalam ramah tamah, baik dalam ingin tahu"},null,null,">",{"$f":"'Data '!M20","v":4},"SB"]
[2,{"$f":"'Data '!D28","v":"AULIA AYU FATINA"},{"$f":"'Obs 1'!C14","v":3},{"$f":"'Obs2'!C14","v":3},{"$f":"IFERROR(AVERAGE(C14:D14),\"  \")","v":3},{"$f":"E14","v":3},{"$f":"'Obs 1'!D14","v":3},{"$f":"'Obs2'!D14","v":3},{"$f":"IFERROR(AVERAGE(G14:H14),\"  \")","v":3},{"$f":"I14","v":3},{"$f":"'Obs 1'!E14","v":3},{"$f":"'Obs2'!E13","v":3},{"$f":"IFERROR(AVERAGE(K14:L14),\"  \")","v":3},{"$f":"M14","v":3},{"$f":"'Obs 1'!F14","v":3},{"$f":"'Obs2'!F14","v":3},{"$f":"IFERROR(AVERAGE(O14:P14),\"  \")","v":3},{"$f":"Q14","v":3},{"$f":"'Obs 1'!G14","v":3},{"$f":"'Obs2'!G14","v":3},{"$f":"IFERROR(AVERAGE(S14:T14),\"  \")","v":3},{"$f":"U14","v":3},{"$f":"'Obs 1'!H14","v":3},{"$f":"'Obs2'!H14","v":3},{"$f":"IFERROR(AVERAGE(W14:X14),\"  \")","v":3},{"$f":"Y14","v":3},{"$f":"'Obs 1'!I14","v":3},{"$f":"'Obs2'!I14","v":3},{"$f":"IFERROR(AVERAGE(AA14:AB14),\"  \")","v":3},{"$f":"AC14","v":3},{"$f":"'Obs 1'!J14","v":3},{"$f":"'Obs2'!J14","v":3},{"$f":"IFERROR(AVERAGE(AE14:AF14),\"  \")","v":3},{"$f":"AG14","v":3},{"$f":"'Obs 1'!K14","v":3},{"$f":"'Obs2'!K14","v":3},{"$f":"IFERROR(AVERAGE(AH14:AI14),\"  \")","v":3},{"$f":"AK14","v":3},{"$f":"'Obs 1'!L14","v":3},{"$f":"'Obs2'!L14","v":3},{"$f":"IFERROR(AVERAGE(AM14:AN14),\"  \")","v":3},{"$f":"AO14","v":3},{"$f":"IFERROR(MODE(F14:AL14),\"  \")","v":3},{"$f":"IF(AQ14=\"  \",\"  \",IF(AQ14>=$AZ$13,\"SB\",IF(AQ14>=$AZ$14,\"B\",IF(AQ14>=$AZ$13,\"C\",\"K\"))))","v":"B"},{"$f":"IF(AQ14=\"  \",\"  \",IF(AQ14>=$AR$7,\"Tuntas\",\"Tidak Tuntas\"))","v":"Tuntas"},null,null,{"$f":"CONCATENATE(IF(F14=\"  \",\"  \",IF(F14>=$AZ$13,\"Menunjukkan sikap sangat baik dalam \"&$F$11,IF(F14>=$AZ$14,\"Menunjukkan sikap baik dalam \"&$F$11,IF(F14>=1,\"Perlu bimbingan dalam \"&$F$11)))),IF(J14=\"  \",\"  \",IF(J14>=$AZ$13,\", sangat baik dalam \"&$J$11,IF(J14>=$AZ$14,\", baik dalam \"&$J$11,IF(J14>=1,\", perlu bimbingan dalam \"&$J$11)))),IF(N14=\"  \",\"  \",IF(N14>=$AZ$13,\", sangat baik dalam \"&$N$11,IF(N14>=$AZ$14,\", baik dalam \"&$N$11,IF(N14>=1,\", perlu bimbingan dalam \"&$N$11)))),IF(R14=\"  \",\"  \",IF(R14>=$AZ$13,\", sangat baik dalam \"&$R$11,IF(R14>=$AZ$14,\", baik dalam \"&$R$11,IF(R14>=1,\", perlu bimbingan dalam \"&$R$11)))),IF(V14=\"  \",\"  \",IF(V14>=$AZ$13,\", sangat baik dalam \"&$V$11,IF(V14>=$AZ$14,\", baik dalam \"&$V$11,IF(V14>=1,\", perlu bimbingan dalam \"&$V$11)))),IF(Z14=\"  \",\"  \",IF(Z14>=$AZ$13,\", sangat baik dalam \"&$Z$11,IF(Z14>=$AZ$14,\", baik dalam \"&$Z$11,IF(Z14>=1,\", perlu bimbingan dalam \"&$Z$11)))),IF(AD14=\"  \",\"  \",IF(AD14>=$AZ$13,\", sangat baik dalam \"&$AD$11,IF(AD14>=$AZ$14,\", baik dalam \"&$AD$11,IF(AD14>=1,\", perlu bimbingan dalam \"&$AD$11)))),IF(AH14=\"  \",\"  \",IF(AH14>=$AZ$13,\", sangat baik dalam \"&$AH$11,IF(AH14>=$AZ$14,\", baik dalam \"&$AH$11,IF(AH14>=1,\", perlu bimbingan dalam \"&$AH$11)))),IF(AL14=\"  \",\"  \",IF(AL14>=$AZ$13,\", sangat baik dalam \"&$AL$11,IF(AL14>=$AZ$14,\", baik dalam \"&$AL$11,IF(AL14>=1,\", perlu bimbingan dalam \"&$AL$11)))),IF(AP14=\"  \",\"  \",IF(AP14>=$AZ$13,\", sangat baik dalam \"&$AP$11,IF(AP14>=$AZ$14,\", baik dalam \"&$AP$11,IF(AP14>=1,\", perlu bimbingan dalam \"&$AP$11)))))","v":"Menunjukkan sikap baik dalam spiritual, baik dalam jujur, baik dalam disiplin, baik dalam tanggungjawab, baik dalam toleransi, baik dalam gotong royong, baik dalam santun, baik dalam percaya diri, baik dalam ramah tamah, baik dalam ingin tahu"},null,null,">",{"$f":"'Data '!M22","v":3},"B"]
[3,{"$f":"'Data '!D29","v":"BAGAS YULANDRA PUTRA"},{"$f":"'Obs 1'!C15","v":3},{"$f":"'Obs2'!C15","v":3},3,3,{"$f":"'Obs 1'!D15","v":3},{"$f":"'Obs2'!D15","v":3},3,3,{"$f":"'Obs 1'!E15","v":3},{"$f":"'Obs2'!E15","v":3},3,3,{"$f":"'Obs 1'!F15","v":3},{"$f":"'Obs2'!F15","v":3},3,3,{"$f":"'Obs 1'!G15","v":3},{"$f":"'Obs2'!G15","v":3},3,3,{"$f":"'Obs 1'!H15","v":3},{"$f":"'Obs2'!H15","v":3},3,3,{"$f":"'Obs 1'!I15","v":3},{"$f":"'Obs2'!I15","v":3},3,3,{"$f":"'Obs 1'!J15","v":3},{"$f":"'Obs2'!J15","v":3},3,3,{"$f":"'Obs 1'!K15","v":3},{"$f":"'Obs2'!K15","v":3},3,3,{"$f":"'Obs 1'!L15","v":3},{"$f":"'Obs2'!L15","v":3},3,3,3,"B","Tuntas",null,null,"Menunjukkan sikap baik dalam spiritual, baik dalam jujur, baik dalam disiplin, baik dalam tanggungjawab, baik dalam toleransi, baik dalam gotong royong, baik dalam santun, baik dalam percaya diri, baik dalam ramah tamah, baik dalam ingin tahu",null,null,">",{"$f":"'Data '!M25","v":2},"C"]
[4,{"$f":"'Data '!D30","v":"CYNTIA AGUSTINA"},{"$f":"'Obs 1'!C16","v":3},{"$f":"'Obs2'!C16","v":3},3,3,{"$f":"'Obs 1'!D16","v":3},{"$f":"'Obs2'!D16","v":3},3,3,{"$f":"'Obs 1'!E16","v":3},{"$f":"'Obs2'!E16","v":3},3,3,{"$f":"'Obs 1'!F16","v":3},{"$f":"'Obs2'!F16","v":3},3,3,{"$f":"'Obs 1'!G16","v":3},{"$f":"'Obs2'!G16","v":3},3,3,{"$f":"'Obs 1'!H16","v":3},{"$f":"'Obs2'!H16","v":3},3,3,{"$f":"'Obs 1'!I16","v":3},{"$f":"'Obs2'!I16","v":3},3,3,{"$f":"'Obs 1'!J16","v":3},{"$f":"'Obs2'!J16","v":3},3,3,{"$f":"'Obs 1'!K16","v":3},{"$f":"'Obs2'!K16","v":3},3,3,{"$f":"'Obs 1'!L16","v":3},{"$f":"'Obs2'!L16","v":3},3,3,3,"B","Tuntas",null,null,"Menunjukkan sikap baik dalam spiritual, baik dalam jujur, baik dalam disiplin, baik dalam tanggungjawab, baik dalam toleransi, baik dalam gotong royong, baik dalam santun, baik dalam percaya diri, baik dalam ramah tamah, baik dalam ingin tahu",null,null,">",{"$f":"'Data '!M28","v":1},"K"]
[5,{"$f":"'Data '!D31","v":"DAFFA KRISNA PRAMUDYA"},{"$f":"'Obs 1'!C17","v":3},{"$f":"'Obs2'!C17","v":3},3,3,{"$f":"'Obs 1'!D17","v":3},{"$f":"'Obs2'!D17","v":3},3,3,{"$f":"'Obs 1'!E17","v":3},{"$f":"'Obs2'!E17","v":3},3,3,{"$f":"'Obs 1'!F17","v":3},{"$f":"'Obs2'!F17","v":3},3,3,{"$f":"'Obs 1'!G17","v":3},{"$f":"'Obs2'!G17","v":3},3,3,{"$f":"'Obs 1'!H17","v":3},{"$f":"'Obs2'!H17","v":3},3,3,{"$f":"'Obs 1'!I17","v":3},{"$f":"'Obs2'!I17","v":3},3,3,{"$f":"'Obs 1'!J17","v":3},{"$f":"'Obs2'!J17","v":3},3,3,{"$f":"'Obs 1'!K17","v":3},{"$f":"'Obs2'!K17","v":3},3,3,{"$f":"'Obs 1'!L17","v":3},{"$f":"'Obs2'!L17","v":3},3,3,3,"B","Tuntas",null,null,"Menunjukkan sikap baik dalam spiritual, baik dalam jujur, baik dalam disiplin, baik dalam tanggungjawab, baik dalam toleransi, baik dalam gotong royong, baik dalam santun, baik dalam percaya diri, baik dalam ramah tamah, baik dalam ingin tahu"]
[6,{"$f":"'Data '!D32","v":"DANINDRA RAFIF IRAWAN"},{"$f":"'Obs 1'!C18","v":3},{"$f":"'Obs2'!C18","v":3},3,3,{"$f":"'Obs 1'!D18","v":3},{"$f":"'Obs2'!D18","v":3},3,3,{"$f":"'Obs 1'!E18","v":3},{"$f":"'Obs2'!E18","v":3},3,3,{"$f":"'Obs 1'!F18","v":3},{"$f":"'Obs2'!F18","v":3},3,3,{"$f":"'Obs 1'!G18","v":3},{"$f":"'Obs2'!G18","v":3},3,3,{"$f":"'Obs 1'!H18","v":3},{"$f":"'Obs2'!H18","v":3},3,3,{"$f":"'Obs 1'!I18","v":3},{"$f":"'Obs2'!I18","v":3},3,3,{"$f":"'Obs 1'!J18","v":3},{"$f":"'Obs2'!J18","v":3},3,3,{"$f":"'Obs 1'!K18","v":3},{"$f":"'Obs2'!K18","v":3},3,3,{"$f":"'Obs 1'!L18","v":3},{"$f":"'Obs2'!L18","v":3},3,3,3,"B","Tuntas",null,null,"Menunjukkan sikap baik dalam spiritual, baik dalam jujur, baik dalam disiplin, baik dalam tanggungjawab, baik dalam toleransi, baik dalam gotong royong, baik dalam santun, baik dalam percaya diri, baik dalam ramah tamah, baik dalam ingin tahu"]
[7,{"$f":"'Data '!D33","v":"DENI PRATAMA"},{"$f":"'Obs 1'!C19","v":3},{"$f":"'Obs2'!C19","v":3},3,3,{"$f":"'Obs 1'!D19","v":3},{"$f":"'Obs2'!D19","v":3},3,3,{"$f":"'Obs 1'!E19","v":3},{"$f":"'Obs2'!E19","v":3},3,3,{"$f":"'Obs 1'!F19","v":3},{"$f":"'Obs2'!F19","v":3},3,3,{"$f":"'Obs 1'!G19","v":3},{"$f":"'Obs2'!G19","v":3},3,3,{"$f":"'Obs 1'!H19","v":3},{"$f":"'Obs2'!H19","v":3},3,3,{"$f":"'Obs 1'!I19","v":3},{"$f":"'Obs2'!I19","v":3},3,3,{"$f":"'Obs 1'!J19","v":3},{"$f":"'Obs2'!J19","v":3},3,3,{"$f":"'Obs 1'!K19","v":3},{"$f":"'Obs2'!K19","v":3},3,3,{"$f":"'Obs 1'!L19","v":3},{"$f":"'Obs2'!L19","v":3},3,3,3,"B","Tuntas",null,null,"Menunjukkan sikap baik dalam spiritual, baik dalam jujur, baik dalam disiplin, baik dalam tanggungjawab, baik dalam toleransi, baik dalam gotong royong, baik dalam santun, baik dalam percaya diri, baik dalam ramah tamah, baik dalam ingin tahu"]
[8,{"$f":"'Data '!D34","v":"DIKA SUKMA AGUSTIN"},{"$f":"'Obs 1'!C20","v":3},{"$f":"'Obs2'!C20","v":3},3,3,{"$f":"'Obs 1'!D20","v":3},{"$f":"'Obs2'!D20","v":3},3,3,{"$f":"'Obs 1'!E20","v":3},{"$f":"'Obs2'!E20","v":3},3,3,{"$f":"'Obs 1'!F20","v":3},{"$f":"'Obs2'!F20","v":3},3,3,{"$f":"'Obs 1'!G20","v":3},{"$f":"'Obs2'!G20","v":3},3,3,{"$f":"'Obs 1'!H20","v":3},{"$f":"'Obs2'!H20","v":3},3,3,{"$f":"'Obs 1'!I20","v":3},{"$f":"'Obs2'!I20","v":3},3,3,{"$f":"'Obs 1'!J20","v":3},{"$f":"'Obs2'!J20","v":3},3,3,{"$f":"'Obs 1'!K20","v":3},{"$f":"'Obs2'!K20","v":3},3,3,{"$f":"'Obs 1'!L20","v":3},{"$f":"'Obs2'!L20","v":3},3,3,3,"B","Tuntas",null,null,"Menunjukkan sikap baik dalam spiritual, baik dalam jujur, baik dalam disiplin, baik dalam tanggungjawab, baik dalam toleransi, baik dalam gotong royong, baik dalam santun, baik dalam percaya diri, baik dalam ramah tamah, baik dalam ingin tahu"]
[9,{"$f":"'Data '!D35","v":"DIVA ADITYA"},{"$f":"'Obs 1'!C21","v":3},{"$f":"'Obs2'!C21","v":3},3,3,{"$f":"'Obs 1'!D21","v":3},{"$f":"'Obs2'!D21","v":3},3,3,{"$f":"'Obs 1'!E21","v":3},{"$f":"'Obs2'!E21","v":3},3,3,{"$f":"'Obs 1'!F21","v":3},{"$f":"'Obs2'!F21","v":3},3,3,{"$f":"'Obs 1'!G21","v":3},{"$f":"'Obs2'!G21","v":3},3,3,{"$f":"'Obs 1'!H21","v":3},{"$f":"'Obs2'!H21","v":3},3,3,{"$f":"'Obs 1'!I21","v":3},{"$f":"'Obs2'!I21","v":3},3,3,{"$f":"'Obs 1'!J21","v":3},{"$f":"'Obs2'!J21","v":3},3,3,{"$f":"'Obs 1'!K21","v":3},{"$f":"'Obs2'!K21","v":3},3,3,{"$f":"'Obs 1'!L21","v":3},{"$f":"'Obs2'!L21","v":3},3,3,3,"B","Tuntas",null,null,"Menunjukkan sikap baik dalam spiritual, baik dalam jujur, baik dalam disiplin, baik dalam tanggungjawab, baik dalam toleransi, baik dalam gotong royong, baik dalam santun, baik dalam percaya diri, baik dalam ramah tamah, baik dalam ingin tahu"]
[10,{"$f":"'Data '!D36","v":"EKO PRASTYO"},{"$f":"'Obs 1'!C22","v":3},{"$f":"'Obs2'!C22","v":3},3,3,{"$f":"'Obs 1'!D22","v":3},{"$f":"'Obs2'!D22","v":3},3,3,{"$f":"'Obs 1'!E22","v":3},{"$f":"'Obs2'!E22","v":3},3,3,{"$f":"'Obs 1'!F22","v":3},{"$f":"'Obs2'!F22","v":3},3,3,{"$f":"'Obs 1'!G22","v":3},{"$f":"'Obs2'!G22","v":3},3,3,{"$f":"'Obs 1'!H22","v":3},{"$f":"'Obs2'!H22","v":3},3,3,{"$f":"'Obs 1'!I22","v":3},{"$f":"'Obs2'!I22","v":3},3,3,{"$f":"'Obs 1'!J22","v":3},{"$f":"'Obs2'!J22","v":3},3,3,{"$f":"'Obs 1'!K22","v":3},{"$f":"'Obs2'!K22","v":3},3,3,{"$f":"'Obs 1'!L22","v":3},{"$f":"'Obs2'!L22","v":3},3,3,3,"B","Tuntas",null,null,"Menunjukkan sikap baik dalam spiritual, baik dalam jujur, baik dalam disiplin, baik dalam tanggungjawab, baik dalam toleransi, baik dalam gotong royong, baik dalam santun, baik dalam percaya diri, baik dalam ramah tamah, baik dalam ingin tahu"]
[11,{"$f":"'Data '!D37","v":"FAIQUR RIJAL HAMMAM"},{"$f":"'Obs 1'!C23","v":3},{"$f":"'Obs2'!C23","v":3},3,3,{"$f":"'Obs 1'!D23","v":3},{"$f":"'Obs2'!D23","v":3},3,3,{"$f":"'Obs 1'!E23","v":3},{"$f":"'Obs2'!E23","v":3},3,3,{"$f":"'Obs 1'!F23","v":3},{"$f":"'Obs2'!F23","v":3},3,3,{"$f":"'Obs 1'!G23","v":3},{"$f":"'Obs2'!G23","v":3},3,3,{"$f":"'Obs 1'!H23","v":3},{"$f":"'Obs2'!H23","v":3},3,3,{"$f":"'Obs 1'!I23","v":3},{"$f":"'Obs2'!I23","v":3},3,3,{"$f":"'Obs 1'!J23","v":3},{"$f":"'Obs2'!J23","v":3},3,3,{"$f":"'Obs 1'!K23","v":3},{"$f":"'Obs2'!K23","v":3},3,3,{"$f":"'Obs 1'!L23","v":3},{"$f":"'Obs2'!L23","v":3},3,3,3,"B","Tuntas",null,null,"Menunjukkan sikap baik dalam spiritual, baik dalam jujur, baik dalam disiplin, baik dalam tanggungjawab, baik dalam toleransi, baik dalam gotong royong, baik dalam santun, baik dalam percaya diri, baik dalam ramah tamah, baik dalam ingin tahu"]
[12,{"$f":"'Data '!D38","v":"FATESAR SARI PRASETYO"},{"$f":"'Obs 1'!C24","v":3},{"$f":"'Obs2'!C24","v":3},3,3,{"$f":"'Obs 1'!D24","v":3},{"$f":"'Obs2'!D24","v":3},3,3,{"$f":"'Obs 1'!E24","v":3},{"$f":"'Obs2'!E24","v":3},3,3,{"$f":"'Obs 1'!F24","v":3},{"$f":"'Obs2'!F24","v":3},3,3,{"$f":"'Obs 1'!G24","v":3},{"$f":"'Obs2'!G24","v":3},3,3,{"$f":"'Obs 1'!H24","v":3},{"$f":"'Obs2'!H24","v":3},3,3,{"$f":"'Obs 1'!I24","v":3},{"$f":"'Obs2'!I24","v":3},3,3,{"$f":"'Obs 1'!J24","v":3},{"$f":"'Obs2'!J24","v":3},3,3,{"$f":"'Obs 1'!K24","v":3},{"$f":"'Obs2'!K24","v":3},3,3,{"$f":"'Obs 1'!L24","v":3},{"$f":"'Obs2'!L24","v":3},3,3,3,"B","Tuntas",null,null,"Menunjukkan sikap baik dalam spiritual, baik dalam jujur, baik dalam disiplin, baik dalam tanggungjawab, baik dalam toleransi, baik dalam gotong royong, baik dalam santun, baik dalam percaya diri, baik dalam ramah tamah, baik dalam ingin tahu"]
[13,{"$f":"'Data '!D39","v":"FEBRI SULISTIYO"},{"$f":"'Obs 1'!C25","v":3},{"$f":"'Obs2'!C25","v":3},3,3,{"$f":"'Obs 1'!D25","v":3},{"$f":"'Obs2'!D25","v":3},3,3,{"$f":"'Obs 1'!E25","v":3},{"$f":"'Obs2'!E25","v":3},3,3,{"$f":"'Obs 1'!F25","v":3},{"$f":"'Obs2'!F25","v":3},3,3,{"$f":"'Obs 1'!G25","v":3},{"$f":"'Obs2'!G25","v":3},3,3,{"$f":"'Obs 1'!H25","v":3},{"$f":"'Obs2'!H25","v":3},3,3,{"$f":"'Obs 1'!I25","v":3},{"$f":"'Obs2'!I25","v":3},3,3,{"$f":"'Obs 1'!J25","v":3},{"$f":"'Obs2'!J25","v":3},3,3,{"$f":"'Obs 1'!K25","v":3},{"$f":"'Obs2'!K25","v":3},3,3,{"$f":"'Obs 1'!L25","v":3},{"$f":"'Obs2'!L25","v":3},3,3,3,"B","Tuntas",null,null,"Menunjukkan sikap baik dalam spiritual, baik dalam jujur, baik dalam disiplin, baik dalam tanggungjawab, baik dalam toleransi, baik dalam gotong royong, baik dalam santun, baik dalam percaya diri, baik dalam ramah tamah, baik dalam ingin tahu"]
[14,{"$f":"'Data '!D40","v":"FIONA NANDA FETRIAN"},{"$f":"'Obs 1'!C26","v":3},{"$f":"'Obs2'!C26","v":3},3,3,{"$f":"'Obs 1'!D26","v":3},{"$f":"'Obs2'!D26","v":3},3,3,{"$f":"'Obs 1'!E26","v":3},{"$f":"'Obs2'!E26","v":3},3,3,{"$f":"'Obs 1'!F26","v":3},{"$f":"'Obs2'!F26","v":3},3,3,{"$f":"'Obs 1'!G26","v":3},{"$f":"'Obs2'!G26","v":3},3,3,{"$f":"'Obs 1'!H26","v":3},{"$f":"'Obs2'!H26","v":3},3,3,{"$f":"'Obs 1'!I26","v":3},{"$f":"'Obs2'!I26","v":3},3,3,{"$f":"'Obs 1'!J26","v":3},{"$f":"'Obs2'!J26","v":3},3,3,{"$f":"'Obs 1'!K26","v":3},{"$f":"'Obs2'!K26","v":3},3,3,{"$f":"'Obs 1'!L26","v":3},{"$f":"'Obs2'!L26","v":3},3,3,3,"B","Tuntas",null,null,"Menunjukkan sikap baik dalam spiritual, baik dalam jujur, baik dalam disiplin, baik dalam tanggungjawab, baik dalam toleransi, baik dalam gotong royong, baik dalam santun, baik dalam percaya diri, baik dalam ramah tamah, baik dalam ingin tahu"]
[15,{"$f":"'Data '!D41","v":"GILANG SYAHRUL RAMADHAN"},{"$f":"'Obs 1'!C27","v":3},{"$f":"'Obs2'!C27","v":3},3,3,{"$f":"'Obs 1'!D27","v":3},{"$f":"'Obs2'!D27","v":3},3,3,{"$f":"'Obs 1'!E27","v":3},{"$f":"'Obs2'!E27","v":3},3,3,{"$f":"'Obs 1'!F27","v":3},{"$f":"'Obs2'!F27","v":3},3,3,{"$f":"'Obs 1'!G27","v":3},{"$f":"'Obs2'!G27","v":3},3,3,{"$f":"'Obs 1'!H27","v":3},{"$f":"'Obs2'!H27","v":3},3,3,{"$f":"'Obs 1'!I27","v":3},{"$f":"'Obs2'!I27","v":3},3,3,{"$f":"'Obs 1'!J27","v":3},{"$f":"'Obs2'!J27","v":3},3,3,{"$f":"'Obs 1'!K27","v":3},{"$f":"'Obs2'!K27","v":3},3,3,{"$f":"'Obs 1'!L27","v":3},{"$f":"'Obs2'!L27","v":3},3,3,3,"B","Tuntas",null,null,"Menunjukkan sikap baik dalam spiritual, baik dalam jujur, baik dalam disiplin, baik dalam tanggungjawab, baik dalam toleransi, baik dalam gotong royong, baik dalam santun, baik dalam percaya diri, baik dalam ramah tamah, baik dalam ingin tahu"]
[16,{"$f":"'Data '!D42","v":"IMAM AGUNG WAHYU PRATAMA"},{"$f":"'Obs 1'!C28","v":3},{"$f":"'Obs2'!C28","v":3},3,3,{"$f":"'Obs 1'!D28","v":3},{"$f":"'Obs2'!D28","v":3},3,3,{"$f":"'Obs 1'!E28","v":3},{"$f":"'Obs2'!E28","v":3},3,3,{"$f":"'Obs 1'!F28","v":3},{"$f":"'Obs2'!F28","v":3},3,3,{"$f":"'Obs 1'!G28","v":3},{"$f":"'Obs2'!G28","v":3},3,3,{"$f":"'Obs 1'!H28","v":3},{"$f":"'Obs2'!H28","v":3},3,3,{"$f":"'Obs 1'!I28","v":3},{"$f":"'Obs2'!I28","v":3},3,3,{"$f":"'Obs 1'!J28","v":3},{"$f":"'Obs2'!J28","v":3},3,3,{"$f":"'Obs 1'!K28","v":3},{"$f":"'Obs2'!K28","v":3},3,3,{"$f":"'Obs 1'!L28","v":3},{"$f":"'Obs2'!L28","v":3},3,3,3,"B","Tuntas",null,null,"Menunjukkan sikap baik dalam spiritual, baik dalam jujur, baik dalam disiplin, baik dalam tanggungjawab, baik dalam toleransi, baik dalam gotong royong, baik dalam santun, baik dalam percaya diri, baik dalam ramah tamah, baik dalam ingin tahu"]
[17,{"$f":"'Data '!D43","v":"JOHAN MAULANA"},{"$f":"'Obs 1'!C29","v":3},{"$f":"'Obs2'!C29","v":3},3,3,{"$f":"'Obs 1'!D29","v":3},{"$f":"'Obs2'!D29","v":3},3,3,{"$f":"'Obs 1'!E29","v":3},{"$f":"'Obs2'!E29","v":3},3,3,{"$f":"'Obs 1'!F29","v":3},{"$f":"'Obs2'!F29","v":3},3,3,{"$f":"'Obs 1'!G29","v":3},{"$f":"'Obs2'!G29","v":3},3,3,{"$f":"'Obs 1'!H29","v":3},{"$f":"'Obs2'!H29","v":3},3,3,{"$f":"'Obs 1'!I29","v":3},{"$f":"'Obs2'!I29","v":3},3,3,{"$f":"'Obs 1'!J29","v":3},{"$f":"'Obs2'!J29","v":3},3,3,{"$f":"'Obs 1'!K29","v":3},{"$f":"'Obs2'!K29","v":3},3,3,{"$f":"'Obs 1'!L29","v":3},{"$f":"'Obs2'!L29","v":3},3,3,3,"B","Tuntas",null,null,"Menunjukkan sikap baik dalam spiritual, baik dalam jujur, baik dalam disiplin, baik dalam tanggungjawab, baik dalam toleransi, baik dalam gotong royong, baik dalam santun, baik dalam percaya diri, baik dalam ramah tamah, baik dalam ingin tahu"]
[18,{"$f":"'Data '!D44","v":"JOKO SETIAWAN"},{"$f":"'Obs 1'!C30","v":3},{"$f":"'Obs2'!C30","v":3},3,3,{"$f":"'Obs 1'!D30","v":3},{"$f":"'Obs2'!D30","v":3},3,3,{"$f":"'Obs 1'!E30","v":3},{"$f":"'Obs2'!E30","v":3},3,3,{"$f":"'Obs 1'!F30","v":3},{"$f":"'Obs2'!F30","v":3},3,3,{"$f":"'Obs 1'!G30","v":3},{"$f":"'Obs2'!G30","v":3},3,3,{"$f":"'Obs 1'!H30","v":3},{"$f":"'Obs2'!H30","v":3},3,3,{"$f":"'Obs 1'!I30","v":3},{"$f":"'Obs2'!I30","v":3},3,3,{"$f":"'Obs 1'!J30","v":3},{"$f":"'Obs2'!J30","v":3},3,3,{"$f":"'Obs 1'!K30","v":3},{"$f":"'Obs2'!K30","v":3},3,3,{"$f":"'Obs 1'!L30","v":3},{"$f":"'Obs2'!L30","v":3},3,3,3,"B","Tuntas",null,null,"Menunjukkan sikap baik dalam spiritual, baik dalam jujur, baik dalam disiplin, baik dalam tanggungjawab, baik dalam toleransi, baik dalam gotong royong, baik dalam santun, baik dalam percaya diri, baik dalam ramah tamah, baik dalam ingin tahu"]
[19,{"$f":"'Data '!D45","v":"LISA OKTAVINASARI"},{"$f":"'Obs 1'!C31","v":3},{"$f":"'Obs2'!C31","v":3},3,3,{"$f":"'Obs 1'!D31","v":3},{"$f":"'Obs2'!D31","v":3},3,3,{"$f":"'Obs 1'!E31","v":3},{"$f":"'Obs2'!E31","v":3},3,3,{"$f":"'Obs 1'!F31","v":3},{"$f":"'Obs2'!F31","v":3},3,3,{"$f":"'Obs 1'!G31","v":3},{"$f":"'Obs2'!G31","v":3},3,3,{"$f":"'Obs 1'!H31","v":3},{"$f":"'Obs2'!H31","v":3},3,3,{"$f":"'Obs 1'!I31","v":3},{"$f":"'Obs2'!I31","v":3},3,3,{"$f":"'Obs 1'!J31","v":3},{"$f":"'Obs2'!J31","v":3},3,3,{"$f":"'Obs 1'!K31","v":3},{"$f":"'Obs2'!K31","v":3},3,3,{"$f":"'Obs 1'!L31","v":3},{"$f":"'Obs2'!L31","v":3},3,3,3,"B","Tuntas",null,null,"Menunjukkan sikap baik dalam spiritual, baik dalam jujur, baik dalam disiplin, baik dalam tanggungjawab, baik dalam toleransi, baik dalam gotong royong, baik dalam santun, baik dalam percaya diri, baik dalam ramah tamah, baik dalam ingin tahu"]
[20,{"$f":"'Data '!D46","v":"MARIA GILDA SIREGAR"},{"$f":"'Obs 1'!C32","v":3},{"$f":"'Obs2'!C32","v":3},3,3,{"$f":"'Obs 1'!D32","v":3},{"$f":"'Obs2'!D32","v":3},3,3,{"$f":"'Obs 1'!E32","v":3},{"$f":"'Obs2'!E32","v":3},3,3,{"$f":"'Obs 1'!F32","v":3},{"$f":"'Obs2'!F32","v":3},3,3,{"$f":"'Obs 1'!G32","v":3},{"$f":"'Obs2'!G32","v":3},3,3,{"$f":"'Obs 1'!H32","v":3},{"$f":"'Obs2'!H32","v":3},3,3,{"$f":"'Obs 1'!I32","v":3},{"$f":"'Obs2'!I32","v":3},3,3,{"$f":"'Obs 1'!J32","v":3},{"$f":"'Obs2'!J32","v":3},3,3,{"$f":"'Obs 1'!K32","v":3},{"$f":"'Obs2'!K32","v":3},3,3,{"$f":"'Obs 1'!L32","v":3},{"$f":"'Obs2'!L32","v":3},3,3,3,"B","Tuntas",null,null,"Menunjukkan sikap baik dalam spiritual, baik dalam jujur, baik dalam disiplin, baik dalam tanggungjawab, baik dalam toleransi, baik dalam gotong royong, baik dalam santun, baik dalam percaya diri, baik dalam ramah tamah, baik dalam ingin tahu"]
[21,{"$f":"'Data '!D47","v":"MOHAMMAD NURKHOLISH"},{"$f":"'Obs 1'!C33","v":3},{"$f":"'Obs2'!C33","v":3},3,3,{"$f":"'Obs 1'!D33","v":3},{"$f":"'Obs2'!D33","v":3},3,3,{"$f":"'Obs 1'!E33","v":3},{"$f":"'Obs2'!E33","v":3},3,3,{"$f":"'Obs 1'!F33","v":3},{"$f":"'Obs2'!F33","v":3},3,3,{"$f":"'Obs 1'!G33","v":3},{"$f":"'Obs2'!G33","v":3},3,3,{"$f":"'Obs 1'!H33","v":3},{"$f":"'Obs2'!H33","v":3},3,3,{"$f":"'Obs 1'!I33","v":3},{"$f":"'Obs2'!I33","v":3},3,3,{"$f":"'Obs 1'!J33","v":3},{"$f":"'Obs2'!J33","v":3},3,3,{"$f":"'Obs 1'!K33","v":3},{"$f":"'Obs2'!K33","v":3},3,3,{"$f":"'Obs 1'!L33","v":3},{"$f":"'Obs2'!L33","v":3},3,3,3,"B","Tuntas",null,null,"Menunjukkan sikap baik dalam spiritual, baik dalam jujur, baik dalam disiplin, baik dalam tanggungjawab, baik dalam toleransi, baik dalam gotong royong, baik dalam santun, baik dalam percaya diri, baik dalam ramah tamah, baik dalam ingin tahu"]
[22,{"$f":"'Data '!D48","v":"MUHAMAD FARIS ULIN NUHA"},{"$f":"'Obs 1'!C34","v":3},{"$f":"'Obs2'!C34","v":3},3,3,{"$f":"'Obs 1'!D34","v":3},{"$f":"'Obs2'!D34","v":3},3,3,{"$f":"'Obs 1'!E34","v":3},{"$f":"'Obs2'!E34","v":3},3,3,{"$f":"'Obs 1'!F34","v":3},{"$f":"'Obs2'!F34","v":3},3,3,{"$f":"'Obs 1'!G34","v":3},{"$f":"'Obs2'!G34","v":3},3,3,{"$f":"'Obs 1'!H34","v":3},{"$f":"'Obs2'!H34","v":3},3,3,{"$f":"'Obs 1'!I34","v":3},{"$f":"'Obs2'!I34","v":3},3,3,{"$f":"'Obs 1'!J34","v":3},{"$f":"'Obs2'!J34","v":3},3,3,{"$f":"'Obs 1'!K34","v":3},{"$f":"'Obs2'!K34","v":3},3,3,{"$f":"'Obs 1'!L34","v":3},{"$f":"'Obs2'!L34","v":3},3,3,3,"B","Tuntas",null,null,"Menunjukkan sikap baik dalam spiritual, baik dalam jujur, baik dalam disiplin, baik dalam tanggungjawab, baik dalam toleransi, baik dalam gotong royong, baik dalam santun, baik dalam percaya diri, baik dalam ramah tamah, baik dalam ingin tahu"]
[23,{"$f":"'Data '!D49","v":"MUHAMMAD MUSTOFA"},{"$f":"'Obs 1'!C35","v":3},{"$f":"'Obs2'!C35","v":3},3,3,{"$f":"'Obs 1'!D35","v":3},{"$f":"'Obs2'!D35","v":3},3,3,{"$f":"'Obs 1'!E35","v":3},{"$f":"'Obs2'!E35","v":3},3,3,{"$f":"'Obs 1'!F35","v":3},{"$f":"'Obs2'!F35","v":3},3,3,{"$f":"'Obs 1'!G35","v":3},{"$f":"'Obs2'!G35","v":3},3,3,{"$f":"'Obs 1'!H35","v":3},{"$f":"'Obs2'!H35","v":3},3,3,{"$f":"'Obs 1'!I35","v":3},{"$f":"'Obs2'!I35","v":3},3,3,{"$f":"'Obs 1'!J35","v":3},{"$f":"'Obs2'!J35","v":3},3,3,{"$f":"'Obs 1'!K35","v":3},{"$f":"'Obs2'!K35","v":3},3,3,{"$f":"'Obs 1'!L35","v":3},{"$f":"'Obs2'!L35","v":3},3,3,3,"B","Tuntas",null,null,"Menunjukkan sikap baik dalam spiritual, baik dalam jujur, baik dalam disiplin, baik dalam tanggungjawab, baik dalam toleransi, baik dalam gotong royong, baik dalam santun, baik dalam percaya diri, baik dalam ramah tamah, baik dalam ingin tahu"]
[24,{"$f":"'Data '!D50","v":"NANDA WINTYA PUTRI"},{"$f":"'Obs 1'!C36","v":3},{"$f":"'Obs2'!C36","v":3},3,3,{"$f":"'Obs 1'!D36","v":3},{"$f":"'Obs2'!D36","v":3},3,3,{"$f":"'Obs 1'!E36","v":3},{"$f":"'Obs2'!E36","v":3},3,3,{"$f":"'Obs 1'!F36","v":3},{"$f":"'Obs2'!F36","v":3},3,3,{"$f":"'Obs 1'!G36","v":3},{"$f":"'Obs2'!G36","v":3},3,3,{"$f":"'Obs 1'!H36","v":3},{"$f":"'Obs2'!H36","v":3},3,3,{"$f":"'Obs 1'!I36","v":3},{"$f":"'Obs2'!I36","v":3},3,3,{"$f":"'Obs 1'!J36","v":3},{"$f":"'Obs2'!J36","v":3},3,3,{"$f":"'Obs 1'!K36","v":3},{"$f":"'Obs2'!K36","v":3},3,3,{"$f":"'Obs 1'!L36","v":3},{"$f":"'Obs2'!L36","v":3},3,3,3,"B","Tuntas",null,null,"Menunjukkan sikap baik dalam spiritual, baik dalam jujur, baik dalam disiplin, baik dalam tanggungjawab, baik dalam toleransi, baik dalam gotong royong, baik dalam santun, baik dalam percaya diri, baik dalam ramah tamah, baik dalam ingin tahu"]
[25,{"$f":"'Data '!D51","v":"NI'MA NOVA NUR FADHILAH"},{"$f":"'Obs 1'!C37","v":3},{"$f":"'Obs2'!C37","v":3},3,3,{"$f":"'Obs 1'!D37","v":3},{"$f":"'Obs2'!D37","v":3},3,3,{"$f":"'Obs 1'!E37","v":3},{"$f":"'Obs2'!E37","v":3},3,3,{"$f":"'Obs 1'!F37","v":3},{"$f":"'Obs2'!F37","v":3},3,3,{"$f":"'Obs 1'!G37","v":3},{"$f":"'Obs2'!G37","v":3},3,3,{"$f":"'Obs 1'!H37","v":3},{"$f":"'Obs2'!H37","v":3},3,3,{"$f":"'Obs 1'!I37","v":3},{"$f":"'Obs2'!I37","v":3},3,3,{"$f":"'Obs 1'!J37","v":3},{"$f":"'Obs2'!J37","v":3},3,3,{"$f":"'Obs 1'!K37","v":3},{"$f":"'Obs2'!K37","v":3},3,3,{"$f":"'Obs 1'!L37","v":3},{"$f":"'Obs2'!L37","v":3},3,3,3,"B","Tuntas",null,null,"Menunjukkan sikap baik dalam spiritual, baik dalam jujur, baik dalam disiplin, baik dalam tanggungjawab, baik dalam toleransi, baik dalam gotong royong, baik dalam santun, baik dalam percaya diri, baik dalam ramah tamah, baik dalam ingin tahu"]
[26,{"$f":"'Data '!D52","v":"NITA ZUMROTUT TAQIYAH"},{"$f":"'Obs 1'!C38","v":3},{"$f":"'Obs2'!C38","v":3},3,3,{"$f":"'Obs 1'!D38","v":3},{"$f":"'Obs2'!D38","v":3},3,3,{"$f":"'Obs 1'!E38","v":3},{"$f":"'Obs2'!E38","v":3},3,3,{"$f":"'Obs 1'!F38","v":3},{"$f":"'Obs2'!F38","v":3},3,3,{"$f":"'Obs 1'!G38","v":3},{"$f":"'Obs2'!G38","v":3},3,3,{"$f":"'Obs 1'!H38","v":3},{"$f":"'Obs2'!H38","v":3},3,3,{"$f":"'Obs 1'!I38","v":3},{"$f":"'Obs2'!I38","v":3},3,3,{"$f":"'Obs 1'!J38","v":3},{"$f":"'Obs2'!J38","v":3},3,3,{"$f":"'Obs 1'!K38","v":3},{"$f":"'Obs2'!K38","v":3},3,3,{"$f":"'Obs 1'!L38","v":3},{"$f":"'Obs2'!L38","v":3},3,3,3,"B","Tuntas",null,null,"Menunjukkan sikap baik dalam spiritual, baik dalam jujur, baik dalam disiplin, baik dalam tanggungjawab, baik dalam toleransi, baik dalam gotong royong, baik dalam santun, baik dalam percaya diri, baik dalam ramah tamah, baik dalam ingin tahu"]
[27,{"$f":"'Data '!D53","v":"RACHMAT SAPUTRA ANDRIANSYAH"},{"$f":"'Obs 1'!C39","v":3},{"$f":"'Obs2'!C39","v":3},3,3,{"$f":"'Obs 1'!D39","v":3},{"$f":"'Obs2'!D39","v":3},3,3,{"$f":"'Obs 1'!E39","v":3},{"$f":"'Obs2'!E39","v":3},3,3,{"$f":"'Obs 1'!F39","v":3},{"$f":"'Obs2'!F39","v":3},3,3,{"$f":"'Obs 1'!G39","v":3},{"$f":"'Obs2'!G39","v":3},3,3,{"$f":"'Obs 1'!H39","v":3},{"$f":"'Obs2'!H39","v":3},3,3,{"$f":"'Obs 1'!I39","v":3},{"$f":"'Obs2'!I39","v":3},3,3,{"$f":"'Obs 1'!J39","v":3},{"$f":"'Obs2'!J39","v":3},3,3,{"$f":"'Obs 1'!K39","v":3},{"$f":"'Obs2'!K39","v":3},3,3,{"$f":"'Obs 1'!L39","v":3},{"$f":"'Obs2'!L39","v":3},3,3,3,"B","Tuntas",null,null,"Menunjukkan sikap baik dalam spiritual, baik dalam jujur, baik dalam disiplin, baik dalam tanggungjawab, baik dalam toleransi, baik dalam gotong royong, baik dalam santun, baik dalam percaya diri, baik dalam ramah tamah, baik dalam ingin tahu"]
[28,{"$f":"'Data '!D54","v":"RIZAL ANDRIYAN SAPUTRA"},{"$f":"'Obs 1'!C40","v":3},{"$f":"'Obs2'!C40","v":3},3,3,{"$f":"'Obs 1'!D40","v":3},{"$f":"'Obs2'!D40","v":3},3,3,{"$f":"'Obs 1'!E40","v":3},{"$f":"'Obs2'!E40","v":3},3,3,{"$f":"'Obs 1'!F40","v":3},{"$f":"'Obs2'!F40","v":3},3,3,{"$f":"'Obs 1'!G40","v":3},{"$f":"'Obs2'!G40","v":3},3,3,{"$f":"'Obs 1'!H40","v":3},{"$f":"'Obs2'!H40","v":3},3,3,{"$f":"'Obs 1'!I40","v":3},{"$f":"'Obs2'!I40","v":3},3,3,{"$f":"'Obs 1'!J40","v":3},{"$f":"'Obs2'!J40","v":3},3,3,{"$f":"'Obs 1'!K40","v":3},{"$f":"'Obs2'!K40","v":3},3,3,{"$f":"'Obs 1'!L40","v":3},{"$f":"'Obs2'!L40","v":3},3,3,3,"B","Tuntas",null,null,"Menunjukkan sikap baik dalam spiritual, baik dalam jujur, baik dalam disiplin, baik dalam tanggungjawab, baik dalam toleransi, baik dalam gotong royong, baik dalam santun, baik dalam percaya diri, baik dalam ramah tamah, baik dalam ingin tahu"]
[29,{"$f":"'Data '!D55","v":"SAIFUL ANNAS"},{"$f":"'Obs 1'!C41","v":3},{"$f":"'Obs2'!C41","v":3},3,3,{"$f":"'Obs 1'!D41","v":3},{"$f":"'Obs2'!D41","v":3},3,3,{"$f":"'Obs 1'!E41","v":3},{"$f":"'Obs2'!E41","v":3},3,3,{"$f":"'Obs 1'!F41","v":3},{"$f":"'Obs2'!F41","v":3},3,3,{"$f":"'Obs 1'!G41","v":3},{"$f":"'Obs2'!G41","v":3},3,3,{"$f":"'Obs 1'!H41","v":3},{"$f":"'Obs2'!H41","v":3},3,3,{"$f":"'Obs 1'!I41","v":3},{"$f":"'Obs2'!I41","v":3},3,3,{"$f":"'Obs 1'!J41","v":3},{"$f":"'Obs2'!J41","v":3},3,3,{"$f":"'Obs 1'!K41","v":3},{"$f":"'Obs2'!K41","v":3},3,3,{"$f":"'Obs 1'!L41","v":3},{"$f":"'Obs2'!L41","v":3},3,3,3,"B","Tuntas",null,null,"Menunjukkan sikap baik dalam spiritual, baik dalam jujur, baik dalam disiplin, baik dalam tanggungjawab, baik dalam toleransi, baik dalam gotong royong, baik dalam santun, baik dalam percaya diri, baik dalam ramah tamah, baik dalam ingin tahu"]
[30,{"$f":"'Data '!D56","v":"SELINA SEPTIANI"},{"$f":"'Obs 1'!C42","v":3},{"$f":"'Obs2'!C42","v":3},3,3,{"$f":"'Obs 1'!D42","v":3},{"$f":"'Obs2'!D42","v":3},3,3,{"$f":"'Obs 1'!E42","v":3},{"$f":"'Obs2'!E42","v":3},3,3,{"$f":"'Obs 1'!F42","v":3},{"$f":"'Obs2'!F42","v":3},3,3,{"$f":"'Obs 1'!G42","v":3},{"$f":"'Obs2'!G42","v":3},3,3,{"$f":"'Obs 1'!H42","v":3},{"$f":"'Obs2'!H42","v":3},3,3,{"$f":"'Obs 1'!I42","v":3},{"$f":"'Obs2'!I42","v":3},3,3,{"$f":"'Obs 1'!J42","v":3},{"$f":"'Obs2'!J42","v":3},3,3,{"$f":"'Obs 1'!K42","v":3},{"$f":"'Obs2'!K42","v":3},3,3,{"$f":"'Obs 1'!L42","v":3},{"$f":"'Obs2'!L42","v":3},3,3,3,"B","Tuntas",null,null,"Menunjukkan sikap baik dalam spiritual, baik dalam jujur, baik dalam disiplin, baik dalam tanggungjawab, baik dalam toleransi, baik dalam gotong royong, baik dalam santun, baik dalam percaya diri, baik dalam ramah tamah, baik dalam ingin tahu"]
[31,{"$f":"'Data '!D57","v":"SHALSABILA  SHINTA NIRMALA"},{"$f":"'Obs 1'!C43","v":3},{"$f":"'Obs2'!C43","v":3},3,3,{"$f":"'Obs 1'!D43","v":3},{"$f":"'Obs2'!D43","v":3},3,3,{"$f":"'Obs 1'!E43","v":3},{"$f":"'Obs2'!E43","v":3},3,3,{"$f":"'Obs 1'!F43","v":3},{"$f":"'Obs2'!F43","v":3},3,3,{"$f":"'Obs 1'!G43","v":3},{"$f":"'Obs2'!G43","v":3},3,3,{"$f":"'Obs 1'!H43","v":3},{"$f":"'Obs2'!H43","v":3},3,3,{"$f":"'Obs 1'!I43","v":3},{"$f":"'Obs2'!I43","v":3},3,3,{"$f":"'Obs 1'!J43","v":3},{"$f":"'Obs2'!J43","v":3},3,3,{"$f":"'Obs 1'!K43","v":3},{"$f":"'Obs2'!K43","v":3},3,3,{"$f":"'Obs 1'!L43","v":3},{"$f":"'Obs2'!L43","v":3},3,3,3,"B","Tuntas",null,null,"Menunjukkan sikap baik dalam spiritual, baik dalam jujur, baik dalam disiplin, baik dalam tanggungjawab, baik dalam toleransi, baik dalam gotong royong, baik dalam santun, baik dalam percaya diri, baik dalam ramah tamah, baik dalam ingin tahu"]
[32,{"$f":"'Data '!D58","v":"SITI CHOIRIATUS SA'ADAH"},{"$f":"'Obs 1'!C44","v":3},{"$f":"'Obs2'!C44","v":3},3,3,{"$f":"'Obs 1'!D44","v":3},{"$f":"'Obs2'!D44","v":3},3,3,{"$f":"'Obs 1'!E44","v":3},{"$f":"'Obs2'!E44","v":3},3,3,{"$f":"'Obs 1'!F44","v":3},{"$f":"'Obs2'!F44","v":3},3,3,{"$f":"'Obs 1'!G44","v":3},{"$f":"'Obs2'!G44","v":3},3,3,{"$f":"'Obs 1'!H44","v":3},{"$f":"'Obs2'!H44","v":3},3,3,{"$f":"'Obs 1'!I44","v":3},{"$f":"'Obs2'!I44","v":3},3,3,{"$f":"'Obs 1'!J44","v":3},{"$f":"'Obs2'!J44","v":3},3,3,{"$f":"'Obs 1'!K44","v":3},{"$f":"'Obs2'!K44","v":3},3,3,{"$f":"'Obs 1'!L44","v":3},{"$f":"'Obs2'!L44","v":3},3,3,3,"B","Tuntas",null,null,"Menunjukkan sikap baik dalam spiritual, baik dalam jujur, baik dalam disiplin, baik dalam tanggungjawab, baik dalam toleransi, baik dalam gotong royong, baik dalam santun, baik dalam percaya diri, baik dalam ramah tamah, baik dalam ingin tahu"]
[33,{"$f":"'Data '!D59","v":"SITI NURFAN AZIZAH"},{"$f":"'Obs 1'!C45","v":3},{"$f":"'Obs2'!C45","v":3},3,3,{"$f":"'Obs 1'!D45","v":3},{"$f":"'Obs2'!D45","v":3},3,3,{"$f":"'Obs 1'!E45","v":3},{"$f":"'Obs2'!E45","v":3},3,3,{"$f":"'Obs 1'!F45","v":3},{"$f":"'Obs2'!F45","v":3},3,3,{"$f":"'Obs 1'!G45","v":3},{"$f":"'Obs2'!G45","v":3},3,3,{"$f":"'Obs 1'!H45","v":3},{"$f":"'Obs2'!H45","v":3},3,3,{"$f":"'Obs 1'!I45","v":3},{"$f":"'Obs2'!I45","v":3},3,3,{"$f":"'Obs 1'!J45","v":3},{"$f":"'Obs2'!J45","v":3},3,3,{"$f":"'Obs 1'!K45","v":3},{"$f":"'Obs2'!K45","v":3},3,3,{"$f":"'Obs 1'!L45","v":3},{"$f":"'Obs2'!L45","v":3},3,3,3,"B","Tuntas",null,null,"Menunjukkan sikap baik dalam spiritual, baik dalam jujur, baik dalam disiplin, baik dalam tanggungjawab, baik dalam toleransi, baik dalam gotong royong, baik dalam santun, baik dalam percaya diri, baik dalam ramah tamah, baik dalam ingin tahu"]
[34,{"$f":"'Data '!D60","v":"SITI RAHAYU"},{"$f":"'Obs 1'!C46","v":3},{"$f":"'Obs2'!C46","v":3},3,3,{"$f":"'Obs 1'!D46","v":3},{"$f":"'Obs2'!D46","v":3},3,3,{"$f":"'Obs 1'!E46","v":3},{"$f":"'Obs2'!E46","v":3},3,3,{"$f":"'Obs 1'!F46","v":3},{"$f":"'Obs2'!F46","v":3},3,3,{"$f":"'Obs 1'!G46","v":3},{"$f":"'Obs2'!G46","v":3},3,3,{"$f":"'Obs 1'!H46","v":3},{"$f":"'Obs2'!H46","v":3},3,3,{"$f":"'Obs 1'!I46","v":3},{"$f":"'Obs2'!I46","v":3},3,3,{"$f":"'Obs 1'!J46","v":3},{"$f":"'Obs2'!J46","v":3},3,3,{"$f":"'Obs 1'!K46","v":3},{"$f":"'Obs2'!K46","v":3},3,3,{"$f":"'Obs 1'!L46","v":3},{"$f":"'Obs2'!L46","v":3},3,3,3,"B","Tuntas",null,null,"Menunjukkan sikap baik dalam spiritual, baik dalam jujur, baik dalam disiplin, baik dalam tanggungjawab, baik dalam toleransi, baik dalam gotong royong, baik dalam santun, baik dalam percaya diri, baik dalam ramah tamah, baik dalam ingin tahu"]
[35,{"$f":"'Data '!D61","v":"STEVIANA PUSPITA SARI"},{"$f":"'Obs 1'!C47","v":3},{"$f":"'Obs2'!C47","v":3},3,3,{"$f":"'Obs 1'!D47","v":3},{"$f":"'Obs2'!D47","v":3},3,3,{"$f":"'Obs 1'!E47","v":3},{"$f":"'Obs2'!E47","v":3},3,3,{"$f":"'Obs 1'!F47","v":3},{"$f":"'Obs2'!F47","v":3},3,3,{"$f":"'Obs 1'!G47","v":3},{"$f":"'Obs2'!G47","v":3},3,3,{"$f":"'Obs 1'!H47","v":3},{"$f":"'Obs2'!H47","v":3},3,3,{"$f":"'Obs 1'!I47","v":3},{"$f":"'Obs2'!I47","v":3},3,3,{"$f":"'Obs 1'!J47","v":3},{"$f":"'Obs2'!J47","v":3},3,3,{"$f":"'Obs 1'!K47","v":3},{"$f":"'Obs2'!K47","v":3},3,3,{"$f":"'Obs 1'!L47","v":3},{"$f":"'Obs2'!L47","v":3},3,3,3,"B","Tuntas",null,null,"Menunjukkan sikap baik dalam spiritual, baik dalam jujur, baik dalam disiplin, baik dalam tanggungjawab, baik dalam toleransi, baik dalam gotong royong, baik dalam santun, baik dalam percaya diri, baik dalam ramah tamah, baik dalam ingin tahu"]
[36,{"$f":"'Data '!D62","v":"TAN LINGGAR PRAMUDITA"},{"$f":"'Obs 1'!C48","v":3},{"$f":"'Obs2'!C48","v":3},3,3,{"$f":"'Obs 1'!D48","v":3},{"$f":"'Obs2'!D48","v":3},3,3,{"$f":"'Obs 1'!E48","v":3},{"$f":"'Obs2'!E48","v":3},3,3,{"$f":"'Obs 1'!F48","v":3},{"$f":"'Obs2'!F48","v":3},3,3,{"$f":"'Obs 1'!G48","v":3},{"$f":"'Obs2'!G48","v":3},3,3,{"$f":"'Obs 1'!H48","v":3},{"$f":"'Obs2'!H48","v":3},3,3,{"$f":"'Obs 1'!I48","v":3},{"$f":"'Obs2'!I48","v":3},3,3,{"$f":"'Obs 1'!J48","v":3},{"$f":"'Obs2'!J48","v":3},3,3,{"$f":"'Obs 1'!K48","v":3},{"$f":"'Obs2'!K48","v":3},3,3,{"$f":"'Obs 1'!L48","v":3},{"$f":"'Obs2'!L48","v":3},3,3,3,"B","Tuntas",null,null,"Menunjukkan sikap baik dalam spiritual, baik dalam jujur, baik dalam disiplin, baik dalam tanggungjawab, baik dalam toleransi, baik dalam gotong royong, baik dalam santun, baik dalam percaya diri, baik dalam ramah tamah, baik dalam ingin tahu"]
[37,{"$f":"'Data '!D63","v":"TAUFIK NUR AZIZ DANUARTA"},{"$f":"'Obs 1'!C49","v":3},{"$f":"'Obs2'!C49","v":3},3,3,{"$f":"'Obs 1'!D49","v":3},{"$f":"'Obs2'!D49","v":3},3,3,{"$f":"'Obs 1'!E49","v":3},{"$f":"'Obs2'!E49","v":3},3,3,{"$f":"'Obs 1'!F49","v":3},{"$f":"'Obs2'!F49","v":3},3,3,{"$f":"'Obs 1'!G49","v":3},{"$f":"'Obs2'!G49","v":3},3,3,{"$f":"'Obs 1'!H49","v":3},{"$f":"'Obs2'!H49","v":3},3,3,{"$f":"'Obs 1'!I49","v":3},{"$f":"'Obs2'!I49","v":3},3,3,{"$f":"'Obs 1'!J49","v":3},{"$f":"'Obs2'!J49","v":3},3,3,{"$f":"'Obs 1'!K49","v":3},{"$f":"'Obs2'!K49","v":3},3,3,{"$f":"'Obs 1'!L49","v":3},{"$f":"'Obs2'!L49","v":3},3,3,3,"B","Tuntas",null,null,"Menunjukkan sikap baik dalam spiritual, baik dalam jujur, baik dalam disiplin, baik dalam tanggungjawab, baik dalam toleransi, baik dalam gotong royong, baik dalam santun, baik dalam percaya diri, baik dalam ramah tamah, baik dalam ingin tahu"]
[38,{"$f":"'Data '!D64","v":"TIARA PUTRI AYUNINGTIAS"},{"$f":"'Obs 1'!C50","v":3},{"$f":"'Obs2'!C50","v":3},3,3,{"$f":"'Obs 1'!D50","v":3},{"$f":"'Obs2'!D50","v":3},3,3,{"$f":"'Obs 1'!E50","v":3},{"$f":"'Obs2'!E50","v":3},3,3,{"$f":"'Obs 1'!F50","v":3},{"$f":"'Obs2'!F50","v":3},3,3,{"$f":"'Obs 1'!G50","v":3},{"$f":"'Obs2'!G50","v":3},3,3,{"$f":"'Obs 1'!H50","v":3},{"$f":"'Obs2'!H50","v":3},3,3,{"$f":"'Obs 1'!I50","v":3},{"$f":"'Obs2'!I50","v":3},3,3,{"$f":"'Obs 1'!J50","v":3},{"$f":"'Obs2'!J50","v":3},3,3,{"$f":"'Obs 1'!K50","v":3},{"$f":"'Obs2'!K50","v":3},3,3,{"$f":"'Obs 1'!L50","v":3},{"$f":"'Obs2'!L50","v":3},3,3,3,"B","Tuntas",null,null,"Menunjukkan sikap baik dalam spiritual, baik dalam jujur, baik dalam disiplin, baik dalam tanggungjawab, baik dalam toleransi, baik dalam gotong royong, baik dalam santun, baik dalam percaya diri, baik dalam ramah tamah, baik dalam ingin tahu"]
[39,{"$f":"'Data '!D65","v":"TITANIA GAYATRI PRIANJANI"},{"$f":"'Obs 1'!C51","v":3},{"$f":"'Obs2'!C51","v":3},3,3,{"$f":"'Obs 1'!D51","v":3},{"$f":"'Obs2'!D51","v":3},3,3,{"$f":"'Obs 1'!E51","v":3},{"$f":"'Obs2'!E51","v":3},3,3,{"$f":"'Obs 1'!F51","v":3},{"$f":"'Obs2'!F51","v":3},3,3,{"$f":"'Obs 1'!G51","v":3},{"$f":"'Obs2'!G51","v":3},3,3,{"$f":"'Obs 1'!H51","v":3},{"$f":"'Obs2'!H51","v":3},3,3,{"$f":"'Obs 1'!I51","v":3},{"$f":"'Obs2'!I51","v":3},3,3,{"$f":"'Obs 1'!J51","v":3},{"$f":"'Obs2'!J51","v":3},3,3,{"$f":"'Obs 1'!K51","v":3},{"$f":"'Obs2'!K51","v":3},3,3,{"$f":"'Obs 1'!L51","v":3},{"$f":"'Obs2'!L51","v":3},3,3,3,"B","Tuntas",null,null,"Menunjukkan sikap baik dalam spiritual, baik dalam jujur, baik dalam disiplin, baik dalam tanggungjawab, baik dalam toleransi, baik dalam gotong royong, baik dalam santun, baik dalam percaya diri, baik dalam ramah tamah, baik dalam ingin tahu"]
[40,{"$f":"'Data '!D66","v":"ULFATUN NI'MAH"},{"$f":"'Obs 1'!C52","v":3},{"$f":"'Obs2'!C52","v":3},3,3,{"$f":"'Obs 1'!D52","v":3},{"$f":"'Obs2'!D52","v":3},3,3,{"$f":"'Obs 1'!E52","v":3},{"$f":"'Obs2'!E52","v":3},3,3,{"$f":"'Obs 1'!F52","v":3},{"$f":"'Obs2'!F52","v":3},3,3,{"$f":"'Obs 1'!G52","v":3},{"$f":"'Obs2'!G52","v":3},3,3,{"$f":"'Obs 1'!H52","v":3},{"$f":"'Obs2'!H52","v":3},3,3,{"$f":"'Obs 1'!I52","v":3},{"$f":"'Obs2'!I52","v":3},3,3,{"$f":"'Obs 1'!J52","v":3},{"$f":"'Obs2'!J52","v":3},3,3,{"$f":"'Obs 1'!K52","v":3},{"$f":"'Obs2'!K52","v":3},3,3,{"$f":"'Obs 1'!L52","v":3},{"$f":"'Obs2'!L52","v":3},3,3,3,"B","Tuntas",null,null,"Menunjukkan sikap baik dalam spiritual, baik dalam jujur, baik dalam disiplin, baik dalam tanggungjawab, baik dalam toleransi, baik dalam gotong royong, baik dalam santun, baik dalam percaya diri, baik dalam ramah tamah, baik dalam ingin tahu"]
[41,{"$f":"'Data '!D67","v":0},{"$f":"'Obs 1'!C53","v":""},{"$f":"'Obs2'!C53","v":""},"","",{"$f":"'Obs 1'!D53","v":""},{"$f":"'Obs2'!D53","v":""},"","",{"$f":"'Obs 1'!E53","v":""},{"$f":"'Obs2'!E53","v":""},"","",{"$f":"'Obs 1'!F53","v":""},{"$f":"'Obs2'!F53","v":""},"","",{"$f":"'Obs 1'!G53","v":""},{"$f":"'Obs2'!G53","v":""},"","",{"$f":"'Obs 1'!H53","v":""},{"$f":"'Obs2'!H53","v":""},"","",{"$f":"'Obs 1'!I53","v":""},{"$f":"'Obs2'!I53","v":""},"","",{"$f":"'Obs 1'!J53","v":""},{"$f":"'Obs2'!J53","v":""},"","",{"$f":"'Obs 1'!K53","v":""},{"$f":"'Obs2'!K53","v":""},"","",{"$f":"'Obs 1'!L53","v":""},{"$f":"'Obs2'!L53","v":""},"","","","",{"$f":"IF(AQ53=\"  \",\"  \",IF(AQ53>=$AR$7,\"Tuntas\",\"Tidak Tuntas\"))","v":""},null,null,""]
[42,{"$f":"'Data '!D68","v":0},{"$f":"'Obs 1'!C54","v":""},{"$f":"'Obs2'!C54","v":""},"","",{"$f":"'Obs 1'!D54","v":""},{"$f":"'Obs2'!D54","v":""},"","",{"$f":"'Obs 1'!E54","v":""},{"$f":"'Obs2'!E54","v":""},"","",{"$f":"'Obs 1'!F54","v":""},{"$f":"'Obs2'!F54","v":""},"","",{"$f":"'Obs 1'!G54","v":""},{"$f":"'Obs2'!G54","v":""},"","",{"$f":"'Obs 1'!H54","v":""},{"$f":"'Obs2'!H54","v":""},"","",{"$f":"'Obs 1'!I54","v":""},{"$f":"'Obs2'!I54","v":""},"","",{"$f":"'Obs 1'!J54","v":""},{"$f":"'Obs2'!J54","v":""},"","",{"$f":"'Obs 1'!K54","v":""},{"$f":"'Obs2'!K54","v":""},"","",{"$f":"'Obs 1'!L54","v":""},{"$f":"'Obs2'!L54","v":""},"","","","","",null,null,""]
[43,{"$f":"'Data '!D69","v":0},{"$f":"'Obs 1'!C55","v":""},{"$f":"'Obs2'!C55","v":""},"","",{"$f":"'Obs 1'!D55","v":""},{"$f":"'Obs2'!D55","v":""},"","",{"$f":"'Obs 1'!E55","v":""},{"$f":"'Obs2'!E55","v":""},"","",{"$f":"'Obs 1'!F55","v":""},{"$f":"'Obs2'!F55","v":""},"","",{"$f":"'Obs 1'!G55","v":""},{"$f":"'Obs2'!G55","v":""},"","",{"$f":"'Obs 1'!H55","v":""},{"$f":"'Obs2'!H55","v":""},"","",{"$f":"'Obs 1'!I55","v":""},{"$f":"'Obs2'!I55","v":""},"","",{"$f":"'Obs 1'!J55","v":""},{"$f":"'Obs2'!J55","v":""},"","",{"$f":"'Obs 1'!K55","v":""},{"$f":"'Obs2'!K55","v":""},"","",{"$f":"'Obs 1'!L55","v":""},{"$f":"'Obs2'!L55","v":""},"","","","","",null,null,""]
[44,{"$f":"'Data '!D70","v":0},{"$f":"'Obs 1'!C56","v":""},{"$f":"'Obs2'!C56","v":""},"","",{"$f":"'Obs 1'!D56","v":""},{"$f":"'Obs2'!D56","v":""},"","",{"$f":"'Obs 1'!E56","v":""},{"$f":"'Obs2'!E56","v":""},"","",{"$f":"'Obs 1'!F56","v":""},{"$f":"'Obs2'!F56","v":""},"","",{"$f":"'Obs 1'!G56","v":""},{"$f":"'Obs2'!G56","v":""},"","",{"$f":"'Obs 1'!H56","v":""},{"$f":"'Obs2'!H56","v":""},"","",{"$f":"'Obs 1'!I56","v":""},{"$f":"'Obs2'!I56","v":""},"","",{"$f":"'Obs 1'!J56","v":""},{"$f":"'Obs2'!J56","v":""},"","",{"$f":"'Obs 1'!K56","v":""},{"$f":"'Obs2'!K56","v":""},"","",{"$f":"'Obs 1'!L56","v":""},{"$f":"'Obs2'!L56","v":""},"","","","","",null,null,""]
[45,{"$f":"'Data '!D71","v":0},{"$f":"'Obs 1'!C57","v":""},{"$f":"'Obs2'!C57","v":""},"","",{"$f":"'Obs 1'!D57","v":""},{"$f":"'Obs2'!D57","v":""},"","",{"$f":"'Obs 1'!E57","v":""},{"$f":"'Obs2'!E57","v":""},"","",{"$f":"'Obs 1'!F57","v":""},{"$f":"'Obs2'!F57","v":""},"","",{"$f":"'Obs 1'!G57","v":""},{"$f":"'Obs2'!G57","v":""},"","",{"$f":"'Obs 1'!H57","v":""},{"$f":"'Obs2'!H57","v":""},"","",{"$f":"'Obs 1'!I57","v":""},{"$f":"'Obs2'!I57","v":""},"","",{"$f":"'Obs 1'!J57","v":""},{"$f":"'Obs2'!J57","v":""},"","",{"$f":"'Obs 1'!K57","v":""},{"$f":"'Obs2'!K57","v":""},"","",{"$f":"'Obs 1'!L57","v":""},{"$f":"'Obs2'!L57","v":""},"","","","","",null,null,""]
[46,{"$f":"'Data '!D72","v":0},{"$f":"'Obs 1'!C58","v":""},{"$f":"'Obs2'!C58","v":""},{"$f":"IFERROR(AVERAGE(C58:D58),\"  \")","v":""},{"$f":"E58","v":""},{"$f":"'Obs 1'!D58","v":""},{"$f":"'Obs2'!D58","v":""},{"$f":"IFERROR(AVERAGE(G58:H58),\"  \")","v":""},{"$f":"I58","v":""},{"$f":"'Obs 1'!E58","v":""},{"$f":"'Obs2'!E58","v":""},{"$f":"IFERROR(AVERAGE(K58:L58),\"  \")","v":""},{"$f":"M58","v":""},{"$f":"'Obs 1'!F58","v":""},{"$f":"'Obs2'!F58","v":""},{"$f":"IFERROR(AVERAGE(O58:P58),\"  \")","v":""},{"$f":"Q58","v":""},{"$f":"'Obs 1'!G58","v":""},{"$f":"'Obs2'!G58","v":""},{"$f":"IFERROR(AVERAGE(S58:T58),\"  \")","v":""},{"$f":"U58","v":""},{"$f":"'Obs 1'!H58","v":""},{"$f":"'Obs2'!H58","v":""},{"$f":"IFERROR(AVERAGE(W58:X58),\"  \")","v":""},{"$f":"Y58","v":""},{"$f":"'Obs 1'!I58","v":""},{"$f":"'Obs2'!I58","v":""},{"$f":"IFERROR(AVERAGE(AA58:AB58),\"  \")","v":""},{"$f":"AC58","v":""},{"$f":"'Obs 1'!J58","v":""},{"$f":"'Obs2'!J58","v":""},{"$f":"IFERROR(AVERAGE(AE58:AF58),\"  \")","v":""},{"$f":"AG58","v":""},{"$f":"'Obs 1'!K58","v":""},{"$f":"'Obs2'!K58","v":""},"","",{"$f":"'Obs 1'!L58","v":""},{"$f":"'Obs2'!L58","v":""},"","","","",{"$f":"IF(AQ58=\"  \",\"  \",IF(AQ58>=$AR$7,\"Tuntas\",\"Tidak Tuntas\"))","v":""},null,null,""]
[47,{"$f":"'Data '!D73","v":0},{"$f":"'Obs 1'!C59","v":""},{"$f":"'Obs2'!C59","v":""},"","",{"$f":"'Obs 1'!D59","v":""},{"$f":"'Obs2'!D59","v":""},"","",{"$f":"'Obs 1'!E59","v":""},{"$f":"'Obs2'!E59","v":""},"","",{"$f":"'Obs 1'!F59","v":""},{"$f":"'Obs2'!F59","v":""},"","",{"$f":"'Obs 1'!G59","v":""},{"$f":"'Obs2'!G59","v":""},"","",{"$f":"'Obs 1'!H59","v":""},{"$f":"'Obs2'!H59","v":""},"","",{"$f":"'Obs 1'!I59","v":""},{"$f":"'Obs2'!I59","v":""},"","",{"$f":"'Obs 1'!J59","v":""},{"$f":"'Obs2'!J59","v":""},"","",{"$f":"'Obs 1'!K59","v":""},{"$f":"'Obs2'!K59","v":""},"","",{"$f":"'Obs 1'!L59","v":""},{"$f":"'Obs2'!L59","v":""},"","","","","",null,null,""]
[48,{"$f":"'Data '!D74","v":0},{"$f":"'Obs 1'!C60","v":""},{"$f":"'Obs2'!C60","v":""},"","",{"$f":"'Obs 1'!D60","v":""},{"$f":"'Obs2'!D60","v":""},"","",{"$f":"'Obs 1'!E60","v":""},{"$f":"'Obs2'!E60","v":""},"","",{"$f":"'Obs 1'!F60","v":""},{"$f":"'Obs2'!F60","v":""},"","",{"$f":"'Obs 1'!G60","v":""},{"$f":"'Obs2'!G60","v":""},"","",{"$f":"'Obs 1'!H60","v":""},{"$f":"'Obs2'!H60","v":""},"","",{"$f":"'Obs 1'!I60","v":""},{"$f":"'Obs2'!I60","v":""},"","",{"$f":"'Obs 1'!J60","v":""},{"$f":"'Obs2'!J60","v":""},"","",{"$f":"'Obs 1'!K60","v":""},{"$f":"'Obs2'!K60","v":""},"","",{"$f":"'Obs 1'!L60","v":""},{"$f":"'Obs2'!L60","v":""},"","","","","",null,null,""]
[49,{"$f":"'Data '!D75","v":0},{"$f":"'Obs 1'!C61","v":""},{"$f":"'Obs2'!C61","v":""},"","",{"$f":"'Obs 1'!D61","v":""},{"$f":"'Obs2'!D61","v":""},"","",{"$f":"'Obs 1'!E61","v":""},{"$f":"'Obs2'!E61","v":""},"","",{"$f":"'Obs 1'!F61","v":""},{"$f":"'Obs2'!F61","v":""},"","",{"$f":"'Obs 1'!G61","v":""},{"$f":"'Obs2'!G61","v":""},"","",{"$f":"'Obs 1'!H61","v":""},{"$f":"'Obs2'!H61","v":""},"","",{"$f":"'Obs 1'!I61","v":""},{"$f":"'Obs2'!I61","v":""},"","",{"$f":"'Obs 1'!J61","v":""},{"$f":"'Obs2'!J61","v":""},"","",{"$f":"'Obs 1'!K61","v":""},{"$f":"'Obs2'!K61","v":""},"","",{"$f":"'Obs 1'!L61","v":""},{"$f":"'Obs2'!L61","v":""},"","","","","",null,null,""]
[50,{"$f":"'Data '!D76","v":0},{"$f":"'Obs 1'!C62","v":""},{"$f":"'Obs2'!C62","v":""},"","",{"$f":"'Obs 1'!D62","v":""},{"$f":"'Obs2'!D62","v":""},"","",{"$f":"'Obs 1'!E62","v":""},{"$f":"'Obs2'!E62","v":""},"","",{"$f":"'Obs 1'!F62","v":""},{"$f":"'Obs2'!F62","v":""},"","",{"$f":"'Obs 1'!G62","v":""},{"$f":"'Obs2'!G62","v":""},"","",{"$f":"'Obs 1'!H62","v":""},{"$f":"'Obs2'!H62","v":""},"","",{"$f":"'Obs 1'!I62","v":""},{"$f":"'Obs2'!I62","v":""},"","",{"$f":"'Obs 1'!J62","v":""},{"$f":"'Obs2'!J62","v":""},"","",{"$f":"'Obs 1'!K62","v":""},{"$f":"'Obs2'!K62","v":""},"","",{"$f":"'Obs 1'!L62","v":""},{"$f":"'Obs2'!L62","v":""},"","","","","",null,null,""]
[null,"Nilai Rata-rata",null,null,null,{"$f":"IFERROR(AVERAGE(F13:F62),\"  \")","v":3},{"$f":"IFERROR(AVERAGE(G13:G62),\"  \")","v":3},3,3,3,3,3,3,3,3,3,3,3,3,3,3,3,3,3,3,3,3,3,3,3,3,3,3,3,null,null,null,3,null,null,null,null,{"$f":"IFERROR(AVERAGE(AQ13:AQ52),\"  \")","v":3},"B"]
[]
[null,null,null,null,null,null,null,null,null,null,null,null,null,null,null,null,null,null,null,null,null,null,null,null,null,null,null,null,null,null,null,null,null,null,null,null,null,null,null,null,null,null,{"$f":"'Data '!D21","v":"Blora, 20 Desember 2014"}]
[null,"Mengetahui:",null,null,null,null,null,null,null,null,null,null,null,null,null,null,null,null,null,null,null,null,null,null,null,null,null,null,null,null,null,null,null,null,null,null,null,null,null,null,null,null,"Guru Mata Pelajaran"]
[null,{"$f":"\"Ka. \"&'Data '!D7","v":"Ka. SMP Negeri 6 Blora"}]
[]
[]
[null,null,null,null,null,null,null,null,null,null,null,null,null,null,null,null,null,null,null,null,null,null,null,null,null,null,null,null,null,null,null,null,null,null,null,null,null,null,null,null,null,null,{"$f":"Home!E12","v":"Drs. Sarid Nugroho"}]
[null,{"$f":"'Data '!D15","v":"Suparno, S.Pd.,M.Hum"},null,null,null,null,null,null,null,null,null,null,null,null,null,null,null,null,null,null,null,null,null,null,null,null,null,null,null,null,null,null,null,null,null,null,null,null,null,null,null,null,{"$f":"Home!E14","v":"NIP. 19631223 198803 1 004"}]
[null,{"$f":"'Data '!D16","v":"NIP. 19620712 198403 1 012"}]
[]
[]
[]
[]
[]
[]
[]
[]
[]
[]
[]
[]
[]
[]
[]
[]
[]
[]
[]
[null,null,null,null,null,null,null,null,null,null,null,null,null,null,null,null,null,null,null,null,null,null,null,null,null,null,null,null,null,null,null,null,null,null,null,null,null,null,null,null,null,null,null,null,null,"batas halaman"]

{"sheet":"Obs2","index":16,"n_rows":733,"n_cols":19,"rows_kept":733,"cut":false,"hidden":false,"merged":[[680,14,682,14],[669,1,669,6],[669,7,669,12],[671,1,671,13],[672,1,672,13],[673,1,673,13],[674,1,674,13],[675,1,675,13],[676,1,676,13],[677,1,677,13],[678,1,678,13],[680,10,682,10],[680,11,682,11],[680,12,682,12],[680,13,682,13],[680,0,682,0],[680,2,682,2],[680,3,682,3],[680,4,682,4],[680,5,682,5],[680,6,682,6],[680,7,682,7],[680,8,682,8],[680,9,682,9],[614,0,616,0],[614,2,616,2],[614,3,616,3],[614,4,616,4],[614,5,616,5],[614,6,616,6],[614,7,616,7],[614,8,616,8],[614,9,616,9],[605,1,605,13],[606,1,606,13],[607,1,607,13],[608,1,608,13],[609,1,609,13],[610,1,610,13],[611,1,611,13],[614,14,616,14],[612,1,612,13],[614,10,616,10],[614,11,616,11],[614,12,616,12],[614,13,616,13],[479,1,479,13],[480,1,480,13],[481,1,481,13],[537,1,537,6],[537,7,537,12],[544,1,544,13],[545,1,545,13],[483,11,485,11],[603,1,603,6],[603,7,603,12],[282,1,282,13],[283,1,283,13],[279,1,279,13],[340,1,340,6],[340,7,340,12],[347,1,347,13],[285,11,287,11],[472,1,472,6],[472,7,472,12],[351,10,353,10],[351,12,353,12],[351,13,353,13],[417,13,419,13],[409,1,409,13],[410,1,410,13],[411,1,411,13],[412,1,412,13],[79,1,79,13],[74,1,74,6],[74,7,74,12],[85,11,87,11],[141,1,141,6],[141,7,141,12],[143,1,143,14],[145,1,145,14],[146,1,146,14],[147,1,147,14],[148,1,148,14],[149,1,149,14],[150,1,150,14],[217,1,217,13],[7,2,7,3],[7,5,7,7],[7,8,7,9],[7,10,7,12],[7,13,7,14],[8,2,8,5],[80,1,80,13],[85,14,87,14],[144,1,144,14],[152,14,154,14],[209,1,209,13],[152,11,154,11],[207,1,207,6],[207,7,207,12],[210,1,210,13],[211,1,211,13],[213,1,213,13],[214,1,214,13],[215,1,215,13],[0,1,0,14],[1,1,1,14],[2,1,2,14],[3,1,4,14],[6,2,6,5],[6,6,6,7],[6,8,6,9],[6,10,6,12],[10,14,11,14],[10,7,11,7],[10,8,11,8],[10,9,11,9],[10,10,11,10],[10,12,11,12],[10,13,11,13],[10,0,11,0],[10,2,11,2],[10,3,11,3],[10,4,11,4],[10,5,11,5],[10,6,11,6],[76,1,76,13],[77,1,77,13],[78,1,78,13],[66,1,66,2],[10,11,11,11],[85,0,87,0],[85,2,87,2],[85,3,87,3],[85,4,87,4],[85,5,87,5],[85,6,87,6],[81,1,81,13],[82,1,82,13],[83,1,83,13],[85,7,87,7],[85,8,87,8],[85,9,87,9],[85,10,87,10],[85,12,87,12],[85,13,87,13],[216,1,216,13],[152,10,154,10],[152,12,154,12],[152,13,154,13],[212,1,212,13],[285,0,287,0],[285,2,287,2],[285,3,287,3],[285,4,287,4],[285,5,287,5],[285,6,287,6],[219,0,221,0],[152,0,154,0],[152,2,154,2],[152,3,154,3],[152,4,154,4],[152,5,154,5],[152,6,154,6],[152,7,154,7],[152,8,154,8],[152,9,154,9],[274,1,274,6],[274,7,274,12],[281,1,281,13],[219,14,221,14],[276,1,276,13],[277,1,277,13],[278,1,278,13],[280,1,280,13],[219,7,221,7],[219,8,221,8],[219,9,221,9],[219,10,221,10],[219,12,221,12],[219,13,221,13],[219,2,221,2],[219,3,221,3],[219,4,221,4],[219,5,221,5],[219,6,221,6],[285,14,287,14],[342,1,342,13],[343,1,343,13],[344,1,344,13],[345,1,345,13],[285,7,287,7],[285,8,287,8],[285,9,287,9],[285,10,287,10],[285,12,287,12],[285,13,287,13],[351,14,353,14],[408,1,408,13],[346,1,346,13],[351,0,353,0],[351,2,353,2],[351,3,353,3],[351,4,353,4],[351,5,353,5],[351,6,353,6],[351,7,353,7],[351,8,353,8],[351,9,353,9],[348,1,348,13],[349,1,349,13],[406,1,406,6],[406,7,406,12],[351,11,353,11],[417,0,419,0],[417,2,419,2],[417,3,419,3],[417,4,419,4],[417,5,419,5],[417,6,419,6],[413,1,413,13],[414,1,414,13],[415,1,415,13],[417,11,419,11],[548,0,550,0],[548,2,550,2],[548,3,550,3],[548,4,550,4],[548,5,550,5],[548,6,550,6],[483,10,485,10],[483,12,485,12],[483,13,485,13],[539,1,539,13],[483,0,485,0],[483,2,485,2],[483,3,485,3],[483,4,485,4],[483,5,485,5],[483,6,485,6],[483,7,485,7],[483,8,485,8],[483,9,485,9],[546,1,546,13],[548,11,550,11],[11,16,11,18],[548,14,550,14],[548,7,550,7],[548,8,550,8],[548,9,550,9],[548,10,550,10],[548,12,550,12],[548,13,550,13],[540,1,540,13],[541,1,541,13],[542,1,542,13],[543,1,543,13],[483,14,485,14],[478,1,478,13],[417,14,419,14],[474,1,474,13],[475,1,475,13],[476,1,476,13],[477,1,477,13],[417,7,419,7],[417,8,419,8],[417,9,419,9],[417,10,419,10],[417,12,419,12]]}
[null,{"$f":"UPPER('Data '!D10)","v":"PEMERINTAH KABUPATEN BLORA"}]
[null,{"$f":"UPPER('Data '!D6)","v":"DINAS PENDIDIKAN PEMUDA DAN OLAHRAGA"}]
[null,{"$f":"UPPER('Data '!D7)","v":"SMP NEGERI 6 BLORA"}]
[null,"REKAP NILAI OBSERVASI - 2"]
[]
[]
[null,"Mata Pelajaran :",{"$f":"Home!E16","v":"PJOK"},null,null,null,"Semester  :",null,{"$f":"'Data '!D14","v":"Ganjil"},null,"KKM  :",null,null,{"$f":"Home!E26","v":3}]
[null,"Kelas :",{"$f":"Home!E18","v":"VII-A"},null,null,"Tahun Pelajaran :",null,null,{"$f":"'Data '!D13","v":"2014/2015"},null,"Wali Kelas :",null,null,{"$f":"'Data '!D17","v":"Mundari, S.Pd."}]
[null,"Aspek :","Sikap: Observasi"]
[]
["No. ","Sikap",{"$f":"'Obs 1'!C11:C12","v":"spiritual"},{"$f":"'Obs 1'!D11:D12","v":"jujur"},{"$f":"'Obs 1'!E11:E12","v":"disiplin"},{"$f":"'Obs 1'!F11:F12","v":"tanggungjawab"},{"$f":"'Obs 1'!G11:G12","v":"toleransi"},{"$f":"'Obs 1'!H11:H12","v":"gotong royong"},{"$f":"'Obs 1'!I11:I12","v":"santun"},{"$f":"'Obs 1'!J11:J12","v":"percaya diri"},{"$f":"'Obs 1'!K11:K12","v":"ramah tamah"},{"$f":"'Obs 1'!L11:L12","v":"ingin tahu"},"Nilai Modus","Nilai","Keterangan"]
[null,"Nama",null,null,null,null,null,null,null,null,null,null,null,null,null,null,"NILAI SIKAP"]
[1,{"$f":"'Data '!D27","v":"AHMAD ALEK BRIYANSAPUTRA"},{"$f":"M89","v":3},{"$f":"M156","v":3},{"$f":"M223","v":3},{"$f":"M289","v":3},{"$f":"M355","v":3},{"$f":"M421","v":3},{"$f":"M487","v":3},{"$f":"M552","v":3},{"$f":"M618","v":3},{"$f":"M684","v":3},{"$f":"IFERROR(MODE(C13:L13),\"  \")","v":3},{"$f":"IF(M13=\"  \",\"  \",IF(M13>=$R$13,\"SB\",IF(M13>=$R$14,\"B\",IF(M13>=$R$15,\"C\",\"K\"))))","v":"B"},{"$f":"IF(M13=\"  \",\"  \",IF(M13>=$N$7,\"Tuntas\",\"Tidak Tuntas\"))","v":"Tuntas"},null,">",{"$f":"'Data '!M20","v":4},"SB"]
[2,{"$f":"'Data '!D28","v":"AULIA AYU FATINA"},3,3,3,3,3,3,3,3,{"$f":"M619","v":3},{"$f":"M685","v":3},{"$f":"IFERROR(MODE(C14:L14),\"  \")","v":3},{"$f":"IF(M14=\"  \",\"  \",IF(M14>=$R$13,\"SB\",IF(M14>=$R$14,\"B\",IF(M14>=$R$15,\"C\",\"K\"))))","v":"B"},{"$f":"IF(M14=\"  \",\"  \",IF(M14>=$N$7,\"Tuntas\",\"Tidak Tuntas\"))","v":"Tuntas"},null,">",{"$f":"'Data '!M22","v":3},"B"]
[3,{"$f":"'Data '!D29","v":"BAGAS YULANDRA PUTRA"},3,3,3,3,3,3,3,3,3,3,3,"B","Tuntas",null,">",{"$f":"'Data '!M25","v":2},"C"]
[4,{"$f":"'Data '!D30","v":"CYNTIA AGUSTINA"},3,3,3,3,3,3,3,3,3,3,3,"B","Tuntas",null,">",{"$f":"'Data '!M28","v":1},"K"]
[5,{"$f":"'Data '!D31","v":"DAFFA KRISNA PRAMUDYA"},3,3,3,3,3,3,3,3,3,3,3,"B","Tuntas"]
[6,{"$f":"'Data '!D32","v":"DANINDRA RAFIF IRAWAN"},3,3,3,3,3,3,3,3,3,3,3,"B","Tuntas"]
[7,{"$f":"'Data '!D33","v":"DENI PRATAMA"},3,3,3,3,3,3,3,3,3,3,3,"B","Tuntas"]
[8,{"$f":"'Data '!D34","v":"DIKA SUKMA AGUSTIN"},3,3,3,3,3,3,3,3,3,3,3,"B","Tuntas"]
[9,{"$f":"'Data '!D35","v":"DIVA ADITYA"},3,3,3,3,3,3,3,3,3,3,3,"B","Tuntas"]
[10,{"$f":"'Data '!D36","v":"EKO PRASTYO"},3,3,3,3,3,3,3,3,3,3,3,"B","Tuntas"]
[11,{"$f":"'Data '!D37","v":"FAIQUR RIJAL HAMMAM"},3,3,3,3,3,3,3,3,3,3,3,"B","Tuntas"]
[12,{"$f":"'Data '!D38","v":"FATESAR SARI PRASETYO"},3,3,3,3,3,3,3,3,3,3,3,"B","Tuntas"]
[13,{"$f":"'Data '!D39","v":"FEBRI SULISTIYO"},3,3,3,3,3,3,3,3,3,3,3,"B","Tuntas"]
[14,{"$f":"'Data '!D40","v":"FIONA NANDA FETRIAN"},3,3,3,3,3,3,3,3,3,3,3,"B","Tuntas"]
[15,{"$f":"'Data '!D41","v":"GILANG SYAHRUL RAMADHAN"},3,3,3,3,3,3,3,3,3,3,3,"B","Tuntas"]
[16,{"$f":"'Data '!D42","v":"IMAM AGUNG WAHYU PRATAMA"},3,3,3,3,3,3,3,3,3,3,3,"B","Tuntas"]
[17,{"$f":"'Data '!D43","v":"JOHAN MAULANA"},3,3,3,3,3,3,3,3,3,3,3,"B","Tuntas"]
[18,{"$f":"'Data '!D44","v":"JOKO SETIAWAN"},3,3,3,3,3,3,3,3,3,3,3,"B","Tuntas"]
[19,{"$f":"'Data '!D45","v":"LISA OKTAVINASARI"},3,3,3,3,3,3,3,3,3,3,3,"B","Tuntas"]
[20,{"$f":"'Data '!D46","v":"MARIA GILDA SIREGAR"},3,3,3,3,3,3,3,3,3,3,3,"B","Tuntas"]
[21,{"$f":"'Data '!D47","v":"MOHAMMAD NURKHOLISH"},3,3,3,3,3,3,3,3,3,3,3,"B","Tuntas"]
[22,{"$f":"'Data '!D48","v":"MUHAMAD FARIS ULIN NUHA"},3,3,3,3,3,3,3,3,3,3,3,"B","Tuntas"]
[23,{"$f":"'Data '!D49","v":"MUHAMMAD MUSTOFA"},3,3,3,3,3,3,3,3,3,3,3,"B","Tuntas"]
[24,{"$f":"'Data '!D50","v":"NANDA WINTYA PUTRI"},3,3,3,3,3,3,3,3,3,3,3,"B","Tuntas"]
[25,{"$f":"'Data '!D51","v":"NI'MA NOVA NUR FADHILAH"},3,3,3,3,3,3,3,3,3,3,3,"B","Tuntas"]
[26,{"$f":"'Data '!D52","v":"NITA ZUMROTUT TAQIYAH"},3,3,3,3,3,3,3,3,3,3,3,"B","Tuntas"]
[27,{"$f":"'Data '!D53","v":"RACHMAT SAPUTRA ANDRIANSYAH"},3,3,3,3,3,3,3,3,3,3,3,"B","Tuntas"]
[28,{"$f":"'Data '!D54","v":"RIZAL ANDRIYAN SAPUTRA"},3,3,3,3,3,3,3,3,3,3,3,"B","Tuntas"]
[29,{"$f":"'Data '!D55","v":"SAIFUL ANNAS"},3,3,3,3,3,3,3,3,3,3,3,"B","Tuntas"]
[30,{"$f":"'Data '!D56","v":"SELINA SEPTIANI"},3,3,3,3,3,3,3,3,3,3,3,"B","Tuntas"]
[31,{"$f":"'Data '!D57","v":"SHALSABILA  SHINTA NIRMALA"},3,3,3,3,3,3,3,3,3,3,3,"B","Tuntas"]
[32,{"$f":"'Data '!D58","v":"SITI CHOIRIATUS SA'ADAH"},3,3,3,3,3,3,3,3,3,3,3,"B","Tuntas"]
[33,{"$f":"'Data '!D59","v":"SITI NURFAN AZIZAH"},3,3,3,3,3,3,3,3,3,3,3,"B","Tuntas"]
[34,{"$f":"'Data '!D60","v":"SITI RAHAYU"},3,3,3,3,3,3,3,3,3,3,3,"B","Tuntas"]
[35,{"$f":"'Data '!D61","v":"STEVIANA PUSPITA SARI"},3,3,3,3,3,3,3,3,3,3,3,"B","Tuntas"]
[36,{"$f":"'Data '!D62","v":"TAN LINGGAR PRAMUDITA"},3,3,3,3,3,3,3,3,3,3,3,"B","Tuntas"]
[37,{"$f":"'Data '!D63","v":"TAUFIK NUR AZIZ DANUARTA"},3,3,3,3,3,3,3,3,3,3,3,"B","Tuntas"]
[38,{"$f":"'Data '!D64","v":"TIARA PUTRI AYUNINGTIAS"},3,3,3,3,3,3,3,3,3,3,3,"B","Tuntas"]
[39,{"$f":"'Data '!D65","v":"TITANIA GAYATRI PRIANJANI"},3,3,3,3,3,{"$f":"M459","v":3},3,3,3,3,3,"B","Tuntas"]
[40,{"$f":"'Data '!D66","v":"ULFATUN NI'MAH"},{"$f":"M128","v":3},{"$f":"M195","v":3},{"$f":"M262","v":3},{"$f":"M328","v":3},{"$f":"M394","v":3},{"$f":"M460","v":3},{"$f":"M526","v":3},{"$f":"M591","v":3},3,3,3,"B","Tuntas"]
[41,{"$f":"'Data '!D67","v":0},{"$f":"M129","v":""},{"$f":"M196","v":""},{"$f":"M263","v":""},{"$f":"M329","v":""},{"$f":"M395","v":""},{"$f":"M461","v":""},{"$f":"M527","v":""},{"$f":"M592","v":""},"","","","",{"$f":"IF(M53=\"  \",\"  \",IF(M53>=$N$7,\"Tuntas\",\"Tidak Tuntas\"))","v":""}]
[42,{"$f":"'Data '!D68","v":0},{"$f":"M130","v":""},{"$f":"M197","v":""},{"$f":"M264","v":""},{"$f":"M330","v":""},{"$f":"M396","v":""},{"$f":"M462","v":""},{"$f":"M528","v":""},{"$f":"M593","v":""},"","","","",""]
[43,{"$f":"'Data '!D69","v":0},{"$f":"M131","v":""},{"$f":"M198","v":""},{"$f":"M265","v":""},{"$f":"M331","v":""},{"$f":"M397","v":""},{"$f":"M463","v":""},{"$f":"M529","v":""},{"$f":"M594","v":""},"","","","",""]
[44,{"$f":"'Data '!D70","v":0},{"$f":"M132","v":""},{"$f":"M199","v":""},{"$f":"M266","v":""},{"$f":"M332","v":""},{"$f":"M398","v":""},{"$f":"M464","v":""},{"$f":"M530","v":""},{"$f":"M595","v":""},"","","","",""]
[45,{"$f":"'Data '!D71","v":0},{"$f":"M133","v":""},{"$f":"M200","v":""},{"$f":"M267","v":""},{"$f":"M333","v":""},{"$f":"M399","v":""},{"$f":"M465","v":""},{"$f":"M531","v":""},{"$f":"M596","v":""},"","","","",""]
[46,{"$f":"'Data '!D72","v":0},{"$f":"M134","v":""},{"$f":"M201","v":""},{"$f":"M268","v":""},{"$f":"M334","v":""},{"$f":"M400","v":""},{"$f":"M466","v":""},{"$f":"M532","v":""},{"$f":"M597","v":""},"","","","",{"$f":"IF(M58=\"  \",\"  \",IF(M58>=$N$7,\"Tuntas\",\"Tidak Tuntas\"))","v":""}]
[47,{"$f":"'Data '!D73","v":0},"","","","","","","","","","","","",""]
[48,{"$f":"'Data '!D74","v":0},"","","","","","","","","","","","",""]
[49,{"$f":"'Data '!D75","v":0},"","","","","","","","","","","","",""]
[50,{"$f":"'Data '!D76","v":0},"","","","","","","","","","","","",""]
[null,"Nilai Rata-rata",{"$f":"IFERROR(AVERAGE(C13:C62),\"  \")","v":3},{"$f":"IFERROR(AVERAGE(D13:D62),\"  \")","v":3},3,3,3,3,3,3,3,null,3,"B"]
[null,null,"Skala penilaian sikap dibuat dengan rentang antara 1 s.d 4."]
[null,null,null,"1 =","Tidak Pernah",null,null,null,null,null,null,null,{"$f":"'Data '!D21","v":"Blora, 20 Desember 2014"}]
[null,"Mengetahui:",null,"2 =","Kadang-kadang",null,null,null,null,null,null,null,"Guru Mata Pelajaran"]
[null,{"$f":"\"Ka. \"&'Data '!D7","v":"Ka. SMP Negeri 6 Blora"},null,"3 =","Sering"]
[null,null,null,"4 =","Selalu"]
[]
[]
[null,{"$f":"'Data '!D15","v":"Suparno, S.Pd.,M.Hum"},null,null,null,null,null,null,null,null,null,null,{"$f":"Home!E12","v":"Drs. Sarid Nugroho"}]
[null,{"$f":"'Data '!D16","v":"NIP. 19620712 198403 1 012"},null,null,null,null,null,null,null,null,null,null,{"$f":"Home!E14","v":"NIP. 19631223 198803 1 004"}]
[]
[]
[null,"Pedoman Observasi Sikap",null,null,null,null,null,{"$f":"'Obs 1'!H75","v":"spiritual"}]
[null,"Aspek Pengamatan"]
[1,{"$f":"'Obs 1'!B77","v":"Berdoa sebelum dan sesudah melakukan sesuatu"}]
[2,{"$f":"'Obs 1'!B78","v":"Mengucapkan rasa syukur atas karunia Tuhan"}]
[3,{"$f":"'Obs 1'!B79","v":"Memberi salam sebelum dan sesudah menyampaikan pendapat/presentasi"}]
[4,{"$f":"'Obs 1'!B80","v":"Mengungkapkan kekaguman secara lisan maupun tulisan terhadap Tuhan saat melihat kebesaran Tuhan"}]
[5,{"$f":"'Obs 1'!B81","v":"Merasakan keberadaan dan kebesaran Tuhan saat mempelajari ilmu pengetahuan"}]
[6,{"$f":"'Obs 1'!B82","v":"Menjalankan ibadah tepat waktu"}]
[7,{"$f":"'Obs 1'!B83","v":"Berserah diri kepada Tuhan apabila gagal dalam mengerjakan sesuatu"}]
[8,{"$f":"'Obs 1'!B84","v":"Menghormati orang lain menjalankan ibadah sesuai agamanya"}]
[]
["No. ","Sikap","Aspek 1","Aspek 2","Aspek 3","Aspek 4","Aspek 5",null,null,null,null,null,"Nilai Modus","Nilai","Keterangan"]
[]
[null,"Nama"]
[1,{"$f":"'Data '!D27","v":"AHMAD ALEK BRIYANSAPUTRA"},3,3,3,3,3,null,null,null,null,null,{"$f":"IFERROR(MODE(C89:L89),\"  \")","v":3},{"$f":"IF(M89=\"  \",\"  \",IF(M89>=$R$13,\"SB\",IF(M89>=$R$14,\"B\",IF(M89>=$R$15,\"C\",\"K\"))))","v":"B"},{"$f":"IF(M89=\"  \",\"  \",IF(M89>=$N$7,\"Tuntas\",\"Tidak Tuntas\"))","v":"Tuntas"}]
[2,{"$f":"'Data '!D28","v":"AULIA AYU FATINA"},3,3,3,3,3,null,null,null,null,null,3,{"$f":"IF(M90=\"  \",\"  \",IF(M90>=$R$13,\"SB\",IF(M90>=$R$14,\"B\",IF(M90>=$R$15,\"C\",\"K\"))))","v":"B"},"Tuntas"]
[3,{"$f":"'Data '!D29","v":"BAGAS YULANDRA PUTRA"},3,3,3,3,3,null,null,null,null,null,3,"B","Tuntas"]
[4,{"$f":"'Data '!D30","v":"CYNTIA AGUSTINA"},3,3,3,3,3,null,null,null,null,null,3,"B","Tuntas"]
[5,{"$f":"'Data '!D31","v":"DAFFA KRISNA PRAMUDYA"},3,3,3,3,3,null,null,null,null,null,3,"B","Tuntas"]
[6,{"$f":"'Data '!D32","v":"DANINDRA RAFIF IRAWAN"},3,3,3,3,3,null,null,null,null,null,3,"B","Tuntas"]
[7,{"$f":"'Data '!D33","v":"DENI PRATAMA"},3,3,3,3,3,null,null,null,null,null,3,"B","Tuntas"]
[8,{"$f":"'Data '!D34","v":"DIKA SUKMA AGUSTIN"},3,3,3,3,3,null,null,null,null,null,3,"B","Tuntas"]
[9,{"$f":"'Data '!D35","v":"DIVA ADITYA"},3,3,3,3,3,null,null,null,null,null,3,"B","Tuntas"]
[10,{"$f":"'Data '!D36","v":"EKO PRASTYO"},3,3,3,3,3,null,null,null,null,null,3,"B","Tuntas"]
[11,{"$f":"'Data '!D37","v":"FAIQUR RIJAL HAMMAM"},3,3,3,3,3,null,null,null,null,null,3,"B","Tuntas"]
[12,{"$f":"'Data '!D38","v":"FATESAR SARI PRASETYO"},3,3,3,3,3,null,null,null,null,null,3,"B","Tuntas"]
[13,{"$f":"'Data '!D39","v":"FEBRI SULISTIYO"},3,3,3,3,3,null,null,null,null,null,3,"B","Tuntas"]
[14,{"$f":"'Data '!D40","v":"FIONA NANDA FETRIAN"},3,3,3,3,3,null,null,null,null,null,3,"B","Tuntas"]
[15,{"$f":"'Data '!D41","v":"GILANG SYAHRUL RAMADHAN"},3,3,3,3,3,null,null,null,null,null,3,"B","Tuntas"]
[16,{"$f":"'Data '!D42","v":"IMAM AGUNG WAHYU PRATAMA"},3,3,3,3,3,null,null,null,null,null,3,"B","Tuntas"]
[17,{"$f":"'Data '!D43","v":"JOHAN MAULANA"},3,3,3,3,3,null,null,null,null,null,3,"B","Tuntas"]
[18,{"$f":"'Data '!D44","v":"JOKO SETIAWAN"},3,3,3,3,3,null,null,null,null,null,3,"B","Tuntas"]
[19,{"$f":"'Data '!D45","v":"LISA OKTAVINASARI"},3,3,3,3,3,null,null,null,null,null,3,"B","Tuntas"]
[20,{"$f":"'Data '!D46","v":"MARIA GILDA SIREGAR"},3,3,3,3,3,null,null,null,null,null,3,"B","Tuntas"]
[21,{"$f":"'Data '!D47","v":"MOHAMMAD NURKHOLISH"},3,3,3,3,3,null,null,null,null,null,3,"B","Tuntas"]
[22,{"$f":"'Data '!D48","v":"MUHAMAD FARIS ULIN NUHA"},3,3,3,3,3,null,null,null,null,null,3,"B","Tuntas"]
[23,{"$f":"'Data '!D49","v":"MUHAMMAD MUSTOFA"},3,3,3,3,3,null,null,null,null,null,3,"B","Tuntas"]
[24,{"$f":"'Data '!D50","v":"NANDA WINTYA PUTRI"},3,3,3,3,3,null,null,null,null,null,3,"B","Tuntas"]
[25,{"$f":"'Data '!D51","v":"NI'MA NOVA NUR FADHILAH"},3,3,3,3,3,null,null,null,null,null,3,"B","Tuntas"]
[26,{"$f":"'Data '!D52","v":"NITA ZUMROTUT TAQIYAH"},3,3,3,3,3,null,null,null,null,null,3,"B","Tuntas"]
[27,{"$f":"'Data '!D53","v":"RACHMAT SAPUTRA ANDRIANSYAH"},3,3,3,3,3,null,null,null,null,null,3,"B","Tuntas"]
[28,{"$f":"'Data '!D54","v":"RIZAL ANDRIYAN SAPUTRA"},3,3,3,3,3,null,null,null,null,null,3,"B","Tuntas"]
[29,{"$f":"'Data '!D55","v":"SAIFUL ANNAS"},3,3,3,3,3,null,null,null,null,null,3,"B","Tuntas"]
[30,{"$f":"'Data '!D56","v":"SELINA SEPTIANI"},3,3,3,3,3,null,null,null,null,null,3,"B","Tuntas"]
[31,{"$f":"'Data '!D57","v":"SHALSABILA  SHINTA NIRMALA"},3,3,3,3,3,null,null,null,null,null,3,"B","Tuntas"]
[32,{"$f":"'Data '!D58","v":"SITI CHOIRIATUS SA'ADAH"},3,3,3,3,3,null,null,null,null,null,3,"B","Tuntas"]
[33,{"$f":"'Data '!D59","v":"SITI NURFAN AZIZAH"},3,3,3,3,3,null,null,null,null,null,3,"B","Tuntas"]
[34,{"$f":"'Data '!D60","v":"SITI RAHAYU"},3,3,3,3,3,null,null,null,null,null,3,"B","Tuntas"]
[35,{"$f":"'Data '!D61","v":"STEVIANA PUSPITA SARI"},3,3,3,3,3,null,null,null,null,null,3,"B","Tuntas"]
[36,{"$f":"'Data '!D62","v":"TAN LINGGAR PRAMUDITA"},3,3,3,3,3,null,null,null,null,null,3,"B","Tuntas"]
[37,{"$f":"'Data '!D63","v":"TAUFIK NUR AZIZ DANUARTA"},3,3,3,3,3,null,null,null,null,null,3,"B","Tuntas"]
[38,{"$f":"'Data '!D64","v":"TIARA PUTRI AYUNINGTIAS"},3,3,3,3,3,null,null,null,null,null,3,"B","Tuntas"]
[39,{"$f":"'Data '!D65","v":"TITANIA GAYATRI PRIANJANI"},3,3,3,3,3,null,null,null,null,null,3,"B","Tuntas"]
[40,{"$f":"'Data '!D66","v":"ULFATUN NI'MAH"},3,3,3,3,3,null,null,null,null,null,3,"B","Tuntas"]
[41,{"$f":"'Data '!D67","v":0},null,null,null,null,null,null,null,null,null,null,"","",""]
[42,{"$f":"'Data '!D68","v":0},null,null,null,null,null,null,null,null,null,null,"","",""]
[43,{"$f":"'Data '!D69","v":0},null,null,null,null,null,null,null,null,null,null,"","",""]
[44,{"$f":"'Data '!D70","v":0},null,null,null,null,null,null,null,null,null,null,"","",""]
[45,{"$f":"'Data '!D71","v":0},null,null,null,null,null,null,null,null,null,null,"","",""]
[46,{"$f":"'Data '!D72","v":0},null,null,null,null,null,null,null,null,null,null,"","",{"$f":"IF(M134=\"  \",\"  \",IF(M134>=$N$7,\"Tuntas\",\"Tidak Tuntas\"))","v":""}]
[47,{"$f":"'Data '!D73","v":0},null,null,null,null,null,null,null,null,null,null,"","",""]
[48,{"$f":"'Data '!D74","v":0},null,null,null,null,null,null,null,null,null,null,"","",""]
[49,{"$f":"'Data '!D75","v":0},null,null,null,null,null,null,null,null,null,null,"","",""]
[50,{"$f":"'Data '!D76","v":0},null,null,null,null,null,null,null,null,null,null,"","",""]
[]
[]
[]
[null,"Pedoman Observasi Sikap",null,null,null,null,null,{"$f":"'Obs 1'!H141","v":"jujur"}]
[null,"Aspek Pengamatan"]
[1,{"$f":"'Obs 1'!B143","v":"Tidak nyontek dalam mengerjakan ujian/ulangan/tugas"}]
[2,{"$f":"'Obs 1'!B144","v":"Tidak melakukan plagiat (mengambil/menyalin karya orang lain tanpa menyebutkan sumber) dalam mengerjakan setiap tugas"}]
[3,{"$f":"'Obs 1'!B145","v":"Mengungkapkan perasaan terhadap sesuatu apa adanya"}]
[4,{"$f":"'Obs 1'!B146","v":"Melaporkan data atau informasi apa adanya"}]
[5,{"$f":"'Obs 1'!B147","v":"Mengakui kesalahan atau kekurangan yang dimiliki"}]
[6,{"$f":"'Obs 1'!B148","v":0}]
[7,{"$f":"'Obs 1'!B149","v":0}]
[8,{"$f":"'Obs 1'!B150","v":0}]
[]
["No. ","Sikap","Aspek 1","Aspek 2","Aspek 3","Aspek 4","Aspek 5",null,null,null,null,null,"Nilai Modus","Nilai","Keterangan"]
[]
[null,"Nama"]
[1,{"$f":"'Data '!D27","v":"AHMAD ALEK BRIYANSAPUTRA"},3,3,3,3,3,null,null,null,null,null,{"$f":"IFERROR(MODE(C156:L156),\"  \")","v":3},{"$f":"IF(M156=\"  \",\"  \",IF(M156>=$R$13,\"SB\",IF(M156>=$R$14,\"B\",IF(M156>=$R$15,\"C\",\"K\"))))","v":"B"},{"$f":"IF(M156=\"  \",\"  \",IF(M156>=$N$7,\"Tuntas\",\"Tidak Tuntas\"))","v":"Tuntas"}]
[2,{"$f":"'Data '!D28","v":"AULIA AYU FATINA"},3,3,3,3,3,null,null,null,null,null,3,{"$f":"IF(M157=\"  \",\"  \",IF(M157>=$R$13,\"SB\",IF(M157>=$R$14,\"B\",IF(M157>=$R$15,\"C\",\"K\"))))","v":"B"},"Tuntas"]
[3,{"$f":"'Data '!D29","v":"BAGAS YULANDRA PUTRA"},3,3,3,3,3,null,null,null,null,null,3,"B","Tuntas"]
[4,{"$f":"'Data '!D30","v":"CYNTIA AGUSTINA"},3,3,3,3,3,null,null,null,null,null,3,"B","Tuntas"]
[5,{"$f":"'Data '!D31","v":"DAFFA KRISNA PRAMUDYA"},3,3,3,3,3,null,null,null,null,null,3,"B","Tuntas"]
[6,{"$f":"'Data '!D32","v":"DANINDRA RAFIF IRAWAN"},3,3,3,3,3,null,null,null,null,null,3,"B","Tuntas"]
[7,{"$f":"'Data '!D33","v":"DENI PRATAMA"},3,3,3,3,3,null,null,null,null,null,3,"B","Tuntas"]
[8,{"$f":"'Data '!D34","v":"DIKA SUKMA AGUSTIN"},3,3,3,3,3,null,null,null,null,null,3,"B","Tuntas"]
[9,{"$f":"'Data '!D35","v":"DIVA ADITYA"},3,3,3,3,3,null,null,null,null,null,3,"B","Tuntas"]
[10,{"$f":"'Data '!D36","v":"EKO PRASTYO"},3,3,3,3,3,null,null,null,null,null,3,"B","Tuntas"]
[11,{"$f":"'Data '!D37","v":"FAIQUR RIJAL HAMMAM"},3,3,3,3,3,null,null,null,null,null,3,"B","Tuntas"]
[12,{"$f":"'Data '!D38","v":"FATESAR SARI PRASETYO"},3,3,3,3,3,null,null,null,null,null,3,"B","Tuntas"]
[13,{"$f":"'Data '!D39","v":"FEBRI SULISTIYO"},3,3,3,3,3,null,null,null,null,null,3,"B","Tuntas"]
[14,{"$f":"'Data '!D40","v":"FIONA NANDA FETRIAN"},3,3,3,3,3,null,null,null,null,null,3,"B","Tuntas"]
[15,{"$f":"'Data '!D41","v":"GILANG SYAHRUL RAMADHAN"},3,3,3,3,3,null,null,null,null,null,3,"B","Tuntas"]
[16,{"$f":"'Data '!D42","v":"IMAM AGUNG WAHYU PRATAMA"},3,3,3,3,3,null,null,null,null,null,3,"B","Tuntas"]
[17,{"$f":"'Data '!D43","v":"JOHAN MAULANA"},3,3,3,3,3,null,null,null,null,null,3,"B","Tuntas"]
[18,{"$f":"'Data '!D44","v":"JOKO SETIAWAN"},3,3,3,3,3,null,null,null,null,null,3,"B","Tuntas"]
[19,{"$f":"'Data '!D45","v":"LISA OKTAVINASARI"},3,3,3,3,3,null,null,null,null,null,3,"B","Tuntas"]
[20,{"$f":"'Data '!D46","v":"MARIA GILDA SIREGAR"},3,3,3,3,3,null,null,null,null,null,3,"B","Tuntas"]
[21,{"$f":"'Data '!D47","v":"MOHAMMAD NURKHOLISH"},3,3,3,3,3,null,null,null,null,null,3,"B","Tuntas"]
[22,{"$f":"'Data '!D48","v":"MUHAMAD FARIS ULIN NUHA"},3,3,3,3,3,null,null,null,null,null,3,"B","Tuntas"]
[23,{"$f":"'Data '!D49","v":"MUHAMMAD MUSTOFA"},3,3,3,3,3,null,null,null,null,null,3,"B","Tuntas"]
[24,{"$f":"'Data '!D50","v":"NANDA WINTYA PUTRI"},3,3,3,3,3,null,null,null,null,null,3,"B","Tuntas"]
[25,{"$f":"'Data '!D51","v":"NI'MA NOVA NUR FADHILAH"},3,3,3,3,3,null,null,null,null,null,3,"B","Tuntas"]
[26,{"$f":"'Data '!D52","v":"NITA ZUMROTUT TAQIYAH"},3,3,3,3,3,null,null,null,null,null,3,"B","Tuntas"]
[27,{"$f":"'Data '!D53","v":"RACHMAT SAPUTRA ANDRIANSYAH"},3,3,3,3,3,null,null,null,null,null,3,"B","Tuntas"]
[28,{"$f":"'Data '!D54","v":"RIZAL ANDRIYAN SAPUTRA"},3,3,3,3,3,null,null,null,null,null,3,"B","Tuntas"]
[29,{"$f":"'Data '!D55","v":"SAIFUL ANNAS"},3,3,3,3,3,null,null,null,null,null,3,"B","Tuntas"]
[30,{"$f":"'Data '!D56","v":"SELINA SEPTIANI"},3,3,3,3,3,null,null,null,null,null,3,"B","Tuntas"]
[31,{"$f":"'Data '!D57","v":"SHALSABILA  SHINTA NIRMALA"},3,3,3,3,3,null,null,null,null,null,3,"B","Tuntas"]
[32,{"$f":"'Data '!D58","v":"SITI CHOIRIATUS SA'ADAH"},3,3,3,3,3,null,null,null,null,null,3,"B","Tuntas"]
[33,{"$f":"'Data '!D59","v":"SITI NURFAN AZIZAH"},3,3,3,3,3,null,null,null,null,null,3,"B","Tuntas"]
[34,{"$f":"'Data '!D60","v":"SITI RAHAYU"},3,3,3,3,3,null,null,null,null,null,3,"B","Tuntas"]
[35,{"$f":"'Data '!D61","v":"STEVIANA PUSPITA SARI"},3,3,3,3,3,null,null,null,null,null,3,"B","Tuntas"]
[36,{"$f":"'Data '!D62","v":"TAN LINGGAR PRAMUDITA"},3,3,3,3,3,null,null,null,null,null,3,"B","Tuntas"]
[37,{"$f":"'Data '!D63","v":"TAUFIK NUR AZIZ DANUARTA"},3,3,3,3,3,null,null,null,null,null,3,"B","Tuntas"]
[38,{"$f":"'Data '!D64","v":"TIARA PUTRI AYUNINGTIAS"},3,3,3,3,3,null,null,null,null,null,3,"B","Tuntas"]
[39,{"$f":"'Data '!D65","v":"TITANIA GAYATRI PRIANJANI"},3,3,3,3,3,null,null,null,null,null,3,"B","Tuntas"]
[40,{"$f":"'Data '!D66","v":"ULFATUN NI'MAH"},3,3,3,3,3,null,null,null,null,null,3,"B","Tuntas"]
[41,{"$f":"'Data '!D67","v":0},null,null,null,null,null,null,null,null,null,null,"","",""]
[42,{"$f":"'Data '!D68","v":0},null,null,null,null,null,null,null,null,null,null,"","",""]
[43,{"$f":"'Data '!D69","v":0},null,null,null,null,null,null,null,null,null,null,"","",""]
[44,{"$f":"'Data '!D70","v":0},null,null,null,null,null,null,null,null,null,null,"","",""]
[45,{"$f":"'Data '!D71","v":0},null,null,null,null,null,null,null,null,null,null,"","",""]
[46,{"$f":"'Data '!D72","v":0},null,null,null,null,null,null,null,null,null,null,"","",{"$f":"IF(M201=\"  \",\"  \",IF(M201>=$N$7,\"Tuntas\",\"Tidak Tuntas\"))","v":""}]
[47,{"$f":"'Data '!D73","v":0},null,null,null,null,null,null,null,null,null,null,"","",""]
[48,{"$f":"'Data '!D74","v":0},null,null,null,null,null,null,null,null,null,null,"","",""]
[49,{"$f":"'Data '!D75","v":0},null,null,null,null,null,null,null,null,null,null,"","",""]
[50,{"$f":"'Data '!D76","v":0},null,null,null,null,null,null,null,null,null,null,"","",""]
[]
[]
[null,"Pedoman Observasi Sikap",null,null,null,null,null,{"$f":"'Obs 1'!H207","v":"disiplin"}]
[null,"Aspek Pengamatan"]
[1,{"$f":"'Obs 1'!B209","v":"Masuk kelas tepat waktu"}]
[2,{"$f":"'Obs 1'!B210:N210","v":"Mengumpulkan tugas tepat waktu"}]
[3,{"$f":"'Obs 1'!B211:N211","v":"Memakai seragam sesuai tata tertib"}]
[4,{"$f":"'Obs 1'!B212:N212","v":"Mengerjakan tugas yang diberikan"}]
[5,{"$f":"'Obs 1'!B213:N213","v":"Tertib dalam mengikuti pembelajaran"}]
[6,{"$f":"'Obs 1'!B214:N214","v":"Mengikuti praktikum sesuai dengan langkah yang ditetapkan"}]
[7,{"$f":"'Obs 1'!B215:N215","v":"Membawa buku tulis sesuai mata pelajaran"}]
[8,{"$f":"'Obs 1'!B216:N216","v":"Membawa buku teks mata pelajaran"}]
[9,{"$f":"'Obs 1'!B217:N217","v":0}]
[]
["No. ","Sikap","Aspek 1","Aspek 2","Aspek 3","Aspek 4","Aspek 5","Aspek 6","Aspek 7","Aspek 8",null,null,"Nilai Modus","Nilai","Keterangan"]
[]
[null,"Nama"]
[1,{"$f":"'Data '!D27","v":"AHMAD ALEK BRIYANSAPUTRA"},3,3,3,3,3,3,3,3,null,null,{"$f":"IFERROR(MODE(C223:L223),\"  \")","v":3},{"$f":"IF(M223=\"  \",\"  \",IF(M223>=$R$13,\"SB\",IF(M223>=$R$14,\"B\",IF(M223>=$R$15,\"C\",\"K\"))))","v":"B"},{"$f":"IF(M223=\"  \",\"  \",IF(M223>=$N$7,\"Tuntas\",\"Tidak Tuntas\"))","v":"Tuntas"}]
[2,{"$f":"'Data '!D28","v":"AULIA AYU FATINA"},3,3,3,3,3,3,3,3,null,null,3,{"$f":"IF(M224=\"  \",\"  \",IF(M224>=$R$13,\"SB\",IF(M224>=$R$14,\"B\",IF(M224>=$R$15,\"C\",\"K\"))))","v":"B"},"Tuntas"]
[3,{"$f":"'Data '!D29","v":"BAGAS YULANDRA PUTRA"},3,3,3,3,3,3,3,3,null,null,3,"B","Tuntas"]
[4,{"$f":"'Data '!D30","v":"CYNTIA AGUSTINA"},3,3,3,3,3,3,3,3,null,null,3,"B","Tuntas"]
[5,{"$f":"'Data '!D31","v":"DAFFA KRISNA PRAMUDYA"},3,3,3,3,3,3,3,3,null,null,3,"B","Tuntas"]
[6,{"$f":"'Data '!D32","v":"DANINDRA RAFIF IRAWAN"},3,3,3,3,3,3,3,3,null,null,3,"B","Tuntas"]
[7,{"$f":"'Data '!D33","v":"DENI PRATAMA"},3,3,3,3,3,3,3,3,null,null,3,"B","Tuntas"]
[8,{"$f":"'Data '!D34","v":"DIKA SUKMA AGUSTIN"},3,3,3,3,3,3,3,3,null,null,3,"B","Tuntas"]
[9,{"$f":"'Data '!D35","v":"DIVA ADITYA"},3,3,3,3,3,3,3,3,null,null,3,"B","Tuntas"]
[10,{"$f":"'Data '!D36","v":"EKO PRASTYO"},3,3,3,3,3,3,3,3,null,null,3,"B","Tuntas"]
[11,{"$f":"'Data '!D37","v":"FAIQUR RIJAL HAMMAM"},3,3,3,3,3,3,3,3,null,null,3,"B","Tuntas"]
[12,{"$f":"'Data '!D38","v":"FATESAR SARI PRASETYO"},3,3,3,3,3,3,3,3,null,null,3,"B","Tuntas"]
[13,{"$f":"'Data '!D39","v":"FEBRI SULISTIYO"},3,3,3,3,3,3,3,3,null,null,3,"B","Tuntas"]
[14,{"$f":"'Data '!D40","v":"FIONA NANDA FETRIAN"},3,3,3,3,3,3,3,3,null,null,3,"B","Tuntas"]
[15,{"$f":"'Data '!D41","v":"GILANG SYAHRUL RAMADHAN"},3,3,3,3,3,3,3,3,null,null,3,"B","Tuntas"]
[16,{"$f":"'Data '!D42","v":"IMAM AGUNG WAHYU PRATAMA"},3,3,3,3,3,3,3,3,null,null,3,"B","Tuntas"]
[17,{"$f":"'Data '!D43","v":"JOHAN MAULANA"},3,3,3,3,3,3,3,3,null,null,3,"B","Tuntas"]
[18,{"$f":"'Data '!D44","v":"JOKO SETIAWAN"},3,3,3,3,3,3,3,3,null,null,3,"B","Tuntas"]
[19,{"$f":"'Data '!D45","v":"LISA OKTAVINASARI"},3,3,3,3,3,3,3,3,null,null,3,"B","Tuntas"]
[20,{"$f":"'Data '!D46","v":"MARIA GILDA SIREGAR"},3,3,3,3,3,3,3,3,null,null,3,"B","Tuntas"]
[21,{"$f":"'Data '!D47","v":"MOHAMMAD NURKHOLISH"},3,3,3,3,3,3,3,3,null,null,3,"B","Tuntas"]
[22,{"$f":"'Data '!D48","v":"MUHAMAD FARIS ULIN NUHA"},3,3,3,3,3,3,3,3,null,null,3,"B","Tuntas"]
[23,{"$f":"'Data '!D49","v":"MUHAMMAD MUSTOFA"},3,3,3,3,3,3,3,3,null,null,3,"B","Tuntas"]
[24,{"$f":"'Data '!D50","v":"NANDA WINTYA PUTRI"},3,3,3,3,3,3,3,3,null,null,3,"B","Tuntas"]
[25,{"$f":"'Data '!D51","v":"NI'MA NOVA NUR FADHILAH"},3,3,3,3,3,3,3,3,null,null,3,"B","Tuntas"]
[26,{"$f":"'Data '!D52","v":"NITA ZUMROTUT TAQIYAH"},3,3,3,3,3,3,3,3,null,null,3,"B","Tuntas"]
[27,{"$f":"'Data '!D53","v":"RACHMAT SAPUTRA ANDRIANSYAH"},3,3,3,3,3,3,3,3,null,null,3,"B","Tuntas"]
[28,{"$f":"'Data '!D54","v":"RIZAL ANDRIYAN SAPUTRA"},3,3,3,3,3,3,3,3,null,null,3,"B","Tuntas"]
[29,{"$f":"'Data '!D55","v":"SAIFUL ANNAS"},3,3,3,3,3,3,3,3,null,null,3,"B","Tuntas"]
[30,{"$f":"'Data '!D56","v":"SELINA SEPTIANI"},3,3,3,3,3,3,3,3,null,null,3,"B","Tuntas"]
[31,{"$f":"'Data '!D57","v":"SHALSABILA  SHINTA NIRMALA"},3,3,3,3,3,3,3,3,null,null,3,"B","Tuntas"]
[32,{"$f":"'Data '!D58","v":"SITI CHOIRIATUS SA'ADAH"},3,3,3,3,3,3,3,3,null,null,3,"B","Tuntas"]
[33,{"$f":"'Data '!D59","v":"SITI NURFAN AZIZAH"},3,3,3,3,3,3,3,3,null,null,3,"B","Tuntas"]
[34,{"$f":"'Data '!D60","v":"SITI RAHAYU"},3,3,3,3,3,3,3,3,null,null,3,"B","Tuntas"]
[35,{"$f":"'Data '!D61","v":"STEVIANA PUSPITA SARI"},3,3,3,3,3,3,3,3,null,null,3,"B","Tuntas"]
[36,{"$f":"'Data '!D62","v":"TAN LINGGAR PRAMUDITA"},3,3,3,3,3,3,3,3,null,null,3,"B","Tuntas"]
[37,{"$f":"'Data '!D63","v":"TAUFIK NUR AZIZ DANUARTA"},3,3,3,3,3,3,3,3,null,null,3,"B","Tuntas"]
[38,{"$f":"'Data '!D64","v":"TIARA PUTRI AYUNINGTIAS"},3,3,3,3,3,3,3,3,null,null,3,"B","Tuntas"]
[39,{"$f":"'Data '!D65","v":"TITANIA GAYATRI PRIANJANI"},3,3,3,3,3,3,3,3,null,null,3,"B","Tuntas"]
[40,{"$f":"'Data '!D66","v":"ULFATUN NI'MAH"},3,3,3,3,3,3,3,3,null,null,3,"B","Tuntas"]
[41,{"$f":"'Data '!D67","v":0},null,null,null,null,null,null,null,null,null,null,"","",""]
[42,{"$f":"'Data '!D68","v":0},null,null,null,null,null,null,null,null,null,null,"","",""]
[43,{"$f":"'Data '!D69","v":0},null,null,null,null,null,null,null,null,null,null,"","",""]
[44,{"$f":"'Data '!D70","v":0},null,null,null,null,null,null,null,null,null,null,"","",""]
[45,{"$f":"'Data '!D71","v":0},null,null,null,null,null,null,null,null,null,null,"","",""]
[46,{"$f":"'Data '!D72","v":0},null,null,null,null,null,null,null,null,null,null,"","",{"$f":"IF(M268=\"  \",\"  \",IF(M268>=$N$7,\"Tuntas\",\"Tidak Tuntas\"))","v":""}]
[47,{"$f":"'Data '!D73","v":0},null,null,null,null,null,null,null,null,null,null,"","",""]
[48,{"$f":"'Data '!D74","v":0},null,null,null,null,null,null,null,null,null,null,"","",""]
[49,{"$f":"'Data '!D75","v":0},null,null,null,null,null,null,null,null,null,null,"","",""]
[50,{"$f":"'Data '!D76","v":0},null,null,null,null,null,null,null,null,null,null,"","",""]
[]
[]
[null,"Pedoman Observasi Sikap",null,null,null,null,null,{"$f":"'Obs 1'!H274","v":"tanggungjawab"}]
[null,"Aspek Pengamatan"]
[1,{"$f":"'Obs 1'!B276","v":"Melaksanakan tugas individu dengan baik"}]
[2,{"$f":"'Obs 1'!B277","v":"Menerima resiko dari tindakan yang dilakukan"}]
[3,{"$f":"'Obs 1'!B278","v":"Tidak menuduh orang lain tanpa bukti yang akurat"}]
[4,{"$f":"'Obs 1'!B279","v":"Mengembalikan barang yang dipinjam"}]
[5,{"$f":"'Obs 1'!B280","v":"Meminta maaf atas kesalahan yang dilakukan"}]
[6,{"$f":"'Obs 1'!B281","v":0}]
[7,{"$f":"'Obs 1'!B282","v":0}]
[8,{"$f":"'Obs 1'!B283","v":0}]
[]
["No. ","Sikap","Aspek 1","Aspek 2","Aspek 3","Aspek 4","Aspek 5",null,null,null,null,null,"Nilai Modus","Nilai","Keterangan"]
[]
[null,"Nama"]
[1,{"$f":"'Data '!D27","v":"AHMAD ALEK BRIYANSAPUTRA"},3,3,3,3,3,null,null,null,null,null,{"$f":"IFERROR(MODE(C289:L289),\"  \")","v":3},{"$f":"IF(M289=\"  \",\"  \",IF(M289>=$R$13,\"SB\",IF(M289>=$R$14,\"B\",IF(M289>=$R$15,\"C\",\"K\"))))","v":"B"},{"$f":"IF(M289=\"  \",\"  \",IF(M289>=$N$7,\"Tuntas\",\"Tidak Tuntas\"))","v":"Tuntas"}]
[2,{"$f":"'Data '!D28","v":"AULIA AYU FATINA"},3,3,3,3,3,null,null,null,null,null,3,{"$f":"IF(M290=\"  \",\"  \",IF(M290>=$R$13,\"SB\",IF(M290>=$R$14,\"B\",IF(M290>=$R$15,\"C\",\"K\"))))","v":"B"},"Tuntas"]
[3,{"$f":"'Data '!D29","v":"BAGAS YULANDRA PUTRA"},3,3,3,3,3,null,null,null,null,null,3,"B","Tuntas"]
[4,{"$f":"'Data '!D30","v":"CYNTIA AGUSTINA"},3,3,3,3,3,null,null,null,null,null,3,"B","Tuntas"]
[5,{"$f":"'Data '!D31","v":"DAFFA KRISNA PRAMUDYA"},3,3,3,3,3,null,null,null,null,null,3,"B","Tuntas"]
[6,{"$f":"'Data '!D32","v":"DANINDRA RAFIF IRAWAN"},3,3,3,3,3,null,null,null,null,null,3,"B","Tuntas"]
[7,{"$f":"'Data '!D33","v":"DENI PRATAMA"},3,3,3,3,3,null,null,null,null,null,3,"B","Tuntas"]
[8,{"$f":"'Data '!D34","v":"DIKA SUKMA AGUSTIN"},3,3,3,3,3,null,null,null,null,null,3,"B","Tuntas"]
[9,{"$f":"'Data '!D35","v":"DIVA ADITYA"},3,3,3,3,3,null,null,null,null,null,3,"B","Tuntas"]
[10,{"$f":"'Data '!D36","v":"EKO PRASTYO"},3,3,3,3,3,null,null,null,null,null,3,"B","Tuntas"]
[11,{"$f":"'Data '!D37","v":"FAIQUR RIJAL HAMMAM"},3,3,3,3,3,null,null,null,null,null,3,"B","Tuntas"]
[12,{"$f":"'Data '!D38","v":"FATESAR SARI PRASETYO"},3,3,3,3,3,null,null,null,null,null,3,"B","Tuntas"]
[13,{"$f":"'Data '!D39","v":"FEBRI SULISTIYO"},3,3,3,3,3,null,null,null,null,null,3,"B","Tuntas"]
[14,{"$f":"'Data '!D40","v":"FIONA NANDA FETRIAN"},3,3,3,3,3,null,null,null,null,null,3,"B","Tuntas"]
[15,{"$f":"'Data '!D41","v":"GILANG SYAHRUL RAMADHAN"},3,3,3,3,3,null,null,null,null,null,3,"B","Tuntas"]
[16,{"$f":"'Data '!D42","v":"IMAM AGUNG WAHYU PRATAMA"},3,3,3,3,3,null,null,null,null,null,3,"B","Tuntas"]
[17,{"$f":"'Data '!D43","v":"JOHAN MAULANA"},3,3,3,3,3,null,null,null,null,null,3,"B","Tuntas"]
[18,{"$f":"'Data '!D44","v":"JOKO SETIAWAN"},3,3,3,3,3,null,null,null,null,null,3,"B","Tuntas"]
[19,{"$f":"'Data '!D45","v":"LISA OKTAVINASARI"},3,3,3,3,3,null,null,null,null,null,3,"B","Tuntas"]
[20,{"$f":"'Data '!D46","v":"MARIA GILDA SIREGAR"},3,3,3,3,3,null,null,null,null,null,3,"B","Tuntas"]
[21,{"$f":"'Data '!D47","v":"MOHAMMAD NURKHOLISH"},3,3,3,3,3,null,null,null,null,null,3,"B","Tuntas"]
[22,{"$f":"'Data '!D48","v":"MUHAMAD FARIS ULIN NUHA"},3,3,3,3,3,null,null,null,null,null,3,"B","Tuntas"]
[23,{"$f":"'Data '!D49","v":"MUHAMMAD MUSTOFA"},3,3,3,3,3,null,null,null,null,null,3,"B","Tuntas"]
[24,{"$f":"'Data '!D50","v":"NANDA WINTYA PUTRI"},3,3,3,3,3,null,null,null,null,null,3,"B","Tuntas"]
[25,{"$f":"'Data '!D51","v":"NI'MA NOVA NUR FADHILAH"},3,3,3,3,3,null,null,null,null,null,3,"B","Tuntas"]
[26,{"$f":"'Data '!D52","v":"NITA ZUMROTUT TAQIYAH"},3,3,3,3,3,null,null,null,null,null,3,"B","Tuntas"]
[27,{"$f":"'Data '!D53","v":"RACHMAT SAPUTRA ANDRIANSYAH"},3,3,3,3,3,null,null,null,null,null,3,"B","Tuntas"]
[28,{"$f":"'Data '!D54","v":"RIZAL ANDRIYAN SAPUTRA"},3,3,3,3,3,null,null,null,null,null,3,"B","Tuntas"]
[29,{"$f":"'Data '!D55","v":"SAIFUL ANNAS"},3,3,3,3,3,null,null,null,null,null,3,"B","Tuntas"]
[30,{"$f":"'Data '!D56","v":"SELINA SEPTIANI"},3,3,3,3,3,null,null,null,null,null,3,"B","Tuntas"]
[31,{"$f":"'Data '!D57","v":"SHALSABILA  SHINTA NIRMALA"},3,3,3,3,3,null,null,null,null,null,3,"B","Tuntas"]
[32,{"$f":"'Data '!D58","v":"SITI CHOIRIATUS SA'ADAH"},3,3,3,3,3,null,null,null,null,null,3,"B","Tuntas"]
[33,{"$f":"'Data '!D59","v":"SITI NURFAN AZIZAH"},3,3,3,3,3,null,null,null,null,null,3,"B","Tuntas"]
[34,{"$f":"'Data '!D60","v":"SITI RAHAYU"},3,3,3,3,3,null,null,null,null,null,3,"B","Tuntas"]
[35,{"$f":"'Data '!D61","v":"STEVIANA PUSPITA SARI"},3,3,3,3,3,null,null,null,null,null,3,"B","Tuntas"]
[36,{"$f":"'Data '!D62","v":"TAN LINGGAR PRAMUDITA"},3,3,3,3,3,null,null,null,null,null,3,"B","Tuntas"]
[37,{"$f":"'Data '!D63","v":"TAUFIK NUR AZIZ DANUARTA"},3,3,3,3,3,null,null,null,null,null,3,"B","Tuntas"]
[38,{"$f":"'Data '!D64","v":"TIARA PUTRI AYUNINGTIAS"},3,3,3,3,3,null,null,null,null,null,3,"B","Tuntas"]
[39,{"$f":"'Data '!D65","v":"TITANIA GAYATRI PRIANJANI"},3,3,3,3,3,null,null,null,null,null,3,"B","Tuntas"]
[40,{"$f":"'Data '!D66","v":"ULFATUN NI'MAH"},3,3,3,3,3,null,null,null,null,null,3,"B","Tuntas"]
[41,{"$f":"'Data '!D67","v":0},null,null,null,null,null,null,null,null,null,null,"","",""]
[42,{"$f":"'Data '!D68","v":0},null,null,null,null,null,null,null,null,null,null,"","",""]
[43,{"$f":"'Data '!D69","v":0},null,null,null,null,null,null,null,null,null,null,"","",""]
[44,{"$f":"'Data '!D70","v":0},null,null,null,null,null,null,null,null,null,null,"","",""]
[45,{"$f":"'Data '!D71","v":0},null,null,null,null,null,null,null,null,null,null,"","",""]
[46,{"$f":"'Data '!D72","v":0},null,null,null,null,null,null,null,null,null,null,"","",{"$f":"IF(M334=\"  \",\"  \",IF(M334>=$N$7,\"Tuntas\",\"Tidak Tuntas\"))","v":""}]
[47,{"$f":"'Data '!D73","v":0},null,null,null,null,null,null,null,null,null,null,"","",""]
[48,{"$f":"'Data '!D74","v":0},null,null,null,null,null,null,null,null,null,null,"","",""]
[49,{"$f":"'Data '!D75","v":0},null,null,null,null,null,null,null,null,null,null,"","",""]
[50,{"$f":"'Data '!D76","v":0},null,null,null,null,null,null,null,null,null,null,"","",""]
[]
[]
[null,"Pedoman Observasi Sikap",null,null,null,null,null,{"$f":"'Obs 1'!H340","v":"toleransi"}]
[null,"Aspek Pengamatan"]
[1,{"$f":"'Obs 1'!B342:N342","v":"Menghormati pendapat teman"}]
[2,{"$f":"'Obs 1'!B343:N343","v":"Menghormati teman yang berbeda suku, agama, ras, budaya, dan gender"}]
[3,{"$f":"'Obs 1'!B344:N344","v":"Menerima kesepakatan meskipun berbeda dengan pendapatnya"}]
[4,{"$f":"'Obs 1'!B345:N345","v":"Menerima kekurangan orang lain"}]
[5,{"$f":"'Obs 1'!B346:N346","v":"Mememaafkan kesalahan orang lain"}]
[6,{"$f":"'Obs 1'!B347:N347","v":0}]
[7,{"$f":"'Obs 1'!B348:N348","v":0}]
[8,{"$f":"'Obs 1'!B349:N349","v":0}]
[]
["No. ","Sikap","Aspek 1","Aspek 2","Aspek 3","Aspek 4","Aspek 5",null,null,null,null,null,"Nilai Modus","Nilai","Keterangan"]
[]
[null,"Nama"]
[1,{"$f":"'Data '!D27","v":"AHMAD ALEK BRIYANSAPUTRA"},3,3,3,3,3,null,null,null,null,null,{"$f":"IFERROR(MODE(C355:L355),\"  \")","v":3},{"$f":"IF(M355=\"  \",\"  \",IF(M355>=$R$13,\"SB\",IF(M355>=$R$14,\"B\",IF(M355>=$R$15,\"C\",\"K\"))))","v":"B"},{"$f":"IF(M355=\"  \",\"  \",IF(M355>=$N$7,\"Tuntas\",\"Tidak Tuntas\"))","v":"Tuntas"}]
[2,{"$f":"'Data '!D28","v":"AULIA AYU FATINA"},3,3,3,3,3,null,null,null,null,null,3,{"$f":"IF(M356=\"  \",\"  \",IF(M356>=$R$13,\"SB\",IF(M356>=$R$14,\"B\",IF(M356>=$R$15,\"C\",\"K\"))))","v":"B"},"Tuntas"]
[3,{"$f":"'Data '!D29","v":"BAGAS YULANDRA PUTRA"},3,3,3,3,3,null,null,null,null,null,3,"B","Tuntas"]
[4,{"$f":"'Data '!D30","v":"CYNTIA AGUSTINA"},3,3,3,3,3,null,null,null,null,null,3,"B","Tuntas"]
[5,{"$f":"'Data '!D31","v":"DAFFA KRISNA PRAMUDYA"},3,3,3,3,3,null,null,null,null,null,3,"B","Tuntas"]
[6,{"$f":"'Data '!D32","v":"DANINDRA RAFIF IRAWAN"},3,3,3,3,3,null,null,null,null,null,3,"B","Tuntas"]
[7,{"$f":"'Data '!D33","v":"DENI PRATAMA"},3,3,3,3,3,null,null,null,null,null,3,"B","Tuntas"]
[8,{"$f":"'Data '!D34","v":"DIKA SUKMA AGUSTIN"},3,3,3,3,3,null,null,null,null,null,3,"B","Tuntas"]
[9,{"$f":"'Data '!D35","v":"DIVA ADITYA"},3,3,3,3,3,null,null,null,null,null,3,"B","Tuntas"]
[10,{"$f":"'Data '!D36","v":"EKO PRASTYO"},3,3,3,3,3,null,null,null,null,null,3,"B","Tuntas"]
[11,{"$f":"'Data '!D37","v":"FAIQUR RIJAL HAMMAM"},3,3,3,3,3,null,null,null,null,null,3,"B","Tuntas"]
[12,{"$f":"'Data '!D38","v":"FATESAR SARI PRASETYO"},3,3,3,3,3,null,null,null,null,null,3,"B","Tuntas"]
[13,{"$f":"'Data '!D39","v":"FEBRI SULISTIYO"},3,3,3,3,3,null,null,null,null,null,3,"B","Tuntas"]
[14,{"$f":"'Data '!D40","v":"FIONA NANDA FETRIAN"},3,3,3,3,3,null,null,null,null,null,3,"B","Tuntas"]
[15,{"$f":"'Data '!D41","v":"GILANG SYAHRUL RAMADHAN"},3,3,3,3,3,null,null,null,null,null,3,"B","Tuntas"]
[16,{"$f":"'Data '!D42","v":"IMAM AGUNG WAHYU PRATAMA"},3,3,3,3,3,null,null,null,null,null,3,"B","Tuntas"]
[17,{"$f":"'Data '!D43","v":"JOHAN MAULANA"},3,3,3,3,3,null,null,null,null,null,3,"B","Tuntas"]
[18,{"$f":"'Data '!D44","v":"JOKO SETIAWAN"},3,3,3,3,3,null,null,null,null,null,3,"B","Tuntas"]
[19,{"$f":"'Data '!D45","v":"LISA OKTAVINASARI"},3,3,3,3,3,null,null,null,null,null,3,"B","Tuntas"]
[20,{"$f":"'Data '!D46","v":"MARIA GILDA SIREGAR"},3,3,3,3,3,null,null,null,null,null,3,"B","Tuntas"]
[21,{"$f":"'Data '!D47","v":"MOHAMMAD NURKHOLISH"},3,3,3,3,3,null,null,null,null,null,3,"B","Tuntas"]
[22,{"$f":"'Data '!D48","v":"MUHAMAD FARIS ULIN NUHA"},3,3,3,3,3,null,null,null,null,null,3,"B","Tuntas"]
[23,{"$f":"'Data '!D49","v":"MUHAMMAD MUSTOFA"},3,3,3,3,3,null,null,null,null,null,3,"B","Tuntas"]
[24,{"$f":"'Data '!D50","v":"NANDA WINTYA PUTRI"},3,3,3,3,3,null,null,null,null,null,3,"B","Tuntas"]
[25,{"$f":"'Data '!D51","v":"NI'MA NOVA NUR FADHILAH"},3,3,3,3,3,null,null,null,null,null,3,"B","Tuntas"]
[26,{"$f":"'Data '!D52","v":"NITA ZUMROTUT TAQIYAH"},3,3,3,3,3,null,null,null,null,null,3,"B","Tuntas"]
[27,{"$f":"'Data '!D53","v":"RACHMAT SAPUTRA ANDRIANSYAH"},3,3,3,3,3,null,null,null,null,null,3,"B","Tuntas"]
[28,{"$f":"'Data '!D54","v":"RIZAL ANDRIYAN SAPUTRA"},3,3,3,3,3,null,null,null,null,null,3,"B","Tuntas"]
[29,{"$f":"'Data '!D55","v":"SAIFUL ANNAS"},3,3,3,3,3,null,null,null,null,null,3,"B","Tuntas"]
[30,{"$f":"'Data '!D56","v":"SELINA SEPTIANI"},3,3,3,3,3,null,null,null,null,null,3,"B","Tuntas"]
[31,{"$f":"'Data '!D57","v":"SHALSABILA  SHINTA NIRMALA"},3,3,3,3,3,null,null,null,null,null,3,"B","Tuntas"]
[32,{"$f":"'Data '!D58","v":"SITI CHOIRIATUS SA'ADAH"},3,3,3,3,3,null,null,null,null,null,3,"B","Tuntas"]
[33,{"$f":"'Data '!D59","v":"SITI NURFAN AZIZAH"},3,3,3,3,3,null,null,null,null,null,3,"B","Tuntas"]
[34,{"$f":"'Data '!D60","v":"SITI RAHAYU"},3,3,3,3,3,null,null,null,null,null,3,"B","Tuntas"]
[35,{"$f":"'Data '!D61","v":"STEVIANA PUSPITA SARI"},3,3,3,3,3,null,null,null,null,null,3,"B","Tuntas"]
[36,{"$f":"'Data '!D62","v":"TAN LINGGAR PRAMUDITA"},3,3,3,3,3,null,null,null,null,null,3,"B","Tuntas"]
[37,{"$f":"'Data '!D63","v":"TAUFIK NUR AZIZ DANUARTA"},3,3,3,3,3,null,null,null,null,null,3,"B","Tuntas"]
[38,{"$f":"'Data '!D64","v":"TIARA PUTRI AYUNINGTIAS"},3,3,3,3,3,null,null,null,null,null,3,"B","Tuntas"]
[39,{"$f":"'Data '!D65","v":"TITANIA GAYATRI PRIANJANI"},3,3,3,3,3,null,null,null,null,null,3,"B","Tuntas"]
[40,{"$f":"'Data '!D66","v":"ULFATUN NI'MAH"},3,3,3,3,3,null,null,null,null,null,3,"B","Tuntas"]
[41,{"$f":"'Data '!D67","v":0},null,null,null,null,null,null,null,null,null,null,"","",""]
[42,{"$f":"'Data '!D68","v":0},null,null,null,null,null,null,null,null,null,null,"","",""]
[43,{"$f":"'Data '!D69","v":0},null,null,null,null,null,null,null,null,null,null,"","",""]
[44,{"$f":"'Data '!D70","v":0},null,null,null,null,null,null,null,null,null,null,"","",""]
[45,{"$f":"'Data '!D71","v":0},null,null,null,null,null,null,null,null,null,null,"","",""]
[46,{"$f":"'Data '!D72","v":0},null,null,null,null,null,null,null,null,null,null,"","",{"$f":"IF(M400=\"  \",\"  \",IF(M400>=$N$7,\"Tuntas\",\"Tidak Tuntas\"))","v":""}]
[47,{"$f":"'Data '!D73","v":0},null,null,null,null,null,null,null,null,null,null,"","",""]
[48,{"$f":"'Data '!D74","v":0},null,null,null,null,null,null,null,null,null,null,"","",""]
[49,{"$f":"'Data '!D75","v":0},null,null,null,null,null,null,null,null,null,null,"","",""]
[50,{"$f":"'Data '!D76","v":0},null,null,null,null,null,null,null,null,null,null,"","",""]
[]
[]
[null,"Pedoman Observasi Sikap",null,null,null,null,null,{"$f":"'Obs 1'!H406","v":"gotong royong"}]
[null,"Aspek Pengamatan"]
[1,{"$f":"'Obs 1'!B408","v":"Aktif dalam kerja kelompok"}]
[2,{"$f":"'Obs 1'!B409","v":"Suka menolong teman/orang lain"}]
[3,{"$f":"'Obs 1'!B410","v":"Kesediaan melakukan tugas sesuai kesepakatan"}]
[4,{"$f":"'Obs 1'!B411","v":"Rela berkorban untuk orang lain"}]
[5,{"$f":"'Obs 1'!B412","v":0}]
[6,{"$f":"'Obs 1'!B413","v":0}]
[7,{"$f":"'Obs 1'!B414","v":0}]
[8,{"$f":"'Obs 1'!B415","v":0}]
[]
["No. ","Sikap","Aspek 1","Aspek 2","Aspek 3","Aspek 4",null,null,null,null,null,null,"Nilai Modus","Nilai","Keterangan"]
[]
[null,"Nama"]
[1,{"$f":"'Data '!D27","v":"AHMAD ALEK BRIYANSAPUTRA"},3,3,3,3,null,null,null,null,null,null,{"$f":"IFERROR(MODE(C421:L421),\"  \")","v":3},{"$f":"IF(M421=\"  \",\"  \",IF(M421>=$R$13,\"SB\",IF(M421>=$R$14,\"B\",IF(M421>=$R$15,\"C\",\"K\"))))","v":"B"},{"$f":"IF(M421=\"  \",\"  \",IF(M421>=$N$7,\"Tuntas\",\"Tidak Tuntas\"))","v":"Tuntas"}]
[2,{"$f":"'Data '!D28","v":"AULIA AYU FATINA"},3,3,3,3,null,null,null,null,null,null,3,{"$f":"IF(M422=\"  \",\"  \",IF(M422>=$R$13,\"SB\",IF(M422>=$R$14,\"B\",IF(M422>=$R$15,\"C\",\"K\"))))","v":"B"},"Tuntas"]
[3,{"$f":"'Data '!D29","v":"BAGAS YULANDRA PUTRA"},3,3,3,3,null,null,null,null,null,null,3,"B","Tuntas"]
[4,{"$f":"'Data '!D30","v":"CYNTIA AGUSTINA"},3,3,3,3,null,null,null,null,null,null,3,"B","Tuntas"]
[5,{"$f":"'Data '!D31","v":"DAFFA KRISNA PRAMUDYA"},3,3,3,3,null,null,null,null,null,null,3,"B","Tuntas"]
[6,{"$f":"'Data '!D32","v":"DANINDRA RAFIF IRAWAN"},3,3,3,3,null,null,null,null,null,null,3,"B","Tuntas"]
[7,{"$f":"'Data '!D33","v":"DENI PRATAMA"},3,3,3,3,null,null,null,null,null,null,3,"B","Tuntas"]
[8,{"$f":"'Data '!D34","v":"DIKA SUKMA AGUSTIN"},3,3,3,3,null,null,null,null,null,null,3,"B","Tuntas"]
[9,{"$f":"'Data '!D35","v":"DIVA ADITYA"},3,3,3,3,null,null,null,null,null,null,3,"B","Tuntas"]
[10,{"$f":"'Data '!D36","v":"EKO PRASTYO"},3,3,3,3,null,null,null,null,null,null,3,"B","Tuntas"]
[11,{"$f":"'Data '!D37","v":"FAIQUR RIJAL HAMMAM"},3,3,3,3,null,null,null,null,null,null,3,"B","Tuntas"]
[12,{"$f":"'Data '!D38","v":"FATESAR SARI PRASETYO"},3,3,3,3,null,null,null,null,null,null,3,"B","Tuntas"]
[13,{"$f":"'Data '!D39","v":"FEBRI SULISTIYO"},3,3,3,3,null,null,null,null,null,null,3,"B","Tuntas"]
[14,{"$f":"'Data '!D40","v":"FIONA NANDA FETRIAN"},3,3,3,3,null,null,null,null,null,null,3,"B","Tuntas"]
[15,{"$f":"'Data '!D41","v":"GILANG SYAHRUL RAMADHAN"},3,3,3,3,null,null,null,null,null,null,3,"B","Tuntas"]
[16,{"$f":"'Data '!D42","v":"IMAM AGUNG WAHYU PRATAMA"},3,3,3,3,null,null,null,null,null,null,3,"B","Tuntas"]
[17,{"$f":"'Data '!D43","v":"JOHAN MAULANA"},3,3,3,3,null,null,null,null,null,null,3,"B","Tuntas"]
[18,{"$f":"'Data '!D44","v":"JOKO SETIAWAN"},3,3,3,3,null,null,null,null,null,null,3,"B","Tuntas"]
[19,{"$f":"'Data '!D45","v":"LISA OKTAVINASARI"},3,3,3,3,null,null,null,null,null,null,3,"B","Tuntas"]
[20,{"$f":"'Data '!D46","v":"MARIA GILDA SIREGAR"},3,3,3,3,null,null,null,null,null,null,3,"B","Tuntas"]
[21,{"$f":"'Data '!D47","v":"MOHAMMAD NURKHOLISH"},3,3,3,3,null,null,null,null,null,null,3,"B","Tuntas"]
[22,{"$f":"'Data '!D48","v":"MUHAMAD FARIS ULIN NUHA"},3,3,3,3,null,null,null,null,null,null,3,"B","Tuntas"]
[23,{"$f":"'Data '!D49","v":"MUHAMMAD MUSTOFA"},3,3,3,3,null,null,null,null,null,null,3,"B","Tuntas"]
[24,{"$f":"'Data '!D50","v":"NANDA WINTYA PUTRI"},3,3,3,3,null,null,null,null,null,null,3,"B","Tuntas"]
[25,{"$f":"'Data '!D51","v":"NI'MA NOVA NUR FADHILAH"},3,3,3,3,null,null,null,null,null,null,3,"B","Tuntas"]
[26,{"$f":"'Data '!D52","v":"NITA ZUMROTUT TAQIYAH"},3,3,3,3,null,null,null,null,null,null,3,"B","Tuntas"]
[27,{"$f":"'Data '!D53","v":"RACHMAT SAPUTRA ANDRIANSYAH"},3,3,3,3,null,null,null,null,null,null,3,"B","Tuntas"]
[28,{"$f":"'Data '!D54","v":"RIZAL ANDRIYAN SAPUTRA"},3,3,3,3,null,null,null,null,null,null,3,"B","Tuntas"]
[29,{"$f":"'Data '!D55","v":"SAIFUL ANNAS"},3,3,3,3,null,null,null,null,null,null,3,"B","Tuntas"]
[30,{"$f":"'Data '!D56","v":"SELINA SEPTIANI"},3,3,3,3,null,null,null,null,null,null,3,"B","Tuntas"]
[31,{"$f":"'Data '!D57","v":"SHALSABILA  SHINTA NIRMALA"},3,3,3,3,null,null,null,null,null,null,3,"B","Tuntas"]
[32,{"$f":"'Data '!D58","v":"SITI CHOIRIATUS SA'ADAH"},3,3,3,3,null,null,null,null,null,null,3,"B","Tuntas"]
[33,{"$f":"'Data '!D59","v":"SITI NURFAN AZIZAH"},3,3,3,3,null,null,null,null,null,null,3,"B","Tuntas"]
[34,{"$f":"'Data '!D60","v":"SITI RAHAYU"},3,3,3,3,null,null,null,null,null,null,3,"B","Tuntas"]
[35,{"$f":"'Data '!D61","v":"STEVIANA PUSPITA SARI"},3,3,3,3,null,null,null,null,null,null,3,"B","Tuntas"]
[36,{"$f":"'Data '!D62","v":"TAN LINGGAR PRAMUDITA"},3,3,3,3,null,null,null,null,null,null,3,"B","Tuntas"]
[37,{"$f":"'Data '!D63","v":"TAUFIK NUR AZIZ DANUARTA"},3,3,3,3,null,null,null,null,null,null,3,"B","Tuntas"]
[38,{"$f":"'Data '!D64","v":"TIARA PUTRI AYUNINGTIAS"},3,3,3,3,null,null,null,null,null,null,3,"B","Tuntas"]
[39,{"$f":"'Data '!D65","v":"TITANIA GAYATRI PRIANJANI"},3,3,3,3,null,null,null,null,null,null,3,"B","Tuntas"]
[40,{"$f":"'Data '!D66","v":"ULFATUN NI'MAH"},3,3,3,3,null,null,null,null,null,null,3,"B","Tuntas"]
[41,{"$f":"'Data '!D67","v":0},null,null,null,null,null,null,null,null,null,null,"","",""]
[42,{"$f":"'Data '!D68","v":0},null,null,null,null,null,null,null,null,null,null,"","",""]
[43,{"$f":"'Data '!D69","v":0},null,null,null,null,null,null,null,null,null,null,"","",""]
[44,{"$f":"'Data '!D70","v":0},null,null,null,null,null,null,null,null,null,null,"","",""]
[45,{"$f":"'Data '!D71","v":0},null,null,null,null,null,null,null,null,null,null,"","",""]
[46,{"$f":"'Data '!D72","v":0},null,null,null,null,null,null,null,null,null,null,"","",{"$f":"IF(M466=\"  \",\"  \",IF(M466>=$N$7,\"Tuntas\",\"Tidak Tuntas\"))","v":""}]
[47,{"$f":"'Data '!D73","v":0},null,null,null,null,null,null,null,null,null,null,"","",""]
[48,{"$f":"'Data '!D74","v":0},null,null,null,null,null,null,null,null,null,null,"","",""]
[49,{"$f":"'Data '!D75","v":0},null,null,null,null,null,null,null,null,null,null,"","",""]
[50,{"$f":"'Data '!D76","v":0},null,null,null,null,null,null,null,null,null,null,"","",""]
[]
[]
[null,"Pedoman Observasi Sikap",null,null,null,null,null,{"$f":"'Obs 1'!H473","v":"santun"}]
[null,"Aspek Pengamatan"]
[1,{"$f":"'Obs 1'!B475","v":"Menghormati orang yang lebih tua"}]
[2,{"$f":"'Obs 1'!B476","v":"Mengucapkan terima kasih setelah menerima bantuan orang lain"}]
[3,{"$f":"'Obs 1'!B477","v":"Menggunakan bahasa santun saat menyampaikan pendapat"}]
[4,{"$f":"'Obs 1'!B478","v":"Menggunakan bahasa santun saat mengkritik pendapat teman"}]
[5,{"$f":"'Obs 1'!B479","v":"Bersikap 3S (salam, senyum, sapa) saat bertemu orang lain"}]
[6,{"$f":"'Obs 1'!B480","v":0}]
[7,{"$f":"'Obs 1'!B481","v":0}]
[8,{"$f":"'Obs 1'!B482","v":0}]
[]
["No. ","Sikap","Aspek 1","Aspek 2","Aspek 3","Aspek 4","Aspek 5",null,null,null,null,null,"Nilai Modus","Nilai","Keterangan"]
[]
[null,"Nama"]
[1,{"$f":"'Data '!D27","v":"AHMAD ALEK BRIYANSAPUTRA"},3,3,3,3,3,null,null,null,null,null,{"$f":"IFERROR(MODE(C487:L487),\"  \")","v":3},{"$f":"IF(M487=\"  \",\"  \",IF(M487>=$R$13,\"SB\",IF(M487>=$R$14,\"B\",IF(M487>=$R$15,\"C\",\"K\"))))","v":"B"},{"$f":"IF(M487=\"  \",\"  \",IF(M487>=$N$7,\"Tuntas\",\"Tidak Tuntas\"))","v":"Tuntas"}]
[2,{"$f":"'Data '!D28","v":"AULIA AYU FATINA"},3,3,3,3,3,null,null,null,null,null,3,{"$f":"IF(M488=\"  \",\"  \",IF(M488>=$R$13,\"SB\",IF(M488>=$R$14,\"B\",IF(M488>=$R$15,\"C\",\"K\"))))","v":"B"},"Tuntas"]
[3,{"$f":"'Data '!D29","v":"BAGAS YULANDRA PUTRA"},3,3,3,3,3,null,null,null,null,null,3,"B","Tuntas"]
[4,{"$f":"'Data '!D30","v":"CYNTIA AGUSTINA"},3,3,3,3,3,null,null,null,null,null,3,"B","Tuntas"]
[5,{"$f":"'Data '!D31","v":"DAFFA KRISNA PRAMUDYA"},3,3,3,3,3,null,null,null,null,null,3,"B","Tuntas"]
[6,{"$f":"'Data '!D32","v":"DANINDRA RAFIF IRAWAN"},3,3,3,3,3,null,null,null,null,null,3,"B","Tuntas"]
[7,{"$f":"'Data '!D33","v":"DENI PRATAMA"},3,3,3,3,3,null,null,null,null,null,3,"B","Tuntas"]
[8,{"$f":"'Data '!D34","v":"DIKA SUKMA AGUSTIN"},3,3,3,3,3,null,null,null,null,null,3,"B","Tuntas"]
[9,{"$f":"'Data '!D35","v":"DIVA ADITYA"},3,3,3,3,3,null,null,null,null,null,3,"B","Tuntas"]
[10,{"$f":"'Data '!D36","v":"EKO PRASTYO"},3,3,3,3,3,null,null,null,null,null,3,"B","Tuntas"]
[11,{"$f":"'Data '!D37","v":"FAIQUR RIJAL HAMMAM"},3,3,3,3,3,null,null,null,null,null,3,"B","Tuntas"]
[12,{"$f":"'Data '!D38","v":"FATESAR SARI PRASETYO"},3,3,3,3,3,null,null,null,null,null,3,"B","Tuntas"]
[13,{"$f":"'Data '!D39","v":"FEBRI SULISTIYO"},3,3,3,3,3,null,null,null,null,null,3,"B","Tuntas"]
[14,{"$f":"'Data '!D40","v":"FIONA NANDA FETRIAN"},3,3,3,3,3,null,null,null,null,null,3,"B","Tuntas"]
[15,{"$f":"'Data '!D41","v":"GILANG SYAHRUL RAMADHAN"},3,3,3,3,3,null,null,null,null,null,3,"B","Tuntas"]
[16,{"$f":"'Data '!D42","v":"IMAM AGUNG WAHYU PRATAMA"},3,3,3,3,3,null,null,null,null,null,3,"B","Tuntas"]
[17,{"$f":"'Data '!D43","v":"JOHAN MAULANA"},3,3,3,3,3,null,null,null,null,null,3,"B","Tuntas"]
[18,{"$f":"'Data '!D44","v":"JOKO SETIAWAN"},3,3,3,3,3,null,null,null,null,null,3,"B","Tuntas"]
[19,{"$f":"'Data '!D45","v":"LISA OKTAVINASARI"},3,3,3,3,3,null,null,null,null,null,3,"B","Tuntas"]
[20,{"$f":"'Data '!D46","v":"MARIA GILDA SIREGAR"},3,3,3,3,3,null,null,null,null,null,3,"B","Tuntas"]
[21,{"$f":"'Data '!D47","v":"MOHAMMAD NURKHOLISH"},3,3,3,3,3,null,null,null,null,null,3,"B","Tuntas"]
[22,{"$f":"'Data '!D48","v":"MUHAMAD FARIS ULIN NUHA"},3,3,3,3,3,null,null,null,null,null,3,"B","Tuntas"]
[23,{"$f":"'Data '!D49","v":"MUHAMMAD MUSTOFA"},3,3,3,3,3,null,null,null,null,null,3,"B","Tuntas"]
[24,{"$f":"'Data '!D50","v":"NANDA WINTYA PUTRI"},3,3,3,3,3,null,null,null,null,null,3,"B","Tuntas"]
[25,{"$f":"'Data '!D51","v":"NI'MA NOVA NUR FADHILAH"},3,3,3,3,3,null,null,null,null,null,3,"B","Tuntas"]
[26,{"$f":"'Data '!D52","v":"NITA ZUMROTUT TAQIYAH"},3,3,3,3,3,null,null,null,null,null,3,"B","Tuntas"]
[27,{"$f":"'Data '!D53","v":"RACHMAT SAPUTRA ANDRIANSYAH"},3,3,3,3,3,null,null,null,null,null,3,"B","Tuntas"]
[28,{"$f":"'Data '!D54","v":"RIZAL ANDRIYAN SAPUTRA"},3,3,3,3,3,null,null,null,null,null,3,"B","Tuntas"]
[29,{"$f":"'Data '!D55","v":"SAIFUL ANNAS"},3,3,3,3,3,null,null,null,null,null,3,"B","Tuntas"]
[30,{"$f":"'Data '!D56","v":"SELINA SEPTIANI"},3,3,3,3,3,null,null,null,null,null,3,"B","Tuntas"]
[31,{"$f":"'Data '!D57","v":"SHALSABILA  SHINTA NIRMALA"},3,3,3,3,3,null,null,null,null,null,3,"B","Tuntas"]
[32,{"$f":"'Data '!D58","v":"SITI CHOIRIATUS SA'ADAH"},3,3,3,3,3,null,null,null,null,null,3,"B","Tuntas"]
[33,{"$f":"'Data '!D59","v":"SITI NURFAN AZIZAH"},3,3,3,3,3,null,null,null,null,null,3,"B","Tuntas"]
[34,{"$f":"'Data '!D60","v":"SITI RAHAYU"},3,3,3,3,3,null,null,null,null,null,3,"B","Tuntas"]
[35,{"$f":"'Data '!D61","v":"STEVIANA PUSPITA SARI"},3,3,3,3,3,null,null,null,null,null,3,"B","Tuntas"]
[36,{"$f":"'Data '!D62","v":"TAN LINGGAR PRAMUDITA"},3,3,3,3,3,null,null,null,null,null,3,"B","Tuntas"]
[37,{"$f":"'Data '!D63","v":"TAUFIK NUR AZIZ DANUARTA"},3,3,3,3,3,null,null,null,null,null,3,"B","Tuntas"]
[38,{"$f":"'Data '!D64","v":"TIARA PUTRI AYUNINGTIAS"},3,3,3,3,3,null,null,null,null,null,3,"B","Tuntas"]
[39,{"$f":"'Data '!D65","v":"TITANIA GAYATRI PRIANJANI"},3,3,3,3,3,null,null,null,null,null,3,"B","Tuntas"]
[40,{"$f":"'Data '!D66","v":"ULFATUN NI'MAH"},3,3,3,3,3,null,null,null,null,null,3,"B","Tuntas"]
[41,{"$f":"'Data '!D67","v":0},null,null,null,null,null,null,null,null,null,null,"","",""]
[42,{"$f":"'Data '!D68","v":0},null,null,null,null,null,null,null,null,null,null,"","",""]
[43,{"$f":"'Data '!D69","v":0},null,null,null,null,null,null,null,null,null,null,"","",""]
[44,{"$f":"'Data '!D70","v":0},null,null,null,null,null,null,null,null,null,null,"","",""]
[45,{"$f":"'Data '!D71","v":0},null,null,null,null,null,null,null,null,null,null,"","",""]
[46,{"$f":"'Data '!D72","v":0},null,null,null,null,null,null,null,null,null,null,"","",{"$f":"IF(M532=\"  \",\"  \",IF(M532>=$N$7,\"Tuntas\",\"Tidak Tuntas\"))","v":""}]
[47,{"$f":"'Data '!D73","v":0},null,null,null,null,null,null,null,null,null,null,"","",""]
[48,{"$f":"'Data '!D74","v":0},null,null,null,null,null,null,null,null,null,null,"","",""]
[49,{"$f":"'Data '!D75","v":0},null,null,null,null,null,null,null,null,null,null,"","",""]
[50,{"$f":"'Data '!D76","v":0},null,null,null,null,null,null,null,null,null,null,"","",""]
[]
[null,"Pedoman Observasi Sikap",null,null,null,null,null,{"$f":"'Obs 1'!H539","v":"percaya diri"}]
[null,"Aspek Pengamatan"]
[1,{"$f":"'Obs 1'!B541","v":"Berani presentasi di depan kelas"}]
[2,{"$f":"'Obs 1'!B542","v":"Berani berpendapat, bertanya, atau menjawab pertanyaan"}]
[3,{"$f":"'Obs 1'!B543","v":"Berpendapat atau melakukan kegiatan tanpa ragu-ragu"}]
[4,{"$f":"'Obs 1'!B544","v":"Mampu membuat keputusan dengan cepat"}]
[5,{"$f":"'Obs 1'!B545","v":"Tidak mudah putus asa/pantang menyerah"}]
[6,{"$f":"'Obs 1'!B546","v":0}]
[7,{"$f":"'Obs 1'!B547","v":0}]
[8,{"$f":"'Obs 1'!B548","v":0}]
[]
["No. ","Sikap","Aspek 1","Aspek 2","Aspek 3","Aspek 4","Aspek 5",null,null,null,null,null,"Nilai Modus","Nilai","Keterangan"]
[]
[null,"Nama"]
[1,{"$f":"'Data '!D27","v":"AHMAD ALEK BRIYANSAPUTRA"},3,3,3,3,3,null,null,null,null,null,{"$f":"IFERROR(MODE(C552:L552),\"  \")","v":3},{"$f":"IF(M552=\"  \",\"  \",IF(M552>=$R$13,\"SB\",IF(M552>=$R$14,\"B\",IF(M552>=$R$15,\"C\",\"K\"))))","v":"B"},{"$f":"IF(M552=\"  \",\"  \",IF(M552>=$N$7,\"Tuntas\",\"Tidak Tuntas\"))","v":"Tuntas"}]
[2,{"$f":"'Data '!D28","v":"AULIA AYU FATINA"},3,3,3,3,3,null,null,null,null,null,3,{"$f":"IF(M553=\"  \",\"  \",IF(M553>=$R$13,\"SB\",IF(M553>=$R$14,\"B\",IF(M553>=$R$15,\"C\",\"K\"))))","v":"B"},"Tuntas"]
[3,{"$f":"'Data '!D29","v":"BAGAS YULANDRA PUTRA"},3,3,3,3,3,null,null,null,null,null,3,"B","Tuntas"]
[4,{"$f":"'Data '!D30","v":"CYNTIA AGUSTINA"},3,3,3,3,3,null,null,null,null,null,3,"B","Tuntas"]
[5,{"$f":"'Data '!D31","v":"DAFFA KRISNA PRAMUDYA"},3,3,3,3,3,null,null,null,null,null,3,"B","Tuntas"]
[6,{"$f":"'Data '!D32","v":"DANINDRA RAFIF IRAWAN"},3,3,3,3,3,null,null,null,null,null,3,"B","Tuntas"]
[7,{"$f":"'Data '!D33","v":"DENI PRATAMA"},3,3,3,3,3,null,null,null,null,null,3,"B","Tuntas"]
[8,{"$f":"'Data '!D34","v":"DIKA SUKMA AGUSTIN"},3,3,3,3,3,null,null,null,null,null,3,"B","Tuntas"]
[9,{"$f":"'Data '!D35","v":"DIVA ADITYA"},3,3,3,3,3,null,null,null,null,null,3,"B","Tuntas"]
[10,{"$f":"'Data '!D36","v":"EKO PRASTYO"},3,3,3,3,3,null,null,null,null,null,3,"B","Tuntas"]
[11,{"$f":"'Data '!D37","v":"FAIQUR RIJAL HAMMAM"},3,3,3,3,3,null,null,null,null,null,3,"B","Tuntas"]
[12,{"$f":"'Data '!D38","v":"FATESAR SARI PRASETYO"},3,3,3,3,3,null,null,null,null,null,3,"B","Tuntas"]
[13,{"$f":"'Data '!D39","v":"FEBRI SULISTIYO"},3,3,3,3,3,null,null,null,null,null,3,"B","Tuntas"]
[14,{"$f":"'Data '!D40","v":"FIONA NANDA FETRIAN"},3,3,3,3,3,null,null,null,null,null,3,"B","Tuntas"]
[15,{"$f":"'Data '!D41","v":"GILANG SYAHRUL RAMADHAN"},3,3,3,3,3,null,null,null,null,null,3,"B","Tuntas"]
[16,{"$f":"'Data '!D42","v":"IMAM AGUNG WAHYU PRATAMA"},3,3,3,3,3,null,null,null,null,null,3,"B","Tuntas"]
[17,{"$f":"'Data '!D43","v":"JOHAN MAULANA"},3,3,3,3,3,null,null,null,null,null,3,"B","Tuntas"]
[18,{"$f":"'Data '!D44","v":"JOKO SETIAWAN"},3,3,3,3,3,null,null,null,null,null,3,"B","Tuntas"]
[19,{"$f":"'Data '!D45","v":"LISA OKTAVINASARI"},3,3,3,3,3,null,null,null,null,null,3,"B","Tuntas"]
[20,{"$f":"'Data '!D46","v":"MARIA GILDA SIREGAR"},3,3,3,3,3,null,null,null,null,null,3,"B","Tuntas"]
[21,{"$f":"'Data '!D47","v":"MOHAMMAD NURKHOLISH"},3,3,3,3,3,null,null,null,null,null,3,"B","Tuntas"]
[22,{"$f":"'Data '!D48","v":"MUHAMAD FARIS ULIN NUHA"},3,3,3,3,3,null,null,null,null,null,3,"B","Tuntas"]
[23,{"$f":"'Data '!D49","v":"MUHAMMAD MUSTOFA"},3,3,3,3,3,null,null,null,null,null,3,"B","Tuntas"]
[24,{"$f":"'Data '!D50","v":"NANDA WINTYA PUTRI"},3,3,3,3,3,null,null,null,null,null,3,"B","Tuntas"]
[25,{"$f":"'Data '!D51","v":"NI'MA NOVA NUR FADHILAH"},3,3,3,3,3,null,null,null,null,null,3,"B","Tuntas"]
[26,{"$f":"'Data '!D52","v":"NITA ZUMROTUT TAQIYAH"},3,3,3,3,3,null,null,null,null,null,3,"B","Tuntas"]
[27,{"$f":"'Data '!D53","v":"RACHMAT SAPUTRA ANDRIANSYAH"},3,3,3,3,3,null,null,null,null,null,3,"B","Tuntas"]
[28,{"$f":"'Data '!D54","v":"RIZAL ANDRIYAN SAPUTRA"},3,3,3,3,3,null,null,null,null,null,3,"B","Tuntas"]
[29,{"$f":"'Data '!D55","v":"SAIFUL ANNAS"},3,3,3,3,3,null,null,null,null,null,3,"B","Tuntas"]
[30,{"$f":"'Data '!D56","v":"SELINA SEPTIANI"},3,3,3,3,3,null,null,null,null,null,3,"B","Tuntas"]
[31,{"$f":"'Data '!D57","v":"SHALSABILA  SHINTA NIRMALA"},3,3,3,3,3,null,null,null,null,null,3,"B","Tuntas"]
[32,{"$f":"'Data '!D58","v":"SITI CHOIRIATUS SA'ADAH"},3,3,3,3,3,null,null,null,null,null,3,"B","Tuntas"]
[33,{"$f":"'Data '!D59","v":"SITI NURFAN AZIZAH"},3,3,3,3,3,null,null,null,null,null,3,"B","Tuntas"]
[34,{"$f":"'Data '!D60","v":"SITI RAHAYU"},3,3,3,3,3,null,null,null,null,null,3,"B","Tuntas"]
[35,{"$f":"'Data '!D61","v":"STEVIANA PUSPITA SARI"},3,3,3,3,3,null,null,null,null,null,3,"B","Tuntas"]
[36,{"$f":"'Data '!D62","v":"TAN LINGGAR PRAMUDITA"},3,3,3,3,3,null,null,null,null,null,3,"B","Tuntas"]
[37,{"$f":"'Data '!D63","v":"TAUFIK NUR AZIZ DANUARTA"},3,3,3,3,3,null,null,null,null,null,3,"B","Tuntas"]
[38,{"$f":"'Data '!D64","v":"TIARA PUTRI AYUNINGTIAS"},3,3,3,3,3,null,null,null,null,null,3,"B","Tuntas"]
[39,{"$f":"'Data '!D65","v":"TITANIA GAYATRI PRIANJANI"},3,3,3,3,3,null,null,null,null,null,3,"B","Tuntas"]
[40,{"$f":"'Data '!D66","v":"ULFATUN NI'MAH"},3,3,3,3,3,null,null,null,null,null,3,"B","Tuntas"]
[41,{"$f":"'Data '!D67","v":0},null,null,null,null,null,null,null,null,null,null,"","",""]
[42,{"$f":"'Data '!D68","v":0},null,null,null,null,null,null,null,null,null,null,"","",""]
[43,{"$f":"'Data '!D69","v":0},null,null,null,null,null,null,null,null,null,null,"","",""]
[44,{"$f":"'Data '!D70","v":0},null,null,null,null,null,null,null,null,null,null,"","",""]
[45,{"$f":"'Data '!D71","v":0},null,null,null,null,null,null,null,null,null,null,"","",""]
[46,{"$f":"'Data '!D72","v":0},null,null,null,null,null,null,null,null,null,null,"","",{"$f":"IF(M597=\"  \",\"  \",IF(M597>=$N$7,\"Tuntas\",\"Tidak Tuntas\"))","v":""}]
[47,{"$f":"'Data '!D73","v":0},null,null,null,null,null,null,null,null,null,null,"","",""]
[48,{"$f":"'Data '!D74","v":0},null,null,null,null,null,null,null,null,null,null,"","",""]
[49,{"$f":"'Data '!D75","v":0},null,null,null,null,null,null,null,null,null,null,"","",""]
[50,{"$f":"'Data '!D76","v":0},null,null,null,null,null,null,null,null,null,null,"","",""]
[]
[]
[null,"Pedoman Observasi Sikap",null,null,null,null,null,{"$f":"'Obs 1'!H606","v":"ramah tamah"}]
[null,"Aspek Pengamatan"]
[1,{"$f":"'Obs 1'!B608","v":"Selalu menyapa orang lain dengan santun"}]
[2,{"$f":"'Obs 1'!B609","v":0}]
[3,{"$f":"'Obs 1'!B610","v":0}]
[4,{"$f":"'Obs 1'!B611","v":0}]
[5,{"$f":"'Obs 1'!B612","v":0}]
[6,{"$f":"'Obs 1'!B613","v":0}]
[7,{"$f":"'Obs 1'!B614","v":0}]
[8,{"$f":"'Obs 1'!B615","v":0}]
[]
["No. ","Sikap","Aspek 1","Aspek 2","Aspek 3","Aspek 4","Aspek 5",null,null,null,null,null,"Nilai Modus","Nilai","Keterangan"]
[]
[null,"Nama"]
[1,{"$f":"B13","v":"AHMAD ALEK BRIYANSAPUTRA"},3,3,3,3,3,null,null,null,null,null,{"$f":"IFERROR(MODE(C618:L618),\"  \")","v":3},{"$f":"IF(M618=\"  \",\"  \",IF(M618>=$R$13,\"SB\",IF(M618>=$R$14,\"B\",IF(M618>=$R$15,\"C\",\"K\"))))","v":"B"},{"$f":"IF(M618=\"  \",\"  \",IF(M618>=$N$7,\"Tuntas\",\"Tidak Tuntas\"))","v":"Tuntas"}]
[2,{"$f":"B14","v":"AULIA AYU FATINA"},3,3,3,3,3,null,null,null,null,null,3,{"$f":"IF(M619=\"  \",\"  \",IF(M619>=$R$13,\"SB\",IF(M619>=$R$14,\"B\",IF(M619>=$R$15,\"C\",\"K\"))))","v":"B"},"Tuntas"]
[3,"BAGAS YULANDRA PUTRA",3,3,3,3,3,null,null,null,null,null,3,"B","Tuntas"]
[4,"CYNTIA AGUSTINA",3,3,3,3,3,null,null,null,null,null,3,"B","Tuntas"]
[5,"DAFFA KRISNA PRAMUDYA",3,3,3,3,3,null,null,null,null,null,3,"B","Tuntas"]
[6,"DANINDRA RAFIF IRAWAN",3,3,3,3,3,null,null,null,null,null,3,"B","Tuntas"]
[7,"DENI PRATAMA",3,3,3,3,3,null,null,null,null,null,3,"B","Tuntas"]
[8,"DIKA SUKMA AGUSTIN",3,3,3,3,3,null,null,null,null,null,3,"B","Tuntas"]
[9,"DIVA ADITYA",3,3,3,3,3,null,null,null,null,null,3,"B","Tuntas"]
[10,"EKO PRASTYO",3,3,3,3,3,null,null,null,null,null,3,"B","Tuntas"]
[11,"FAIQUR RIJAL HAMMAM",3,3,3,3,3,null,null,null,null,null,3,"B","Tuntas"]
[12,"FATESAR SARI PRASETYO",3,3,3,3,3,null,null,null,null,null,3,"B","Tuntas"]
[13,"FEBRI SULISTIYO",3,3,3,3,3,null,null,null,null,null,3,"B","Tuntas"]
[14,"FIONA NANDA FETRIAN",3,3,3,3,3,null,null,null,null,null,3,"B","Tuntas"]
[15,"GILANG SYAHRUL RAMADHAN",3,3,3,3,3,null,null,null,null,null,3,"B","Tuntas"]
[16,"IMAM AGUNG WAHYU PRATAMA",3,3,3,3,3,null,null,null,null,null,3,"B","Tuntas"]
[17,"JOHAN MAULANA",3,3,3,3,3,null,null,null,null,null,3,"B","Tuntas"]
[18,"JOKO SETIAWAN",3,3,3,3,3,null,null,null,null,null,3,"B","Tuntas"]
[19,"LISA OKTAVINASARI",3,3,3,3,3,null,null,null,null,null,3,"B","Tuntas"]
[20,"MARIA GILDA SIREGAR",3,3,3,3,3,null,null,null,null,null,3,"B","Tuntas"]
[21,"MOHAMMAD NURKHOLISH",3,3,3,3,3,null,null,null,null,null,3,"B","Tuntas"]
[22,"MUHAMAD FARIS ULIN NUHA",3,3,3,3,3,null,null,null,null,null,3,"B","Tuntas"]
[23,"MUHAMMAD MUSTOFA",3,3,3,3,3,null,null,null,null,null,3,"B","Tuntas"]
[24,"NANDA WINTYA PUTRI",3,3,3,3,3,null,null,null,null,null,3,"B","Tuntas"]
[25,"NI'MA NOVA NUR FADHILAH",3,3,3,3,3,null,null,null,null,null,3,"B","Tuntas"]
[26,"NITA ZUMROTUT TAQIYAH",3,3,3,3,3,null,null,null,null,null,3,"B","Tuntas"]
[27,"RACHMAT SAPUTRA ANDRIANSYAH",3,3,3,3,3,null,null,null,null,null,3,"B","Tuntas"]
[28,"RIZAL ANDRIYAN SAPUTRA",3,3,3,3,3,null,null,null,null,null,3,"B","Tuntas"]
[29,"SAIFUL ANNAS",3,3,3,3,3,null,null,null,null,null,3,"B","Tuntas"]
[30,"SELINA SEPTIANI",3,3,3,3,3,null,null,null,null,null,3,"B","Tuntas"]
[31,"SHALSABILA  SHINTA NIRMALA",3,3,3,3,3,null,null,null,null,null,3,"B","Tuntas"]
[32,"SITI CHOIRIATUS SA'ADAH",3,3,3,3,3,null,null,null,null,null,3,"B","Tuntas"]
[33,"SITI NURFAN AZIZAH",3,3,3,3,3,null,null,null,null,null,3,"B","Tuntas"]
[34,"SITI RAHAYU",3,3,3,3,3,null,null,null,null,null,3,"B","Tuntas"]
[35,"STEVIANA PUSPITA SARI",3,3,3,3,3,null,null,null,null,null,3,"B","Tuntas"]
[36,"TAN LINGGAR PRAMUDITA",3,3,3,3,3,null,null,null,null,null,3,"B","Tuntas"]
[37,"TAUFIK NUR AZIZ DANUARTA",3,3,3,3,3,null,null,null,null,null,3,"B","Tuntas"]
[38,"TIARA PUTRI AYUNINGTIAS",3,3,3,3,3,null,null,null,null,null,3,"B","Tuntas"]
[39,"TITANIA GAYATRI PRIANJANI",3,3,3,3,3,null,null,null,null,null,3,"B","Tuntas"]
[40,"ULFATUN NI'MAH",3,3,3,3,3,null,null,null,null,null,3,"B","Tuntas"]
[41,0,null,null,null,null,null,null,null,null,null,null,"","",""]
[42,0,null,null,null,null,null,null,null,null,null,null,"","",""]
[43,0,null,null,null,null,null,null,null,null,null,null,"","",""]
[44,0,null,null,null,null,null,null,null,null,null,null,"","",""]
[45,0,null,null,null,null,null,null,null,null,null,null,"","",""]
[46,0,null,null,null,null,null,null,null,null,null,null,"","",""]
[47,0,null,null,null,null,null,null,null,null,null,null,"","",""]
[48,0,null,null,null,null,null,null,null,null,null,null,"","",""]
[49,0,null,null,null,null,null,null,null,null,null,null,"","",""]
[50,0,null,null,null,null,null,null,null,null,null,null,"","",""]
[]
[]
[null,"Pedoman Observasi Sikap",null,null,null,null,null,{"$f":"'Obs 1'!H672","v":"ingin tahu"}]
[null,"Aspek Pengamatan"]
[1,{"$f":"'Obs 1'!B674","v":"Suka/selalu bertanya ketika dalam proses pembelajaran"}]
[2,{"$f":"'Obs 1'!B675","v":0}]
[3,{"$f":"'Obs 1'!B676","v":0}]
[4,{"$f":"'Obs 1'!B677","v":0}]
[5,{"$f":"'Obs 1'!B678","v":0}]
[6,{"$f":"'Obs 1'!B679","v":0}]
[7,{"$f":"'Obs 1'!B680","v":0}]
[8,{"$f":"'Obs 1'!B681","v":0}]
[]
["No. ","Sikap","Aspek 1","Aspek 2","Aspek 3","Aspek 4","Aspek 5",null,null,null,null,null,"Nilai Modus","Nilai","Keterangan"]
[]
[null,"Nama"]
[1,{"$f":"B13","v":"AHMAD ALEK BRIYANSAPUTRA"},3,3,3,3,3,null,null,null,null,null,{"$f":"IFERROR(MODE(C684:L684),\"  \")","v":3},{"$f":"IF(M684=\"  \",\"  \",IF(M684>=$R$13,\"SB\",IF(M684>=$R$14,\"B\",IF(M684>=$R$15,\"C\",\"K\"))))","v":"B"},{"$f":"IF(M684=\"  \",\"  \",IF(M684>=$N$7,\"Tuntas\",\"Tidak Tuntas\"))","v":"Tuntas"}]
[2,{"$f":"B14","v":"AULIA AYU FATINA"},3,3,3,3,3,null,null,null,null,null,3,{"$f":"IF(M685=\"  \",\"  \",IF(M685>=$R$13,\"SB\",IF(M685>=$R$14,\"B\",IF(M685>=$R$15,\"C\",\"K\"))))","v":"B"},"Tuntas"]
[3,"BAGAS YULANDRA PUTRA",3,3,3,3,3,null,null,null,null,null,3,"B","Tuntas"]
[4,"CYNTIA AGUSTINA",3,3,3,3,3,null,null,null,null,null,3,"B","Tuntas"]
[5,"DAFFA KRISNA PRAMUDYA",3,3,3,3,3,null,null,null,null,null,3,"B","Tuntas"]
[6,"DANINDRA RAFIF IRAWAN",3,3,3,3,3,null,null,null,null,null,3,"B","Tuntas"]
[7,"DENI PRATAMA",3,3,3,3,3,null,null,null,null,null,3,"B","Tuntas"]
[8,"DIKA SUKMA AGUSTIN",3,3,3,3,3,null,null,null,null,null,3,"B","Tuntas"]
[9,"DIVA ADITYA",3,3,3,3,3,null,null,null,null,null,3,"B","Tuntas"]
[10,"EKO PRASTYO",3,3,3,3,3,null,null,null,null,null,3,"B","Tuntas"]
[11,"FAIQUR RIJAL HAMMAM",3,3,3,3,3,null,null,null,null,null,3,"B","Tuntas"]
[12,"FATESAR SARI PRASETYO",3,3,3,3,3,null,null,null,null,null,3,"B","Tuntas"]
[13,"FEBRI SULISTIYO",3,3,3,3,3,null,null,null,null,null,3,"B","Tuntas"]
[14,"FIONA NANDA FETRIAN",3,3,3,3,3,null,null,null,null,null,3,"B","Tuntas"]
[15,"GILANG SYAHRUL RAMADHAN",3,3,3,3,3,null,null,null,null,null,3,"B","Tuntas"]
[16,"IMAM AGUNG WAHYU PRATAMA",3,3,3,3,3,null,null,null,null,null,3,"B","Tuntas"]
[17,"JOHAN MAULANA",3,3,3,3,3,null,null,null,null,null,3,"B","Tuntas"]
[18,"JOKO SETIAWAN",3,3,3,3,3,null,null,null,null,null,3,"B","Tuntas"]
[19,"LISA OKTAVINASARI",3,3,3,3,3,null,null,null,null,null,3,"B","Tuntas"]
[20,"MARIA GILDA SIREGAR",3,3,3,3,3,null,null,null,null,null,3,"B","Tuntas"]
[21,"MOHAMMAD NURKHOLISH",3,3,3,3,3,null,null,null,null,null,3,"B","Tuntas"]
[22,"MUHAMAD FARIS ULIN NUHA",3,3,3,3,3,null,null,null,null,null,3,"B","Tuntas"]
[23,"MUHAMMAD MUSTOFA",3,3,3,3,3,null,null,null,null,null,3,"B","Tuntas"]
[24,"NANDA WINTYA PUTRI",3,3,3,3,3,null,null,null,null,null,3,"B","Tuntas"]
[25,"NI'MA NOVA NUR FADHILAH",3,3,3,3,3,null,null,null,null,null,3,"B","Tuntas"]
[26,"NITA ZUMROTUT TAQIYAH",3,3,3,3,3,null,null,null,null,null,3,"B","Tuntas"]
[27,"RACHMAT SAPUTRA ANDRIANSYAH",3,3,3,3,3,null,null,null,null,null,3,"B","Tuntas"]
[28,"RIZAL ANDRIYAN SAPUTRA",3,3,3,3,3,null,null,null,null,null,3,"B","Tuntas"]
[29,"SAIFUL ANNAS",3,3,3,3,3,null,null,null,null,null,3,"B","Tuntas"]
[30,"SELINA SEPTIANI",3,3,3,3,3,null,null,null,null,null,3,"B","Tuntas"]
[31,"SHALSABILA  SHINTA NIRMALA",3,3,3,3,3,null,null,null,null,null,3,"B","Tuntas"]
[32,"SITI CHOIRIATUS SA'ADAH",3,3,3,3,3,null,null,null,null,null,3,"B","Tuntas"]
[33,"SITI NURFAN AZIZAH",3,3,3,3,3,null,null,null,null,null,3,"B","Tuntas"]
[34,"SITI RAHAYU",3,3,3,3,3,null,null,null,null,null,3,"B","Tuntas"]
[35,"STEVIANA PUSPITA SARI",3,3,3,3,3,null,null,null,null,null,3,"B","Tuntas"]
[36,"TAN LINGGAR PRAMUDITA",3,3,3,3,3,null,null,null,null,null,3,"B","Tuntas"]
[37,"TAUFIK NUR AZIZ DANUARTA",3,3,3,3,3,null,null,null,null,null,3,"B","Tuntas"]
[38,"TIARA PUTRI AYUNINGTIAS",3,3,3,3,3,null,null,null,null,null,3,"B","Tuntas"]
[39,"TITANIA GAYATRI PRIANJANI",3,3,3,3,3,null,null,null,null,null,3,"B","Tuntas"]
[40,"ULFATUN NI'MAH",3,3,3,3,3,null,null,null,null,null,3,"B","Tuntas"]
[41,0,null,null,null,null,null,null,null,null,null,null,"","",""]
[42,0,null,null,null,null,null,null,null,null,null,null,"","",""]
[43,0,null,null,null,null,null,null,null,null,null,null,"","",""]
[44,0,null,null,null,null,null,null,null,null,null,null,"","",""]
[45,0,null,null,null,null,null,null,null,null,null,null,"","",""]
[46,0,null,null,null,null,null,null,null,null,null,null,"","",""]
[47,0,null,null,null,null,null,null,null,null,null,null,"","",""]
[48,0,null,null,null,null,null,null,null,null,null,null,"","",""]
[49,0,null,null,null,null,null,null,null,null,null,null,"","",""]
[50,0,null,null,null,null,null,null,null,null,null,null,"","",""]

{"sheet":"AT-1","index":17,"n_rows":102,"n_cols":33,"rows_kept":102,"cut":false,"hidden":false,"merged":[[99,2,99,25],[100,2,100,25],[101,2,101,25],[11,12,12,12],[98,2,98,25],[86,2,86,25],[87,2,87,25],[88,2,88,25],[89,2,89,25],[90,2,90,25],[91,2,91,25],[96,2,96,25],[97,2,97,25],[77,2,77,25],[78,2,78,25],[66,5,66,9],[67,5,67,9],[68,5,68,9],[79,2,79,25],[80,2,80,25],[81,2,81,25],[94,2,94,25],[95,2,95,25],[92,2,92,25],[93,2,93,25],[82,2,82,25],[83,2,83,25],[84,2,84,25],[85,2,85,25],[71,27,71,28],[76,2,76,11],[11,25,12,25],[11,26,12,26],[11,27,12,27],[11,28,12,28],[65,5,65,9],[11,19,12,19],[11,20,12,20],[11,21,12,21],[11,22,12,22],[11,23,12,23],[11,24,12,24],[11,13,12,13],[11,14,12,14],[11,15,12,15],[11,0,12,0],[11,2,12,2],[11,3,12,3],[11,4,12,4],[11,5,12,5],[9,23,9,26],[11,16,12,16],[11,17,12,17],[11,18,12,18],[11,7,12,7],[11,8,12,8],[11,9,12,9],[11,10,12,10],[11,11,12,11],[12,30,12,32],[0,2,0,25],[1,2,1,25],[2,2,2,25],[3,2,5,25],[7,2,7,6],[7,8,7,10],[7,25,7,26],[7,11,7,13],[11,6,12,6],[8,2,8,6],[8,8,8,10],[8,25,8,26],[8,27,8,28],[9,2,9,6],[8,11,8,13]]}
[null,null,{"$f":"UPPER('Data '!D10)","v":"PEMERINTAH KABUPATEN BLORA"}]
[null,null,{"$f":"UPPER('Data '!D6)","v":"DINAS PENDIDIKAN PEMUDA DAN OLAHRAGA"}]
[null,null,{"$f":"UPPER('Data '!D7)","v":"SMP NEGERI 6 BLORA"}]
[null,null,"REKAP NILAI PENILAIAN ANTAR TEMAN - 1"]
[]
[]
[]
[null,"Mata Pelajaran :",{"$f":"Home!E16","v":"PJOK"},null,null,null,null,null,"Semester :",null,null,{"$f":"'Data '!D14","v":"Ganjil"},null,null,null,null,null,null,null,null,null,null,null,null,null,"KKM     :",null,{"$f":"Home!E26","v":3}]
[null,"Kelas :",{"$f":"Home!E18","v":"VII-A"},null,null,null,null,null,"Tahun Pelajaran:",null,null,{"$f":"'Data '!D13","v":"2014/2015"},null,null,null,null,null,null,null,null,null,null,null,null,null,"Wali Kelas  :",null,{"$f":"'Data '!D17","v":"Mundari, S.Pd."}]
[null,"Aspek :","Sikap: Penilaian Antar Teman"]
[]
["No. ","Sikap","Perilaku 1","Perilaku 2","Perilaku 3","Perilaku 4","Perilaku 5","Perilaku 6","Perilaku 7","Perilaku 8","Perilaku 9","Perilaku 10","Perilaku 11","Perilaku 12","Perilaku 13","Perilaku 14","Perilaku 16","Perilaku 17","Perilaku 18","Perilaku 19","Perilaku 20","Perilaku 21","Perilaku 22","Perilaku 23","Perilaku 24",null,"Nilai Modus","Konversi","Keterangan"]
[null,"Nama",null,null,null,null,null,null,null,null,null,null,null,null,null,null,null,null,null,null,null,null,null,null,null,null,null,null,null,null,"SIKAP"]
[1,{"$f":"'Data '!D27","v":"AHMAD ALEK BRIYANSAPUTRA"},3,3,3,3,3,3,3,3,3,3,3,3,3,3,3,3,3,3,3,3,3,3,3,null,{"$f":"IFERROR(MODE(C14:Z14),\"  \")","v":3},{"$f":"IF(AA14=\"  \",\"  \",IF(AA14>=$AF$14,\"SB\",IF(AA14>=$AF$15,\"B\",IF(AA14>=$AF$16,\"C\",\"K\"))))","v":"B"},{"$f":"IF(AA14=\"  \",\"  \",IF(AA14>=$AB$8,\"Tuntas\",\"Tidak Tuntas\"))","v":"Tuntas"},null,">",{"$f":"'Data '!M20","v":4},"SB"]
[2,{"$f":"'Data '!D28","v":"AULIA AYU FATINA"},3,3,3,3,3,3,3,3,3,3,3,3,3,3,3,3,3,3,3,3,3,3,3,null,{"$f":"IFERROR(MODE(C15:Z15),\"  \")","v":3},{"$f":"IF(AA15=\"  \",\"  \",IF(AA15>=$AF$14,\"SB\",IF(AA15>=$AF$15,\"B\",IF(AA15>=$AF$16,\"C\",\"K\"))))","v":"B"},{"$f":"IF(AA15=\"  \",\"  \",IF(AA15>=$AB$8,\"Tuntas\",\"Tidak Tuntas\"))","v":"Tuntas"},null,">",{"$f":"'Data '!M22","v":3},"B"]
[3,{"$f":"'Data '!D29","v":"BAGAS YULANDRA PUTRA"},3,3,3,3,3,3,3,3,3,3,3,3,3,3,3,3,3,3,3,3,3,3,3,null,3,"B","Tuntas",null,">",{"$f":"'Data '!M25","v":2},"C"]
[4,{"$f":"'Data '!D30","v":"CYNTIA AGUSTINA"},3,3,3,3,3,3,3,3,3,3,3,3,3,3,3,3,3,3,3,3,3,3,3,null,3,"B","Tuntas",null,">",{"$f":"'Data '!M28","v":1},"K"]
[5,{"$f":"'Data '!D31","v":"DAFFA KRISNA PRAMUDYA"},3,3,3,3,3,3,3,3,3,3,3,3,3,3,3,3,3,3,3,3,3,3,3,null,3,"B","Tuntas"]
[6,{"$f":"'Data '!D32","v":"DANINDRA RAFIF IRAWAN"},3,3,3,3,3,3,3,3,3,3,3,3,3,3,3,3,3,3,3,3,3,3,3,null,3,"B","Tuntas"]
[7,{"$f":"'Data '!D33","v":"DENI PRATAMA"},3,3,3,3,3,3,3,3,3,3,3,3,3,3,3,3,3,3,3,3,3,3,3,null,3,"B","Tuntas"]
[8,{"$f":"'Data '!D34","v":"DIKA SUKMA AGUSTIN"},3,3,3,3,3,3,3,3,3,3,3,3,3,3,3,3,3,3,3,3,3,3,3,null,3,"B","Tuntas"]
[9,{"$f":"'Data '!D35","v":"DIVA ADITYA"},3,3,3,3,3,3,3,3,3,3,3,3,3,3,3,3,3,3,3,3,3,3,3,null,3,"B","Tuntas"]
[10,{"$f":"'Data '!D36","v":"EKO PRASTYO"},3,3,3,3,3,3,3,3,3,3,3,3,3,3,3,3,3,3,3,3,3,3,3,null,3,"B","Tuntas"]
[11,{"$f":"'Data '!D37","v":"FAIQUR RIJAL HAMMAM"},3,3,3,3,3,3,3,3,3,3,3,3,3,3,3,3,3,3,3,3,3,3,3,null,3,"B","Tuntas"]
[12,{"$f":"'Data '!D38","v":"FATESAR SARI PRASETYO"},3,3,3,3,3,3,3,3,3,3,3,3,3,3,3,3,3,3,3,3,3,3,3,null,3,"B","Tuntas"]
[13,{"$f":"'Data '!D39","v":"FEBRI SULISTIYO"},3,3,3,3,3,3,3,3,3,3,3,3,3,3,3,3,3,3,3,3,3,3,3,null,3,"B","Tuntas"]
[14,{"$f":"'Data '!D40","v":"FIONA NANDA FETRIAN"},3,3,3,3,3,3,3,3,3,3,3,3,3,3,3,3,3,3,3,3,3,3,3,null,3,"B","Tuntas"]
[15,{"$f":"'Data '!D41","v":"GILANG SYAHRUL RAMADHAN"},3,3,3,3,3,3,3,3,3,3,3,3,3,3,3,3,3,3,3,3,3,3,3,null,3,"B","Tuntas"]
[16,{"$f":"'Data '!D42","v":"IMAM AGUNG WAHYU PRATAMA"},3,3,3,3,3,3,3,3,3,3,3,3,3,3,3,3,3,3,3,3,3,3,3,null,3,"B","Tuntas"]
[17,{"$f":"'Data '!D43","v":"JOHAN MAULANA"},3,3,3,3,3,3,3,3,3,3,3,3,3,3,3,3,3,3,3,3,3,3,3,null,3,"B","Tuntas"]
[18,{"$f":"'Data '!D44","v":"JOKO SETIAWAN"},3,3,3,3,3,3,3,3,3,3,3,3,3,3,3,3,3,3,3,3,3,3,3,null,3,"B","Tuntas"]
[19,{"$f":"'Data '!D45","v":"LISA OKTAVINASARI"},3,3,3,3,3,3,3,3,3,3,3,3,3,3,3,3,3,3,3,3,3,3,3,null,3,"B","Tuntas"]
[20,{"$f":"'Data '!D46","v":"MARIA GILDA SIREGAR"},3,3,3,3,3,3,3,3,3,3,3,3,3,3,3,3,3,3,3,3,3,3,3,null,3,"B","Tuntas"]
[21,{"$f":"'Data '!D47","v":"MOHAMMAD NURKHOLISH"},3,3,3,3,3,3,3,3,3,3,3,3,3,3,3,3,3,3,3,3,3,3,3,null,3,"B","Tuntas"]
[22,{"$f":"'Data '!D48","v":"MUHAMAD FARIS ULIN NUHA"},3,3,3,3,3,3,3,3,3,3,3,3,3,3,3,3,3,3,3,3,3,3,3,null,3,"B","Tuntas"]
[23,{"$f":"'Data '!D49","v":"MUHAMMAD MUSTOFA"},3,3,3,3,3,3,3,3,3,3,3,3,3,3,3,3,3,3,3,3,3,3,3,null,3,"B","Tuntas"]
[24,{"$f":"'Data '!D50","v":"NANDA WINTYA PUTRI"},3,3,3,3,3,3,3,3,3,3,3,3,3,3,3,3,3,3,3,3,3,3,3,null,3,"B","Tuntas"]
[25,{"$f":"'Data '!D51","v":"NI'MA NOVA NUR FADHILAH"},3,3,3,3,3,3,3,3,3,3,3,3,3,3,3,3,3,3,3,3,3,3,3,null,3,"B","Tuntas"]
[26,{"$f":"'Data '!D52","v":"NITA ZUMROTUT TAQIYAH"},3,3,3,3,3,3,3,3,3,3,3,3,3,3,3,3,3,3,3,3,3,3,3,null,3,"B","Tuntas"]
[27,{"$f":"'Data '!D53","v":"RACHMAT SAPUTRA ANDRIANSYAH"},3,3,3,3,3,3,3,3,3,3,3,3,3,3,3,3,3,3,3,3,3,3,3,null,3,"B","Tuntas"]
[28,{"$f":"'Data '!D54","v":"RIZAL ANDRIYAN SAPUTRA"},3,3,3,3,3,3,3,3,3,3,3,3,3,3,3,3,3,3,3,3,3,3,3,null,3,"B","Tuntas"]
[29,{"$f":"'Data '!D55","v":"SAIFUL ANNAS"},3,3,3,3,3,3,3,3,3,3,3,3,3,3,3,3,3,3,3,3,3,3,3,null,3,"B","Tuntas"]
[30,{"$f":"'Data '!D56","v":"SELINA SEPTIANI"},3,3,3,3,3,3,3,3,3,3,3,3,3,3,3,3,3,3,3,3,3,3,3,null,3,"B","Tuntas"]
[31,{"$f":"'Data '!D57","v":"SHALSABILA  SHINTA NIRMALA"},3,3,3,3,3,3,3,3,3,3,3,3,3,3,3,3,3,3,3,3,3,3,3,null,3,"B","Tuntas"]
[32,{"$f":"'Data '!D58","v":"SITI CHOIRIATUS SA'ADAH"},3,3,3,3,3,3,3,3,3,3,3,3,3,3,3,3,3,3,3,3,3,3,3,null,3,"B","Tuntas"]
[33,{"$f":"'Data '!D59","v":"SITI NURFAN AZIZAH"},3,3,3,3,3,3,3,3,3,3,3,3,3,3,3,3,3,3,3,3,3,3,3,null,3,"B","Tuntas"]
[34,{"$f":"'Data '!D60","v":"SITI RAHAYU"},3,3,3,3,3,3,3,3,3,3,3,3,3,3,3,3,3,3,3,3,3,3,3,null,3,"B","Tuntas"]
[35,{"$f":"'Data '!D61","v":"STEVIANA PUSPITA SARI"},3,3,3,3,3,3,3,3,3,3,3,3,3,3,3,3,3,3,3,3,3,3,3,null,3,"B","Tuntas"]
[36,{"$f":"'Data '!D62","v":"TAN LINGGAR PRAMUDITA"},3,3,3,3,3,3,3,3,3,3,3,3,3,3,3,3,3,3,3,3,3,3,3,null,3,"B","Tuntas"]
[37,{"$f":"'Data '!D63","v":"TAUFIK NUR AZIZ DANUARTA"},3,3,3,3,3,3,3,3,3,3,3,3,3,3,3,3,3,3,3,3,3,3,3,null,3,"B","Tuntas"]
[38,{"$f":"'Data '!D64","v":"TIARA PUTRI AYUNINGTIAS"},3,3,3,3,3,3,3,3,3,3,3,3,3,3,3,3,3,3,3,3,3,3,3,null,3,"B","Tuntas"]
[39,{"$f":"'Data '!D65","v":"TITANIA GAYATRI PRIANJANI"},3,3,3,3,3,3,3,3,3,3,3,3,3,3,3,3,3,3,3,3,3,3,3,null,3,"B","Tuntas"]
[40,{"$f":"'Data '!D66","v":"ULFATUN NI'MAH"},3,3,3,3,3,3,3,3,3,3,3,3,3,3,3,3,3,3,3,3,3,3,3,null,3,"B","Tuntas"]
[41,{"$f":"'Data '!D67","v":0},null,null,null,null,null,null,null,null,null,null,null,null,null,null,null,null,null,null,null,null,null,null,null,null,"","",""]
[42,{"$f":"'Data '!D68","v":0},null,null,null,null,null,null,null,null,null,null,null,null,null,null,null,null,null,null,null,null,null,null,null,null,"","",""]
[43,{"$f":"'Data '!D69","v":0},null,null,null,null,null,null,null,null,null,null,null,null,null,null,null,null,null,null,null,null,null,null,null,null,"","",""]
[44,{"$f":"'Data '!D70","v":0},null,null,null,null,null,null,null,null,null,null,null,null,null,null,null,null,null,null,null,null,null,null,null,null,"","",""]
[45,{"$f":"'Data '!D71","v":0},null,null,null,null,null,null,null,null,null,null,null,null,null,null,null,null,null,null,null,null,null,null,null,null,"","",""]
[46,{"$f":"'Data '!D72","v":0},null,null,null,null,null,null,null,null,null,null,null,null,null,null,null,null,null,null,null,null,null,null,null,null,"","",{"$f":"IF(AA59=\"  \",\"  \",IF(AA59>=$AB$8,\"Tuntas\",\"Tidak Tuntas\"))","v":""}]
[47,{"$f":"'Data '!D73","v":0},null,null,null,null,null,null,null,null,null,null,null,null,null,null,null,null,null,null,null,null,null,null,null,null,"","",""]
[48,{"$f":"'Data '!D74","v":0},null,null,null,null,null,null,null,null,null,null,null,null,null,null,null,null,null,null,null,null,null,null,null,null,"","",""]
[49,{"$f":"'Data '!D75","v":0},null,null,null,null,null,null,null,null,null,null,null,null,null,null,null,null,null,null,null,null,null,null,null,null,"","",""]
[50,{"$f":"'Data '!D76","v":0},null,null,null,null,null,null,null,null,null,null,null,null,null,null,null,null,null,null,null,null,null,null,null,null,"","",""]
[null,"Nilai Rata-rata",{"$f":"IFERROR(AVERAGE(C14:C63),\"  \")","v":3},{"$f":"IFERROR(AVERAGE(D14:D63),\"  \")","v":3},3,3,3,3,3,3,3,3,3,3,3,3,3,3,3,3,3,3,3,3,3,"",3]
[null,null,null,null,"Keterangan:"]
[null,null,null,null,"1 =","Tidak Pernah "]
[null,"Mengetahui:",null,null,"2 =","Kadang-kadang",null,null,null,null,null,null,null,null,null,null,null,null,null,null,null,null,null,{"$f":"'Data '!D21","v":"Blora, 20 Desember 2014"}]
[null,{"$f":"\"Ka. \"&'Data '!D7","v":"Ka. SMP Negeri 6 Blora"},null,null,"3 =","Sering",null,null,null,null,null,null,null,null,null,null,null,null,null,null,null,null,null,"Guru Mata Pelajaran"]
[null,null,null,null,"4 =","Selalu"]
[]
[]
[null,{"$f":"'Data '!D15","v":"Suparno, S.Pd.,M.Hum"},null,null,null,null,null,null,null,null,null,null,null,null,null,null,null,null,null,null,null,null,null,{"$f":"Home!E12","v":"Drs. Sarid Nugroho"}]
[null,{"$f":"'Data '!D16","v":"NIP. 19620712 198403 1 012"},null,null,null,null,null,null,null,null,null,null,null,null,null,null,null,null,null,null,null,null,null,{"$f":"Home!E14","v":"NIP. 19631223 198803 1 004"}]
[]
[]
[]
[null,null,"Perilaku Yang Diamati:"]
[null,1,"Memberi salam kepada guru setiap bertemu dengannya dan menjabat tangannya serta menghadapinya dengan wajah yang tersenyum."]
[null,2,"Bersikap hormat dan sopan santun kepada guru"]
[null,3,"Menyenangkan dan tidak menyakiti perasaan / hati orang/siswa lain."]
[null,4,"Bertanya kepada guru bila ada sesuatu yang belum dia mengerti dengan cara baik"]
[null,5,"Menghindari pertanyaan-pertanyaan yang tidak ada faedahnya, sekedar mengolok-olok atau yang dilatarbelakangi oleh niat yang buruk"]
[null,6,"Berpakaian rapi dan bersih"]
[null,7,"Menjaga kebersihan kelas dan lingkungan."]
[null,8,"Datang lebih awal (tidak terlambat)"]
[null,9,"Mengerjakan Pekerjaan Rumah (PR)"]
[null,10,"Mengerjakan soal latihan ke depan (papan tulis)"]
[null,11,"Membuang sampah pada tempatnya."]
[null,12,"Menolong orang lain yang sedang dalam kesulitan/kesusahan."]
[null,13,"Aktif bertanya di dalam proses pembelajaran."]
[null,14,"Berdo’a di awal dan akhir pembelajaran"]
[null,15,"Masuk tepat waktu"]
[null,16,"Mengumpulkan tugas tepat waktu"]
[null,17,"Memakai seragam sesuai tata tertib"]
[null,18,"Mengerjakan tugas yang diberikan"]
[null,19,"Tertib dalam mengikuti pembelajaran"]
[null,20,"Mengikuti praktikum sesuai dengan langkah yang ditetapkan"]
[null,21,"Membawa buku tulis sesuai mata pelajaran"]
[null,22,"Membawa buku teks mata pelajaran"]
[null,23]
[null,24]
[null,25]

{"sheet":"AT-2","index":18,"n_rows":102,"n_cols":34,"rows_kept":102,"cut":false,"hidden":false,"merged":[[100,2,100,25],[101,2,101,25],[97,2,97,25],[98,2,98,25],[96,2,96,25],[88,2,88,25],[89,2,89,25],[94,2,94,25],[95,2,95,25],[99,2,99,25],[11,24,12,24],[91,2,91,25],[92,2,92,25],[93,2,93,25],[67,5,67,9],[68,5,68,9],[90,2,90,25],[79,2,79,25],[80,2,80,25],[81,2,81,25],[82,2,82,25],[83,2,83,25],[84,2,84,25],[85,2,85,25],[86,2,86,25],[87,2,87,25],[11,6,12,6],[71,27,71,28],[76,2,76,11],[77,2,77,25],[78,2,78,25],[11,25,12,25],[11,26,12,26],[11,27,12,27],[11,28,12,28],[65,5,65,9],[66,5,66,9],[11,19,12,19],[11,20,12,20],[11,21,12,21],[11,22,12,22],[11,23,12,23],[11,0,12,0],[11,2,12,2],[11,3,12,3],[11,4,12,4],[11,5,12,5],[11,16,12,16],[11,17,12,17],[11,18,12,18],[11,7,12,7],[11,8,12,8],[11,9,12,9],[11,10,12,10],[11,11,12,11],[11,12,12,12],[11,13,12,13],[11,14,12,14],[11,15,12,15],[12,31,12,33],[8,27,8,28],[9,2,9,6],[9,23,9,26],[0,2,0,25],[1,2,1,25],[2,2,2,25],[3,2,5,25],[7,2,7,6],[7,8,7,10],[7,11,7,13],[7,25,7,26],[8,2,8,6],[8,8,8,10],[8,11,8,13],[8,25,8,26]]}
[null,null,{"$f":"UPPER('Data '!D10)","v":"PEMERINTAH KABUPATEN BLORA"}]
[null,null,{"$f":"UPPER('Data '!D6)","v":"DINAS PENDIDIKAN PEMUDA DAN OLAHRAGA"}]
[null,null,{"$f":"UPPER('Data '!D7)","v":"SMP NEGERI 6 BLORA"}]
[null,null,"REKAP NILAI PENILAIAN ANTAR TEMAN - 2"]
[]
[]
[]
[null,"Mata Pelajaran :",{"$f":"Home!E16","v":"PJOK"},null,null,null,null,null,"Semester :",null,null,{"$f":"'Data '!D14","v":"Ganjil"},null,null,null,null,null,null,null,null,null,null,null,null,null,"KKM     :",null,{"$f":"Home!E26","v":3}]
[null,"Kelas :",{"$f":"Home!E18","v":"VII-A"},null,null,null,null,null,"Tahun Pelajaran:",null,null,{"$f":"'Data '!D13","v":"2014/2015"},null,null,null,null,null,null,null,null,null,null,null,null,null,"Wali Kelas  :",null,{"$f":"'Data '!D17","v":"Mundari, S.Pd."}]
[null,"Aspek :","Sikap: Penilaian Antar Teman"]
[]
["No. ","Sikap","Perilaku 1","Perilaku 2","Perilaku 3","Perilaku 4","Perilaku 5","Perilaku 6","Perilaku 7","Perilaku 8","Perilaku 9","Perilaku 10","Perilaku 11","Perilaku 12","Perilaku 13","Perilaku 14","Perilaku 16","Perilaku 17","Perilaku 18","Perilaku 19","Perilaku 20","Perilaku 21","Perilaku 22","Perilaku 23","Perilaku 24",null,"Nilai Modus","Konversi","Keterangan"]
[null,"Nama",null,null,null,null,null,null,null,null,null,null,null,null,null,null,null,null,null,null,null,null,null,null,null,null,null,null,null,null,null,"SIKAP"]
[1,{"$f":"'Data '!D27","v":"AHMAD ALEK BRIYANSAPUTRA"},3,3,3,3,3,3,3,3,3,3,3,3,3,3,3,3,3,3,3,3,3,3,3,null,{"$f":"IFERROR(MODE(C14:Z14),\"  \")","v":3},{"$f":"IF(AA14=\"  \",\"  \",IF(AA14>=$AG$14,\"SB\",IF(AA14>=$AG$15,\"B\",IF(AA14>=$AG$16,\"C\",\"K\"))))","v":"B"},{"$f":"IF(AA14=\"  \",\"  \",IF(AA14>=$AB$8,\"Tuntas\",\"Tidak Tuntas\"))","v":"Tuntas"},null,null,">",{"$f":"'Data '!M20","v":4},"SB"]
[2,{"$f":"'Data '!D28","v":"AULIA AYU FATINA"},3,3,3,3,3,3,3,3,3,3,3,3,3,3,3,3,3,3,3,3,3,3,3,null,{"$f":"IFERROR(MODE(C15:Z15),\"  \")","v":3},{"$f":"IF(AA15=\"  \",\"  \",IF(AA15>=$AG$14,\"SB\",IF(AA15>=$AG$15,\"B\",IF(AA15>=$AG$16,\"C\",\"K\"))))","v":"B"},{"$f":"IF(AA15=\"  \",\"  \",IF(AA15>=$AB$8,\"Tuntas\",\"Tidak Tuntas\"))","v":"Tuntas"},null,null,">",{"$f":"'Data '!M22","v":3},"B"]
[3,{"$f":"'Data '!D29","v":"BAGAS YULANDRA PUTRA"},3,3,3,3,3,3,3,3,3,3,3,3,3,3,3,3,3,3,3,3,3,3,3,null,3,"B","Tuntas",null,null,">",{"$f":"'Data '!M25","v":2},"C"]
[4,{"$f":"'Data '!D30","v":"CYNTIA AGUSTINA"},3,3,3,3,3,3,3,3,3,3,3,3,3,3,3,3,3,3,3,3,3,3,3,null,3,"B","Tuntas",null,null,">",{"$f":"'Data '!M28","v":1},"K"]
[5,{"$f":"'Data '!D31","v":"DAFFA KRISNA PRAMUDYA"},3,3,3,3,3,3,3,3,3,3,3,3,3,3,3,3,3,3,3,3,3,3,3,null,3,"B","Tuntas"]
[6,{"$f":"'Data '!D32","v":"DANINDRA RAFIF IRAWAN"},3,3,3,3,3,3,3,3,3,3,3,3,3,3,3,3,3,3,3,3,3,3,3,null,3,"B","Tuntas"]
[7,{"$f":"'Data '!D33","v":"DENI PRATAMA"},3,3,3,3,3,3,3,3,3,3,3,3,3,3,3,3,3,3,3,3,3,3,3,null,3,"B","Tuntas"]
[8,{"$f":"'Data '!D34","v":"DIKA SUKMA AGUSTIN"},3,3,3,3,3,3,3,3,3,3,3,3,3,3,3,3,3,3,3,3,3,3,3,null,3,"B","Tuntas"]
[9,{"$f":"'Data '!D35","v":"DIVA ADITYA"},3,3,3,3,3,3,3,3,3,3,3,3,3,3,3,3,3,3,3,3,3,3,3,null,3,"B","Tuntas"]
[10,{"$f":"'Data '!D36","v":"EKO PRASTYO"},3,3,3,3,3,3,3,3,3,3,3,3,3,3,3,3,3,3,3,3,3,3,3,null,3,"B","Tuntas"]
[11,{"$f":"'Data '!D37","v":"FAIQUR RIJAL HAMMAM"},3,3,3,3,3,3,3,3,3,3,3,3,3,3,3,3,3,3,3,3,3,3,3,null,3,"B","Tuntas"]
[12,{"$f":"'Data '!D38","v":"FATESAR SARI PRASETYO"},3,3,3,3,3,3,3,3,3,3,3,3,3,3,3,3,3,3,3,3,3,3,3,null,3,"B","Tuntas"]
[13,{"$f":"'Data '!D39","v":"FEBRI SULISTIYO"},3,3,3,3,3,3,3,3,3,3,3,3,3,3,3,3,3,3,3,3,3,3,3,null,3,"B","Tuntas"]
[14,{"$f":"'Data '!D40","v":"FIONA NANDA FETRIAN"},3,3,3,3,3,3,3,3,3,3,3,3,3,3,3,3,3,3,3,3,3,3,3,null,3,"B","Tuntas"]
[15,{"$f":"'Data '!D41","v":"GILANG SYAHRUL RAMADHAN"},3,3,3,3,3,3,3,3,3,3,3,3,3,3,3,3,3,3,3,3,3,3,3,null,3,"B","Tuntas"]
[16,{"$f":"'Data '!D42","v":"IMAM AGUNG WAHYU PRATAMA"},3,3,3,3,3,3,3,3,3,3,3,3,3,3,3,3,3,3,3,3,3,3,3,null,3,"B","Tuntas"]
[17,{"$f":"'Data '!D43","v":"JOHAN MAULANA"},3,3,3,3,3,3,3,3,3,3,3,3,3,3,3,3,3,3,3,3,3,3,3,null,3,"B","Tuntas"]
[18,{"$f":"'Data '!D44","v":"JOKO SETIAWAN"},3,3,3,3,3,3,3,3,3,3,3,3,3,3,3,3,3,3,3,3,3,3,3,null,3,"B","Tuntas"]
[19,{"$f":"'Data '!D45","v":"LISA OKTAVINASARI"},3,3,3,3,3,3,3,3,3,3,3,3,3,3,3,3,3,3,3,3,3,3,3,null,3,"B","Tuntas"]
[20,{"$f":"'Data '!D46","v":"MARIA GILDA SIREGAR"},3,3,3,3,3,3,3,3,3,3,3,3,3,3,3,3,3,3,3,3,3,3,3,null,3,"B","Tuntas"]
[21,{"$f":"'Data '!D47","v":"MOHAMMAD NURKHOLISH"},3,3,3,3,3,3,3,3,3,3,3,3,3,3,3,3,3,3,3,3,3,3,3,null,3,"B","Tuntas"]
[22,{"$f":"'Data '!D48","v":"MUHAMAD FARIS ULIN NUHA"},3,3,3,3,3,3,3,3,3,3,3,3,3,3,3,3,3,3,3,3,3,3,3,null,3,"B","Tuntas"]
[23,{"$f":"'Data '!D49","v":"MUHAMMAD MUSTOFA"},3,3,3,3,3,3,3,3,3,3,3,3,3,3,3,3,3,3,3,3,3,3,3,null,3,"B","Tuntas"]
[24,{"$f":"'Data '!D50","v":"NANDA WINTYA PUTRI"},3,3,3,3,3,3,3,3,3,3,3,3,3,3,3,3,3,3,3,3,3,3,3,null,3,"B","Tuntas"]
[25,{"$f":"'Data '!D51","v":"NI'MA NOVA NUR FADHILAH"},3,3,3,3,3,3,3,3,3,3,3,3,3,3,3,3,3,3,3,3,3,3,3,null,3,"B","Tuntas"]
[26,{"$f":"'Data '!D52","v":"NITA ZUMROTUT TAQIYAH"},3,3,3,3,3,3,3,3,3,3,3,3,3,3,3,3,3,3,3,3,3,3,3,null,3,"B","Tuntas"]
[27,{"$f":"'Data '!D53","v":"RACHMAT SAPUTRA ANDRIANSYAH"},3,3,3,3,3,3,3,3,3,3,3,3,3,3,3,3,3,3,3,3,3,3,3,null,3,"B","Tuntas"]
[28,{"$f":"'Data '!D54","v":"RIZAL ANDRIYAN SAPUTRA"},3,3,3,3,3,3,3,3,3,3,3,3,3,3,3,3,3,3,3,3,3,3,3,null,3,"B","Tuntas"]
[29,{"$f":"'Data '!D55","v":"SAIFUL ANNAS"},3,3,3,3,3,3,3,3,3,3,3,3,3,3,3,3,3,3,3,3,3,3,3,null,3,"B","Tuntas"]
[30,{"$f":"'Data '!D56","v":"SELINA SEPTIANI"},3,3,3,3,3,3,3,3,3,3,3,3,3,3,3,3,3,3,3,3,3,3,3,null,3,"B","Tuntas"]
[31,{"$f":"'Data '!D57","v":"SHALSABILA  SHINTA NIRMALA"},3,3,3,3,3,3,3,3,3,3,3,3,3,3,3,3,3,3,3,3,3,3,3,null,3,"B","Tuntas"]
[32,{"$f":"'Data '!D58","v":"SITI CHOIRIATUS SA'ADAH"},3,3,3,3,3,3,3,3,3,3,3,3,3,3,3,3,3,3,3,3,3,3,3,null,3,"B","Tuntas"]
[33,{"$f":"'Data '!D59","v":"SITI NURFAN AZIZAH"},3,3,3,3,3,3,3,3,3,3,3,3,3,3,3,3,3,3,3,3,3,3,3,null,3,"B","Tuntas"]
[34,{"$f":"'Data '!D60","v":"SITI RAHAYU"},3,3,3,3,3,3,3,3,3,3,3,3,3,3,3,3,3,3,3,3,3,3,3,null,3,"B","Tuntas"]
[35,{"$f":"'Data '!D61","v":"STEVIANA PUSPITA SARI"},3,3,3,3,3,3,3,3,3,3,3,3,3,3,3,3,3,3,3,3,3,3,3,null,3,"B","Tuntas"]
[36,{"$f":"'Data '!D62","v":"TAN LINGGAR PRAMUDITA"},3,3,3,3,3,3,3,3,3,3,3,3,3,3,3,3,3,3,3,3,3,3,3,null,3,"B","Tuntas"]
[37,{"$f":"'Data '!D63","v":"TAUFIK NUR AZIZ DANUARTA"},3,3,3,3,3,3,3,3,3,3,3,3,3,3,3,3,3,3,3,3,3,3,3,null,3,"B","Tuntas"]
[38,{"$f":"'Data '!D64","v":"TIARA PUTRI AYUNINGTIAS"},3,3,3,3,3,3,3,3,3,3,3,3,3,3,3,3,3,3,3,3,3,3,3,null,3,"B","Tuntas"]
[39,{"$f":"'Data '!D65","v":"TITANIA GAYATRI PRIANJANI"},3,3,3,3,3,3,3,3,3,3,3,3,3,3,3,3,3,3,3,3,3,3,3,null,3,"B","Tuntas"]
[40,{"$f":"'Data '!D66","v":"ULFATUN NI'MAH"},3,3,3,3,3,3,3,3,3,3,3,3,3,3,3,3,3,3,3,3,3,3,3,null,3,"B","Tuntas"]
[41,{"$f":"'Data '!D67","v":0},null,null,null,null,null,null,null,null,null,null,null,null,null,null,null,null,null,null,null,null,null,null,null,null,"","",""]
[42,{"$f":"'Data '!D68","v":0},null,null,null,null,null,null,null,null,null,null,null,null,null,null,null,null,null,null,null,null,null,null,null,null,"","",""]
[43,{"$f":"'Data '!D69","v":0},null,null,null,null,null,null,null,null,null,null,null,null,null,null,null,null,null,null,null,null,null,null,null,null,"","",""]
[44,{"$f":"'Data '!D70","v":0},null,null,null,null,null,null,null,null,null,null,null,null,null,null,null,null,null,null,null,null,null,null,null,null,"","",""]
[45,{"$f":"'Data '!D71","v":0},null,null,null,null,null,null,null,null,null,null,null,null,null,null,null,null,null,null,null,null,null,null,null,null,"","",""]
[46,{"$f":"'Data '!D72","v":0},null,null,null,null,null,null,null,null,null,null,null,null,null,null,null,null,null,null,null,null,null,null,null,null,"","",{"$f":"IF(AA59=\"  \",\"  \",IF(AA59>=$AB$8,\"Tuntas\",\"Tidak Tuntas\"))","v":""}]
[47,{"$f":"'Data '!D73","v":0},null,null,null,null,null,null,null,null,null,null,null,null,null,null,null,null,null,null,null,null,null,null,null,null,"","",""]
[48,{"$f":"'Data '!D74","v":0},null,null,null,null,null,null,null,null,null,null,null,null,null,null,null,null,null,null,null,null,null,null,null,null,"","",""]
[49,{"$f":"'Data '!D75","v":0},null,null,null,null,null,null,null,null,null,null,null,null,null,null,null,null,null,null,null,null,null,null,null,null,"","",""]
[50,{"$f":"'Data '!D76","v":0},null,null,null,null,null,null,null,null,null,null,null,null,null,null,null,null,null,null,null,null,null,null,null,null,"","",""]
[null,"Nilai Rata-rata",{"$f":"IFERROR(AVERAGE(C14:C63),\"  \")","v":3},{"$f":"IFERROR(AVERAGE(D14:D63),\"  \")","v":3},3,3,3,3,3,3,3,3,3,3,3,3,3,3,3,3,3,3,3,3,3,"",3,"B"]
[null,null,null,null,"Keterangan:"]
[null,null,null,null,"1 =","Tidak Pernah "]
[null,"Mengetahui:",null,null,"2 =","Kadang-kadang",null,null,null,null,null,null,null,null,null,null,null,null,null,null,null,null,null,{"$f":"'Data '!D21","v":"Blora, 20 Desember 2014"}]
[null,{"$f":"\"Ka. \"&'Data '!D7","v":"Ka. SMP Negeri 6 Blora"},null,null,"3 =","Sering",null,null,null,null,null,null,null,null,null,null,null,null,null,null,null,null,null,"Guru Mata Pelajaran"]
[null,null,null,null,"4 =","Selalu"]
[]
[]
[null,{"$f":"'Data '!D15","v":"Suparno, S.Pd.,M.Hum"},null,null,null,null,null,null,null,null,null,null,null,null,null,null,null,null,null,null,null,null,null,{"$f":"Home!E12","v":"Drs. Sarid Nugroho"}]
[null,{"$f":"'Data '!D16","v":"NIP. 19620712 198403 1 012"},null,null,null,null,null,null,null,null,null,null,null,null,null,null,null,null,null,null,null,null,null,{"$f":"Home!E14","v":"NIP. 19631223 198803 1 004"}]
[]
[]
[]
[null,null,"Perilaku Yang Diamati:"]
[null,1,"Memberi salam kepada guru setiap bertemu dengannya dan menjabat tangannya serta menghadapinya dengan wajah yang tersenyum."]
[null,2,"Bersikap hormat dan sopan santun kepada guru"]
[null,3,"Menyenangkan dan tidak menyakiti perasaan / hati orang/siswa lain."]
[null,4,"Bertanya kepada guru bila ada sesuatu yang belum dia mengerti dengan cara baik"]
[null,5,"Menghindari pertanyaan-pertanyaan yang tidak ada faedahnya, sekedar mengolok-olok atau yang dilatarbelakangi oleh niat yang buruk"]
[null,6,"Berpakaian rapi dan bersih"]
[null,7,"Menjaga kebersihan kelas dan lingkungan."]
[null,8,"Datang lebih awal (tidak terlambat)"]
[null,9,"Mengerjakan Pekerjaan Rumah (PR)"]
[null,10,"Mengerjakan soal latihan ke depan (papan tulis)"]
[null,11,"Membuang sampah pada tempatnya."]
[null,12,"Menolong orang lain yang sedang dalam kesulitan/kesusahan."]
[null,13,"Aktif bertanya di dalam proses pembelajaran."]
[null,14,"Berdo’a di awal dan akhir pembelajaran"]
[null,15,"Masuk tepat waktu"]
[null,16,"Mengumpulkan tugas tepat waktu"]
[null,17,"Memakai seragam sesuai tata tertib"]
[null,18,"Mengerjakan tugas yang diberikan"]
[null,19,"Tertib dalam mengikuti pembelajaran"]
[null,20,"Mengikuti praktikum sesuai dengan langkah yang ditetapkan"]
[null,21,"Membawa buku tulis sesuai mata pelajaran"]
[null,22,"Membawa buku teks mata pelajaran"]
[null,23]
[null,24]
[null,25]

{"sheet":"N Diri-1","index":19,"n_rows":96,"n_cols":30,"rows_kept":96,"cut":false,"hidden":false,"merged":[[83,3,83,24],[71,23,71,25],[76,3,76,24],[77,3,77,24],[94,3,94,24],[95,3,95,24],[96,3,96,24],[91,3,91,24],[86,3,86,24],[87,3,87,24],[88,3,88,24],[89,3,89,24],[11,14,12,14],[11,15,12,15],[11,16,12,16],[11,17,12,17],[92,3,92,24],[84,3,84,24],[65,5,65,9],[66,5,66,9],[67,5,67,9],[68,5,68,9],[85,3,85,24],[78,3,78,24],[79,3,79,24],[80,3,80,24],[81,3,81,24],[82,3,82,24],[11,9,12,9],[11,10,12,10],[11,11,12,11],[11,12,12,12],[11,13,12,13],[11,25,12,25],[11,23,12,23],[11,24,12,24],[11,0,12,0],[11,2,12,2],[11,3,12,3],[11,4,12,4],[11,5,12,5],[11,22,12,22],[11,7,12,7],[11,8,12,8],[11,6,12,6],[11,18,12,18],[11,19,12,19],[11,20,12,20],[11,21,12,21],[12,27,12,29],[9,16,9,23],[0,2,0,25],[1,2,1,25],[2,2,2,25],[7,2,7,6],[7,8,7,10],[7,11,7,12],[3,2,5,25],[7,16,7,22],[8,16,8,22],[8,23,8,25],[8,2,8,6],[8,8,8,10],[8,11,8,12],[9,2,9,10]]}
[null,null,{"$f":"UPPER('Data '!D10)","v":"PEMERINTAH KABUPATEN BLORA"}]
[null,null,{"$f":"UPPER('Data '!D6)","v":"DINAS PENDIDIKAN PEMUDA DAN OLAHRAGA"}]
[null,null,{"$f":"UPPER('Data '!D7)","v":"SMP NEGERI 6 BLORA"}]
[null,null,"REKAP NILAI PENILAIAN DIRI - 1"]
[]
[]
[]
[null,"Mata Pelajaran :",{"$f":"Home!E16","v":"PJOK"},null,null,null,null,null,"Semester  :",null,null,{"$f":"'Data '!D14","v":"Ganjil"},null,null,null,null,"KKM   :",null,null,null,null,null,null,{"$f":"Home!E26","v":3}]
[null,"Kelas :",{"$f":"Home!E18","v":"VII-A"},null,null,null,null,null,"Tahun Pelajaran :",null,null,{"$f":"'Data '!D13","v":"2014/2015"},null,null,null,null,"Wali Kelas    :",null,null,null,null,null,null,{"$f":"'Data '!D17","v":"Mundari, S.Pd."}]
[null,"Kompetensi Penilaian Diri =","Himpunan"]
[]
["No. ","Pertanyaan Pencapaian Kompetensi:","Pertanyaan 1","Pertanyaan 2","Pertanyaan 3","Pertanyaan 4","Pertanyaan 5","Pertanyaan 6","Pertanyaan 7","Pertanyaan 8","Pertanyaan 9","Pertanyaan 10","Pertanyaan 11","Pertanyaan 12","Pertanyaan 13","Pertanyaan 14","Pertanyaan 15","Pertanyaan 16",null,null,null,null,null,"Nilai Modus","Konversi","Keterangan"]
[null,"Nama",null,null,null,null,null,null,null,null,null,null,null,null,null,null,null,null,null,null,null,null,null,null,null,null,null,"NILAI SIKAP"]
[1,{"$f":"'Data '!D27","v":"AHMAD ALEK BRIYANSAPUTRA"},3,3,3,3,3,3,3,3,3,3,3,3,3,3,3,3,null,null,null,null,null,{"$f":"IFERROR(MODE(C14:W14),\"  \")","v":3},{"$f":"IF(X14>=$AC$14,\"SB\",IF(X14>=$AC$15,\"B\", IF(X14>=$AC$16,\"C\",\"K\")))","v":"B"},{"$f":"IF(X14>=$X$8,\"Tuntas\",\"Tidak Tuntas\")","v":"Tuntas"},null,">",{"$f":"'Data '!M20","v":4},"SB"]
[2,{"$f":"'Data '!D28","v":"AULIA AYU FATINA"},3,3,3,3,3,3,3,3,3,3,3,3,3,3,3,3,null,null,null,null,null,{"$f":"IFERROR(MODE(C15:W15),\"  \")","v":3},"B",{"$f":"IF(X15>=$X$8,\"Tuntas\",\"Tidak Tuntas\")","v":"Tuntas"},null,">",{"$f":"'Data '!M22","v":3},"B"]
[3,{"$f":"'Data '!D29","v":"BAGAS YULANDRA PUTRA"},3,3,3,3,3,3,3,3,3,3,3,3,3,3,3,3,null,null,null,null,null,3,"B","Tuntas",null,">",{"$f":"'Data '!M25","v":2},"C"]
[4,{"$f":"'Data '!D30","v":"CYNTIA AGUSTINA"},3,3,3,3,3,3,3,3,3,3,3,3,3,3,3,3,null,null,null,null,null,3,"B","Tuntas",null,">",{"$f":"'Data '!M28","v":1},"K"]
[5,{"$f":"'Data '!D31","v":"DAFFA KRISNA PRAMUDYA"},3,3,3,3,3,3,3,3,3,3,3,3,3,3,3,3,null,null,null,null,null,3,"B","Tuntas"]
[6,{"$f":"'Data '!D32","v":"DANINDRA RAFIF IRAWAN"},3,3,3,3,3,3,3,3,3,3,3,3,3,3,3,3,null,null,null,null,null,3,"B","Tuntas"]
[7,{"$f":"'Data '!D33","v":"DENI PRATAMA"},3,3,3,3,3,3,3,3,3,3,3,3,3,3,3,3,null,null,null,null,null,3,"B","Tuntas"]
[8,{"$f":"'Data '!D34","v":"DIKA SUKMA AGUSTIN"},3,3,3,3,3,3,3,3,3,3,3,3,3,3,3,3,null,null,null,null,null,3,"B","Tuntas"]
[9,{"$f":"'Data '!D35","v":"DIVA ADITYA"},3,3,3,3,3,3,3,3,3,3,3,3,3,3,3,3,null,null,null,null,null,3,"B","Tuntas"]
[10,{"$f":"'Data '!D36","v":"EKO PRASTYO"},3,3,3,3,3,3,3,3,3,3,3,3,3,3,3,3,null,null,null,null,null,3,"B","Tuntas"]
[11,{"$f":"'Data '!D37","v":"FAIQUR RIJAL HAMMAM"},3,3,3,3,3,3,3,3,3,3,3,3,3,3,3,3,null,null,null,null,null,3,"B","Tuntas"]
[12,{"$f":"'Data '!D38","v":"FATESAR SARI PRASETYO"},3,3,3,3,3,3,3,3,3,3,3,3,3,3,3,3,null,null,null,null,null,3,"B","Tuntas"]
[13,{"$f":"'Data '!D39","v":"FEBRI SULISTIYO"},3,3,3,3,3,3,3,3,3,3,3,3,3,3,3,3,null,null,null,null,null,3,"B","Tuntas"]
[14,{"$f":"'Data '!D40","v":"FIONA NANDA FETRIAN"},3,3,3,3,3,3,3,3,3,3,3,3,3,3,3,3,null,null,null,null,null,3,"B","Tuntas"]
[15,{"$f":"'Data '!D41","v":"GILANG SYAHRUL RAMADHAN"},3,3,3,3,3,3,3,3,3,3,3,3,3,3,3,3,null,null,null,null,null,3,"B","Tuntas"]
[16,{"$f":"'Data '!D42","v":"IMAM AGUNG WAHYU PRATAMA"},3,3,3,3,3,3,3,3,3,3,3,3,3,3,3,3,null,null,null,null,null,3,"B","Tuntas"]
[17,{"$f":"'Data '!D43","v":"JOHAN MAULANA"},3,3,3,3,3,3,3,3,3,3,3,3,3,3,3,3,null,null,null,null,null,3,"B","Tuntas"]
[18,{"$f":"'Data '!D44","v":"JOKO SETIAWAN"},3,3,3,3,3,3,3,3,3,3,3,3,3,3,3,3,null,null,null,null,null,3,"B","Tuntas"]
[19,{"$f":"'Data '!D45","v":"LISA OKTAVINASARI"},3,3,3,3,3,3,3,3,3,3,3,3,3,3,3,3,null,null,null,null,null,3,"B","Tuntas"]
[20,{"$f":"'Data '!D46","v":"MARIA GILDA SIREGAR"},3,3,3,3,3,3,3,3,3,3,3,3,3,3,3,3,null,null,null,null,null,3,"B","Tuntas"]
[21,{"$f":"'Data '!D47","v":"MOHAMMAD NURKHOLISH"},3,3,3,3,3,3,3,3,3,3,3,3,3,3,3,3,null,null,null,null,null,3,"B","Tuntas"]
[22,{"$f":"'Data '!D48","v":"MUHAMAD FARIS ULIN NUHA"},3,3,3,3,3,3,3,3,3,3,3,3,3,3,3,3,null,null,null,null,null,3,"B","Tuntas"]
[23,{"$f":"'Data '!D49","v":"MUHAMMAD MUSTOFA"},3,3,3,3,3,3,3,3,3,3,3,3,3,3,3,3,null,null,null,null,null,3,"B","Tuntas"]
[24,{"$f":"'Data '!D50","v":"NANDA WINTYA PUTRI"},3,3,3,3,3,3,3,3,3,3,3,3,3,3,3,3,null,null,null,null,null,3,"B","Tuntas"]
[25,{"$f":"'Data '!D51","v":"NI'MA NOVA NUR FADHILAH"},3,3,3,3,3,3,3,3,3,3,3,3,3,3,3,3,null,null,null,null,null,3,"B","Tuntas"]
[26,{"$f":"'Data '!D52","v":"NITA ZUMROTUT TAQIYAH"},3,3,3,3,3,3,3,3,3,3,3,3,3,3,3,3,null,null,null,null,null,3,"B","Tuntas"]
[27,{"$f":"'Data '!D53","v":"RACHMAT SAPUTRA ANDRIANSYAH"},3,3,3,3,3,3,3,3,3,3,3,3,3,3,3,3,null,null,null,null,null,3,"B","Tuntas"]
[28,{"$f":"'Data '!D54","v":"RIZAL ANDRIYAN SAPUTRA"},3,3,3,3,3,3,3,3,3,3,3,3,3,3,3,3,null,null,null,null,null,3,"B","Tuntas"]
[29,{"$f":"'Data '!D55","v":"SAIFUL ANNAS"},3,3,3,3,3,3,3,3,3,3,3,3,3,3,3,3,null,null,null,null,null,3,"B","Tuntas"]
[30,{"$f":"'Data '!D56","v":"SELINA SEPTIANI"},3,3,3,3,3,3,3,3,3,3,3,3,3,3,3,3,null,null,null,null,null,3,"B","Tuntas"]
[31,{"$f":"'Data '!D57","v":"SHALSABILA  SHINTA NIRMALA"},3,3,3,3,3,3,3,3,3,3,3,3,3,3,3,3,null,null,null,null,null,3,"B","Tuntas"]
[32,{"$f":"'Data '!D58","v":"SITI CHOIRIATUS SA'ADAH"},3,3,3,3,3,3,3,3,3,3,3,3,3,3,3,3,null,null,null,null,null,3,"B","Tuntas"]
[33,{"$f":"'Data '!D59","v":"SITI NURFAN AZIZAH"},3,3,3,3,3,3,3,3,3,3,3,3,3,3,3,3,null,null,null,null,null,3,"B","Tuntas"]
[34,{"$f":"'Data '!D60","v":"SITI RAHAYU"},3,3,3,3,3,3,3,3,3,3,3,3,3,3,3,3,null,null,null,null,null,3,"B","Tuntas"]
[35,{"$f":"'Data '!D61","v":"STEVIANA PUSPITA SARI"},3,3,3,3,3,3,3,3,3,3,3,3,3,3,3,3,null,null,null,null,null,3,"B","Tuntas"]
[36,{"$f":"'Data '!D62","v":"TAN LINGGAR PRAMUDITA"},3,3,3,3,3,3,3,3,3,3,3,3,3,3,3,3,null,null,null,null,null,3,"B","Tuntas"]
[37,{"$f":"'Data '!D63","v":"TAUFIK NUR AZIZ DANUARTA"},3,3,3,3,3,3,3,3,3,3,3,3,3,3,3,3,null,null,null,null,null,3,"B","Tuntas"]
[38,{"$f":"'Data '!D64","v":"TIARA PUTRI AYUNINGTIAS"},3,3,3,3,3,3,3,3,3,3,3,3,3,3,3,3,null,null,null,null,null,3,"B","Tuntas"]
[39,{"$f":"'Data '!D65","v":"TITANIA GAYATRI PRIANJANI"},3,3,3,3,3,3,3,3,3,3,3,3,3,3,3,3,null,null,null,null,null,3,"B","Tuntas"]
[40,{"$f":"'Data '!D66","v":"ULFATUN NI'MAH"},3,3,3,3,3,3,3,3,3,3,3,3,3,3,3,3,null,null,null,null,null,3,"B","Tuntas"]
[41,{"$f":"'Data '!D67","v":0},null,null,null,null,null,null,null,null,null,null,null,null,null,null,null,null,null,null,null,null,null,"","SB",{"$f":"IF(X54>=$X$8,\"Tuntas\",\"Tidak Tuntas\")","v":"Tuntas"}]
[42,{"$f":"'Data '!D68","v":0},null,null,null,null,null,null,null,null,null,null,null,null,null,null,null,null,null,null,null,null,null,"","SB","Tuntas"]
[43,{"$f":"'Data '!D69","v":0},null,null,null,null,null,null,null,null,null,null,null,null,null,null,null,null,null,null,null,null,null,"","SB","Tuntas"]
[44,{"$f":"'Data '!D70","v":0},null,null,null,null,null,null,null,null,null,null,null,null,null,null,null,null,null,null,null,null,null,"","SB","Tuntas"]
[45,{"$f":"'Data '!D71","v":0},null,null,null,null,null,null,null,null,null,null,null,null,null,null,null,null,null,null,null,null,null,"","SB","Tuntas"]
[46,{"$f":"'Data '!D72","v":0},null,null,null,null,null,null,null,null,null,null,null,null,null,null,null,null,null,null,null,null,null,"","SB",{"$f":"IF(X59>=$X$8,\"Tuntas\",\"Tidak Tuntas\")","v":"Tuntas"}]
[47,{"$f":"'Data '!D73","v":0},null,null,null,null,null,null,null,null,null,null,null,null,null,null,null,null,null,null,null,null,null,"","SB","Tuntas"]
[48,{"$f":"'Data '!D74","v":0},null,null,null,null,null,null,null,null,null,null,null,null,null,null,null,null,null,null,null,null,null,"","SB","Tuntas"]
[49,{"$f":"'Data '!D75","v":0},null,null,null,null,null,null,null,null,null,null,null,null,null,null,null,null,null,null,null,null,null,"","SB","Tuntas"]
[50,{"$f":"'Data '!D76","v":0},null,null,null,null,null,null,null,null,null,null,null,null,null,null,null,null,null,null,null,null,null,"","SB","Tuntas"]
[null,"Nilai Rata-rata",{"$f":"IFERROR(AVERAGE(C14:C63),\"  \")","v":3},{"$f":"IFERROR(AVERAGE(D14:D63),\"  \")","v":3},3,3,3,3,3,3,3,3,3,3,3,3,3,3,"","","","","",3]
[null,null,null,null,"Keterangan:"]
[null,null,null,null,"1 =","Tidak Pernah ",null,null,null,null,null,null,null,null,null,null,null,null,null,null,null,null,null,{"$f":"'Data '!D21","v":"Blora, 20 Desember 2014"}]
[null,"Mengetahui:",null,null,"2 =","Kadang-kadang",null,null,null,null,null,null,null,null,null,null,null,null,null,null,null,null,null,"Guru Mata Pelajaran"]
[null,{"$f":"\"Ka. \"&'Data '!D7","v":"Ka. SMP Negeri 6 Blora"},null,null,"3 =","Sering"]
[null,null,null,null,"4 =","Selalu"]
[]
[null,null,null,null,null,null,null,null,null,null,null,null,null,null,null,null,null,null,null,null,null,null,null,{"$f":"Home!E12","v":"Drs. Sarid Nugroho"}]
[null,{"$f":"'Data '!D15","v":"Suparno, S.Pd.,M.Hum"},null,null,null,null,null,null,null,null,null,null,null,null,null,null,null,null,null,null,null,null,null,{"$f":"Home!E14","v":"NIP. 19631223 198803 1 004"}]
[null,{"$f":"'Data '!D16","v":"NIP. 19620712 198403 1 012"}]
[]
[]
[null,null,"Keterangan Pertanyaan:"]
[null,null,1,"Saya senang belajar materi himpunan"]
[null,null,2,"Ketika belajar materi himpunan, saya selalu bertanya kepada guru"]
[null,null,3,"Ketika belajar materi himpunan, saya mengerjakan latihan ke papan tulis"]
[null,null,4,"Saya sudah mampu menyajikan himpunan dalam bentuk tabulasi (mendaftar anggotanya)"]
[null,null,5,"Saya sudah mampu menyajikan himpunan dalam bentuk deskripsi (kata-kata)"]
[null,null,6,"Saya sudah mampu menyajikan himpunan dalam bentuk notasi pembentuk himpunan"]
[null,null,7,"Saya sudah mampu menuliskan himpunan semesta dari sebuah himpunan"]
[null,null,8,"Saya sudah mampu menggambarkan diagram Venn dari himpunan"]
[null,null,9,"Saya sudah mampu menentukan kardinalitas suatu himpunan"]
[null,null,10,"Saya sudah mampu menentukan suatu himpunan apakah himpunan tersebut kosong atau tidak"]
[null,null,11,"Saya sudah mampu menentukan himpunan bagian dari suatu himpunan"]
[null,null,12,"Saya sudah mampu menentukan himpunan kuasa dari suatu himpunan"]
[null,null,13,"Saya sudah mampu menentukan dua himpunan yang sama"]
[null,null,14,"Saya sudah mampu menentukan irisan dua himpunan"]
[null,null,15,"Saya sudah mampu menentukan gabungan dua himpunan"]
[null,null,16,"Saya sudah mampu menentukan komplemen dari suatu himpunan"]
[null,null,17,"Saya sudah mampu menentukan hasil selisih dari dua himpunan atau lebih"]
[null,null,18,"Saya sudah mampu mnyelesaikan soal cerita berkaitan dengan konsep himpunan"]
[null,null,19]
[null,null,20]

{"sheet":"N Diri-2","index":20,"n_rows":96,"n_cols":30,"rows_kept":96,"cut":false,"hidden":false,"merged":[[85,3,85,24],[79,3,79,24],[80,3,80,24],[96,3,96,24],[86,3,86,24],[87,3,87,24],[88,3,88,24],[89,3,89,24],[91,3,91,24],[92,3,92,24],[94,3,94,24],[95,3,95,24],[82,3,82,24],[83,3,83,24],[84,3,84,24],[81,3,81,24],[71,23,71,25],[76,3,76,24],[77,3,77,24],[78,3,78,24],[11,20,12,20],[11,21,12,21],[11,22,12,22],[11,23,12,23],[65,5,65,9],[66,5,66,9],[67,5,67,9],[68,5,68,9],[11,13,12,13],[11,14,12,14],[11,15,12,15],[11,12,12,12],[11,0,12,0],[11,2,12,2],[11,3,12,3],[11,4,12,4],[11,5,12,5],[11,24,12,24],[12,27,12,29],[11,11,12,11],[9,2,9,10],[9,16,9,23],[11,19,12,19],[11,6,12,6],[11,16,12,16],[11,25,12,25],[11,17,12,17],[11,18,12,18],[11,7,12,7],[11,8,12,8],[11,9,12,9],[11,10,12,10],[8,2,8,6],[8,8,8,10],[8,11,8,12],[8,16,8,22],[0,2,0,25],[1,2,1,25],[2,2,2,25],[3,2,5,25],[7,2,7,6],[7,8,7,10],[7,11,7,12],[7,16,7,22],[8,23,8,25]]}
[null,null,{"$f":"UPPER('Data '!D10)","v":"PEMERINTAH KABUPATEN BLORA"}]
[null,null,{"$f":"UPPER('Data '!D6)","v":"DINAS PENDIDIKAN PEMUDA DAN OLAHRAGA"}]
[null,null,{"$f":"UPPER('Data '!D7)","v":"SMP NEGERI 6 BLORA"}]
[null,null,"REKAP NILAI PENILAIAN DIRI - 2"]
[]
[]
[]
[null,"Mata Pelajaran :",{"$f":"Home!E16","v":"PJOK"},null,null,null,null,null,"Semester  :",null,null,{"$f":"'Data '!D14","v":"Ganjil"},null,null,null,null,"KKM   :",null,null,null,null,null,null,{"$f":"Home!E26","v":3}]
[null,"Kelas :",{"$f":"Home!E18","v":"VII-A"},null,null,null,null,null,"Tahun Pelajaran :",null,null,{"$f":"'Data '!D13","v":"2014/2015"},null,null,null,null,"Wali Kelas    :",null,null,null,null,null,null,{"$f":"'Data '!D17","v":"Mundari, S.Pd."}]
[null,"Kompetensi Penilaian Diri =","Himpunan"]
[]
["No. ","Pertanyaan Pencapaian Kompetensi:","Pertanyaan 1","Pertanyaan 2","Pertanyaan 3","Pertanyaan 4","Pertanyaan 5","Pertanyaan 6","Pertanyaan 7","Pertanyaan 8","Pertanyaan 9","Pertanyaan 10","Pertanyaan 11","Pertanyaan 12","Pertanyaan 13","Pertanyaan 14","Pertanyaan 15","Pertanyaan 16","Pertanyaan 17",null,null,null,null,"Nilai Modus","Nilai","Keterangan"]
[null,"Nama",null,null,null,null,null,null,null,null,null,null,null,null,null,null,null,null,null,null,null,null,null,null,null,null,null,"SIKAP"]
[1,{"$f":"'Data '!D27","v":"AHMAD ALEK BRIYANSAPUTRA"},3,3,3,3,3,3,3,3,3,3,3,3,3,3,3,3,3,null,null,null,null,{"$f":"IFERROR(MODE(C14:W14),\"  \")","v":3},{"$f":"IF(X14>=$AC$14,\"SB\",IF(X14>=$AC$15,\"B\", IF(X14>=$AC$16,\"C\",\"K\")))","v":"B"},{"$f":"IF(X14>=$X$8,\"Tuntas\",\"Tidak Tuntas\")","v":"Tuntas"},null,">",{"$f":"'Data '!M20","v":4},"SB"]
[2,{"$f":"'Data '!D28","v":"AULIA AYU FATINA"},3,3,3,3,3,3,3,3,3,3,3,3,3,3,3,3,3,null,null,null,null,3,{"$f":"IF(X15>=$AC$14,\"SB\",IF(X15>=$AC$15,\"B\", IF(X15>=$AC$16,\"C\",\"K\")))","v":"B"},{"$f":"IF(X15>=$X$8,\"Tuntas\",\"Tidak Tuntas\")","v":"Tuntas"},null,">",{"$f":"'Data '!M22","v":3},"B"]
[3,{"$f":"'Data '!D29","v":"BAGAS YULANDRA PUTRA"},3,3,3,3,3,3,3,3,3,3,3,3,3,3,3,3,3,null,null,null,null,3,"B","Tuntas",null,">",{"$f":"'Data '!M25","v":2},"C"]
[4,{"$f":"'Data '!D30","v":"CYNTIA AGUSTINA"},3,3,3,3,3,3,3,3,3,3,3,3,3,3,3,3,3,null,null,null,null,3,"B","Tuntas",null,">",{"$f":"'Data '!M28","v":1},"K"]
[5,{"$f":"'Data '!D31","v":"DAFFA KRISNA PRAMUDYA"},3,3,3,3,3,3,3,3,3,3,3,3,3,3,3,3,3,null,null,null,null,3,"B","Tuntas"]
[6,{"$f":"'Data '!D32","v":"DANINDRA RAFIF IRAWAN"},3,3,3,3,3,3,3,3,3,3,3,3,3,3,3,3,3,null,null,null,null,3,"B","Tuntas"]
[7,{"$f":"'Data '!D33","v":"DENI PRATAMA"},3,3,3,3,3,3,3,3,3,3,3,3,3,3,3,3,3,null,null,null,null,3,"B","Tuntas"]
[8,{"$f":"'Data '!D34","v":"DIKA SUKMA AGUSTIN"},3,3,3,3,3,3,3,3,3,3,3,3,3,3,3,3,3,null,null,null,null,3,"B","Tuntas"]
[9,{"$f":"'Data '!D35","v":"DIVA ADITYA"},3,3,3,3,3,3,3,3,3,3,3,3,3,3,3,3,3,null,null,null,null,3,"B","Tuntas"]
[10,{"$f":"'Data '!D36","v":"EKO PRASTYO"},3,3,3,3,3,3,3,3,3,3,3,3,3,3,3,3,3,null,null,null,null,3,"B","Tuntas"]
[11,{"$f":"'Data '!D37","v":"FAIQUR RIJAL HAMMAM"},3,3,3,3,3,3,3,3,3,3,3,3,3,3,3,3,3,null,null,null,null,3,"B","Tuntas"]
[12,{"$f":"'Data '!D38","v":"FATESAR SARI PRASETYO"},3,3,3,3,3,3,3,3,3,3,3,3,3,3,3,3,3,null,null,null,null,3,"B","Tuntas"]
[13,{"$f":"'Data '!D39","v":"FEBRI SULISTIYO"},3,3,3,3,3,3,3,3,3,3,3,3,3,3,3,3,3,null,null,null,null,3,"B","Tuntas"]
[14,{"$f":"'Data '!D40","v":"FIONA NANDA FETRIAN"},3,3,3,3,3,3,3,3,3,3,3,3,3,3,3,3,3,null,null,null,null,3,"B","Tuntas"]
[15,{"$f":"'Data '!D41","v":"GILANG SYAHRUL RAMADHAN"},3,3,3,3,3,3,3,3,3,3,3,3,3,3,3,3,3,null,null,null,null,3,"B","Tuntas"]
[16,{"$f":"'Data '!D42","v":"IMAM AGUNG WAHYU PRATAMA"},3,3,3,3,3,3,3,3,3,3,3,3,3,3,3,3,3,null,null,null,null,3,"B","Tuntas"]
[17,{"$f":"'Data '!D43","v":"JOHAN MAULANA"},3,3,3,3,3,3,3,3,3,3,3,3,3,3,3,3,3,null,null,null,null,3,"B","Tuntas"]
[18,{"$f":"'Data '!D44","v":"JOKO SETIAWAN"},3,3,3,3,3,3,3,3,3,3,3,3,3,3,3,3,3,null,null,null,null,3,"B","Tuntas"]
[19,{"$f":"'Data '!D45","v":"LISA OKTAVINASARI"},3,3,3,3,3,3,3,3,3,3,3,3,3,3,3,3,3,null,null,null,null,3,"B","Tuntas"]
[20,{"$f":"'Data '!D46","v":"MARIA GILDA SIREGAR"},3,3,3,3,3,3,3,3,3,3,3,3,3,3,3,3,3,null,null,null,null,3,"B","Tuntas"]
[21,{"$f":"'Data '!D47","v":"MOHAMMAD NURKHOLISH"},3,3,3,3,3,3,3,3,3,3,3,3,3,3,3,3,3,null,null,null,null,3,"B","Tuntas"]
[22,{"$f":"'Data '!D48","v":"MUHAMAD FARIS ULIN NUHA"},3,3,3,3,3,3,3,3,3,3,3,3,3,3,3,3,3,null,null,null,null,3,"B","Tuntas"]
[23,{"$f":"'Data '!D49","v":"MUHAMMAD MUSTOFA"},3,3,3,3,3,3,3,3,3,3,3,3,3,3,3,3,3,null,null,null,null,3,"B","Tuntas"]
[24,{"$f":"'Data '!D50","v":"NANDA WINTYA PUTRI"},3,3,3,3,3,3,3,3,3,3,3,3,3,3,3,3,3,null,null,null,null,3,"B","Tuntas"]
[25,{"$f":"'Data '!D51","v":"NI'MA NOVA NUR FADHILAH"},3,3,3,3,3,3,3,3,3,3,3,3,3,3,3,3,3,null,null,null,null,3,"B","Tuntas"]
[26,{"$f":"'Data '!D52","v":"NITA ZUMROTUT TAQIYAH"},3,3,3,3,3,3,3,3,3,3,3,3,3,3,3,3,3,null,null,null,null,3,"B","Tuntas"]
[27,{"$f":"'Data '!D53","v":"RACHMAT SAPUTRA ANDRIANSYAH"},3,3,3,3,3,3,3,3,3,3,3,3,3,3,3,3,3,null,null,null,null,3,"B","Tuntas"]
[28,{"$f":"'Data '!D54","v":"RIZAL ANDRIYAN SAPUTRA"},3,3,3,3,3,3,3,3,3,3,3,3,3,3,3,3,3,null,null,null,null,3,"B","Tuntas"]
[29,{"$f":"'Data '!D55","v":"SAIFUL ANNAS"},3,3,3,3,3,3,3,3,3,3,3,3,3,3,3,3,3,null,null,null,null,3,"B","Tuntas"]
[30,{"$f":"'Data '!D56","v":"SELINA SEPTIANI"},3,3,3,3,3,3,3,3,3,3,3,3,3,3,3,3,3,null,null,null,null,3,"B","Tuntas"]
[31,{"$f":"'Data '!D57","v":"SHALSABILA  SHINTA NIRMALA"},3,3,3,3,3,3,3,3,3,3,3,3,3,3,3,3,3,null,null,null,null,3,"B","Tuntas"]
[32,{"$f":"'Data '!D58","v":"SITI CHOIRIATUS SA'ADAH"},3,3,3,3,3,3,3,3,3,3,3,3,3,3,3,3,3,null,null,null,null,3,"B","Tuntas"]
[33,{"$f":"'Data '!D59","v":"SITI NURFAN AZIZAH"},3,3,3,3,3,3,3,3,3,3,3,3,3,3,3,3,3,null,null,null,null,3,"B","Tuntas"]
[34,{"$f":"'Data '!D60","v":"SITI RAHAYU"},3,3,3,3,3,3,3,3,3,3,3,3,3,3,3,3,3,null,null,null,null,3,"B","Tuntas"]
[35,{"$f":"'Data '!D61","v":"STEVIANA PUSPITA SARI"},3,3,3,3,3,3,3,3,3,3,3,3,3,3,3,3,3,null,null,null,null,3,"B","Tuntas"]
[36,{"$f":"'Data '!D62","v":"TAN LINGGAR PRAMUDITA"},3,3,3,3,3,3,3,3,3,3,3,3,3,3,3,3,3,null,null,null,null,3,"B","Tuntas"]
[37,{"$f":"'Data '!D63","v":"TAUFIK NUR AZIZ DANUARTA"},3,3,3,3,3,3,3,3,3,3,3,3,3,3,3,3,3,null,null,null,null,3,"B","Tuntas"]
[38,{"$f":"'Data '!D64","v":"TIARA PUTRI AYUNINGTIAS"},3,3,3,3,3,3,3,3,3,3,3,3,3,3,3,3,3,null,null,null,null,3,"B","Tuntas"]
[39,{"$f":"'Data '!D65","v":"TITANIA GAYATRI PRIANJANI"},3,3,3,3,3,3,3,3,3,3,3,3,3,3,3,3,3,null,null,null,null,3,"B","Tuntas"]
[40,{"$f":"'Data '!D66","v":"ULFATUN NI'MAH"},3,3,3,3,3,3,3,3,3,3,3,3,3,3,3,3,3,null,null,null,null,3,"B","Tuntas"]
[41,{"$f":"'Data '!D67","v":0},null,null,null,null,null,null,null,null,null,null,null,null,null,null,null,null,null,null,null,null,null,"","SB","Tuntas"]
[42,{"$f":"'Data '!D68","v":0},null,null,null,null,null,null,null,null,null,null,null,null,null,null,null,null,null,null,null,null,null,"","SB","Tuntas"]
[43,{"$f":"'Data '!D69","v":0},null,null,null,null,null,null,null,null,null,null,null,null,null,null,null,null,null,null,null,null,null,"","SB","Tuntas"]
[44,{"$f":"'Data '!D70","v":0},null,null,null,null,null,null,null,null,null,null,null,null,null,null,null,null,null,null,null,null,null,"","SB","Tuntas"]
[45,{"$f":"'Data '!D71","v":0},null,null,null,null,null,null,null,null,null,null,null,null,null,null,null,null,null,null,null,null,null,"","SB","Tuntas"]
[46,{"$f":"'Data '!D72","v":0},null,null,null,null,null,null,null,null,null,null,null,null,null,null,null,null,null,null,null,null,null,"","SB",{"$f":"IF(X59>=$X$8,\"Tuntas\",\"Tidak Tuntas\")","v":"Tuntas"}]
[47,{"$f":"'Data '!D73","v":0},null,null,null,null,null,null,null,null,null,null,null,null,null,null,null,null,null,null,null,null,null,"","SB","Tuntas"]
[48,{"$f":"'Data '!D74","v":0},null,null,null,null,null,null,null,null,null,null,null,null,null,null,null,null,null,null,null,null,null,"","SB","Tuntas"]
[49,{"$f":"'Data '!D75","v":0},null,null,null,null,null,null,null,null,null,null,null,null,null,null,null,null,null,null,null,null,null,"","SB","Tuntas"]
[50,{"$f":"'Data '!D76","v":0},null,null,null,null,null,null,null,null,null,null,null,null,null,null,null,null,null,null,null,null,null,"","SB","Tuntas"]
[null,"Nilai Rata-rata",{"$f":"IFERROR(AVERAGE(C14:C63),\"  \")","v":3},{"$f":"IFERROR(AVERAGE(D14:D63),\"  \")","v":3},3,3,3,3,3,3,3,3,3,3,3,3,3,3,3,"","","","",3]
[null,null,null,null,"Keterangan:"]
[null,null,null,null,"1 =","Tidak Pernah ",null,null,null,null,null,null,null,null,null,null,null,null,null,null,null,null,null,{"$f":"'Data '!D21","v":"Blora, 20 Desember 2014"}]
[null,"Mengetahui:",null,null,"2 =","Kadang-kadang",null,null,null,null,null,null,null,null,null,null,null,null,null,null,null,null,null,"Guru Mata Pelajaran"]
[null,{"$f":"\"Ka. \"&'Data '!D7","v":"Ka. SMP Negeri 6 Blora"},null,null,"3 =","Sering"]
[null,null,null,null,"4 =","Selalu"]
[]
[null,null,null,null,null,null,null,null,null,null,null,null,null,null,null,null,null,null,null,null,null,null,null,{"$f":"Home!E12","v":"Drs. Sarid Nugroho"}]
[null,{"$f":"'Data '!D15","v":"Suparno, S.Pd.,M.Hum"},null,null,null,null,null,null,null,null,null,null,null,null,null,null,null,null,null,null,null,null,null,{"$f":"Home!E14","v":"NIP. 19631223 198803 1 004"}]
[null,{"$f":"'Data '!D16","v":"NIP. 19620712 198403 1 012"}]
[]
[]
[null,null,"Keterangan Pertanyaan:"]
[null,null,1,"Saya senang belajar materi himpunan"]
[null,null,2,"Ketika belajar materi himpunan, saya selalu bertanya kepada guru"]
[null,null,3,"Ketika belajar materi himpunan, saya mengerjakan latihan ke papan tulis"]
[null,null,4,"Saya sudah mampu menyajikan himpunan dalam bentuk tabulasi (mendaftar anggotanya)"]
[null,null,5,"Saya sudah mampu menyajikan himpunan dalam bentuk deskripsi (kata-kata)"]
[null,null,6,"Saya sudah mampu menyajikan himpunan dalam bentuk notasi pembentuk himpunan"]
[null,null,7,"Saya sudah mampu menuliskan himpunan semesta dari sebuah himpunan"]
[null,null,8,"Saya sudah mampu menggambarkan diagram Venn dari himpunan"]
[null,null,9,"Saya sudah mampu menentukan kardinalitas suatu himpunan"]
[null,null,10,"Saya sudah mampu menentukan suatu himpunan apakah himpunan tersebut kosong atau tidak"]
[null,null,11,"Saya sudah mampu menentukan himpunan bagian dari suatu himpunan"]
[null,null,12,"Saya sudah mampu menentukan himpunan kuasa dari suatu himpunan"]
[null,null,13,"Saya sudah mampu menentukan dua himpunan yang sama"]
[null,null,14,"Saya sudah mampu menentukan irisan dua himpunan"]
[null,null,15,"Saya sudah mampu menentukan gabungan dua himpunan"]
[null,null,16,"Saya sudah mampu menentukan komplemen dari suatu himpunan"]
[null,null,17,"Saya sudah mampu menentukan hasil selisih dari dua himpunan atau lebih"]
[null,null,18,"Saya sudah mampu mnyelesaikan soal cerita berkaitan dengan konsep himpunan"]
[null,null,19]
[null,null,20]

{"sheet":"Jurnal","index":21,"n_rows":72,"n_cols":14,"rows_kept":72,"cut":false,"hidden":false,"merged":[[0,1,0,10],[1,1,1,10],[2,1,2,10],[3,1,4,10],[11,3,12,3],[11,5,12,5],[11,7,12,7],[7,9,7,10],[11,9,12,9],[12,11,12,13],[64,2,64,6],[11,10,12,10],[11,8,12,8],[11,0,12,0]]}
[null,{"$f":"UPPER('Data '!D10)","v":"PEMERINTAH KABUPATEN BLORA"}]
[null,{"$f":"UPPER('Data '!D6)","v":"DINAS PENDIDIKAN PEMUDA DAN OLAHRAGA"}]
[null,{"$f":"UPPER('Data '!D7)","v":"SMP NEGERI 6 BLORA"}]
[null,"INSTRUMEN PENILAIAN JURNAL"]
[]
[]
[null,"Mata Pelajaran :",{"$f":"Home!E16","v":"PJOK"},null,null,null,null,null,"KKM  :",{"$f":"Home!E26","v":3}]
[null,"Kelas :",{"$f":"Home!E18","v":"VII-A"},null,"Semester  :",null,{"$f":"'Data '!D14","v":"Ganjil"},null,"Wali Kelas:",{"$f":"'Data '!D17","v":"Mundari, S.Pd."}]
[null,"Aspek :","Sikap/Jurnal",null,"Tahun Pelajaran :",null,{"$f":"'Data '!D13","v":"2014/2015"}]
[]
[]
["No. ","Catatan Peristiwa:","Tanggal","Nilai","Tanggal","Nilai","Tanggal","Nilai","Modus","Konversi","Keterangan"]
[null,"Nama","Catatan Jurnal",null,"Catatan Jurnal",null,"Catatan Jurnal",null,null,null,null,"SIKAP"]
[1,{"$f":"'Data '!D27","v":"AHMAD ALEK BRIYANSAPUTRA"},"Rajin mengumpulkan PR, pakaian selalu rapi",3,null,3,null,3,{"$f":"IFERROR(MODE(D14:H14),\" \")","v":3},{"$f":"IF(I14=\" \",\" \",IF(I14>=$M$14,\"SB\",IF(I14>=$M$15,\"B\",IF(I14>=$M$16,\"C\",\"K\"))))","v":"B"},{"$f":"IF(I14=\" \",\" \",IF(I14>=$J$7,\"Tuntas\",\"Tidak Tuntas\"))","v":"Tuntas"},">",{"$f":"'Data '!M20","v":4},"SB"]
[2,{"$f":"'Data '!D28","v":"AULIA AYU FATINA"},"Rajin mengumpulkan PR, pakaian selalu rapi",3,null,3,null,3,{"$f":"IFERROR(MODE(D15:H15),\" \")","v":3},{"$f":"IF(I15=\" \",\" \",IF(I15>=$M$14,\"SB\",IF(I15>=$M$15,\"B\",IF(I15>=$M$16,\"C\",\"K\"))))","v":"B"},{"$f":"IF(I15=\" \",\" \",IF(I15>=$J$7,\"Tuntas\",\"Tidak Tuntas\"))","v":"Tuntas"},">",{"$f":"'Data '!M22","v":3},"B"]
[3,{"$f":"'Data '!D29","v":"BAGAS YULANDRA PUTRA"},null,3,null,3,null,3,3,"B","Tuntas",">",{"$f":"'Data '!M25","v":2},"C"]
[4,{"$f":"'Data '!D30","v":"CYNTIA AGUSTINA"},null,3,null,3,null,3,3,"B","Tuntas",">",{"$f":"'Data '!M28","v":1},"K"]
[5,{"$f":"'Data '!D31","v":"DAFFA KRISNA PRAMUDYA"},null,3,null,3,null,3,3,"B","Tuntas"]
[6,{"$f":"'Data '!D32","v":"DANINDRA RAFIF IRAWAN"},null,3,null,3,null,3,3,"B","Tuntas"]
[7,{"$f":"'Data '!D33","v":"DENI PRATAMA"},null,3,null,3,null,3,3,"B","Tuntas"]
[8,{"$f":"'Data '!D34","v":"DIKA SUKMA AGUSTIN"},null,3,null,3,null,3,3,"B","Tuntas"]
[9,{"$f":"'Data '!D35","v":"DIVA ADITYA"},null,3,null,3,null,3,3,"B","Tuntas"]
[10,{"$f":"'Data '!D36","v":"EKO PRASTYO"},null,3,null,3,null,3,3,"B","Tuntas"]
[11,{"$f":"'Data '!D37","v":"FAIQUR RIJAL HAMMAM"},null,3,null,3,null,3,3,"B","Tuntas"]
[12,{"$f":"'Data '!D38","v":"FATESAR SARI PRASETYO"},null,3,null,3,null,3,3,"B","Tuntas"]
[13,{"$f":"'Data '!D39","v":"FEBRI SULISTIYO"},null,3,null,3,null,3,3,"B","Tuntas"]
[14,{"$f":"'Data '!D40","v":"FIONA NANDA FETRIAN"},null,3,null,3,null,3,3,"B","Tuntas"]
[15,{"$f":"'Data '!D41","v":"GILANG SYAHRUL RAMADHAN"},null,3,null,3,null,3,3,"B","Tuntas"]
[16,{"$f":"'Data '!D42","v":"IMAM AGUNG WAHYU PRATAMA"},null,3,null,3,null,3,3,"B","Tuntas"]
[17,{"$f":"'Data '!D43","v":"JOHAN MAULANA"},null,3,null,3,null,3,3,"B","Tuntas"]
[18,{"$f":"'Data '!D44","v":"JOKO SETIAWAN"},null,3,null,3,null,3,3,"B","Tuntas"]
[19,{"$f":"'Data '!D45","v":"LISA OKTAVINASARI"},null,3,null,3,null,3,3,"B","Tuntas"]
[20,{"$f":"'Data '!D46","v":"MARIA GILDA SIREGAR"},null,3,null,3,null,3,3,"B","Tuntas"]
[21,{"$f":"'Data '!D47","v":"MOHAMMAD NURKHOLISH"},null,3,null,3,null,3,3,"B","Tuntas"]
[22,{"$f":"'Data '!D48","v":"MUHAMAD FARIS ULIN NUHA"},null,3,null,3,null,3,3,"B","Tuntas"]
[23,{"$f":"'Data '!D49","v":"MUHAMMAD MUSTOFA"},null,3,null,3,null,3,3,"B","Tuntas"]
[24,{"$f":"'Data '!D50","v":"NANDA WINTYA PUTRI"},null,3,null,3,null,3,3,"B","Tuntas"]
[25,{"$f":"'Data '!D51","v":"NI'MA NOVA NUR FADHILAH"},null,3,null,3,null,3,3,"B","Tuntas"]
[26,{"$f":"'Data '!D52","v":"NITA ZUMROTUT TAQIYAH"},null,3,null,3,null,3,3,"B","Tuntas"]
[27,{"$f":"'Data '!D53","v":"RACHMAT SAPUTRA ANDRIANSYAH"},null,3,null,3,null,3,3,"B","Tuntas"]
[28,{"$f":"'Data '!D54","v":"RIZAL ANDRIYAN SAPUTRA"},null,3,null,3,null,3,3,"B","Tuntas"]
[29,{"$f":"'Data '!D55","v":"SAIFUL ANNAS"},null,3,null,3,null,3,3,"B","Tuntas"]
[30,{"$f":"'Data '!D56","v":"SELINA SEPTIANI"},null,3,null,3,null,3,3,"B","Tuntas"]
[31,{"$f":"'Data '!D57","v":"SHALSABILA  SHINTA NIRMALA"},null,3,null,3,null,3,3,"B","Tuntas"]
[32,{"$f":"'Data '!D58","v":"SITI CHOIRIATUS SA'ADAH"},null,3,null,3,null,3,3,"B","Tuntas"]
[33,{"$f":"'Data '!D59","v":"SITI NURFAN AZIZAH"},null,3,null,3,null,3,3,"B","Tuntas"]
[34,{"$f":"'Data '!D60","v":"SITI RAHAYU"},null,3,null,3,null,3,3,"B","Tuntas"]
[35,{"$f":"'Data '!D61","v":"STEVIANA PUSPITA SARI"},null,3,null,3,null,3,3,"B","Tuntas"]
[36,{"$f":"'Data '!D62","v":"TAN LINGGAR PRAMUDITA"},null,3,null,3,null,3,3,"B","Tuntas"]
[37,{"$f":"'Data '!D63","v":"TAUFIK NUR AZIZ DANUARTA"},null,3,null,3,null,3,3,"B","Tuntas"]
[38,{"$f":"'Data '!D64","v":"TIARA PUTRI AYUNINGTIAS"},null,3,null,3,null,3,3,"B","Tuntas"]
[39,{"$f":"'Data '!D65","v":"TITANIA GAYATRI PRIANJANI"},null,3,null,3,null,3,3,"B","Tuntas"]
[40,{"$f":"'Data '!D66","v":"ULFATUN NI'MAH"},null,3,null,3,null,3,3,"B","Tuntas"]
[41,{"$f":"'Data '!D67","v":0},null,null,null,null,null,null,"","",""]
[42,{"$f":"'Data '!D68","v":0},null,null,null,null,null,null,"","",""]
[43,{"$f":"'Data '!D69","v":0},null,null,null,null,null,null,"","",""]
[44,{"$f":"'Data '!D70","v":0},null,null,null,null,null,null,"","",""]
[45,{"$f":"'Data '!D71","v":0},null,null,null,null,null,null,"","",""]
[46,{"$f":"'Data '!D72","v":0},null,null,null,null,null,null,"","",{"$f":"IF(I59=\" \",\" \",IF(I59>=$J$7,\"Tuntas\",\"Tidak Tuntas\"))","v":""}]
[47,{"$f":"'Data '!D73","v":0},null,null,null,null,null,null,"","",""]
[48,{"$f":"'Data '!D74","v":0},null,null,null,null,null,null,"","",""]
[49,{"$f":"'Data '!D75","v":0},null,null,null,null,null,null,"","",""]
[50,{"$f":"'Data '!D76","v":0},null,null,null,null,null,null,"","",""]
[]
[null,null,"Skala penilaian sikap dibuat dengan rentang antara 1 s.d 4."]
[null,"Mengetahui:","1 =",null,"Tidak Pernah",null,null,null,{"$f":"'Data '!D21","v":"Blora, 20 Desember 2014"}]
[null,{"$f":"\"Ka. \"&'Data '!D7","v":"Ka. SMP Negeri 6 Blora"},"2 =",null,"Kadang-kadang",null,null,null,"Guru Mata Pelajaran"]
[null,null,"3 =",null,"Sering"]
[null,null,"4 =",null,"Selalu"]
[]
[null,{"$f":"'Data '!D15","v":"Suparno, S.Pd.,M.Hum"},null,null,null,null,null,null,{"$f":"Home!E12","v":"Drs. Sarid Nugroho"}]
[null,{"$f":"'Data '!D16","v":"NIP. 19620712 198403 1 012"},null,null,null,null,null,null,{"$f":"Home!E14","v":"NIP. 19631223 198803 1 004"}]

{"sheet":"UK-1","index":22,"n_rows":82,"n_cols":16,"rows_kept":82,"cut":false,"hidden":false,"merged":[[20,13,21,13],[20,7,21,7],[20,8,21,8],[20,9,21,9],[20,10,21,10],[20,11,21,11],[20,12,21,12],[20,0,22,0],[20,2,21,2],[20,3,21,3],[20,4,21,4],[20,5,21,5],[20,6,21,6],[12,2,12,9],[13,2,13,9],[14,2,14,9],[8,2,8,8],[15,2,15,9],[16,2,16,9],[17,2,17,9],[18,2,18,9],[10,2,10,9],[0,1,0,13],[1,1,1,13],[2,1,2,13],[3,1,4,13],[6,2,6,5],[6,6,6,7],[6,8,6,9],[6,10,6,11],[7,12,7,13],[18,11,18,12],[11,12,11,14],[12,12,12,14],[13,12,13,14],[14,12,14,14],[10,11,10,14],[17,11,17,12],[7,2,7,3],[7,5,7,7],[7,8,7,9],[11,2,11,9],[7,10,7,11]]}
[null,{"$f":"UPPER('Data '!D10)","v":"PEMERINTAH KABUPATEN BLORA"}]
[null,{"$f":"UPPER('Data '!D6)","v":"DINAS PENDIDIKAN PEMUDA DAN OLAHRAGA"}]
[null,{"$f":"UPPER('Data '!D7)","v":"SMP NEGERI 6 BLORA"}]
[null,"INSTRUMEN PENILAIAN UNJUK KERJA / PRAKTIK - 1"]
[]
[]
[null,"Mata Pelajaran :",{"$f":"Home!E16","v":"PJOK"},null,null,null,"Semester  :",null,{"$f":"'Data '!D14","v":"Ganjil"},null,"KKM  :",null,{"$f":"Home!E24","v":2.67}]
[null,"Kelas :",{"$f":"Home!E18","v":"VII-A"},null,null,"Tahun Pelajaran :",null,null,{"$f":"'Data '!D13","v":"2014/2015"},null,"Wali Kelas :",null,{"$f":"'Data '!D17","v":"Mundari, S.Pd."}]
[null,"Aspek :","membacakan puisi"]
[]
[null,null,"Kriteria/Aspek yang dinilai",null,null,null,null,null,null,null,null,"Keterangan/Rubrik Penilaian:"]
[null,"1 =",null,null,null,null,null,null,null,null,null,"1 =","tidak baik"]
[null,"2 =",null,null,null,null,null,null,null,null,null,"2 =","kurang baik "]
[null,"3 =","intonasi",null,null,null,null,null,null,null,null,"3 =","baik"]
[null,"4 =","sikap",null,null,null,null,null,null,null,null,"4 =","sangat baik"]
[null,"5 =","ekspresi"]
[null,"6 ="]
[null,"7 ="]
[]
[]
["No. ","Kriteria/Aspek yang dinilai:","Aspek 1","Aspek 2","Aspek 3","Aspek 4","Aspek 5","Aspek 6","Aspek 7","Jumlah","0-100","0-4","Konversi","Keterangan"]
[]
[null,"Skor Maks Kriteria =",4,4,4,4,4,null,null,{"$f":"SUM(C23:I23)","v":20}]
[null,"Nama"]
[1,{"$f":"'Data '!D27","v":"AHMAD ALEK BRIYANSAPUTRA"},4,4,4,3,4,null,null,{"$f":"SUM(C25:I25)","v":19},{"$f":"IFERROR((J25/$J$23)*100,\" \")","v":95},{"$f":"IFERROR((K25/100)*4,\" \")","v":3.8},{"$f":"IF(L25=\" \",\" \",IF(L25>$P$25,\"A\",IF(L25>$P$26,\"A-\",IF(L25>$P$27,\"B+\",IF(L25>$P$28,\"B\",IF(L25>$P$29,\"B-\",IF(L25>$P$30,\"C+\",IF(L25>$P$31,\"C\",IF(L25>$P$32,\"C-\",IF(L25>$P$33,\"D+\",\"D\"))))))))))","v":"A-"},{"$f":"IF(L25=\" \",\" \",IF(L25>=$M$7,\"Tuntas\",\"Tidak Tuntas\"))","v":"Tuntas"},null,{"$f":"'Data '!J20","v":3.84}]
[2,{"$f":"'Data '!D28","v":"AULIA AYU FATINA"},null,null,null,null,null,null,null,0,{"$f":"IFERROR((J26/$J$23)*100,\" \")","v":0},{"$f":"IFERROR((K26/100)*4,\"  \")","v":0},{"$f":"IF(L26=\" \",\" \",IF(L26>$P$25,\"A\",IF(L26>$P$26,\"A-\",IF(L26>$P$27,\"B+\",IF(L26>$P$28,\"B\",IF(L26>$P$29,\"B-\",IF(L26>$P$30,\"C+\",IF(L26>$P$31,\"C\",IF(L26>$P$32,\"C-\",IF(L26>$P$33,\"D+\",\"D\"))))))))))","v":"D"},{"$f":"IF(L26=\" \",\" \",IF(L26>=$M$7,\"Tuntas\",\"Tidak Tuntas\"))","v":"Tidak Tuntas"},null,{"$f":"'Data '!J21","v":3.5}]
[3,{"$f":"'Data '!D29","v":"BAGAS YULANDRA PUTRA"},null,null,null,null,null,null,null,0,0,0,"D","Tidak Tuntas",null,{"$f":"'Data '!J22","v":3.17}]
[4,{"$f":"'Data '!D30","v":"CYNTIA AGUSTINA"},null,null,null,null,null,null,null,0,0,0,"D","Tidak Tuntas",null,{"$f":"'Data '!J23","v":2.84}]
[5,{"$f":"'Data '!D31","v":"DAFFA KRISNA PRAMUDYA"},null,null,null,null,null,null,null,0,0,0,"D","Tidak Tuntas",null,{"$f":"'Data '!J24","v":2.5}]
[6,{"$f":"'Data '!D32","v":"DANINDRA RAFIF IRAWAN"},null,null,null,null,null,null,null,0,0,0,"D","Tidak Tuntas",null,{"$f":"'Data '!J25","v":2.17}]
[7,{"$f":"'Data '!D33","v":"DENI PRATAMA"},null,null,null,null,null,null,null,0,0,0,"D","Tidak Tuntas",null,{"$f":"'Data '!J26","v":1.84}]
[8,{"$f":"'Data '!D34","v":"DIKA SUKMA AGUSTIN"},null,null,null,null,null,null,null,0,0,0,"D","Tidak Tuntas",null,{"$f":"'Data '!J27","v":1.5}]
[9,{"$f":"'Data '!D35","v":"DIVA ADITYA"},null,null,null,null,null,null,null,0,0,0,"D","Tidak Tuntas",null,{"$f":"'Data '!J28","v":1.17}]
[10,{"$f":"'Data '!D36","v":"EKO PRASTYO"},null,null,null,null,null,null,null,0,0,0,"D","Tidak Tuntas",null,{"$f":"'Data '!J29","v":1}]
[11,{"$f":"'Data '!D37","v":"FAIQUR RIJAL HAMMAM"},null,null,null,null,null,null,null,0,0,0,"D","Tidak Tuntas"]
[12,{"$f":"'Data '!D38","v":"FATESAR SARI PRASETYO"},null,null,null,null,null,null,null,0,0,0,"D","Tidak Tuntas"]
[13,{"$f":"'Data '!D39","v":"FEBRI SULISTIYO"},null,null,null,null,null,null,null,0,0,0,"D","Tidak Tuntas"]
[14,{"$f":"'Data '!D40","v":"FIONA NANDA FETRIAN"},null,null,null,null,null,null,null,0,0,0,"D","Tidak Tuntas"]
[15,{"$f":"'Data '!D41","v":"GILANG SYAHRUL RAMADHAN"},null,null,null,null,null,null,null,0,0,0,"D","Tidak Tuntas"]
[16,{"$f":"'Data '!D42","v":"IMAM AGUNG WAHYU PRATAMA"},null,null,null,null,null,null,null,0,0,0,"D","Tidak Tuntas"]
[17,{"$f":"'Data '!D43","v":"JOHAN MAULANA"},null,null,null,null,null,null,null,0,0,0,"D","Tidak Tuntas"]
[18,{"$f":"'Data '!D44","v":"JOKO SETIAWAN"},null,null,null,null,null,null,null,0,0,0,"D","Tidak Tuntas"]
[19,{"$f":"'Data '!D45","v":"LISA OKTAVINASARI"},null,null,null,null,null,null,null,0,0,0,"D","Tidak Tuntas"]
[20,{"$f":"'Data '!D46","v":"MARIA GILDA SIREGAR"},null,null,null,null,null,null,null,0,0,0,"D","Tidak Tuntas"]
[21,{"$f":"'Data '!D47","v":"MOHAMMAD NURKHOLISH"},null,null,null,null,null,null,null,0,0,0,"D","Tidak Tuntas"]
[22,{"$f":"'Data '!D48","v":"MUHAMAD FARIS ULIN NUHA"},null,null,null,null,null,null,null,0,0,0,"D","Tidak Tuntas"]
[23,{"$f":"'Data '!D49","v":"MUHAMMAD MUSTOFA"},null,null,null,null,null,null,null,0,0,0,"D","Tidak Tuntas"]
[24,{"$f":"'Data '!D50","v":"NANDA WINTYA PUTRI"},null,null,null,null,null,null,null,0,0,0,"D","Tidak Tuntas"]
[25,{"$f":"'Data '!D51","v":"NI'MA NOVA NUR FADHILAH"},null,null,null,null,null,null,null,0,0,0,"D","Tidak Tuntas"]
[26,{"$f":"'Data '!D52","v":"NITA ZUMROTUT TAQIYAH"},null,null,null,null,null,null,null,0,0,0,"D","Tidak Tuntas"]
[27,{"$f":"'Data '!D53","v":"RACHMAT SAPUTRA ANDRIANSYAH"},null,null,null,null,null,null,null,0,0,0,"D","Tidak Tuntas"]
[28,{"$f":"'Data '!D54","v":"RIZAL ANDRIYAN SAPUTRA"},null,null,null,null,null,null,null,0,0,0,"D","Tidak Tuntas"]
[29,{"$f":"'Data '!D55","v":"SAIFUL ANNAS"},null,null,null,null,null,null,null,0,0,0,"D","Tidak Tuntas"]
[30,{"$f":"'Data '!D56","v":"SELINA SEPTIANI"},null,null,null,null,null,null,null,0,0,0,"D","Tidak Tuntas"]
[31,{"$f":"'Data '!D57","v":"SHALSABILA  SHINTA NIRMALA"},null,null,null,null,null,null,null,0,0,0,"D","Tidak Tuntas"]
[32,{"$f":"'Data '!D58","v":"SITI CHOIRIATUS SA'ADAH"},null,null,null,null,null,null,null,0,0,0,"D","Tidak Tuntas"]
[33,{"$f":"'Data '!D59","v":"SITI NURFAN AZIZAH"},null,null,null,null,null,null,null,0,0,0,"D","Tidak Tuntas"]
[34,{"$f":"'Data '!D60","v":"SITI RAHAYU"},null,null,null,null,null,null,null,0,0,0,"D","Tidak Tuntas"]
[35,{"$f":"'Data '!D61","v":"STEVIANA PUSPITA SARI"},null,null,null,null,null,null,null,0,0,0,"D","Tidak Tuntas"]
[36,{"$f":"'Data '!D62","v":"TAN LINGGAR PRAMUDITA"},null,null,null,null,null,null,null,0,0,0,"D","Tidak Tuntas"]
[37,{"$f":"'Data '!D63","v":"TAUFIK NUR AZIZ DANUARTA"},null,null,null,null,null,null,null,0,0,0,"D","Tidak Tuntas"]
[38,{"$f":"'Data '!D64","v":"TIARA PUTRI AYUNINGTIAS"},null,null,null,null,null,null,null,0,0,0,"D","Tidak Tuntas"]
[39,{"$f":"'Data '!D65","v":"TITANIA GAYATRI PRIANJANI"},null,null,null,null,null,null,null,0,0,0,"D","Tidak Tuntas"]
[40,{"$f":"'Data '!D66","v":"ULFATUN NI'MAH"},null,null,null,null,null,null,null,0,0,0,"D","Tidak Tuntas"]
[41,{"$f":"'Data '!D67","v":0},null,null,null,null,null,null,null,{"$f":"SUM(C65:I65)","v":0},{"$f":"IFERROR((J65/$J$23)*100,\" \")","v":0},{"$f":"IFERROR((K65/100)*4,\"  \")","v":0},"D",{"$f":"IF(L65=\" \",\" \",IF(L65>=$M$7,\"Tuntas\",\"Tidak Tuntas\"))","v":"Tidak Tuntas"}]
[42,{"$f":"'Data '!D68","v":0},null,null,null,null,null,null,null,0,0,0,"D","Tidak Tuntas"]
[43,{"$f":"'Data '!D69","v":0},null,null,null,null,null,null,null,0,0,0,"D","Tidak Tuntas"]
[44,{"$f":"'Data '!D70","v":0},null,null,null,null,null,null,null,0,0,0,"D","Tidak Tuntas"]
[45,{"$f":"'Data '!D71","v":0},null,null,null,null,null,null,null,0,0,0,"D","Tidak Tuntas"]
[46,{"$f":"'Data '!D72","v":0},null,null,null,null,null,null,null,{"$f":"SUM(C70:I70)","v":0},{"$f":"IFERROR((J70/$J$23)*100,\" \")","v":0},{"$f":"IFERROR((K70/100)*4,\"  \")","v":0},"D",{"$f":"IF(L70=\" \",\" \",IF(L70>=$M$7,\"Tuntas\",\"Tidak Tuntas\"))","v":"Tidak Tuntas"}]
[47,{"$f":"'Data '!D73","v":0},null,null,null,null,null,null,null,0,0,0,"D","Tidak Tuntas"]
[48,{"$f":"'Data '!D74","v":0},null,null,null,null,null,null,null,0,0,0,"D","Tidak Tuntas"]
[49,{"$f":"'Data '!D75","v":0},null,null,null,null,null,null,null,0,0,0,"D","Tidak Tuntas"]
[50,{"$f":"'Data '!D76","v":0},null,null,null,null,null,null,null,0,0,0,"D","Tidak Tuntas"]
[null,"Nilai Rata-rata",{"$f":"IFERROR(AVERAGE(C25:C74),\"  \")","v":4},{"$f":"IFERROR(AVERAGE(D25:D74),\"  \")","v":4},4,3,4,"","",0.38,1.9,7.5999999999999998E-2]
[]
[null,"Mengetahui:",null,null,null,null,null,null,null,null,null,{"$f":"'Data '!D21","v":"Blora, 20 Desember 2014"}]
[null,{"$f":"\"Ka. \"&'Data '!D7","v":"Ka. SMP Negeri 6 Blora"},null,null,null,null,null,null,null,null,null,"Guru Mata Pelajaran"]
[]
[]
[null,{"$f":"'Data '!D15","v":"Suparno, S.Pd.,M.Hum"},null,null,null,null,null,null,null,null,null,{"$f":"Home!E12","v":"Drs. Sarid Nugroho"}]
[null,{"$f":"'Data '!D16","v":"NIP. 19620712 198403 1 012"},null,null,null,null,null,null,null,null,null,{"$f":"Home!E14","v":"NIP. 19631223 198803 1 004"}]

{"sheet":"UK-2","index":23,"n_rows":82,"n_cols":16,"rows_kept":82,"cut":false,"hidden":false,"merged":[[20,13,21,13],[20,7,21,7],[20,8,21,8],[20,9,21,9],[20,10,21,10],[20,11,21,11],[20,12,21,12],[17,2,17,9],[17,11,17,12],[18,2,18,9],[18,11,18,12],[20,0,22,0],[20,2,21,2],[20,3,21,3],[20,4,21,4],[20,5,21,5],[20,6,21,6],[16,2,16,9],[10,2,10,9],[10,11,10,14],[11,2,11,9],[11,12,11,14],[12,2,12,9],[12,12,12,14],[13,2,13,9],[13,12,13,14],[14,2,14,9],[14,12,14,14],[15,2,15,9],[8,2,8,8],[0,1,0,13],[1,1,1,13],[2,1,2,13],[3,1,4,13],[6,2,6,5],[6,6,6,7],[6,8,6,9],[6,10,6,11],[7,2,7,3],[7,5,7,7],[7,8,7,9],[7,10,7,11],[7,12,7,13]]}
[null,{"$f":"UPPER('Data '!D10)","v":"PEMERINTAH KABUPATEN BLORA"}]
[null,{"$f":"UPPER('Data '!D6)","v":"DINAS PENDIDIKAN PEMUDA DAN OLAHRAGA"}]
[null,{"$f":"UPPER('Data '!D7)","v":"SMP NEGERI 6 BLORA"}]
[null,"INSTRUMEN PENILAIAN UNJUK KERJA / PRAKTIK - 2"]
[]
[]
[null,"Mata Pelajaran :",{"$f":"Home!E16","v":"PJOK"},null,null,null,"Semester  :",null,{"$f":"'Data '!D14","v":"Ganjil"},null,"KKM  :",null,{"$f":"Home!E24","v":2.67}]
[null,"Kelas :",{"$f":"Home!E18","v":"VII-A"},null,null,"Tahun Pelajaran :",null,null,{"$f":"'Data '!D13","v":"2014/2015"},null,"Wali Kelas :",null,{"$f":"'Data '!D17","v":"Mundari, S.Pd."}]
[null,"Aspek :","Ketrampilan/Unjuk Kerja (Praktik)   2"]
[]
[null,null,"Kriteria/Aspek yang dinilai",null,null,null,null,null,null,null,null,"Keterangan/Rubrik Penilaian:"]
[null,"1 =",null,null,null,null,null,null,null,null,null,"1 ="]
[null,"2 =",null,null,null,null,null,null,null,null,null,"2 ="]
[null,"3 =",null,null,null,null,null,null,null,null,null,"3 ="]
[null,"4 =",null,null,null,null,null,null,null,null,null,"4 ="]
[null,"5 ="]
[null,"6 ="]
[null,"7 ="]
[]
[]
["No. ","Kriteria/Aspek yang dinilai:","Aspek 1","Aspek 2","Aspek 3","Aspek 4","Aspek 5","Aspek 6","Aspek 7","Jumlah","0-100","0-4","Konversi","Keterangan"]
[]
[null,"Skor Maks Kriteria =",4,4,4,4,null,null,null,{"$f":"SUM(C23:I23)","v":16}]
[null,"Nama"]
[1,{"$f":"'Data '!D27","v":"AHMAD ALEK BRIYANSAPUTRA"},null,null,null,null,null,null,null,{"$f":"SUM(C25:I25)","v":0},{"$f":"IFERROR((J25/$J$23)*100,\" \")","v":0},{"$f":"IFERROR((K25/100)*4,\" \")","v":0},{"$f":"IF(L25=\" \",\" \",IF(L25>$P$25,\"A\",IF(L25>$P$26,\"A-\",IF(L25>$P$27,\"B+\",IF(L25>$P$28,\"B\",IF(L25>$P$29,\"B-\",IF(L25>$P$30,\"C+\",IF(L25>$P$31,\"C\",IF(L25>$P$32,\"C-\",IF(L25>$P$33,\"D+\",\"D\"))))))))))","v":"D"},{"$f":"IF(L25=\" \",\" \",IF(L25>=$M$7,\"Tuntas\",\"Tidak Tuntas\"))","v":"Tidak Tuntas"},null,{"$f":"'Data '!J20","v":3.84}]
[2,{"$f":"'Data '!D28","v":"AULIA AYU FATINA"},null,null,null,null,null,null,null,0,{"$f":"IFERROR((J26/$J$23)*100,\" \")","v":0},{"$f":"IFERROR((K26/100)*4,\"  \")","v":0},{"$f":"IF(L26=\" \",\" \",IF(L26>$P$25,\"A\",IF(L26>$P$26,\"A-\",IF(L26>$P$27,\"B+\",IF(L26>$P$28,\"B\",IF(L26>$P$29,\"B-\",IF(L26>$P$30,\"C+\",IF(L26>$P$31,\"C\",IF(L26>$P$32,\"C-\",IF(L26>$P$33,\"D+\",\"D\"))))))))))","v":"D"},{"$f":"IF(L26=\" \",\" \",IF(L26>=$M$7,\"Tuntas\",\"Tidak Tuntas\"))","v":"Tidak Tuntas"},null,{"$f":"'Data '!J21","v":3.5}]
[3,{"$f":"'Data '!D29","v":"BAGAS YULANDRA PUTRA"},null,null,null,null,null,null,null,0,0,0,"D","Tidak Tuntas",null,{"$f":"'Data '!J22","v":3.17}]
[4,{"$f":"'Data '!D30","v":"CYNTIA AGUSTINA"},null,null,null,null,null,null,null,0,0,0,"D","Tidak Tuntas",null,{"$f":"'Data '!J23","v":2.84}]
[5,{"$f":"'Data '!D31","v":"DAFFA KRISNA PRAMUDYA"},null,null,null,null,null,null,null,0,0,0,"D","Tidak Tuntas",null,{"$f":"'Data '!J24","v":2.5}]
[6,{"$f":"'Data '!D32","v":"DANINDRA RAFIF IRAWAN"},null,null,null,null,null,null,null,0,0,0,"D","Tidak Tuntas",null,{"$f":"'Data '!J25","v":2.17}]
[7,{"$f":"'Data '!D33","v":"DENI PRATAMA"},null,null,null,null,null,null,null,0,0,0,"D","Tidak Tuntas",null,{"$f":"'Data '!J26","v":1.84}]
[8,{"$f":"'Data '!D34","v":"DIKA SUKMA AGUSTIN"},null,null,null,null,null,null,null,0,0,0,"D","Tidak Tuntas",null,{"$f":"'Data '!J27","v":1.5}]
[9,{"$f":"'Data '!D35","v":"DIVA ADITYA"},null,null,null,null,null,null,null,0,0,0,"D","Tidak Tuntas",null,{"$f":"'Data '!J28","v":1.17}]
[10,{"$f":"'Data '!D36","v":"EKO PRASTYO"},null,null,null,null,null,null,null,0,0,0,"D","Tidak Tuntas",null,{"$f":"'Data '!J29","v":1}]
[11,{"$f":"'Data '!D37","v":"FAIQUR RIJAL HAMMAM"},null,null,null,null,null,null,null,0,0,0,"D","Tidak Tuntas"]
[12,{"$f":"'Data '!D38","v":"FATESAR SARI PRASETYO"},null,null,null,null,null,null,null,0,0,0,"D","Tidak Tuntas"]
[13,{"$f":"'Data '!D39","v":"FEBRI SULISTIYO"},null,null,null,null,null,null,null,0,0,0,"D","Tidak Tuntas"]
[14,{"$f":"'Data '!D40","v":"FIONA NANDA FETRIAN"},null,null,null,null,null,null,null,0,0,0,"D","Tidak Tuntas"]
[15,{"$f":"'Data '!D41","v":"GILANG SYAHRUL RAMADHAN"},null,null,null,null,null,null,null,0,0,0,"D","Tidak Tuntas"]
[16,{"$f":"'Data '!D42","v":"IMAM AGUNG WAHYU PRATAMA"},null,null,null,null,null,null,null,0,0,0,"D","Tidak Tuntas"]
[17,{"$f":"'Data '!D43","v":"JOHAN MAULANA"},null,null,null,null,null,null,null,0,0,0,"D","Tidak Tuntas"]
[18,{"$f":"'Data '!D44","v":"JOKO SETIAWAN"},null,null,null,null,null,null,null,0,0,0,"D","Tidak Tuntas"]
[19,{"$f":"'Data '!D45","v":"LISA OKTAVINASARI"},null,null,null,null,null,null,null,0,0,0,"D","Tidak Tuntas"]
[20,{"$f":"'Data '!D46","v":"MARIA GILDA SIREGAR"},null,null,null,null,null,null,null,0,0,0,"D","Tidak Tuntas"]
[21,{"$f":"'Data '!D47","v":"MOHAMMAD NURKHOLISH"},null,null,null,null,null,null,null,0,0,0,"D","Tidak Tuntas"]
[22,{"$f":"'Data '!D48","v":"MUHAMAD FARIS ULIN NUHA"},null,null,null,null,null,null,null,0,0,0,"D","Tidak Tuntas"]
[23,{"$f":"'Data '!D49","v":"MUHAMMAD MUSTOFA"},null,null,null,null,null,null,null,0,0,0,"D","Tidak Tuntas"]
[24,{"$f":"'Data '!D50","v":"NANDA WINTYA PUTRI"},null,null,null,null,null,null,null,0,0,0,"D","Tidak Tuntas"]
[25,{"$f":"'Data '!D51","v":"NI'MA NOVA NUR FADHILAH"},null,null,null,null,null,null,null,0,0,0,"D","Tidak Tuntas"]
[26,{"$f":"'Data '!D52","v":"NITA ZUMROTUT TAQIYAH"},null,null,null,null,null,null,null,0,0,0,"D","Tidak Tuntas"]
[27,{"$f":"'Data '!D53","v":"RACHMAT SAPUTRA ANDRIANSYAH"},null,null,null,null,null,null,null,0,0,0,"D","Tidak Tuntas"]
[28,{"$f":"'Data '!D54","v":"RIZAL ANDRIYAN SAPUTRA"},null,null,null,null,null,null,null,0,0,0,"D","Tidak Tuntas"]
[29,{"$f":"'Data '!D55","v":"SAIFUL ANNAS"},null,null,null,null,null,null,null,0,0,0,"D","Tidak Tuntas"]
[30,{"$f":"'Data '!D56","v":"SELINA SEPTIANI"},null,null,null,null,null,null,null,0,0,0,"D","Tidak Tuntas"]
[31,{"$f":"'Data '!D57","v":"SHALSABILA  SHINTA NIRMALA"},null,null,null,null,null,null,null,0,0,0,"D","Tidak Tuntas"]
[32,{"$f":"'Data '!D58","v":"SITI CHOIRIATUS SA'ADAH"},null,null,null,null,null,null,null,0,0,0,"D","Tidak Tuntas"]
[33,{"$f":"'Data '!D59","v":"SITI NURFAN AZIZAH"},null,null,null,null,null,null,null,0,0,0,"D","Tidak Tuntas"]
[34,{"$f":"'Data '!D60","v":"SITI RAHAYU"},null,null,null,null,null,null,null,0,0,0,"D","Tidak Tuntas"]
[35,{"$f":"'Data '!D61","v":"STEVIANA PUSPITA SARI"},null,null,null,null,null,null,null,0,0,0,"D","Tidak Tuntas"]
[36,{"$f":"'Data '!D62","v":"TAN LINGGAR PRAMUDITA"},null,null,null,null,null,null,null,0,0,0,"D","Tidak Tuntas"]
[37,{"$f":"'Data '!D63","v":"TAUFIK NUR AZIZ DANUARTA"},null,null,null,null,null,null,null,0,0,0,"D","Tidak Tuntas"]
[38,{"$f":"'Data '!D64","v":"TIARA PUTRI AYUNINGTIAS"},null,null,null,null,null,null,null,0,0,0,"D","Tidak Tuntas"]
[39,{"$f":"'Data '!D65","v":"TITANIA GAYATRI PRIANJANI"},null,null,null,null,null,null,null,0,0,0,"D","Tidak Tuntas"]
[40,{"$f":"'Data '!D66","v":"ULFATUN NI'MAH"},null,null,null,null,null,null,null,0,0,0,"D","Tidak Tuntas"]
[41,{"$f":"'Data '!D67","v":0},null,null,null,null,null,null,null,{"$f":"SUM(C65:I65)","v":0},0,0,"D","Tidak Tuntas"]
[42,{"$f":"'Data '!D68","v":0},null,null,null,null,null,null,null,0,0,0,"D","Tidak Tuntas"]
[43,{"$f":"'Data '!D69","v":0},null,null,null,null,null,null,null,0,0,0,"D","Tidak Tuntas"]
[44,{"$f":"'Data '!D70","v":0},null,null,null,null,null,null,null,0,0,0,"D","Tidak Tuntas"]
[45,{"$f":"'Data '!D71","v":0},null,null,null,null,null,null,null,0,0,0,"D","Tidak Tuntas"]
[46,{"$f":"'Data '!D72","v":0},null,null,null,null,null,null,null,{"$f":"SUM(C70:I70)","v":0},{"$f":"IFERROR((J70/$J$23)*100,\" \")","v":0},{"$f":"IFERROR((K70/100)*4,\"  \")","v":0},"D",{"$f":"IF(L70=\" \",\" \",IF(L70>=$M$7,\"Tuntas\",\"Tidak Tuntas\"))","v":"Tidak Tuntas"}]
[47,{"$f":"'Data '!D73","v":0},null,null,null,null,null,null,null,0,0,0,"D","Tidak Tuntas"]
[48,{"$f":"'Data '!D74","v":0},null,null,null,null,null,null,null,0,0,0,"D","Tidak Tuntas"]
[49,{"$f":"'Data '!D75","v":0},null,null,null,null,null,null,null,0,0,0,"D","Tidak Tuntas"]
[50,{"$f":"'Data '!D76","v":0},null,null,null,null,null,null,null,0,0,0,"D","Tidak Tuntas"]
[null,"Nilai Rata-rata",{"$f":"IFERROR(AVERAGE(C25:C74),\"  \")","v":""},{"$f":"IFERROR(AVERAGE(D25:D74),\"  \")","v":""},"","","","","",0,0,0]
[]
[null,"Mengetahui:",null,null,null,null,null,null,null,null,null,{"$f":"'Data '!D21","v":"Blora, 20 Desember 2014"}]
[null,{"$f":"\"Ka. \"&'Data '!D7","v":"Ka. SMP Negeri 6 Blora"},null,null,null,null,null,null,null,null,null,"Guru Mata Pelajaran"]
[]
[]
[null,{"$f":"'Data '!D15","v":"Suparno, S.Pd.,M.Hum"},null,null,null,null,null,null,null,null,null,{"$f":"Home!E12","v":"Drs. Sarid Nugroho"}]
[null,{"$f":"'Data '!D16","v":"NIP. 19620712 198403 1 012"},null,null,null,null,null,null,null,null,null,{"$f":"Home!E14","v":"NIP. 19631223 198803 1 004"}]

{"sheet":"UK-3","index":24,"n_rows":82,"n_cols":16,"rows_kept":82,"cut":false,"hidden":false,"merged":[[20,13,21,13],[20,7,21,7],[20,8,21,8],[20,9,21,9],[20,10,21,10],[20,11,21,11],[20,12,21,12],[17,2,17,9],[17,11,17,12],[18,2,18,9],[18,11,18,12],[20,0,22,0],[20,2,21,2],[20,3,21,3],[20,4,21,4],[20,5,21,5],[20,6,21,6],[16,2,16,9],[10,2,10,9],[10,11,10,14],[11,2,11,9],[11,12,11,14],[12,2,12,9],[12,12,12,14],[13,2,13,9],[13,12,13,14],[14,2,14,9],[14,12,14,14],[15,2,15,9],[8,2,8,8],[0,1,0,13],[1,1,1,13],[2,1,2,13],[3,1,4,13],[6,2,6,5],[6,6,6,7],[6,8,6,9],[6,10,6,11],[7,2,7,3],[7,5,7,7],[7,8,7,9],[7,10,7,11],[7,12,7,13]]}
[null,{"$f":"UPPER('Data '!D10)","v":"PEMERINTAH KABUPATEN BLORA"}]
[null,{"$f":"UPPER('Data '!D6)","v":"DINAS PENDIDIKAN PEMUDA DAN OLAHRAGA"}]
[null,{"$f":"UPPER('Data '!D7)","v":"SMP NEGERI 6 BLORA"}]
[null,"INSTRUMEN PENILAIAN UNJUK KERJA / PRAKTIK - 3"]
[]
[]
[null,"Mata Pelajaran :",{"$f":"Home!E16","v":"PJOK"},null,null,null,"Semester  :",null,{"$f":"'Data '!D14","v":"Ganjil"},null,"KKM  :",null,{"$f":"Home!E24","v":2.67}]
[null,"Kelas :",{"$f":"Home!E18","v":"VII-A"},null,null,"Tahun Pelajaran :",null,null,{"$f":"'Data '!D13","v":"2014/2015"},null,"Wali Kelas :",null,{"$f":"'Data '!D17","v":"Mundari, S.Pd."}]
[null,"Aspek :","Ketrampilan/Unjuk Kerja (Praktik)   3"]
[]
[null,null,"Kriteria/Aspek yang dinilai",null,null,null,null,null,null,null,null,"Keterangan/Rubrik Penilaian:"]
[null,"1 =",null,null,null,null,null,null,null,null,null,"1 ="]
[null,"2 =",null,null,null,null,null,null,null,null,null,"2 ="]
[null,"3 =",null,null,null,null,null,null,null,null,null,"3 ="]
[null,"4 =",null,null,null,null,null,null,null,null,null,"4 ="]
[null,"5 ="]
[null,"6 ="]
[null,"7 ="]
[]
[]
["No. ","Kriteria/Aspek yang dinilai:","Aspek 1","Aspek 2","Aspek 3","Aspek 4","Aspek 5","Aspek 6","Aspek 7","Jumlah","0-100","0-4","Konversi","Keterangan"]
[]
[null,"Skor Maks Kriteria =",4,4,4,4,null,null,null,{"$f":"SUM(C23:I23)","v":16}]
[null,"Nama"]
[1,{"$f":"'Data '!D27","v":"AHMAD ALEK BRIYANSAPUTRA"},null,null,null,null,null,null,null,{"$f":"SUM(C25:I25)","v":0},{"$f":"IFERROR((J25/$J$23)*100,\" \")","v":0},{"$f":"IFERROR((K25/100)*4,\" \")","v":0},{"$f":"IF(L25=\" \",\" \",IF(L25>$P$25,\"A\",IF(L25>$P$26,\"A-\",IF(L25>$P$27,\"B+\",IF(L25>$P$28,\"B\",IF(L25>$P$29,\"B-\",IF(L25>$P$30,\"C+\",IF(L25>$P$31,\"C\",IF(L25>$P$32,\"C-\",IF(L25>$P$33,\"D+\",\"D\"))))))))))","v":"D"},{"$f":"IF(L25=\" \",\" \",IF(L25>=$M$7,\"Tuntas\",\"Tidak Tuntas\"))","v":"Tidak Tuntas"},null,{"$f":"'Data '!J20","v":3.84}]
[2,{"$f":"'Data '!D28","v":"AULIA AYU FATINA"},null,null,null,null,null,null,null,0,{"$f":"IFERROR((J26/$J$23)*100,\" \")","v":0},{"$f":"IFERROR((K26/100)*4,\"  \")","v":0},{"$f":"IF(L26=\" \",\" \",IF(L26>$P$25,\"A\",IF(L26>$P$26,\"A-\",IF(L26>$P$27,\"B+\",IF(L26>$P$28,\"B\",IF(L26>$P$29,\"B-\",IF(L26>$P$30,\"C+\",IF(L26>$P$31,\"C\",IF(L26>$P$32,\"C-\",IF(L26>$P$33,\"D+\",\"D\"))))))))))","v":"D"},{"$f":"IF(L26=\" \",\" \",IF(L26>=$M$7,\"Tuntas\",\"Tidak Tuntas\"))","v":"Tidak Tuntas"},null,{"$f":"'Data '!J21","v":3.5}]
[3,{"$f":"'Data '!D29","v":"BAGAS YULANDRA PUTRA"},null,null,null,null,null,null,null,0,0,0,"D","Tidak Tuntas",null,{"$f":"'Data '!J22","v":3.17}]
[4,{"$f":"'Data '!D30","v":"CYNTIA AGUSTINA"},null,null,null,null,null,null,null,0,0,0,"D","Tidak Tuntas",null,{"$f":"'Data '!J23","v":2.84}]
[5,{"$f":"'Data '!D31","v":"DAFFA KRISNA PRAMUDYA"},null,null,null,null,null,null,null,0,0,0,"D","Tidak Tuntas",null,{"$f":"'Data '!J24","v":2.5}]
[6,{"$f":"'Data '!D32","v":"DANINDRA RAFIF IRAWAN"},null,null,null,null,null,null,null,0,0,0,"D","Tidak Tuntas",null,{"$f":"'Data '!J25","v":2.17}]
[7,{"$f":"'Data '!D33","v":"DENI PRATAMA"},null,null,null,null,null,null,null,0,0,0,"D","Tidak Tuntas",null,{"$f":"'Data '!J26","v":1.84}]
[8,{"$f":"'Data '!D34","v":"DIKA SUKMA AGUSTIN"},null,null,null,null,null,null,null,0,0,0,"D","Tidak Tuntas",null,{"$f":"'Data '!J27","v":1.5}]
[9,{"$f":"'Data '!D35","v":"DIVA ADITYA"},null,null,null,null,null,null,null,0,0,0,"D","Tidak Tuntas",null,{"$f":"'Data '!J28","v":1.17}]
[10,{"$f":"'Data '!D36","v":"EKO PRASTYO"},null,null,null,null,null,null,null,0,0,0,"D","Tidak Tuntas",null,{"$f":"'Data '!J29","v":1}]
[11,{"$f":"'Data '!D37","v":"FAIQUR RIJAL HAMMAM"},null,null,null,null,null,null,null,0,0,0,"D","Tidak Tuntas"]
[12,{"$f":"'Data '!D38","v":"FATESAR SARI PRASETYO"},null,null,null,null,null,null,null,0,0,0,"D","Tidak Tuntas"]
[13,{"$f":"'Data '!D39","v":"FEBRI SULISTIYO"},null,null,null,null,null,null,null,0,0,0,"D","Tidak Tuntas"]
[14,{"$f":"'Data '!D40","v":"FIONA NANDA FETRIAN"},null,null,null,null,null,null,null,0,0,0,"D","Tidak Tuntas"]
[15,{"$f":"'Data '!D41","v":"GILANG SYAHRUL RAMADHAN"},null,null,null,null,null,null,null,0,0,0,"D","Tidak Tuntas"]
[16,{"$f":"'Data '!D42","v":"IMAM AGUNG WAHYU PRATAMA"},null,null,null,null,null,null,null,0,0,0,"D","Tidak Tuntas"]
[17,{"$f":"'Data '!D43","v":"JOHAN MAULANA"},null,null,null,null,null,null,null,0,0,0,"D","Tidak Tuntas"]
[18,{"$f":"'Data '!D44","v":"JOKO SETIAWAN"},null,null,null,null,null,null,null,0,0,0,"D","Tidak Tuntas"]
[19,{"$f":"'Data '!D45","v":"LISA OKTAVINASARI"},null,null,null,null,null,null,null,0,0,0,"D","Tidak Tuntas"]
[20,{"$f":"'Data '!D46","v":"MARIA GILDA SIREGAR"},null,null,null,null,null,null,null,0,0,0,"D","Tidak Tuntas"]
[21,{"$f":"'Data '!D47","v":"MOHAMMAD NURKHOLISH"},null,null,null,null,null,null,null,0,0,0,"D","Tidak Tuntas"]
[22,{"$f":"'Data '!D48","v":"MUHAMAD FARIS ULIN NUHA"},null,null,null,null,null,null,null,0,0,0,"D","Tidak Tuntas"]
[23,{"$f":"'Data '!D49","v":"MUHAMMAD MUSTOFA"},null,null,null,null,null,null,null,0,0,0,"D","Tidak Tuntas"]
[24,{"$f":"'Data '!D50","v":"NANDA WINTYA PUTRI"},null,null,null,null,null,null,null,0,0,0,"D","Tidak Tuntas"]
[25,{"$f":"'Data '!D51","v":"NI'MA NOVA NUR FADHILAH"},null,null,null,null,null,null,null,0,0,0,"D","Tidak Tuntas"]
[26,{"$f":"'Data '!D52","v":"NITA ZUMROTUT TAQIYAH"},null,null,null,null,null,null,null,0,0,0,"D","Tidak Tuntas"]
[27,{"$f":"'Data '!D53","v":"RACHMAT SAPUTRA ANDRIANSYAH"},null,null,null,null,null,null,null,0,0,0,"D","Tidak Tuntas"]
[28,{"$f":"'Data '!D54","v":"RIZAL ANDRIYAN SAPUTRA"},null,null,null,null,null,null,null,0,0,0,"D","Tidak Tuntas"]
[29,{"$f":"'Data '!D55","v":"SAIFUL ANNAS"},null,null,null,null,null,null,null,0,0,0,"D","Tidak Tuntas"]
[30,{"$f":"'Data '!D56","v":"SELINA SEPTIANI"},null,null,null,null,null,null,null,0,0,0,"D","Tidak Tuntas"]
[31,{"$f":"'Data '!D57","v":"SHALSABILA  SHINTA NIRMALA"},null,null,null,null,null,null,null,0,0,0,"D","Tidak Tuntas"]
[32,{"$f":"'Data '!D58","v":"SITI CHOIRIATUS SA'ADAH"},null,null,null,null,null,null,null,0,0,0,"D","Tidak Tuntas"]
[33,{"$f":"'Data '!D59","v":"SITI NURFAN AZIZAH"},null,null,null,null,null,null,null,0,0,0,"D","Tidak Tuntas"]
[34,{"$f":"'Data '!D60","v":"SITI RAHAYU"},null,null,null,null,null,null,null,0,0,0,"D","Tidak Tuntas"]
[35,{"$f":"'Data '!D61","v":"STEVIANA PUSPITA SARI"},null,null,null,null,null,null,null,0,0,0,"D","Tidak Tuntas"]
[36,{"$f":"'Data '!D62","v":"TAN LINGGAR PRAMUDITA"},null,null,null,null,null,null,null,0,0,0,"D","Tidak Tuntas"]
[37,{"$f":"'Data '!D63","v":"TAUFIK NUR AZIZ DANUARTA"},null,null,null,null,null,null,null,0,0,0,"D","Tidak Tuntas"]
[38,{"$f":"'Data '!D64","v":"TIARA PUTRI AYUNINGTIAS"},null,null,null,null,null,null,null,0,0,0,"D","Tidak Tuntas"]
[39,{"$f":"'Data '!D65","v":"TITANIA GAYATRI PRIANJANI"},null,null,null,null,null,null,null,0,0,0,"D","Tidak Tuntas"]
[40,{"$f":"'Data '!D66","v":"ULFATUN NI'MAH"},null,null,null,null,null,null,null,0,0,0,"D","Tidak Tuntas"]
[41,{"$f":"'Data '!D67","v":0},null,null,null,null,null,null,null,{"$f":"SUM(C65:I65)","v":0},0,0,"D","Tidak Tuntas"]
[42,{"$f":"'Data '!D68","v":0},null,null,null,null,null,null,null,0,0,0,"D","Tidak Tuntas"]
[43,{"$f":"'Data '!D69","v":0},null,null,null,null,null,null,null,0,0,0,"D","Tidak Tuntas"]
[44,{"$f":"'Data '!D70","v":0},null,null,null,null,null,null,null,0,0,0,"D","Tidak Tuntas"]
[45,{"$f":"'Data '!D71","v":0},null,null,null,null,null,null,null,0,0,0,"D","Tidak Tuntas"]
[46,{"$f":"'Data '!D72","v":0},null,null,null,null,null,null,null,{"$f":"SUM(C70:I70)","v":0},{"$f":"IFERROR((J70/$J$23)*100,\" \")","v":0},{"$f":"IFERROR((K70/100)*4,\"  \")","v":0},"D",{"$f":"IF(L70=\" \",\" \",IF(L70>=$M$7,\"Tuntas\",\"Tidak Tuntas\"))","v":"Tidak Tuntas"}]
[47,{"$f":"'Data '!D73","v":0},null,null,null,null,null,null,null,0,0,0,"D","Tidak Tuntas"]
[48,{"$f":"'Data '!D74","v":0},null,null,null,null,null,null,null,0,0,0,"D","Tidak Tuntas"]
[49,{"$f":"'Data '!D75","v":0},null,null,null,null,null,null,null,0,0,0,"D","Tidak Tuntas"]
[50,{"$f":"'Data '!D76","v":0},null,null,null,null,null,null,null,0,0,0,"D","Tidak Tuntas"]
[null,"Nilai Rata-rata",{"$f":"IFERROR(AVERAGE(C25:C74),\"  \")","v":""},{"$f":"IFERROR(AVERAGE(D25:D74),\"  \")","v":""},"","","","","",0,0,0]
[]
[null,"Mengetahui:",null,null,null,null,null,null,null,null,null,{"$f":"'Data '!D21","v":"Blora, 20 Desember 2014"}]
[null,{"$f":"\"Ka. \"&'Data '!D7","v":"Ka. SMP Negeri 6 Blora"},null,null,null,null,null,null,null,null,null,"Guru Mata Pelajaran"]
[]
[]
[null,{"$f":"'Data '!D15","v":"Suparno, S.Pd.,M.Hum"},null,null,null,null,null,null,null,null,null,{"$f":"Home!E12","v":"Drs. Sarid Nugroho"}]
[null,{"$f":"'Data '!D16","v":"NIP. 19620712 198403 1 012"},null,null,null,null,null,null,null,null,null,{"$f":"Home!E14","v":"NIP. 19631223 198803 1 004"}]

{"sheet":"UK-4","index":25,"n_rows":82,"n_cols":16,"rows_kept":82,"cut":false,"hidden":false,"merged":[[20,13,21,13],[20,7,21,7],[20,8,21,8],[20,9,21,9],[20,10,21,10],[20,11,21,11],[20,12,21,12],[17,2,17,9],[17,11,17,12],[18,2,18,9],[18,11,18,12],[20,0,22,0],[20,2,21,2],[20,3,21,3],[20,4,21,4],[20,5,21,5],[20,6,21,6],[16,2,16,9],[10,2,10,9],[10,11,10,14],[11,2,11,9],[11,12,11,14],[12,2,12,9],[12,12,12,14],[13,2,13,9],[13,12,13,14],[14,2,14,9],[14,12,14,14],[15,2,15,9],[8,2,8,8],[0,1,0,13],[1,1,1,13],[2,1,2,13],[3,1,4,13],[6,2,6,5],[6,6,6,7],[6,8,6,9],[6,10,6,11],[7,2,7,3],[7,5,7,7],[7,8,7,9],[7,10,7,11],[7,12,7,13]]}
[null,{"$f":"UPPER('Data '!D10)","v":"PEMERINTAH KABUPATEN BLORA"}]
[null,{"$f":"UPPER('Data '!D6)","v":"DINAS PENDIDIKAN PEMUDA DAN OLAHRAGA"}]
[null,{"$f":"UPPER('Data '!D7)","v":"SMP NEGERI 6 BLORA"}]
[null,"INSTRUMEN PENILAIAN UNJUK KERJA / PRAKTIK - 4"]
[]
[]
[null,"Mata Pelajaran :",{"$f":"Home!E16","v":"PJOK"},null,null,null,"Semester  :",null,{"$f":"'Data '!D14","v":"Ganjil"},null,"KKM  :",null,{"$f":"Home!E24","v":2.67}]
[null,"Kelas :",{"$f":"Home!E18","v":"VII-A"},null,null,"Tahun Pelajaran :",null,null,{"$f":"'Data '!D13","v":"2014/2015"},null,"Wali Kelas :",null,{"$f":"'Data '!D17","v":"Mundari, S.Pd."}]
[null,"Aspek :","Ketrampilan/Unjuk Kerja (Praktik)   3"]
[]
[null,null,"Kriteria/Aspek yang dinilai",null,null,null,null,null,null,null,null,"Keterangan/Rubrik Penilaian:"]
[null,"1 =",null,null,null,null,null,null,null,null,null,"1 ="]
[null,"2 =",null,null,null,null,null,null,null,null,null,"2 ="]
[null,"3 =",null,null,null,null,null,null,null,null,null,"3 ="]
[null,"4 =",null,null,null,null,null,null,null,null,null,"4 ="]
[null,"5 ="]
[null,"6 ="]
[null,"7 ="]
[]
[]
["No. ","Kriteria/Aspek yang dinilai:","Aspek 1","Aspek 2","Aspek 3","Aspek 4","Aspek 5","Aspek 6","Aspek 7","Jumlah","0-100","0-4","Konversi","Keterangan"]
[]
[null,"Skor Maks Kriteria =",4,4,4,4,null,null,null,{"$f":"SUM(C23:I23)","v":16}]
[null,"Nama"]
[1,{"$f":"'Data '!D27","v":"AHMAD ALEK BRIYANSAPUTRA"},null,null,null,null,null,null,null,{"$f":"SUM(C25:I25)","v":0},{"$f":"IFERROR((J25/$J$23)*100,\" \")","v":0},{"$f":"IFERROR((K25/100)*4,\" \")","v":0},{"$f":"IF(L25=\" \",\" \",IF(L25>$P$25,\"A\",IF(L25>$P$26,\"A-\",IF(L25>$P$27,\"B+\",IF(L25>$P$28,\"B\",IF(L25>$P$29,\"B-\",IF(L25>$P$30,\"C+\",IF(L25>$P$31,\"C\",IF(L25>$P$32,\"C-\",IF(L25>$P$33,\"D+\",\"D\"))))))))))","v":"D"},{"$f":"IF(L25=\" \",\" \",IF(L25>=$M$7,\"Tuntas\",\"Tidak Tuntas\"))","v":"Tidak Tuntas"},null,{"$f":"'Data '!J20","v":3.84}]
[2,{"$f":"'Data '!D28","v":"AULIA AYU FATINA"},null,null,null,null,null,null,null,0,{"$f":"IFERROR((J26/$J$23)*100,\" \")","v":0},{"$f":"IFERROR((K26/100)*4,\"  \")","v":0},{"$f":"IF(L26=\" \",\" \",IF(L26>$P$25,\"A\",IF(L26>$P$26,\"A-\",IF(L26>$P$27,\"B+\",IF(L26>$P$28,\"B\",IF(L26>$P$29,\"B-\",IF(L26>$P$30,\"C+\",IF(L26>$P$31,\"C\",IF(L26>$P$32,\"C-\",IF(L26>$P$33,\"D+\",\"D\"))))))))))","v":"D"},{"$f":"IF(L26=\" \",\" \",IF(L26>=$M$7,\"Tuntas\",\"Tidak Tuntas\"))","v":"Tidak Tuntas"},null,{"$f":"'Data '!J21","v":3.5}]
[3,{"$f":"'Data '!D29","v":"BAGAS YULANDRA PUTRA"},null,null,null,null,null,null,null,0,0,0,"D","Tidak Tuntas",null,{"$f":"'Data '!J22","v":3.17}]
[4,{"$f":"'Data '!D30","v":"CYNTIA AGUSTINA"},null,null,null,null,null,null,null,0,0,0,"D","Tidak Tuntas",null,{"$f":"'Data '!J23","v":2.84}]
[5,{"$f":"'Data '!D31","v":"DAFFA KRISNA PRAMUDYA"},null,null,null,null,null,null,null,0,0,0,"D","Tidak Tuntas",null,{"$f":"'Data '!J24","v":2.5}]
[6,{"$f":"'Data '!D32","v":"DANINDRA RAFIF IRAWAN"},null,null,null,null,null,null,null,0,0,0,"D","Tidak Tuntas",null,{"$f":"'Data '!J25","v":2.17}]
[7,{"$f":"'Data '!D33","v":"DENI PRATAMA"},null,null,null,null,null,null,null,0,0,0,"D","Tidak Tuntas",null,{"$f":"'Data '!J26","v":1.84}]
[8,{"$f":"'Data '!D34","v":"DIKA SUKMA AGUSTIN"},null,null,null,null,null,null,null,0,0,0,"D","Tidak Tuntas",null,{"$f":"'Data '!J27","v":1.5}]
[9,{"$f":"'Data '!D35","v":"DIVA ADITYA"},null,null,null,null,null,null,null,0,0,0,"D","Tidak Tuntas",null,{"$f":"'Data '!J28","v":1.17}]
[10,{"$f":"'Data '!D36","v":"EKO PRASTYO"},null,null,null,null,null,null,null,0,0,0,"D","Tidak Tuntas",null,{"$f":"'Data '!J29","v":1}]
[11,{"$f":"'Data '!D37","v":"FAIQUR RIJAL HAMMAM"},null,null,null,null,null,null,null,0,0,0,"D","Tidak Tuntas"]
[12,{"$f":"'Data '!D38","v":"FATESAR SARI PRASETYO"},null,null,null,null,null,null,null,0,0,0,"D","Tidak Tuntas"]
[13,{"$f":"'Data '!D39","v":"FEBRI SULISTIYO"},null,null,null,null,null,null,null,0,0,0,"D","Tidak Tuntas"]
[14,{"$f":"'Data '!D40","v":"FIONA NANDA FETRIAN"},null,null,null,null,null,null,null,0,0,0,"D","Tidak Tuntas"]
[15,{"$f":"'Data '!D41","v":"GILANG SYAHRUL RAMADHAN"},null,null,null,null,null,null,null,0,0,0,"D","Tidak Tuntas"]
[16,{"$f":"'Data '!D42","v":"IMAM AGUNG WAHYU PRATAMA"},null,null,null,null,null,null,null,0,0,0,"D","Tidak Tuntas"]
[17,{"$f":"'Data '!D43","v":"JOHAN MAULANA"},null,null,null,null,null,null,null,0,0,0,"D","Tidak Tuntas"]
[18,{"$f":"'Data '!D44","v":"JOKO SETIAWAN"},null,null,null,null,null,null,null,0,0,0,"D","Tidak Tuntas"]
[19,{"$f":"'Data '!D45","v":"LISA OKTAVINASARI"},null,null,null,null,null,null,null,0,0,0,"D","Tidak Tuntas"]
[20,{"$f":"'Data '!D46","v":"MARIA GILDA SIREGAR"},null,null,null,null,null,null,null,0,0,0,"D","Tidak Tuntas"]
[21,{"$f":"'Data '!D47","v":"MOHAMMAD NURKHOLISH"},null,null,null,null,null,null,null,0,0,0,"D","Tidak Tuntas"]
[22,{"$f":"'Data '!D48","v":"MUHAMAD FARIS ULIN NUHA"},null,null,null,null,null,null,null,0,0,0,"D","Tidak Tuntas"]
[23,{"$f":"'Data '!D49","v":"MUHAMMAD MUSTOFA"},null,null,null,null,null,null,null,0,0,0,"D","Tidak Tuntas"]
[24,{"$f":"'Data '!D50","v":"NANDA WINTYA PUTRI"},null,null,null,null,null,null,null,0,0,0,"D","Tidak Tuntas"]
[25,{"$f":"'Data '!D51","v":"NI'MA NOVA NUR FADHILAH"},null,null,null,null,null,null,null,0,0,0,"D","Tidak Tuntas"]
[26,{"$f":"'Data '!D52","v":"NITA ZUMROTUT TAQIYAH"},null,null,null,null,null,null,null,0,0,0,"D","Tidak Tuntas"]
[27,{"$f":"'Data '!D53","v":"RACHMAT SAPUTRA ANDRIANSYAH"},null,null,null,null,null,null,null,0,0,0,"D","Tidak Tuntas"]
[28,{"$f":"'Data '!D54","v":"RIZAL ANDRIYAN SAPUTRA"},null,null,null,null,null,null,null,0,0,0,"D","Tidak Tuntas"]
[29,{"$f":"'Data '!D55","v":"SAIFUL ANNAS"},null,null,null,null,null,null,null,0,0,0,"D","Tidak Tuntas"]
[30,{"$f":"'Data '!D56","v":"SELINA SEPTIANI"},null,null,null,null,null,null,null,0,0,0,"D","Tidak Tuntas"]
[31,{"$f":"'Data '!D57","v":"SHALSABILA  SHINTA NIRMALA"},null,null,null,null,null,null,null,0,0,0,"D","Tidak Tuntas"]
[32,{"$f":"'Data '!D58","v":"SITI CHOIRIATUS SA'ADAH"},null,null,null,null,null,null,null,0,0,0,"D","Tidak Tuntas"]
[33,{"$f":"'Data '!D59","v":"SITI NURFAN AZIZAH"},null,null,null,null,null,null,null,0,0,0,"D","Tidak Tuntas"]
[34,{"$f":"'Data '!D60","v":"SITI RAHAYU"},null,null,null,null,null,null,null,0,0,0,"D","Tidak Tuntas"]
[35,{"$f":"'Data '!D61","v":"STEVIANA PUSPITA SARI"},null,null,null,null,null,null,null,0,0,0,"D","Tidak Tuntas"]
[36,{"$f":"'Data '!D62","v":"TAN LINGGAR PRAMUDITA"},null,null,null,null,null,null,null,0,0,0,"D","Tidak Tuntas"]
[37,{"$f":"'Data '!D63","v":"TAUFIK NUR AZIZ DANUARTA"},null,null,null,null,null,null,null,0,0,0,"D","Tidak Tuntas"]
[38,{"$f":"'Data '!D64","v":"TIARA PUTRI AYUNINGTIAS"},null,null,null,null,null,null,null,0,0,0,"D","Tidak Tuntas"]
[39,{"$f":"'Data '!D65","v":"TITANIA GAYATRI PRIANJANI"},null,null,null,null,null,null,null,0,0,0,"D","Tidak Tuntas"]
[40,{"$f":"'Data '!D66","v":"ULFATUN NI'MAH"},null,null,null,null,null,null,null,0,0,0,"D","Tidak Tuntas"]
[41,{"$f":"'Data '!D67","v":0},null,null,null,null,null,null,null,{"$f":"SUM(C65:I65)","v":0},0,0,"D","Tidak Tuntas"]
[42,{"$f":"'Data '!D68","v":0},null,null,null,null,null,null,null,0,0,0,"D","Tidak Tuntas"]
[43,{"$f":"'Data '!D69","v":0},null,null,null,null,null,null,null,0,0,0,"D","Tidak Tuntas"]
[44,{"$f":"'Data '!D70","v":0},null,null,null,null,null,null,null,0,0,0,"D","Tidak Tuntas"]
[45,{"$f":"'Data '!D71","v":0},null,null,null,null,null,null,null,0,0,0,"D","Tidak Tuntas"]
[46,{"$f":"'Data '!D72","v":0},null,null,null,null,null,null,null,{"$f":"SUM(C70:I70)","v":0},{"$f":"IFERROR((J70/$J$23)*100,\" \")","v":0},{"$f":"IFERROR((K70/100)*4,\"  \")","v":0},"D",{"$f":"IF(L70=\" \",\" \",IF(L70>=$M$7,\"Tuntas\",\"Tidak Tuntas\"))","v":"Tidak Tuntas"}]
[47,{"$f":"'Data '!D73","v":0},null,null,null,null,null,null,null,0,0,0,"D","Tidak Tuntas"]
[48,{"$f":"'Data '!D74","v":0},null,null,null,null,null,null,null,0,0,0,"D","Tidak Tuntas"]
[49,{"$f":"'Data '!D75","v":0},null,null,null,null,null,null,null,0,0,0,"D","Tidak Tuntas"]
[50,{"$f":"'Data '!D76","v":0},null,null,null,null,null,null,null,0,0,0,"D","Tidak Tuntas"]
[null,"Nilai Rata-rata",{"$f":"IFERROR(AVERAGE(C25:C74),\"  \")","v":""},{"$f":"IFERROR(AVERAGE(D25:D74),\"  \")","v":""},"","","","","",0,0,0]
[]
[null,"Mengetahui:",null,null,null,null,null,null,null,null,null,{"$f":"'Data '!D21","v":"Blora, 20 Desember 2014"}]
[null,{"$f":"\"Ka. \"&'Data '!D7","v":"Ka. SMP Negeri 6 Blora"},null,null,null,null,null,null,null,null,null,"Guru Mata Pelajaran"]
[]
[]
[null,{"$f":"'Data '!D15","v":"Suparno, S.Pd.,M.Hum"},null,null,null,null,null,null,null,null,null,{"$f":"Home!E12","v":"Drs. Sarid Nugroho"}]
[null,{"$f":"'Data '!D16","v":"NIP. 19620712 198403 1 012"},null,null,null,null,null,null,null,null,null,{"$f":"Home!E14","v":"NIP. 19631223 198803 1 004"}]

{"sheet":"PrJ-1","index":26,"n_rows":82,"n_cols":16,"rows_kept":82,"cut":false,"hidden":false,"merged":[[20,0,22,0],[20,13,21,13],[20,7,21,7],[20,8,21,8],[20,9,21,9],[20,10,21,10],[20,11,21,11],[20,12,21,12],[17,2,17,9],[17,11,17,12],[18,2,18,9],[18,11,18,12],[20,2,21,2],[20,3,21,3],[20,4,21,4],[20,5,21,5],[20,6,21,6],[16,2,16,9],[10,11,10,14],[11,2,11,9],[11,12,11,14],[12,2,12,9],[12,12,12,14],[10,2,10,9],[13,2,13,9],[13,12,13,14],[14,2,14,9],[14,12,14,14],[15,2,15,9],[8,2,8,8],[0,1,0,13],[1,1,1,13],[2,1,2,13],[3,1,4,13],[6,2,6,5],[6,6,6,7],[6,8,6,9],[6,10,6,11],[7,2,7,3],[7,5,7,7],[7,8,7,9],[7,10,7,11],[7,12,7,13]]}
[null,{"$f":"UPPER('Data '!D10)","v":"PEMERINTAH KABUPATEN BLORA"}]
[null,{"$f":"UPPER('Data '!D6)","v":"DINAS PENDIDIKAN PEMUDA DAN OLAHRAGA"}]
[null,{"$f":"UPPER('Data '!D7)","v":"SMP NEGERI 6 BLORA"}]
[null,"INSTRUMEN PENILAIAN PROYEK"]
[]
[]
[null,"Mata Pelajaran :",{"$f":"Home!E16","v":"PJOK"},null,null,null,"Semester  :",null,{"$f":"'Data '!D14","v":"Ganjil"},null,"KKM  :",null,{"$f":"Home!E24","v":2.67}]
[null,"Kelas :",{"$f":"Home!E18","v":"VII-A"},null,null,"Tahun Pelajaran :",null,null,{"$f":"'Data '!D13","v":"2014/2015"},null,"Wali Kelas :",null,{"$f":"'Data '!D17","v":"Mundari, S.Pd."}]
[null,"Aspek :","Ketrampilan/Projek   1"]
[]
[null,null,"Kriteria / Aspek yang dinilai",null,null,null,null,null,null,null,null,"Keterangan/Rubrik Penilaian:"]
[null,"1 =",null,null,null,null,null,null,null,null,null,"1 ="]
[null,"2 =",null,null,null,null,null,null,null,null,null,"2 ="]
[null,"3 =",null,null,null,null,null,null,null,null,null,"3 ="]
[null,"4 =",null,null,null,null,null,null,null,null,null,"4 ="]
[null,"5 ="]
[null,"6 ="]
[null,"7 ="]
[]
[]
["No. ","Kriteria/Aspek yang dinilai:","Aspek 1","Aspek 2","Aspek 3","Aspek 4","Aspek 5","Aspek 6","Aspek 7","Jumlah","0-100","0-4","Konversi","Keterangan"]
[]
[null,"Skor Maks Kriteria =",4,4,4,4,null,null,null,{"$f":"SUM(C23:I23)","v":16}]
[null,"Nama"]
[1,{"$f":"'Data '!D27","v":"AHMAD ALEK BRIYANSAPUTRA"},null,null,null,null,null,null,null,{"$f":"SUM(C25:I25)","v":0},{"$f":"IFERROR((J25/$J$23)*100,\" \")","v":0},{"$f":"IFERROR((K25/100)*4,\"  \")","v":0},{"$f":"IF(L25=\" \",\" \",IF(L25>$P$25,\"A\",IF(L25>$P$26,\"A-\",IF(L25>$P$27,\"B+\",IF(L25>$P$28,\"B\",IF(L25>$P$29,\"B-\",IF(L25>$P$30,\"C+\",IF(L25>$P$31,\"C\",IF(L25>$P$32,\"C-\",IF(L25>$P$33,\"D+\",\"D\"))))))))))","v":"D"},{"$f":"IF(L25=\"  \",\"  \",IF(L25>=$M$7,\"Tuntas\",\"Tidak Tuntas\"))","v":"Tidak Tuntas"},null,{"$f":"'Data '!J20","v":3.84}]
[2,{"$f":"'Data '!D28","v":"AULIA AYU FATINA"},null,null,null,null,null,null,null,{"$f":"SUM(C26:I26)","v":0},{"$f":"IFERROR((J26/$J$23)*100,\" \")","v":0},{"$f":"IFERROR((K26/100)*4,\"  \")","v":0},{"$f":"IF(L26=\" \",\" \",IF(L26>$P$25,\"A\",IF(L26>$P$26,\"A-\",IF(L26>$P$27,\"B+\",IF(L26>$P$28,\"B\",IF(L26>$P$29,\"B-\",IF(L26>$P$30,\"C+\",IF(L26>$P$31,\"C\",IF(L26>$P$32,\"C-\",IF(L26>$P$33,\"D+\",\"D\"))))))))))","v":"D"},{"$f":"IF(L26=\"  \",\"  \",IF(L26>=$M$7,\"Tuntas\",\"Tidak Tuntas\"))","v":"Tidak Tuntas"},null,{"$f":"'Data '!J21","v":3.5}]
[3,{"$f":"'Data '!D29","v":"BAGAS YULANDRA PUTRA"},null,null,null,null,null,null,null,0,0,0,"D","Tidak Tuntas",null,{"$f":"'Data '!J22","v":3.17}]
[4,{"$f":"'Data '!D30","v":"CYNTIA AGUSTINA"},null,null,null,null,null,null,null,0,0,0,"D","Tidak Tuntas",null,{"$f":"'Data '!J23","v":2.84}]
[5,{"$f":"'Data '!D31","v":"DAFFA KRISNA PRAMUDYA"},null,null,null,null,null,null,null,0,0,0,"D","Tidak Tuntas",null,{"$f":"'Data '!J24","v":2.5}]
[6,{"$f":"'Data '!D32","v":"DANINDRA RAFIF IRAWAN"},null,null,null,null,null,null,null,0,0,0,"D","Tidak Tuntas",null,{"$f":"'Data '!J25","v":2.17}]
[7,{"$f":"'Data '!D33","v":"DENI PRATAMA"},null,null,null,null,null,null,null,0,0,0,"D","Tidak Tuntas",null,{"$f":"'Data '!J26","v":1.84}]
[8,{"$f":"'Data '!D34","v":"DIKA SUKMA AGUSTIN"},null,null,null,null,null,null,null,0,0,0,"D","Tidak Tuntas",null,{"$f":"'Data '!J27","v":1.5}]
[9,{"$f":"'Data '!D35","v":"DIVA ADITYA"},null,null,null,null,null,null,null,0,0,0,"D","Tidak Tuntas",null,{"$f":"'Data '!J28","v":1.17}]
[10,{"$f":"'Data '!D36","v":"EKO PRASTYO"},null,null,null,null,null,null,null,0,0,0,"D","Tidak Tuntas",null,{"$f":"'Data '!J29","v":1}]
[11,{"$f":"'Data '!D37","v":"FAIQUR RIJAL HAMMAM"},null,null,null,null,null,null,null,0,0,0,"D","Tidak Tuntas"]
[12,{"$f":"'Data '!D38","v":"FATESAR SARI PRASETYO"},null,null,null,null,null,null,null,0,0,0,"D","Tidak Tuntas"]
[13,{"$f":"'Data '!D39","v":"FEBRI SULISTIYO"},null,null,null,null,null,null,null,0,0,0,"D","Tidak Tuntas"]
[14,{"$f":"'Data '!D40","v":"FIONA NANDA FETRIAN"},null,null,null,null,null,null,null,0,0,0,"D","Tidak Tuntas"]
[15,{"$f":"'Data '!D41","v":"GILANG SYAHRUL RAMADHAN"},null,null,null,null,null,null,null,0,0,0,"D","Tidak Tuntas"]
[16,{"$f":"'Data '!D42","v":"IMAM AGUNG WAHYU PRATAMA"},null,null,null,null,null,null,null,0,0,0,"D","Tidak Tuntas"]
[17,{"$f":"'Data '!D43","v":"JOHAN MAULANA"},null,null,null,null,null,null,null,0,0,0,"D","Tidak Tuntas"]
[18,{"$f":"'Data '!D44","v":"JOKO SETIAWAN"},null,null,null,null,null,null,null,0,0,0,"D","Tidak Tuntas"]
[19,{"$f":"'Data '!D45","v":"LISA OKTAVINASARI"},null,null,null,null,null,null,null,0,0,0,"D","Tidak Tuntas"]
[20,{"$f":"'Data '!D46","v":"MARIA GILDA SIREGAR"},null,null,null,null,null,null,null,0,0,0,"D","Tidak Tuntas"]
[21,{"$f":"'Data '!D47","v":"MOHAMMAD NURKHOLISH"},null,null,null,null,null,null,null,0,0,0,"D","Tidak Tuntas"]
[22,{"$f":"'Data '!D48","v":"MUHAMAD FARIS ULIN NUHA"},null,null,null,null,null,null,null,0,0,0,"D","Tidak Tuntas"]
[23,{"$f":"'Data '!D49","v":"MUHAMMAD MUSTOFA"},null,null,null,null,null,null,null,0,0,0,"D","Tidak Tuntas"]
[24,{"$f":"'Data '!D50","v":"NANDA WINTYA PUTRI"},null,null,null,null,null,null,null,0,0,0,"D","Tidak Tuntas"]
[25,{"$f":"'Data '!D51","v":"NI'MA NOVA NUR FADHILAH"},null,null,null,null,null,null,null,0,0,0,"D","Tidak Tuntas"]
[26,{"$f":"'Data '!D52","v":"NITA ZUMROTUT TAQIYAH"},null,null,null,null,null,null,null,0,0,0,"D","Tidak Tuntas"]
[27,{"$f":"'Data '!D53","v":"RACHMAT SAPUTRA ANDRIANSYAH"},null,null,null,null,null,null,null,0,0,0,"D","Tidak Tuntas"]
[28,{"$f":"'Data '!D54","v":"RIZAL ANDRIYAN SAPUTRA"},null,null,null,null,null,null,null,0,0,0,"D","Tidak Tuntas"]
[29,{"$f":"'Data '!D55","v":"SAIFUL ANNAS"},null,null,null,null,null,null,null,0,0,0,"D","Tidak Tuntas"]
[30,{"$f":"'Data '!D56","v":"SELINA SEPTIANI"},null,null,null,null,null,null,null,0,0,0,"D","Tidak Tuntas"]
[31,{"$f":"'Data '!D57","v":"SHALSABILA  SHINTA NIRMALA"},null,null,null,null,null,null,null,0,0,0,"D","Tidak Tuntas"]
[32,{"$f":"'Data '!D58","v":"SITI CHOIRIATUS SA'ADAH"},null,null,null,null,null,null,null,0,0,0,"D","Tidak Tuntas"]
[33,{"$f":"'Data '!D59","v":"SITI NURFAN AZIZAH"},null,null,null,null,null,null,null,0,0,0,"D","Tidak Tuntas"]
[34,{"$f":"'Data '!D60","v":"SITI RAHAYU"},null,null,null,null,null,null,null,0,0,0,"D","Tidak Tuntas"]
[35,{"$f":"'Data '!D61","v":"STEVIANA PUSPITA SARI"},null,null,null,null,null,null,null,0,0,0,"D","Tidak Tuntas"]
[36,{"$f":"'Data '!D62","v":"TAN LINGGAR PRAMUDITA"},null,null,null,null,null,null,null,0,0,0,"D","Tidak Tuntas"]
[37,{"$f":"'Data '!D63","v":"TAUFIK NUR AZIZ DANUARTA"},null,null,null,null,null,null,null,0,0,0,"D","Tidak Tuntas"]
[38,{"$f":"'Data '!D64","v":"TIARA PUTRI AYUNINGTIAS"},null,null,null,null,null,null,null,0,0,0,"D","Tidak Tuntas"]
[39,{"$f":"'Data '!D65","v":"TITANIA GAYATRI PRIANJANI"},null,null,null,null,null,null,null,0,0,0,"D","Tidak Tuntas"]
[40,{"$f":"'Data '!D66","v":"ULFATUN NI'MAH"},null,null,null,null,null,null,null,0,0,0,"D","Tidak Tuntas"]
[41,{"$f":"'Data '!D67","v":0},null,null,null,null,null,null,null,{"$f":"SUM(C65:I65)","v":0},{"$f":"IFERROR((J65/$J$23)*100,\" \")","v":0},{"$f":"IFERROR((K65/100)*4,\"  \")","v":0},"D",{"$f":"IF(L65=\"  \",\"  \",IF(L65>=$M$7,\"Tuntas\",\"Tidak Tuntas\"))","v":"Tidak Tuntas"}]
[42,{"$f":"'Data '!D68","v":0},null,null,null,null,null,null,null,0,0,0,"D","Tidak Tuntas"]
[43,{"$f":"'Data '!D69","v":0},null,null,null,null,null,null,null,0,0,0,"D","Tidak Tuntas"]
[44,{"$f":"'Data '!D70","v":0},null,null,null,null,null,null,null,0,0,0,"D","Tidak Tuntas"]
[45,{"$f":"'Data '!D71","v":0},null,null,null,null,null,null,null,0,0,0,"D","Tidak Tuntas"]
[46,{"$f":"'Data '!D72","v":0},null,null,null,null,null,null,null,{"$f":"SUM(C70:I70)","v":0},{"$f":"IFERROR((J70/$J$23)*100,\" \")","v":0},{"$f":"IFERROR((K70/100)*4,\"  \")","v":0},"D",{"$f":"IF(L70=\"  \",\"  \",IF(L70>=$M$7,\"Tuntas\",\"Tidak Tuntas\"))","v":"Tidak Tuntas"}]
[47,{"$f":"'Data '!D73","v":0},null,null,null,null,null,null,null,0,0,0,"D","Tidak Tuntas"]
[48,{"$f":"'Data '!D74","v":0},null,null,null,null,null,null,null,0,0,0,"D","Tidak Tuntas"]
[49,{"$f":"'Data '!D75","v":0},null,null,null,null,null,null,null,0,0,0,"D","Tidak Tuntas"]
[50,{"$f":"'Data '!D76","v":0},null,null,null,null,null,null,null,0,0,0,"D","Tidak Tuntas"]
[null,"Nilai Rata-rata",{"$f":"IFERROR(AVERAGE(C25:C74),\"  \")","v":""},{"$f":"IFERROR(AVERAGE(D25:D74),\"  \")","v":""},"","","","","",0,0,0]
[]
[null,"Mengetahui:",null,null,null,null,null,null,null,null,null,{"$f":"'Data '!D21","v":"Blora, 20 Desember 2014"}]
[null,{"$f":"\"Ka. \"&'Data '!D7","v":"Ka. SMP Negeri 6 Blora"},null,null,null,null,null,null,null,null,null,"Guru Mata Pelajaran"]
[]
[]
[null,{"$f":"'Data '!D15","v":"Suparno, S.Pd.,M.Hum"},null,null,null,null,null,null,null,null,null,{"$f":"Home!E12","v":"Drs. Sarid Nugroho"}]
[null,{"$f":"'Data '!D16","v":"NIP. 19620712 198403 1 012"},null,null,null,null,null,null,null,null,null,{"$f":"Home!E14","v":"NIP. 19631223 198803 1 004"}]

{"sheet":"PrJ-2","index":27,"n_rows":82,"n_cols":16,"rows_kept":82,"cut":false,"hidden":false,"merged":[[20,13,21,13],[20,7,21,7],[20,8,21,8],[20,9,21,9],[20,10,21,10],[20,11,21,11],[20,12,21,12],[17,2,17,9],[17,11,17,12],[18,2,18,9],[18,11,18,12],[20,0,22,0],[20,2,21,2],[20,3,21,3],[20,4,21,4],[20,5,21,5],[20,6,21,6],[16,2,16,9],[10,2,10,9],[10,11,10,14],[11,2,11,9],[11,12,11,14],[12,2,12,9],[12,12,12,14],[13,2,13,9],[13,12,13,14],[14,2,14,9],[14,12,14,14],[15,2,15,9],[8,2,8,8],[0,1,0,13],[1,1,1,13],[2,1,2,13],[3,1,4,13],[6,2,6,5],[6,6,6,7],[6,8,6,9],[6,10,6,11],[7,2,7,3],[7,5,7,7],[7,8,7,9],[7,10,7,11],[7,12,7,13]]}
[null,{"$f":"UPPER('Data '!D10)","v":"PEMERINTAH KABUPATEN BLORA"}]
[null,{"$f":"UPPER('Data '!D6)","v":"DINAS PENDIDIKAN PEMUDA DAN OLAHRAGA"}]
[null,{"$f":"UPPER('Data '!D7)","v":"SMP NEGERI 6 BLORA"}]
[null,"INSTRUMEN PENILAIAN PROYEK - 2"]
[]
[]
[null,"Mata Pelajaran :",{"$f":"Home!E16","v":"PJOK"},null,null,null,"Semester  :",null,{"$f":"'Data '!D14","v":"Ganjil"},null,"KKM  :",null,{"$f":"Home!E24","v":2.67}]
[null,"Kelas :",{"$f":"Home!E18","v":"VII-A"},null,null,"Tahun Pelajaran :",null,null,{"$f":"'Data '!D13","v":"2014/2015"},null,"Wali Kelas :",null,{"$f":"'Data '!D17","v":"Mundari, S.Pd."}]
[null,"Aspek :","Ketrampilan/Projek   2"]
[]
[null,null,"Kriteria / Aspek yang dinilai",null,null,null,null,null,null,null,null,"Keterangan/Rubrik Penilaian:"]
[null,"1 =",null,null,null,null,null,null,null,null,null,"1 ="]
[null,"2 =",null,null,null,null,null,null,null,null,null,"2 ="]
[null,"3 =",null,null,null,null,null,null,null,null,null,"3 ="]
[null,"4 =",null,null,null,null,null,null,null,null,null,"4 ="]
[null,"5 ="]
[null,"6 ="]
[null,"7 ="]
[]
[]
["No. ","Kriteria/Aspek yang dinilai:","Aspek 1","Aspek 2","Aspek 3","Aspek 4","Aspek 5","Aspek 6","Aspek 7","Jumlah","0-100","0-4","Konversi","Keterangan"]
[]
[null,"Skor Maks Kriteria =",4,4,4,4,null,null,null,{"$f":"SUM(C23:I23)","v":16}]
[null,"Nama"]
[1,{"$f":"'Data '!D27","v":"AHMAD ALEK BRIYANSAPUTRA"},null,null,null,null,null,null,null,{"$f":"SUM(C25:I25)","v":0},{"$f":"IFERROR((J25/$J$23)*100,\" \")","v":0},{"$f":"IFERROR((K25/100)*4,\"  \")","v":0},{"$f":"IF(L25=\" \",\" \",IF(L25>$P$25,\"A\",IF(L25>$P$26,\"A-\",IF(L25>$P$27,\"B+\",IF(L25>$P$28,\"B\",IF(L25>$P$29,\"B-\",IF(L25>$P$30,\"C+\",IF(L25>$P$31,\"C\",IF(L25>$P$32,\"C-\",IF(L25>$P$33,\"D+\",\"D\"))))))))))","v":"D"},{"$f":"IF(L25=\"  \",\"  \",IF(L25>=$M$7,\"Tuntas\",\"Tidak Tuntas\"))","v":"Tidak Tuntas"},null,{"$f":"'Data '!J20","v":3.84}]
[2,{"$f":"'Data '!D28","v":"AULIA AYU FATINA"},null,null,null,null,null,null,null,{"$f":"SUM(C26:I26)","v":0},{"$f":"IFERROR((J26/$J$23)*100,\" \")","v":0},{"$f":"IFERROR((K26/100)*4,\"  \")","v":0},{"$f":"IF(L26=\" \",\" \",IF(L26>$P$25,\"A\",IF(L26>$P$26,\"A-\",IF(L26>$P$27,\"B+\",IF(L26>$P$28,\"B\",IF(L26>$P$29,\"B-\",IF(L26>$P$30,\"C+\",IF(L26>$P$31,\"C\",IF(L26>$P$32,\"C-\",IF(L26>$P$33,\"D+\",\"D\"))))))))))","v":"D"},{"$f":"IF(L26=\"  \",\"  \",IF(L26>=$M$7,\"Tuntas\",\"Tidak Tuntas\"))","v":"Tidak Tuntas"},null,{"$f":"'Data '!J21","v":3.5}]
[3,{"$f":"'Data '!D29","v":"BAGAS YULANDRA PUTRA"},null,null,null,null,null,null,null,0,0,0,"D","Tidak Tuntas",null,{"$f":"'Data '!J22","v":3.17}]
[4,{"$f":"'Data '!D30","v":"CYNTIA AGUSTINA"},null,null,null,null,null,null,null,0,0,0,"D","Tidak Tuntas",null,{"$f":"'Data '!J23","v":2.84}]
[5,{"$f":"'Data '!D31","v":"DAFFA KRISNA PRAMUDYA"},null,null,null,null,null,null,null,0,0,0,"D","Tidak Tuntas",null,{"$f":"'Data '!J24","v":2.5}]
[6,{"$f":"'Data '!D32","v":"DANINDRA RAFIF IRAWAN"},null,null,null,null,null,null,null,0,0,0,"D","Tidak Tuntas",null,{"$f":"'Data '!J25","v":2.17}]
[7,{"$f":"'Data '!D33","v":"DENI PRATAMA"},null,null,null,null,null,null,null,0,0,0,"D","Tidak Tuntas",null,{"$f":"'Data '!J26","v":1.84}]
[8,{"$f":"'Data '!D34","v":"DIKA SUKMA AGUSTIN"},null,null,null,null,null,null,null,0,0,0,"D","Tidak Tuntas",null,{"$f":"'Data '!J27","v":1.5}]
[9,{"$f":"'Data '!D35","v":"DIVA ADITYA"},null,null,null,null,null,null,null,0,0,0,"D","Tidak Tuntas",null,{"$f":"'Data '!J28","v":1.17}]
[10,{"$f":"'Data '!D36","v":"EKO PRASTYO"},null,null,null,null,null,null,null,0,0,0,"D","Tidak Tuntas",null,{"$f":"'Data '!J29","v":1}]
[11,{"$f":"'Data '!D37","v":"FAIQUR RIJAL HAMMAM"},null,null,null,null,null,null,null,0,0,0,"D","Tidak Tuntas"]
[12,{"$f":"'Data '!D38","v":"FATESAR SARI PRASETYO"},null,null,null,null,null,null,null,0,0,0,"D","Tidak Tuntas"]
[13,{"$f":"'Data '!D39","v":"FEBRI SULISTIYO"},null,null,null,null,null,null,null,0,0,0,"D","Tidak Tuntas"]
[14,{"$f":"'Data '!D40","v":"FIONA NANDA FETRIAN"},null,null,null,null,null,null,null,0,0,0,"D","Tidak Tuntas"]
[15,{"$f":"'Data '!D41","v":"GILANG SYAHRUL RAMADHAN"},null,null,null,null,null,null,null,0,0,0,"D","Tidak Tuntas"]
[16,{"$f":"'Data '!D42","v":"IMAM AGUNG WAHYU PRATAMA"},null,null,null,null,null,null,null,0,0,0,"D","Tidak Tuntas"]
[17,{"$f":"'Data '!D43","v":"JOHAN MAULANA"},null,null,null,null,null,null,null,0,0,0,"D","Tidak Tuntas"]
[18,{"$f":"'Data '!D44","v":"JOKO SETIAWAN"},null,null,null,null,null,null,null,0,0,0,"D","Tidak Tuntas"]
[19,{"$f":"'Data '!D45","v":"LISA OKTAVINASARI"},null,null,null,null,null,null,null,0,0,0,"D","Tidak Tuntas"]
[20,{"$f":"'Data '!D46","v":"MARIA GILDA SIREGAR"},null,null,null,null,null,null,null,0,0,0,"D","Tidak Tuntas"]
[21,{"$f":"'Data '!D47","v":"MOHAMMAD NURKHOLISH"},null,null,null,null,null,null,null,0,0,0,"D","Tidak Tuntas"]
[22,{"$f":"'Data '!D48","v":"MUHAMAD FARIS ULIN NUHA"},null,null,null,null,null,null,null,0,0,0,"D","Tidak Tuntas"]
[23,{"$f":"'Data '!D49","v":"MUHAMMAD MUSTOFA"},null,null,null,null,null,null,null,0,0,0,"D","Tidak Tuntas"]
[24,{"$f":"'Data '!D50","v":"NANDA WINTYA PUTRI"},null,null,null,null,null,null,null,0,0,0,"D","Tidak Tuntas"]
[25,{"$f":"'Data '!D51","v":"NI'MA NOVA NUR FADHILAH"},null,null,null,null,null,null,null,0,0,0,"D","Tidak Tuntas"]
[26,{"$f":"'Data '!D52","v":"NITA ZUMROTUT TAQIYAH"},null,null,null,null,null,null,null,0,0,0,"D","Tidak Tuntas"]
[27,{"$f":"'Data '!D53","v":"RACHMAT SAPUTRA ANDRIANSYAH"},null,null,null,null,null,null,null,0,0,0,"D","Tidak Tuntas"]
[28,{"$f":"'Data '!D54","v":"RIZAL ANDRIYAN SAPUTRA"},null,null,null,null,null,null,null,0,0,0,"D","Tidak Tuntas"]
[29,{"$f":"'Data '!D55","v":"SAIFUL ANNAS"},null,null,null,null,null,null,null,0,0,0,"D","Tidak Tuntas"]
[30,{"$f":"'Data '!D56","v":"SELINA SEPTIANI"},null,null,null,null,null,null,null,0,0,0,"D","Tidak Tuntas"]
[31,{"$f":"'Data '!D57","v":"SHALSABILA  SHINTA NIRMALA"},null,null,null,null,null,null,null,0,0,0,"D","Tidak Tuntas"]
[32,{"$f":"'Data '!D58","v":"SITI CHOIRIATUS SA'ADAH"},null,null,null,null,null,null,null,0,0,0,"D","Tidak Tuntas"]
[33,{"$f":"'Data '!D59","v":"SITI NURFAN AZIZAH"},null,null,null,null,null,null,null,0,0,0,"D","Tidak Tuntas"]
[34,{"$f":"'Data '!D60","v":"SITI RAHAYU"},null,null,null,null,null,null,null,0,0,0,"D","Tidak Tuntas"]
[35,{"$f":"'Data '!D61","v":"STEVIANA PUSPITA SARI"},null,null,null,null,null,null,null,0,0,0,"D","Tidak Tuntas"]
[36,{"$f":"'Data '!D62","v":"TAN LINGGAR PRAMUDITA"},null,null,null,null,null,null,null,0,0,0,"D","Tidak Tuntas"]
[37,{"$f":"'Data '!D63","v":"TAUFIK NUR AZIZ DANUARTA"},null,null,null,null,null,null,null,0,0,0,"D","Tidak Tuntas"]
[38,{"$f":"'Data '!D64","v":"TIARA PUTRI AYUNINGTIAS"},null,null,null,null,null,null,null,0,0,0,"D","Tidak Tuntas"]
[39,{"$f":"'Data '!D65","v":"TITANIA GAYATRI PRIANJANI"},null,null,null,null,null,null,null,0,0,0,"D","Tidak Tuntas"]
[40,{"$f":"'Data '!D66","v":"ULFATUN NI'MAH"},null,null,null,null,null,null,null,0,0,0,"D","Tidak Tuntas"]
[41,{"$f":"'Data '!D67","v":0},null,null,null,null,null,null,null,0,0,0,"D","Tidak Tuntas"]
[42,{"$f":"'Data '!D68","v":0},null,null,null,null,null,null,null,0,0,0,"D","Tidak Tuntas"]
[43,{"$f":"'Data '!D69","v":0},null,null,null,null,null,null,null,0,0,0,"D","Tidak Tuntas"]
[44,{"$f":"'Data '!D70","v":0},null,null,null,null,null,null,null,0,0,0,"D","Tidak Tuntas"]
[45,{"$f":"'Data '!D71","v":0},null,null,null,null,null,null,null,0,0,0,"D","Tidak Tuntas"]
[46,{"$f":"'Data '!D72","v":0},null,null,null,null,null,null,null,{"$f":"SUM(C70:I70)","v":0},{"$f":"IFERROR((J70/$J$23)*100,\" \")","v":0},{"$f":"IFERROR((K70/100)*4,\"  \")","v":0},"D",{"$f":"IF(L70=\"  \",\"  \",IF(L70>=$M$7,\"Tuntas\",\"Tidak Tuntas\"))","v":"Tidak Tuntas"}]
[47,{"$f":"'Data '!D73","v":0},null,null,null,null,null,null,null,0,0,0,"D","Tidak Tuntas"]
[48,{"$f":"'Data '!D74","v":0},null,null,null,null,null,null,null,0,0,0,"D","Tidak Tuntas"]
[49,{"$f":"'Data '!D75","v":0},null,null,null,null,null,null,null,0,0,0,"D","Tidak Tuntas"]
[50,{"$f":"'Data '!D76","v":0},null,null,null,null,null,null,null,0,0,0,"D","Tidak Tuntas"]
[null,"Nilai Rata-rata",{"$f":"IFERROR(AVERAGE(C25:C74),\"  \")","v":""},{"$f":"IFERROR(AVERAGE(D25:D74),\"  \")","v":""},"","","","","",0,0,0]
[]
[null,"Mengetahui:",null,null,null,null,null,null,null,null,null,{"$f":"'Data '!D21","v":"Blora, 20 Desember 2014"}]
[null,{"$f":"\"Ka. \"&'Data '!D7","v":"Ka. SMP Negeri 6 Blora"},null,null,null,null,null,null,null,null,null,"Guru Mata Pelajaran"]
[]
[]
[null,{"$f":"'Data '!D15","v":"Suparno, S.Pd.,M.Hum"},null,null,null,null,null,null,null,null,null,{"$f":"Home!E12","v":"Drs. Sarid Nugroho"}]
[null,{"$f":"'Data '!D16","v":"NIP. 19620712 198403 1 012"},null,null,null,null,null,null,null,null,null,{"$f":"Home!E14","v":"NIP. 19631223 198803 1 004"}]

{"sheet":"PrJ-3","index":28,"n_rows":82,"n_cols":16,"rows_kept":82,"cut":false,"hidden":false,"merged":[[20,13,21,13],[20,7,21,7],[20,8,21,8],[20,9,21,9],[20,10,21,10],[20,11,21,11],[20,12,21,12],[17,2,17,9],[17,11,17,12],[18,2,18,9],[18,11,18,12],[20,0,22,0],[20,2,21,2],[20,3,21,3],[20,4,21,4],[20,5,21,5],[20,6,21,6],[16,2,16,9],[10,2,10,9],[10,11,10,14],[11,2,11,9],[11,12,11,14],[12,2,12,9],[12,12,12,14],[13,2,13,9],[13,12,13,14],[14,2,14,9],[14,12,14,14],[15,2,15,9],[8,2,8,8],[0,1,0,13],[1,1,1,13],[2,1,2,13],[3,1,4,13],[6,2,6,5],[6,6,6,7],[6,8,6,9],[6,10,6,11],[7,2,7,3],[7,5,7,7],[7,8,7,9],[7,10,7,11],[7,12,7,13]]}
[null,{"$f":"UPPER('Data '!D10)","v":"PEMERINTAH KABUPATEN BLORA"}]
[null,{"$f":"UPPER('Data '!D6)","v":"DINAS PENDIDIKAN PEMUDA DAN OLAHRAGA"}]
[null,{"$f":"UPPER('Data '!D7)","v":"SMP NEGERI 6 BLORA"}]
[null,"INSTRUMEN PENILAIAN PROYEK - 3"]
[]
[]
[null,"Mata Pelajaran :",{"$f":"Home!E16","v":"PJOK"},null,null,null,"Semester  :",null,{"$f":"'Data '!D14","v":"Ganjil"},null,"KKM  :",null,{"$f":"Home!E24","v":2.67}]
[null,"Kelas :",{"$f":"Home!E18","v":"VII-A"},null,null,"Tahun Pelajaran :",null,null,{"$f":"'Data '!D13","v":"2014/2015"},null,"Wali Kelas :",null,{"$f":"'Data '!D17","v":"Mundari, S.Pd."}]
[null,"Aspek :","Ketrampilan/Projek   3"]
[]
[null,null,"Kriteria / Aspek yang dinilai",null,null,null,null,null,null,null,null,"Keterangan/Rubrik Penilaian:"]
[null,"1 =",null,null,null,null,null,null,null,null,null,"1 ="]
[null,"2 =",null,null,null,null,null,null,null,null,null,"2 ="]
[null,"3 =",null,null,null,null,null,null,null,null,null,"3 ="]
[null,"4 =",null,null,null,null,null,null,null,null,null,"4 ="]
[null,"5 ="]
[null,"6 ="]
[null,"7 ="]
[]
[]
["No. ","Kriteria/Aspek yang dinilai:","Aspek 1","Aspek 2","Aspek 3","Aspek 4","Aspek 5","Aspek 6","Aspek 7","Jumlah","0-100","0-4","Konversi","Keterangan"]
[]
[null,"Skor Maks Kriteria =",4,4,4,4,null,null,null,{"$f":"SUM(C23:I23)","v":16}]
[null,"Nama"]
[1,{"$f":"'Data '!D27","v":"AHMAD ALEK BRIYANSAPUTRA"},null,null,null,null,null,null,null,{"$f":"SUM(C25:I25)","v":0},{"$f":"IFERROR((J25/$J$23)*100,\" \")","v":0},{"$f":"IFERROR((K25/100)*4,\"  \")","v":0},{"$f":"IF(L25=\" \",\" \",IF(L25>$P$25,\"A\",IF(L25>$P$26,\"A-\",IF(L25>$P$27,\"B+\",IF(L25>$P$28,\"B\",IF(L25>$P$29,\"B-\",IF(L25>$P$30,\"C+\",IF(L25>$P$31,\"C\",IF(L25>$P$32,\"C-\",IF(L25>$P$33,\"D+\",\"D\"))))))))))","v":"D"},{"$f":"IF(L25=\"  \",\"  \",IF(L25>=$M$7,\"Tuntas\",\"Tidak Tuntas\"))","v":"Tidak Tuntas"},null,{"$f":"'Data '!J20","v":3.84}]
[2,{"$f":"'Data '!D28","v":"AULIA AYU FATINA"},null,null,null,null,null,null,null,{"$f":"SUM(C26:I26)","v":0},{"$f":"IFERROR((J26/$J$23)*100,\" \")","v":0},{"$f":"IFERROR((K26/100)*4,\"  \")","v":0},{"$f":"IF(L26=\" \",\" \",IF(L26>$P$25,\"A\",IF(L26>$P$26,\"A-\",IF(L26>$P$27,\"B+\",IF(L26>$P$28,\"B\",IF(L26>$P$29,\"B-\",IF(L26>$P$30,\"C+\",IF(L26>$P$31,\"C\",IF(L26>$P$32,\"C-\",IF(L26>$P$33,\"D+\",\"D\"))))))))))","v":"D"},{"$f":"IF(L26=\"  \",\"  \",IF(L26>=$M$7,\"Tuntas\",\"Tidak Tuntas\"))","v":"Tidak Tuntas"},null,{"$f":"'Data '!J21","v":3.5}]
[3,{"$f":"'Data '!D29","v":"BAGAS YULANDRA PUTRA"},null,null,null,null,null,null,null,0,0,0,"D","Tidak Tuntas",null,{"$f":"'Data '!J22","v":3.17}]
[4,{"$f":"'Data '!D30","v":"CYNTIA AGUSTINA"},null,null,null,null,null,null,null,0,0,0,"D","Tidak Tuntas",null,{"$f":"'Data '!J23","v":2.84}]
[5,{"$f":"'Data '!D31","v":"DAFFA KRISNA PRAMUDYA"},null,null,null,null,null,null,null,0,0,0,"D","Tidak Tuntas",null,{"$f":"'Data '!J24","v":2.5}]
[6,{"$f":"'Data '!D32","v":"DANINDRA RAFIF IRAWAN"},null,null,null,null,null,null,null,0,0,0,"D","Tidak Tuntas",null,{"$f":"'Data '!J25","v":2.17}]
[7,{"$f":"'Data '!D33","v":"DENI PRATAMA"},null,null,null,null,null,null,null,0,0,0,"D","Tidak Tuntas",null,{"$f":"'Data '!J26","v":1.84}]
[8,{"$f":"'Data '!D34","v":"DIKA SUKMA AGUSTIN"},null,null,null,null,null,null,null,0,0,0,"D","Tidak Tuntas",null,{"$f":"'Data '!J27","v":1.5}]
[9,{"$f":"'Data '!D35","v":"DIVA ADITYA"},null,null,null,null,null,null,null,0,0,0,"D","Tidak Tuntas",null,{"$f":"'Data '!J28","v":1.17}]
[10,{"$f":"'Data '!D36","v":"EKO PRASTYO"},null,null,null,null,null,null,null,0,0,0,"D","Tidak Tuntas",null,{"$f":"'Data '!J29","v":1}]
[11,{"$f":"'Data '!D37","v":"FAIQUR RIJAL HAMMAM"},null,null,null,null,null,null,null,0,0,0,"D","Tidak Tuntas"]
[12,{"$f":"'Data '!D38","v":"FATESAR SARI PRASETYO"},null,null,null,null,null,null,null,0,0,0,"D","Tidak Tuntas"]
[13,{"$f":"'Data '!D39","v":"FEBRI SULISTIYO"},null,null,null,null,null,null,null,0,0,0,"D","Tidak Tuntas"]
[14,{"$f":"'Data '!D40","v":"FIONA NANDA FETRIAN"},null,null,null,null,null,null,null,0,0,0,"D","Tidak Tuntas"]
[15,{"$f":"'Data '!D41","v":"GILANG SYAHRUL RAMADHAN"},null,null,null,null,null,null,null,0,0,0,"D","Tidak Tuntas"]
[16,{"$f":"'Data '!D42","v":"IMAM AGUNG WAHYU PRATAMA"},null,null,null,null,null,null,null,0,0,0,"D","Tidak Tuntas"]
[17,{"$f":"'Data '!D43","v":"JOHAN MAULANA"},null,null,null,null,null,null,null,0,0,0,"D","Tidak Tuntas"]
[18,{"$f":"'Data '!D44","v":"JOKO SETIAWAN"},null,null,null,null,null,null,null,0,0,0,"D","Tidak Tuntas"]
[19,{"$f":"'Data '!D45","v":"LISA OKTAVINASARI"},null,null,null,null,null,null,null,0,0,0,"D","Tidak Tuntas"]
[20,{"$f":"'Data '!D46","v":"MARIA GILDA SIREGAR"},null,null,null,null,null,null,null,0,0,0,"D","Tidak Tuntas"]
[21,{"$f":"'Data '!D47","v":"MOHAMMAD NURKHOLISH"},null,null,null,null,null,null,null,0,0,0,"D","Tidak Tuntas"]
[22,{"$f":"'Data '!D48","v":"MUHAMAD FARIS ULIN NUHA"},null,null,null,null,null,null,null,0,0,0,"D","Tidak Tuntas"]
[23,{"$f":"'Data '!D49","v":"MUHAMMAD MUSTOFA"},null,null,null,null,null,null,null,0,0,0,"D","Tidak Tuntas"]
[24,{"$f":"'Data '!D50","v":"NANDA WINTYA PUTRI"},null,null,null,null,null,null,null,0,0,0,"D","Tidak Tuntas"]
[25,{"$f":"'Data '!D51","v":"NI'MA NOVA NUR FADHILAH"},null,null,null,null,null,null,null,0,0,0,"D","Tidak Tuntas"]
[26,{"$f":"'Data '!D52","v":"NITA ZUMROTUT TAQIYAH"},null,null,null,null,null,null,null,0,0,0,"D","Tidak Tuntas"]
[27,{"$f":"'Data '!D53","v":"RACHMAT SAPUTRA ANDRIANSYAH"},null,null,null,null,null,null,null,0,0,0,"D","Tidak Tuntas"]
[28,{"$f":"'Data '!D54","v":"RIZAL ANDRIYAN SAPUTRA"},null,null,null,null,null,null,null,0,0,0,"D","Tidak Tuntas"]
[29,{"$f":"'Data '!D55","v":"SAIFUL ANNAS"},null,null,null,null,null,null,null,0,0,0,"D","Tidak Tuntas"]
[30,{"$f":"'Data '!D56","v":"SELINA SEPTIANI"},null,null,null,null,null,null,null,0,0,0,"D","Tidak Tuntas"]
[31,{"$f":"'Data '!D57","v":"SHALSABILA  SHINTA NIRMALA"},null,null,null,null,null,null,null,0,0,0,"D","Tidak Tuntas"]
[32,{"$f":"'Data '!D58","v":"SITI CHOIRIATUS SA'ADAH"},null,null,null,null,null,null,null,0,0,0,"D","Tidak Tuntas"]
[33,{"$f":"'Data '!D59","v":"SITI NURFAN AZIZAH"},null,null,null,null,null,null,null,0,0,0,"D","Tidak Tuntas"]
[34,{"$f":"'Data '!D60","v":"SITI RAHAYU"},null,null,null,null,null,null,null,0,0,0,"D","Tidak Tuntas"]
[35,{"$f":"'Data '!D61","v":"STEVIANA PUSPITA SARI"},null,null,null,null,null,null,null,0,0,0,"D","Tidak Tuntas"]
[36,{"$f":"'Data '!D62","v":"TAN LINGGAR PRAMUDITA"},null,null,null,null,null,null,null,0,0,0,"D","Tidak Tuntas"]
[37,{"$f":"'Data '!D63","v":"TAUFIK NUR AZIZ DANUARTA"},null,null,null,null,null,null,null,0,0,0,"D","Tidak Tuntas"]
[38,{"$f":"'Data '!D64","v":"TIARA PUTRI AYUNINGTIAS"},null,null,null,null,null,null,null,0,0,0,"D","Tidak Tuntas"]
[39,{"$f":"'Data '!D65","v":"TITANIA GAYATRI PRIANJANI"},null,null,null,null,null,null,null,0,0,0,"D","Tidak Tuntas"]
[40,{"$f":"'Data '!D66","v":"ULFATUN NI'MAH"},null,null,null,null,null,null,null,0,0,0,"D","Tidak Tuntas"]
[41,{"$f":"'Data '!D67","v":0},null,null,null,null,null,null,null,0,0,0,"D","Tidak Tuntas"]
[42,{"$f":"'Data '!D68","v":0},null,null,null,null,null,null,null,0,0,0,"D","Tidak Tuntas"]
[43,{"$f":"'Data '!D69","v":0},null,null,null,null,null,null,null,0,0,0,"D","Tidak Tuntas"]
[44,{"$f":"'Data '!D70","v":0},null,null,null,null,null,null,null,0,0,0,"D","Tidak Tuntas"]
[45,{"$f":"'Data '!D71","v":0},null,null,null,null,null,null,null,0,0,0,"D","Tidak Tuntas"]
[46,{"$f":"'Data '!D72","v":0},null,null,null,null,null,null,null,{"$f":"SUM(C70:I70)","v":0},{"$f":"IFERROR((J70/$J$23)*100,\" \")","v":0},{"$f":"IFERROR((K70/100)*4,\"  \")","v":0},"D",{"$f":"IF(L70=\"  \",\"  \",IF(L70>=$M$7,\"Tuntas\",\"Tidak Tuntas\"))","v":"Tidak Tuntas"}]
[47,{"$f":"'Data '!D73","v":0},null,null,null,null,null,null,null,0,0,0,"D","Tidak Tuntas"]
[48,{"$f":"'Data '!D74","v":0},null,null,null,null,null,null,null,0,0,0,"D","Tidak Tuntas"]
[49,{"$f":"'Data '!D75","v":0},null,null,null,null,null,null,null,0,0,0,"D","Tidak Tuntas"]
[50,{"$f":"'Data '!D76","v":0},null,null,null,null,null,null,null,0,0,0,"D","Tidak Tuntas"]
[null,"Nilai Rata-rata",{"$f":"IFERROR(AVERAGE(C25:C74),\"  \")","v":""},{"$f":"IFERROR(AVERAGE(D25:D74),\"  \")","v":""},"","","","","",0,0,0]
[]
[null,"Mengetahui:",null,null,null,null,null,null,null,null,null,{"$f":"'Data '!D21","v":"Blora, 20 Desember 2014"}]
[null,{"$f":"\"Ka. \"&'Data '!D7","v":"Ka. SMP Negeri 6 Blora"},null,null,null,null,null,null,null,null,null,"Guru Mata Pelajaran"]
[]
[]
[null,{"$f":"'Data '!D15","v":"Suparno, S.Pd.,M.Hum"},null,null,null,null,null,null,null,null,null,{"$f":"Home!E12","v":"Drs. Sarid Nugroho"}]
[null,{"$f":"'Data '!D16","v":"NIP. 19620712 198403 1 012"},null,null,null,null,null,null,null,null,null,{"$f":"Home!E14","v":"NIP. 19631223 198803 1 004"}]

{"sheet":"Pf-1","index":29,"n_rows":82,"n_cols":16,"rows_kept":82,"cut":false,"hidden":false,"merged":[[20,0,22,0],[20,13,21,13],[20,7,21,7],[20,8,21,8],[20,9,21,9],[20,10,21,10],[20,11,21,11],[20,12,21,12],[17,2,17,9],[17,11,17,12],[18,2,18,9],[18,11,18,12],[20,2,21,2],[20,3,21,3],[20,4,21,4],[20,5,21,5],[20,6,21,6],[16,2,16,9],[10,11,10,14],[11,2,11,9],[11,12,11,14],[12,2,12,9],[12,12,12,14],[10,2,10,9],[13,2,13,9],[13,12,13,14],[14,2,14,9],[14,12,14,14],[15,2,15,9],[8,2,8,8],[0,1,0,13],[1,1,1,13],[2,1,2,13],[3,1,4,13],[6,2,6,5],[6,6,6,7],[6,8,6,9],[6,10,6,11],[7,2,7,3],[7,5,7,7],[7,8,7,9],[7,10,7,11],[7,12,7,13]]}
[null,{"$f":"UPPER('Data '!D10)","v":"PEMERINTAH KABUPATEN BLORA"}]
[null,{"$f":"UPPER('Data '!D6)","v":"DINAS PENDIDIKAN PEMUDA DAN OLAHRAGA"}]
[null,{"$f":"UPPER('Data '!D7)","v":"SMP NEGERI 6 BLORA"}]
[null,"INSTRUMEN PENILAIAN PORTOFOLIO - 1"]
[]
[]
[null,"Mata Pelajaran :",{"$f":"Home!E16","v":"PJOK"},null,null,null,"Semester  :",null,{"$f":"'Data '!D14","v":"Ganjil"},null,"KKM  :",null,{"$f":"Home!E24","v":2.67}]
[null,"Kelas :",{"$f":"Home!E18","v":"VII-A"},null,null,"Tahun Pelajaran :",null,null,{"$f":"'Data '!D13","v":"2014/2015"},null,"Wali Kelas :",null,{"$f":"'Data '!D17","v":"Mundari, S.Pd."}]
[null,"Aspek :","Ketrampilan/Portofolio   1"]
[]
[null,null,"Kriteria/Aspek yang dinilai",null,null,null,null,null,null,null,null,"Keterangan/Rubrik Penilaian:"]
[null,"1 =",null,null,null,null,null,null,null,null,null,"1 ="]
[null,"2 =",null,null,null,null,null,null,null,null,null,"2 ="]
[null,"3 =",null,null,null,null,null,null,null,null,null,"3 ="]
[null,"4 =",null,null,null,null,null,null,null,null,null,"4 ="]
[null,"5 ="]
[null,"6 ="]
[null,"7 ="]
[]
[]
["No. ","Kriteria/Aspek yang dinilai:","Aspek 1","Aspek 2","Aspek 3","Aspek 4","Aspek 5","Aspek 6","Aspek 7","Jumlah","0-100","0-4","Konversi","Keterangan"]
[]
[null,"Skor Maks Kriteria =",4,4,4,4,null,null,null,{"$f":"SUM(C23:I23)","v":16}]
[null,"Nama"]
[1,{"$f":"'Data '!D27","v":"AHMAD ALEK BRIYANSAPUTRA"},null,null,null,null,null,null,null,{"$f":"SUM(C25:I25)","v":0},{"$f":"IFERROR((J25/$J$23)*100,\" \")","v":0},{"$f":"IFERROR((K25/100)*4,\"  \")","v":0},{"$f":"IF(L25=\" \",\" \",IF(L25>$P$25,\"A\",IF(L25>$P$26,\"A-\",IF(L25>$P$27,\"B+\",IF(L25>$P$28,\"B\",IF(L25>$P$29,\"B-\",IF(L25>$P$30,\"C+\",IF(L25>$P$31,\"C\",IF(L25>$P$32,\"C-\",IF(L25>$P$33,\"D+\",\"D\"))))))))))","v":"D"},{"$f":"IF(L25=\"  \",\"  \",IF(L25>=$M$7,\"Tuntas\",\"Tidak Tuntas\"))","v":"Tidak Tuntas"},null,{"$f":"'Data '!J20","v":3.84}]
[2,{"$f":"'Data '!D28","v":"AULIA AYU FATINA"},null,null,null,null,null,null,null,{"$f":"SUM(C26:I26)","v":0},{"$f":"IFERROR((J26/$J$23)*100,\" \")","v":0},{"$f":"IFERROR((K26/100)*4,\"  \")","v":0},{"$f":"IF(L26=\" \",\" \",IF(L26>$P$25,\"A\",IF(L26>$P$26,\"A-\",IF(L26>$P$27,\"B+\",IF(L26>$P$28,\"B\",IF(L26>$P$29,\"B-\",IF(L26>$P$30,\"C+\",IF(L26>$P$31,\"C\",IF(L26>$P$32,\"C-\",IF(L26>$P$33,\"D+\",\"D\"))))))))))","v":"D"},{"$f":"IF(L26=\"  \",\"  \",IF(L26>=$M$7,\"Tuntas\",\"Tidak Tuntas\"))","v":"Tidak Tuntas"},null,{"$f":"'Data '!J21","v":3.5}]
[3,{"$f":"'Data '!D29","v":"BAGAS YULANDRA PUTRA"},null,null,null,null,null,null,null,0,0,0,"D","Tidak Tuntas",null,{"$f":"'Data '!J22","v":3.17}]
[4,{"$f":"'Data '!D30","v":"CYNTIA AGUSTINA"},null,null,null,null,null,null,null,0,0,0,"D","Tidak Tuntas",null,{"$f":"'Data '!J23","v":2.84}]
[5,{"$f":"'Data '!D31","v":"DAFFA KRISNA PRAMUDYA"},null,null,null,null,null,null,null,0,0,0,"D","Tidak Tuntas",null,{"$f":"'Data '!J24","v":2.5}]
[6,{"$f":"'Data '!D32","v":"DANINDRA RAFIF IRAWAN"},null,null,null,null,null,null,null,0,0,0,"D","Tidak Tuntas",null,{"$f":"'Data '!J25","v":2.17}]
[7,{"$f":"'Data '!D33","v":"DENI PRATAMA"},null,null,null,null,null,null,null,0,0,0,"D","Tidak Tuntas",null,{"$f":"'Data '!J26","v":1.84}]
[8,{"$f":"'Data '!D34","v":"DIKA SUKMA AGUSTIN"},null,null,null,null,null,null,null,0,0,0,"D","Tidak Tuntas",null,{"$f":"'Data '!J27","v":1.5}]
[9,{"$f":"'Data '!D35","v":"DIVA ADITYA"},null,null,null,null,null,null,null,0,0,0,"D","Tidak Tuntas",null,{"$f":"'Data '!J28","v":1.17}]
[10,{"$f":"'Data '!D36","v":"EKO PRASTYO"},null,null,null,null,null,null,null,0,0,0,"D","Tidak Tuntas",null,{"$f":"'Data '!J29","v":1}]
[11,{"$f":"'Data '!D37","v":"FAIQUR RIJAL HAMMAM"},null,null,null,null,null,null,null,0,0,0,"D","Tidak Tuntas"]
[12,{"$f":"'Data '!D38","v":"FATESAR SARI PRASETYO"},null,null,null,null,null,null,null,0,0,0,"D","Tidak Tuntas"]
[13,{"$f":"'Data '!D39","v":"FEBRI SULISTIYO"},null,null,null,null,null,null,null,0,0,0,"D","Tidak Tuntas"]
[14,{"$f":"'Data '!D40","v":"FIONA NANDA FETRIAN"},null,null,null,null,null,null,null,0,0,0,"D","Tidak Tuntas"]
[15,{"$f":"'Data '!D41","v":"GILANG SYAHRUL RAMADHAN"},null,null,null,null,null,null,null,0,0,0,"D","Tidak Tuntas"]
[16,{"$f":"'Data '!D42","v":"IMAM AGUNG WAHYU PRATAMA"},null,null,null,null,null,null,null,0,0,0,"D","Tidak Tuntas"]
[17,{"$f":"'Data '!D43","v":"JOHAN MAULANA"},null,null,null,null,null,null,null,0,0,0,"D","Tidak Tuntas"]
[18,{"$f":"'Data '!D44","v":"JOKO SETIAWAN"},null,null,null,null,null,null,null,0,0,0,"D","Tidak Tuntas"]
[19,{"$f":"'Data '!D45","v":"LISA OKTAVINASARI"},null,null,null,null,null,null,null,0,0,0,"D","Tidak Tuntas"]
[20,{"$f":"'Data '!D46","v":"MARIA GILDA SIREGAR"},null,null,null,null,null,null,null,0,0,0,"D","Tidak Tuntas"]
[21,{"$f":"'Data '!D47","v":"MOHAMMAD NURKHOLISH"},null,null,null,null,null,null,null,0,0,0,"D","Tidak Tuntas"]
[22,{"$f":"'Data '!D48","v":"MUHAMAD FARIS ULIN NUHA"},null,null,null,null,null,null,null,0,0,0,"D","Tidak Tuntas"]
[23,{"$f":"'Data '!D49","v":"MUHAMMAD MUSTOFA"},null,null,null,null,null,null,null,0,0,0,"D","Tidak Tuntas"]
[24,{"$f":"'Data '!D50","v":"NANDA WINTYA PUTRI"},null,null,null,null,null,null,null,0,0,0,"D","Tidak Tuntas"]
[25,{"$f":"'Data '!D51","v":"NI'MA NOVA NUR FADHILAH"},null,null,null,null,null,null,null,0,0,0,"D","Tidak Tuntas"]
[26,{"$f":"'Data '!D52","v":"NITA ZUMROTUT TAQIYAH"},null,null,null,null,null,null,null,0,0,0,"D","Tidak Tuntas"]
[27,{"$f":"'Data '!D53","v":"RACHMAT SAPUTRA ANDRIANSYAH"},null,null,null,null,null,null,null,0,0,0,"D","Tidak Tuntas"]
[28,{"$f":"'Data '!D54","v":"RIZAL ANDRIYAN SAPUTRA"},null,null,null,null,null,null,null,0,0,0,"D","Tidak Tuntas"]
[29,{"$f":"'Data '!D55","v":"SAIFUL ANNAS"},null,null,null,null,null,null,null,0,0,0,"D","Tidak Tuntas"]
[30,{"$f":"'Data '!D56","v":"SELINA SEPTIANI"},null,null,null,null,null,null,null,0,0,0,"D","Tidak Tuntas"]
[31,{"$f":"'Data '!D57","v":"SHALSABILA  SHINTA NIRMALA"},null,null,null,null,null,null,null,0,0,0,"D","Tidak Tuntas"]
[32,{"$f":"'Data '!D58","v":"SITI CHOIRIATUS SA'ADAH"},null,null,null,null,null,null,null,0,0,0,"D","Tidak Tuntas"]
[33,{"$f":"'Data '!D59","v":"SITI NURFAN AZIZAH"},null,null,null,null,null,null,null,0,0,0,"D","Tidak Tuntas"]
[34,{"$f":"'Data '!D60","v":"SITI RAHAYU"},null,null,null,null,null,null,null,0,0,0,"D","Tidak Tuntas"]
[35,{"$f":"'Data '!D61","v":"STEVIANA PUSPITA SARI"},null,null,null,null,null,null,null,0,0,0,"D","Tidak Tuntas"]
[36,{"$f":"'Data '!D62","v":"TAN LINGGAR PRAMUDITA"},null,null,null,null,null,null,null,0,0,0,"D","Tidak Tuntas"]
[37,{"$f":"'Data '!D63","v":"TAUFIK NUR AZIZ DANUARTA"},null,null,null,null,null,null,null,0,0,0,"D","Tidak Tuntas"]
[38,{"$f":"'Data '!D64","v":"TIARA PUTRI AYUNINGTIAS"},null,null,null,null,null,null,null,0,0,0,"D","Tidak Tuntas"]
[39,{"$f":"'Data '!D65","v":"TITANIA GAYATRI PRIANJANI"},null,null,null,null,null,null,null,0,0,0,"D","Tidak Tuntas"]
[40,{"$f":"'Data '!D66","v":"ULFATUN NI'MAH"},null,null,null,null,null,null,null,0,0,0,"D","Tidak Tuntas"]
[41,{"$f":"'Data '!D67","v":0},null,null,null,null,null,null,null,{"$f":"SUM(C65:I65)","v":0},{"$f":"IFERROR((J65/$J$23)*100,\" \")","v":0},{"$f":"IFERROR((K65/100)*4,\"  \")","v":0},"D",{"$f":"IF(L65=\"  \",\"  \",IF(L65>=$M$7,\"Tuntas\",\"Tidak Tuntas\"))","v":"Tidak Tuntas"}]
[42,{"$f":"'Data '!D68","v":0},null,null,null,null,null,null,null,0,0,0,"D","Tidak Tuntas"]
[43,{"$f":"'Data '!D69","v":0},null,null,null,null,null,null,null,0,0,0,"D","Tidak Tuntas"]
[44,{"$f":"'Data '!D70","v":0},null,null,null,null,null,null,null,0,0,0,"D","Tidak Tuntas"]
[45,{"$f":"'Data '!D71","v":0},null,null,null,null,null,null,null,0,0,0,"D","Tidak Tuntas"]
[46,{"$f":"'Data '!D72","v":0},null,null,null,null,null,null,null,{"$f":"SUM(C70:I70)","v":0},{"$f":"IFERROR((J70/$J$23)*100,\" \")","v":0},{"$f":"IFERROR((K70/100)*4,\"  \")","v":0},"D",{"$f":"IF(L70=\"  \",\"  \",IF(L70>=$M$7,\"Tuntas\",\"Tidak Tuntas\"))","v":"Tidak Tuntas"}]
[47,{"$f":"'Data '!D73","v":0},null,null,null,null,null,null,null,0,0,0,"D","Tidak Tuntas"]
[48,{"$f":"'Data '!D74","v":0},null,null,null,null,null,null,null,0,0,0,"D","Tidak Tuntas"]
[49,{"$f":"'Data '!D75","v":0},null,null,null,null,null,null,null,0,0,0,"D","Tidak Tuntas"]
[50,{"$f":"'Data '!D76","v":0},null,null,null,null,null,null,null,0,0,0,"D","Tidak Tuntas"]
[null,"Nilai Rata-rata",{"$f":"IFERROR(AVERAGE(C25:C74),\"  \")","v":""},{"$f":"IFERROR(AVERAGE(D25:D74),\"  \")","v":""},"","","","","",0,0,0]
[]
[null,"Mengetahui:",null,null,null,null,null,null,null,null,null,{"$f":"'Data '!D21","v":"Blora, 20 Desember 2014"}]
[null,{"$f":"\"Ka. \"&'Data '!D7","v":"Ka. SMP Negeri 6 Blora"},null,null,null,null,null,null,null,null,null,"Guru Mata Pelajaran"]
[]
[]
[null,{"$f":"'Data '!D15","v":"Suparno, S.Pd.,M.Hum"},null,null,null,null,null,null,null,null,null,{"$f":"Home!E12","v":"Drs. Sarid Nugroho"}]
[null,{"$f":"'Data '!D16","v":"NIP. 19620712 198403 1 012"},null,null,null,null,null,null,null,null,null,{"$f":"Home!E14","v":"NIP. 19631223 198803 1 004"}]

{"sheet":"Sheet3","index":30,"n_rows":0,"n_cols":0,"rows_kept":0,"cut":false,"hidden":true,"merged":[]}

{"sheet":"Pf-2","index":31,"n_rows":82,"n_cols":16,"rows_kept":82,"cut":false,"hidden":false,"merged":[[20,13,21,13],[20,7,21,7],[20,8,21,8],[20,9,21,9],[20,10,21,10],[20,11,21,11],[20,12,21,12],[17,2,17,9],[17,11,17,12],[18,2,18,9],[18,11,18,12],[20,0,22,0],[20,2,21,2],[20,3,21,3],[20,4,21,4],[20,5,21,5],[20,6,21,6],[16,2,16,9],[10,2,10,9],[10,11,10,14],[11,2,11,9],[11,12,11,14],[12,2,12,9],[12,12,12,14],[13,2,13,9],[13,12,13,14],[14,2,14,9],[14,12,14,14],[15,2,15,9],[8,2,8,8],[0,1,0,13],[1,1,1,13],[2,1,2,13],[3,1,4,13],[6,2,6,5],[6,6,6,7],[6,8,6,9],[6,10,6,11],[7,2,7,3],[7,5,7,7],[7,8,7,9],[7,10,7,11],[7,12,7,13]]}
[null,{"$f":"UPPER('Data '!D10)","v":"PEMERINTAH KABUPATEN BLORA"}]
[null,{"$f":"UPPER('Data '!D6)","v":"DINAS PENDIDIKAN PEMUDA DAN OLAHRAGA"}]
[null,{"$f":"UPPER('Data '!D7)","v":"SMP NEGERI 6 BLORA"}]
[null,"INSTRUMEN PENILAIAN PORTOFOLIO - 2"]
[]
[]
[null,"Mata Pelajaran :",{"$f":"Home!E16","v":"PJOK"},null,null,null,"Semester  :",null,{"$f":"'Data '!D14","v":"Ganjil"},null,"KKM  :",null,{"$f":"Home!E24","v":2.67}]
[null,"Kelas :",{"$f":"Home!E18","v":"VII-A"},null,null,"Tahun Pelajaran :",null,null,{"$f":"'Data '!D13","v":"2014/2015"},null,"Wali Kelas :",null,{"$f":"'Data '!D17","v":"Mundari, S.Pd."}]
[null,"Aspek :","Ketrampilan/Portofolio  2"]
[]
[null,null,"Kriteria/Aspek yang dinilai",null,null,null,null,null,null,null,null,"Keterangan/Rubrik Penilaian:"]
[null,"1 =",null,null,null,null,null,null,null,null,null,"1 ="]
[null,"2 =",null,null,null,null,null,null,null,null,null,"2 ="]
[null,"3 =",null,null,null,null,null,null,null,null,null,"3 ="]
[null,"4 =",null,null,null,null,null,null,null,null,null,"4 ="]
[null,"5 ="]
[null,"6 ="]
[null,"7 ="]
[]
[]
["No. ","Kriteria/Aspek yang dinilai:","Aspek 1","Aspek 2","Aspek 3","Aspek 4","Aspek 5","Aspek 6","Aspek 7","Jumlah","0-100","0-4","Konversi","Keterangan"]
[]
[null,"Skor Maks Kriteria =",4,4,4,4,null,null,null,{"$f":"SUM(C23:I23)","v":16}]
[null,"Nama"]
[1,{"$f":"'Data '!D27","v":"AHMAD ALEK BRIYANSAPUTRA"},null,null,null,null,null,null,null,{"$f":"SUM(C25:I25)","v":0},{"$f":"IFERROR((J25/$J$23)*100,\" \")","v":0},{"$f":"IFERROR((K25/100)*4,\"  \")","v":0},{"$f":"IF(L25=\" \",\" \",IF(L25>$P$25,\"A\",IF(L25>$P$26,\"A-\",IF(L25>$P$27,\"B+\",IF(L25>$P$28,\"B\",IF(L25>$P$29,\"B-\",IF(L25>$P$30,\"C+\",IF(L25>$P$31,\"C\",IF(L25>$P$32,\"C-\",IF(L25>$P$33,\"D+\",\"D\"))))))))))","v":"D"},{"$f":"IF(L25=\"  \",\"  \",IF(L25>=$M$7,\"Tuntas\",\"Tidak Tuntas\"))","v":"Tidak Tuntas"},null,{"$f":"'Data '!J20","v":3.84}]
[2,{"$f":"'Data '!D28","v":"AULIA AYU FATINA"},null,null,null,null,null,null,null,{"$f":"SUM(C26:I26)","v":0},{"$f":"IFERROR((J26/$J$23)*100,\" \")","v":0},{"$f":"IFERROR((K26/100)*4,\"  \")","v":0},{"$f":"IF(L26=\" \",\" \",IF(L26>$P$25,\"A\",IF(L26>$P$26,\"A-\",IF(L26>$P$27,\"B+\",IF(L26>$P$28,\"B\",IF(L26>$P$29,\"B-\",IF(L26>$P$30,\"C+\",IF(L26>$P$31,\"C\",IF(L26>$P$32,\"C-\",IF(L26>$P$33,\"D+\",\"D\"))))))))))","v":"D"},{"$f":"IF(L26=\"  \",\"  \",IF(L26>=$M$7,\"Tuntas\",\"Tidak Tuntas\"))","v":"Tidak Tuntas"},null,{"$f":"'Data '!J21","v":3.5}]
[3,{"$f":"'Data '!D29","v":"BAGAS YULANDRA PUTRA"},null,null,null,null,null,null,null,0,0,0,"D","Tidak Tuntas",null,{"$f":"'Data '!J22","v":3.17}]
[4,{"$f":"'Data '!D30","v":"CYNTIA AGUSTINA"},null,null,null,null,null,null,null,0,0,0,"D","Tidak Tuntas",null,{"$f":"'Data '!J23","v":2.84}]
[5,{"$f":"'Data '!D31","v":"DAFFA KRISNA PRAMUDYA"},null,null,null,null,null,null,null,0,0,0,"D","Tidak Tuntas",null,{"$f":"'Data '!J24","v":2.5}]
[6,{"$f":"'Data '!D32","v":"DANINDRA RAFIF IRAWAN"},null,null,null,null,null,null,null,0,0,0,"D","Tidak Tuntas",null,{"$f":"'Data '!J25","v":2.17}]
[7,{"$f":"'Data '!D33","v":"DENI PRATAMA"},null,null,null,null,null,null,null,0,0,0,"D","Tidak Tuntas",null,{"$f":"'Data '!J26","v":1.84}]
[8,{"$f":"'Data '!D34","v":"DIKA SUKMA AGUSTIN"},null,null,null,null,null,null,null,0,0,0,"D","Tidak Tuntas",null,{"$f":"'Data '!J27","v":1.5}]
[9,{"$f":"'Data '!D35","v":"DIVA ADITYA"},null,null,null,null,null,null,null,0,0,0,"D","Tidak Tuntas",null,{"$f":"'Data '!J28","v":1.17}]
[10,{"$f":"'Data '!D36","v":"EKO PRASTYO"},null,null,null,null,null,null,null,0,0,0,"D","Tidak Tuntas",null,{"$f":"'Data '!J29","v":1}]
[11,{"$f":"'Data '!D37","v":"FAIQUR RIJAL HAMMAM"},null,null,null,null,null,null,null,0,0,0,"D","Tidak Tuntas"]
[12,{"$f":"'Data '!D38","v":"FATESAR SARI PRASETYO"},null,null,null,null,null,null,null,0,0,0,"D","Tidak Tuntas"]
[13,{"$f":"'Data '!D39","v":"FEBRI SULISTIYO"},null,null,null,null,null,null,null,0,0,0,"D","Tidak Tuntas"]
[14,{"$f":"'Data '!D40","v":"FIONA NANDA FETRIAN"},null,null,null,null,null,null,null,0,0,0,"D","Tidak Tuntas"]
[15,{"$f":"'Data '!D41","v":"GILANG SYAHRUL RAMADHAN"},null,null,null,null,null,null,null,0,0,0,"D","Tidak Tuntas"]
[16,{"$f":"'Data '!D42","v":"IMAM AGUNG WAHYU PRATAMA"},null,null,null,null,null,null,null,0,0,0,"D","Tidak Tuntas"]
[17,{"$f":"'Data '!D43","v":"JOHAN MAULANA"},null,null,null,null,null,null,null,0,0,0,"D","Tidak Tuntas"]
[18,{"$f":"'Data '!D44","v":"JOKO SETIAWAN"},null,null,null,null,null,null,null,0,0,0,"D","Tidak Tuntas"]
[19,{"$f":"'Data '!D45","v":"LISA OKTAVINASARI"},null,null,null,null,null,null,null,0,0,0,"D","Tidak Tuntas"]
[20,{"$f":"'Data '!D46","v":"MARIA GILDA SIREGAR"},null,null,null,null,null,null,null,0,0,0,"D","Tidak Tuntas"]
[21,{"$f":"'Data '!D47","v":"MOHAMMAD NURKHOLISH"},null,null,null,null,null,null,null,0,0,0,"D","Tidak Tuntas"]
[22,{"$f":"'Data '!D48","v":"MUHAMAD FARIS ULIN NUHA"},null,null,null,null,null,null,null,0,0,0,"D","Tidak Tuntas"]
[23,{"$f":"'Data '!D49","v":"MUHAMMAD MUSTOFA"},null,null,null,null,null,null,null,0,0,0,"D","Tidak Tuntas"]
[24,{"$f":"'Data '!D50","v":"NANDA WINTYA PUTRI"},null,null,null,null,null,null,null,0,0,0,"D","Tidak Tuntas"]
[25,{"$f":"'Data '!D51","v":"NI'MA NOVA NUR FADHILAH"},null,null,null,null,null,null,null,0,0,0,"D","Tidak Tuntas"]
[26,{"$f":"'Data '!D52","v":"NITA ZUMROTUT TAQIYAH"},null,null,null,null,null,null,null,0,0,0,"D","Tidak Tuntas"]
[27,{"$f":"'Data '!D53","v":"RACHMAT SAPUTRA ANDRIANSYAH"},null,null,null,null,null,null,null,0,0,0,"D","Tidak Tuntas"]
[28,{"$f":"'Data '!D54","v":"RIZAL ANDRIYAN SAPUTRA"},null,null,null,null,null,null,null,0,0,0,"D","Tidak Tuntas"]
[29,{"$f":"'Data '!D55","v":"SAIFUL ANNAS"},null,null,null,null,null,null,null,0,0,0,"D","Tidak Tuntas"]
[30,{"$f":"'Data '!D56","v":"SELINA SEPTIANI"},null,null,null,null,null,null,null,0,0,0,"D","Tidak Tuntas"]
[31,{"$f":"'Data '!D57","v":"SHALSABILA  SHINTA NIRMALA"},null,null,null,null,null,null,null,0,0,0,"D","Tidak Tuntas"]
[32,{"$f":"'Data '!D58","v":"SITI CHOIRIATUS SA'ADAH"},null,null,null,null,null,null,null,0,0,0,"D","Tidak Tuntas"]
[33,{"$f":"'Data '!D59","v":"SITI NURFAN AZIZAH"},null,null,null,null,null,null,null,0,0,0,"D","Tidak Tuntas"]
[34,{"$f":"'Data '!D60","v":"SITI RAHAYU"},null,null,null,null,null,null,null,0,0,0,"D","Tidak Tuntas"]
[35,{"$f":"'Data '!D61","v":"STEVIANA PUSPITA SARI"},null,null,null,null,null,null,null,0,0,0,"D","Tidak Tuntas"]
[36,{"$f":"'Data '!D62","v":"TAN LINGGAR PRAMUDITA"},null,null,null,null,null,null,null,0,0,0,"D","Tidak Tuntas"]
[37,{"$f":"'Data '!D63","v":"TAUFIK NUR AZIZ DANUARTA"},null,null,null,null,null,null,null,0,0,0,"D","Tidak Tuntas"]
[38,{"$f":"'Data '!D64","v":"TIARA PUTRI AYUNINGTIAS"},null,null,null,null,null,null,null,0,0,0,"D","Tidak Tuntas"]
[39,{"$f":"'Data '!D65","v":"TITANIA GAYATRI PRIANJANI"},null,null,null,null,null,null,null,0,0,0,"D","Tidak Tuntas"]
[40,{"$f":"'Data '!D66","v":"ULFATUN NI'MAH"},null,null,null,null,null,null,null,0,0,0,"D","Tidak Tuntas"]
[41,{"$f":"'Data '!D67","v":0},null,null,null,null,null,null,null,0,0,0,"D","Tidak Tuntas"]
[42,{"$f":"'Data '!D68","v":0},null,null,null,null,null,null,null,0,0,0,"D","Tidak Tuntas"]
[43,{"$f":"'Data '!D69","v":0},null,null,null,null,null,null,null,0,0,0,"D","Tidak Tuntas"]
[44,{"$f":"'Data '!D70","v":0},null,null,null,null,null,null,null,0,0,0,"D","Tidak Tuntas"]
[45,{"$f":"'Data '!D71","v":0},null,null,null,null,null,null,null,0,0,0,"D","Tidak Tuntas"]
[46,{"$f":"'Data '!D72","v":0},null,null,null,null,null,null,null,{"$f":"SUM(C70:I70)","v":0},{"$f":"IFERROR((J70/$J$23)*100,\" \")","v":0},{"$f":"IFERROR((K70/100)*4,\"  \")","v":0},"D",{"$f":"IF(L70=\"  \",\"  \",IF(L70>=$M$7,\"Tuntas\",\"Tidak Tuntas\"))","v":"Tidak Tuntas"}]
[47,{"$f":"'Data '!D73","v":0},null,null,null,null,null,null,null,0,0,0,"D","Tidak Tuntas"]
[48,{"$f":"'Data '!D74","v":0},null,null,null,null,null,null,null,0,0,0,"D","Tidak Tuntas"]
[49,{"$f":"'Data '!D75","v":0},null,null,null,null,null,null,null,0,0,0,"D","Tidak Tuntas"]
[50,{"$f":"'Data '!D76","v":0},null,null,null,null,null,null,null,0,0,0,"D","Tidak Tuntas"]
[null,"Nilai Rata-rata",{"$f":"IFERROR(AVERAGE(C25:C74),\"  \")","v":""},{"$f":"IFERROR(AVERAGE(D25:D74),\"  \")","v":""},"","","","","",0,0,0]
[]
[null,"Mengetahui:",null,null,null,null,null,null,null,null,null,{"$f":"'Data '!D21","v":"Blora, 20 Desember 2014"}]
[null,{"$f":"\"Ka. \"&'Data '!D7","v":"Ka. SMP Negeri 6 Blora"},null,null,null,null,null,null,null,null,null,"Guru Mata Pelajaran"]
[]
[]
[null,{"$f":"'Data '!D15","v":"Suparno, S.Pd.,M.Hum"},null,null,null,null,null,null,null,null,null,{"$f":"Home!E12","v":"Drs. Sarid Nugroho"}]
[null,{"$f":"'Data '!D16","v":"NIP. 19620712 198403 1 012"},null,null,null,null,null,null,null,null,null,{"$f":"Home!E14","v":"NIP. 19631223 198803 1 004"}]

{"sheet":"Kumulasi","index":32,"n_rows":20,"n_cols":17,"rows_kept":20,"cut":false,"hidden":false,"merged":[[17,1,17,3],[17,4,17,6],[17,7,17,9],[17,10,18,10],[12,1,12,3],[12,5,12,7],[12,9,12,10],[12,12,12,14],[16,1,16,11],[1,3,1,8],[7,14,7,16],[6,1,6,11],[11,1,11,11],[4,1,4,15],[2,11,2,13],[2,3,2,5],[1,1,1,2],[2,1,2,2],[7,1,7,5],[7,6,7,10]]}
[]
[null,"NAMA =",null,{"$f":"VLOOKUP($O$3,Menu!I16:BC65,2,0)","v":0}]
[null,"NISN =",null,{"$f":"VLOOKUP($O$3,Menu!I16:BC65,3,0)","v":0},null,null,null,null,null,null,null,"Nomor Absen =",null,null,50]
[]
[null,"LAPORAN AKUMULASI NILAI SISWA"]
[]
[null,"ASPEK PENGETAHUAN:"]
[null,"ULANGAN HARIAN",null,null,null,null,"NILAI TUGAS",null,null,null,null,"Nilai","Nilai","Nilai","Nilai"]
[null,"UH-1","UH-2","UH-3","UH-4","Rerata","TG-1","TG-2","TG-3","TG-4","Rerata","Harian","UTS","UAS","0-100","0-4","Konversi"]
[null,{"$f":"VLOOKUP($O$3,Menu!I16:BC65,4,0)","v":67},{"$f":"VLOOKUP($O$3,Menu!I16:BC65,5,0)","v":0},{"$f":"VLOOKUP($O$3,Menu!I16:BC65,6,0)","v":0},{"$f":"VLOOKUP($O$3,Menu!I16:BC65,7,0)","v":0},{"$f":"VLOOKUP($O$3,Menu!I16:BC65,8,0)","v":67},{"$f":"VLOOKUP($O$3,Menu!I16:BC65,9,0)","v":90},{"$f":"VLOOKUP($O$3,Menu!I16:BC65,10,0)","v":0},{"$f":"VLOOKUP($O$3,Menu!I16:BC65,11,0)","v":0},{"$f":"VLOOKUP($O$3,Menu!I16:BC65,12,0)","v":0},{"$f":"VLOOKUP($O$3,Menu!I16:BC65,13,0)","v":90},{"$f":"VLOOKUP($O$3,Menu!I16:BC65,14,0)","v":78.5},{"$f":"VLOOKUP($O$3,Menu!I16:BC65,15,0)","v":78},{"$f":"VLOOKUP($O$3,Menu!I16:BC65,16,0)","v":90},{"$f":"VLOOKUP($O$3,Menu!I16:BC65,17,0)","v":81.25},{"$f":"VLOOKUP($O$3,Menu!I16:BC65,18,0)","v":3.25},{"$f":"VLOOKUP($O$3,Menu!I16:BC65,19,0)","v":"B+"}]
[]
[null,"ASPEK KETRAMPILAN:"]
[null,"Unjuk Kerja",null,null,"Rerata","Projek",null,null,"Rerata","Portofolio",null,"Rerata","Nilai"]
[null,"UK 1","UK 2","UK 3","TP","Pr1","Pr2","Pr3","Projek","Pf1","Pf2","Porto","0-100","0-4","Konversi"]
[null,{"$f":"VLOOKUP($O$3,Menu!I16:BC65,21,0)","v":56},{"$f":"VLOOKUP($O$3,Menu!I16:BC65,22,0)","v":8},{"$f":"VLOOKUP($O$3,Menu!I16:BC65,23,0)","v":0},{"$f":"VLOOKUP($O$3,Menu!I16:BC65,24,0)","v":56},{"$f":"VLOOKUP($O$3,Menu!I16:BC65,25,0)","v":90},{"$f":"VLOOKUP($O$3,Menu!I16:BC65,26,0)","v":0},{"$f":"VLOOKUP($O$3,Menu!I16:BC65,27,0)","v":0},{"$f":"VLOOKUP($O$3,Menu!I16:BC65,28,0)","v":90},{"$f":"VLOOKUP($O$3,Menu!I16:BC65,29,0)","v":78},{"$f":"VLOOKUP($O$3,Menu!I16:BC65,30,0)","v":0},{"$f":"VLOOKUP($O$3,Menu!I16:BC65,31,0)","v":78},{"$f":"VLOOKUP($O$3,Menu!I16:BC65,32,0)","v":70},{"$f":"VLOOKUP($O$3,Menu!I16:BC65,33,0)","v":2.8},{"$f":"VLOOKUP($O$3,Menu!I16:BC65,34,0)","v":"B-"}]
[]
[null,"ASPEK SIKAP:"]
[null,"Observasi",null,null,"Penilaian Diri",null,null,"Penilaian Teman",null,null,"Jurnal","Nilai","Nilai"]
[null,"Ob1","Ob2","Rerata","Pd1","Pd2","Rerata","PT1","PT2","Rerata",null,"Raport","Konversi"]
[null,{"$f":"VLOOKUP($O$3,Menu!I16:BC65,36,0)","v":""},{"$f":"VLOOKUP($O$3,Menu!I16:BC65,37,0)","v":""},{"$f":"VLOOKUP($O$3,Menu!I16:BC65,38,0)","v":""},{"$f":"VLOOKUP($O$3,Menu!I16:BC65,39,0)","v":""},{"$f":"VLOOKUP($O$3,Menu!I16:BC65,40,0)","v":""},{"$f":"VLOOKUP($O$3,Menu!I16:BC65,41,0)","v":""},{"$f":"VLOOKUP($O$3,Menu!I16:BC65,42,0)","v":""},{"$f":"VLOOKUP($O$3,Menu!I16:BC65,43,0)","v":""},{"$f":"VLOOKUP($O$3,Menu!I16:BC65,44,0)","v":""},{"$f":"VLOOKUP($O$3,Menu!I16:BC65,45,0)","v":""},{"$f":"VLOOKUP($O$3,Menu!I16:BC65,46,0)","v":""},{"$f":"VLOOKUP($O$3,Menu!I16:BC65,47,0)","v":"SB"}]

{"sheet":"Sheet1","index":33,"n_rows":2,"n_cols":1,"rows_kept":2,"cut":false,"hidden":true,"merged":[]}
[]
["purnawanto"]

{"sheet":"Ct UK","index":34,"n_rows":82,"n_cols":15,"rows_kept":82,"cut":false,"hidden":false,"merged":[[7,10,7,11],[7,12,7,13],[8,2,8,8],[0,1,0,13],[1,1,1,13],[2,1,2,13],[3,1,4,13],[6,2,6,5],[6,6,6,7],[6,8,6,9],[6,10,6,11],[16,2,16,9],[10,2,10,9],[11,2,11,9],[12,2,12,9],[7,2,7,3],[7,5,7,7],[7,8,7,9],[20,0,22,0],[20,2,21,2],[20,3,21,3],[20,4,21,4],[20,5,21,5],[20,13,21,13],[10,11,10,13],[20,7,21,7],[20,8,21,8],[20,9,21,9],[20,10,21,10],[20,11,21,11],[20,12,21,12],[17,2,17,9],[17,11,17,12],[18,2,18,9],[18,11,18,12],[20,6,21,6],[13,2,13,9],[14,2,14,9],[15,2,15,9]]}
[null,{"$f":"UPPER('Data '!D10)","v":"PEMERINTAH KABUPATEN BLORA"}]
[null,{"$f":"UPPER('Data '!D6)","v":"DINAS PENDIDIKAN PEMUDA DAN OLAHRAGA"}]
[null,{"$f":"UPPER('Data '!D7)","v":"SMP NEGERI 6 BLORA"}]
[null,"INSTRUMEN PENILAIAN UNJUK KERJA / PRAKTIK"]
[]
[]
[null,"Mata Pelajaran :",{"$f":"Home!E16","v":"PJOK"},null,null,null,"Semester  :",null,{"$f":"'Data '!D14","v":"Ganjil"},null,"KKM  :",null,{"$f":"Home!E24","v":2.67}]
[null,"Kelas :",{"$f":"Home!E18","v":"VII-A"},null,null,"Tahun Pelajaran :",null,null,{"$f":"'Data '!D13","v":"2014/2015"},null,"Wali Kelas :",null,{"$f":"'Data '!D17","v":"Mundari, S.Pd."}]
[null,"Aspek :","Unjuk Kerja (Praktik)"]
[]
[null,null,"Kriteria/Aspek yang dinilai",null,null,null,null,null,null,null,null,"Keterangan/Rubrik Penilaian:"]
[null,"1 =",null,null,null,null,null,null,null,null,null,"1 ="]
[null,"2 =",null,null,null,null,null,null,null,null,null,"2 ="]
[null,"3 =",null,null,null,null,null,null,null,null,null,"3 ="]
[null,"4 =",null,null,null,null,null,null,null,null,null,"4 ="]
[null,"5 ="]
[null,"6 ="]
[null,"7 ="]
[]
[]
["No. ","Kriteria/Aspek yang dinilai:","Aspek 1","Aspek 2","Aspek 3","Aspek 4","Aspek 5","Aspek 6","Aspek 7","Jumlah","0-100","0-4","Konversi","Keterangan"]
[null,"``"]
[null,"Skor Maks Kriteria ="]
[null,"Nama"]
[1,{"$f":"'Data '!D27","v":"AHMAD ALEK BRIYANSAPUTRA"}]
[2,{"$f":"'Data '!D28","v":"AULIA AYU FATINA"},null,null,null,null,null,null,null,null,null,null,null,null,2.0555555555555498E+26]
[3,{"$f":"'Data '!D29","v":"BAGAS YULANDRA PUTRA"}]
[4,{"$f":"'Data '!D30","v":"CYNTIA AGUSTINA"}]
[5,{"$f":"'Data '!D31","v":"DAFFA KRISNA PRAMUDYA"}]
[6,{"$f":"'Data '!D32","v":"DANINDRA RAFIF IRAWAN"}]
[7,{"$f":"'Data '!D33","v":"DENI PRATAMA"}]
[8,{"$f":"'Data '!D34","v":"DIKA SUKMA AGUSTIN"}]
[9,{"$f":"'Data '!D35","v":"DIVA ADITYA"}]
[10,{"$f":"'Data '!D36","v":"EKO PRASTYO"}]
[11,{"$f":"'Data '!D37","v":"FAIQUR RIJAL HAMMAM"}]
[12,{"$f":"'Data '!D38","v":"FATESAR SARI PRASETYO"}]
[13,{"$f":"'Data '!D39","v":"FEBRI SULISTIYO"}]
[14,{"$f":"'Data '!D40","v":"FIONA NANDA FETRIAN"}]
[15,{"$f":"'Data '!D41","v":"GILANG SYAHRUL RAMADHAN"}]
[16,{"$f":"'Data '!D42","v":"IMAM AGUNG WAHYU PRATAMA"}]
[17,{"$f":"'Data '!D43","v":"JOHAN MAULANA"}]
[18,{"$f":"'Data '!D44","v":"JOKO SETIAWAN"}]
[19,{"$f":"'Data '!D45","v":"LISA OKTAVINASARI"}]
[20,{"$f":"'Data '!D46","v":"MARIA GILDA SIREGAR"}]
[21,{"$f":"'Data '!D47","v":"MOHAMMAD NURKHOLISH"}]
[22,{"$f":"'Data '!D48","v":"MUHAMAD FARIS ULIN NUHA"}]
[23,{"$f":"'Data '!D49","v":"MUHAMMAD MUSTOFA"}]
[24,{"$f":"'Data '!D50","v":"NANDA WINTYA PUTRI"}]
[25,{"$f":"'Data '!D51","v":"NI'MA NOVA NUR FADHILAH"}]
[26,{"$f":"'Data '!D52","v":"NITA ZUMROTUT TAQIYAH"}]
[27,{"$f":"'Data '!D53","v":"RACHMAT SAPUTRA ANDRIANSYAH"}]
[28,{"$f":"'Data '!D54","v":"RIZAL ANDRIYAN SAPUTRA"}]
[29,{"$f":"'Data '!D55","v":"SAIFUL ANNAS"}]
[30,{"$f":"'Data '!D56","v":"SELINA SEPTIANI"}]
[31,{"$f":"'Data '!D57","v":"SHALSABILA  SHINTA NIRMALA"}]
[32,{"$f":"'Data '!D58","v":"SITI CHOIRIATUS SA'ADAH"}]
[33,{"$f":"'Data '!D59","v":"SITI NURFAN AZIZAH"}]
[34,{"$f":"'Data '!D60","v":"SITI RAHAYU"}]
[35,{"$f":"'Data '!D61","v":"STEVIANA PUSPITA SARI"}]
[36,{"$f":"'Data '!D62","v":"TAN LINGGAR PRAMUDITA"}]
[37,{"$f":"'Data '!D63","v":"TAUFIK NUR AZIZ DANUARTA"}]
[38,{"$f":"'Data '!D64","v":"TIARA PUTRI AYUNINGTIAS"}]
[39,{"$f":"'Data '!D65","v":"TITANIA GAYATRI PRIANJANI"}]
[40,{"$f":"'Data '!D66","v":"ULFATUN NI'MAH"}]
[41,{"$f":"'Data '!D67","v":0}]
[42,{"$f":"'Data '!D68","v":0}]
[43,{"$f":"'Data '!D69","v":0}]
[44,{"$f":"'Data '!D70","v":0}]
[45,{"$f":"'Data '!D71","v":0}]
[46,{"$f":"'Data '!D72","v":0}]
[47,{"$f":"'Data '!D73","v":0}]
[48,{"$f":"'Data '!D74","v":0}]
[49,{"$f":"'Data '!D75","v":0}]
[50,{"$f":"'Data '!D76","v":0}]
[null,"Nilai Rata-rata",{"$f":"IFERROR(AVERAGE(C25:C74),\"  \")","v":""},{"$f":"IFERROR(AVERAGE(D25:D74),\"  \")","v":""},"","","","","",null,"",""]
[]
[null,"Mengetahui:",null,null,null,null,null,null,null,null,null,{"$f":"'Data '!D21","v":"Blora, 20 Desember 2014"}]
[null,{"$f":"\"Ka. \"&'Data '!D7","v":"Ka. SMP Negeri 6 Blora"},null,null,null,null,null,null,null,null,null,"Guru Mata Pelajaran"]
[]
[]
[null,{"$f":"'Data '!D15","v":"Suparno, S.Pd.,M.Hum"},null,null,null,null,null,null,null,null,null,{"$f":"Home!E12","v":"Drs. Sarid Nugroho"}]
[null,{"$f":"'Data '!D16","v":"NIP. 19620712 198403 1 012"},null,null,null,null,null,null,null,null,null,{"$f":"Home!E14","v":"NIP. 19631223 198803 1 004"}]

{"sheet":"Ct Pr","index":35,"n_rows":83,"n_cols":14,"rows_kept":83,"cut":false,"hidden":false,"merged":[[7,10,7,11],[7,12,7,13],[8,2,8,8],[0,1,0,13],[1,1,1,13],[2,1,2,13],[3,1,4,13],[6,2,6,5],[6,6,6,7],[6,8,6,9],[6,10,6,11],[16,2,16,9],[10,2,10,9],[11,2,11,9],[12,2,12,9],[7,2,7,3],[7,5,7,7],[7,8,7,9],[20,0,22,0],[20,2,21,2],[20,3,21,3],[20,4,21,4],[20,5,21,5],[20,13,21,13],[10,11,10,13],[20,7,21,7],[20,8,21,8],[20,9,21,9],[20,10,21,10],[20,11,21,11],[20,12,21,12],[17,2,17,9],[17,11,17,12],[18,2,18,9],[18,11,18,12],[20,6,21,6],[13,2,13,9],[14,2,14,9],[15,2,15,9]]}
[null,{"$f":"UPPER('Data '!D10)","v":"PEMERINTAH KABUPATEN BLORA"}]
[null,{"$f":"UPPER('Data '!D6)","v":"DINAS PENDIDIKAN PEMUDA DAN OLAHRAGA"}]
[null,{"$f":"UPPER('Data '!D7)","v":"SMP NEGERI 6 BLORA"}]
[null,"INSTRUMEN PENILAIAN PROYEK - 3"]
[]
[]
[null,"Mata Pelajaran :",{"$f":"Home!E16","v":"PJOK"},null,null,null,"Semester  :",null,{"$f":"'Data '!D14","v":"Ganjil"},null,"KKM  :",null,{"$f":"Home!E24","v":2.67}]
[null,"Kelas :",{"$f":"Home!E18","v":"VII-A"},null,null,"Tahun Pelajaran :",null,null,{"$f":"'Data '!D13","v":"2014/2015"},null,"Wali Kelas :",null,{"$f":"'Data '!D17","v":"Mundari, S.Pd."}]
[null,"Aspek :","Ketrampilan/Projek   3"]
[]
[null,null,"Kriteria / Aspek yang dinilai",null,null,null,null,null,null,null,null,"Keterangan/Rubrik Penilaian:"]
[null,"1 =",null,null,null,null,null,null,null,null,null,"1 ="]
[null,"2 =",null,null,null,null,null,null,null,null,null,"2 ="]
[null,"3 =",null,null,null,null,null,null,null,null,null,"3 ="]
[null,"4 =",null,null,null,null,null,null,null,null,null,"4 ="]
[null,"5 ="]
[null,"6 ="]
[null,"7 ="]
[]
[]
["No. ","Kriteria/Aspek yang dinilai:","Aspek 1","Aspek 2","Aspek 3","Aspek 4","Aspek 5","Aspek 6","Aspek 7","Jumlah","0-100","0-4","Konversi","Keterangan"]
[]
[null,"Skor Maks Kriteria ="]
[null,"Nama"]
[1,{"$f":"'Data '!D27","v":"AHMAD ALEK BRIYANSAPUTRA"}]
[2,{"$f":"'Data '!D28","v":"AULIA AYU FATINA"}]
[3,{"$f":"'Data '!D29","v":"BAGAS YULANDRA PUTRA"}]
[4,{"$f":"'Data '!D30","v":"CYNTIA AGUSTINA"}]
[5,{"$f":"'Data '!D31","v":"DAFFA KRISNA PRAMUDYA"}]
[6,{"$f":"'Data '!D32","v":"DANINDRA RAFIF IRAWAN"}]
[7,{"$f":"'Data '!D33","v":"DENI PRATAMA"}]
[8,{"$f":"'Data '!D34","v":"DIKA SUKMA AGUSTIN"}]
[9,{"$f":"'Data '!D35","v":"DIVA ADITYA"}]
[10,{"$f":"'Data '!D36","v":"EKO PRASTYO"}]
[11,{"$f":"'Data '!D37","v":"FAIQUR RIJAL HAMMAM"}]
[12,{"$f":"'Data '!D38","v":"FATESAR SARI PRASETYO"}]
[13,{"$f":"'Data '!D39","v":"FEBRI SULISTIYO"}]
[14,{"$f":"'Data '!D40","v":"FIONA NANDA FETRIAN"}]
[15,{"$f":"'Data '!D41","v":"GILANG SYAHRUL RAMADHAN"}]
[16,{"$f":"'Data '!D42","v":"IMAM AGUNG WAHYU PRATAMA"}]
[17,{"$f":"'Data '!D43","v":"JOHAN MAULANA"}]
[18,{"$f":"'Data '!D44","v":"JOKO SETIAWAN"}]
[19,{"$f":"'Data '!D45","v":"LISA OKTAVINASARI"}]
[20,{"$f":"'Data '!D46","v":"MARIA GILDA SIREGAR"}]
[21,{"$f":"'Data '!D47","v":"MOHAMMAD NURKHOLISH"}]
[22,{"$f":"'Data '!D48","v":"MUHAMAD FARIS ULIN NUHA"}]
[23,{"$f":"'Data '!D49","v":"MUHAMMAD MUSTOFA"}]
[24,{"$f":"'Data '!D50","v":"NANDA WINTYA PUTRI"}]
[25,{"$f":"'Data '!D51","v":"NI'MA NOVA NUR FADHILAH"}]
[26,{"$f":"'Data '!D52","v":"NITA ZUMROTUT TAQIYAH"}]
[27,{"$f":"'Data '!D53","v":"RACHMAT SAPUTRA ANDRIANSYAH"}]
[28,{"$f":"'Data '!D54","v":"RIZAL ANDRIYAN SAPUTRA"}]
[29,{"$f":"'Data '!D55","v":"SAIFUL ANNAS"}]
[30,{"$f":"'Data '!D56","v":"SELINA SEPTIANI"}]
[31,{"$f":"'Data '!D57","v":"SHALSABILA  SHINTA NIRMALA"}]
[32,{"$f":"'Data '!D58","v":"SITI CHOIRIATUS SA'ADAH"}]
[33,{"$f":"'Data '!D59","v":"SITI NURFAN AZIZAH"}]
[34,{"$f":"'Data '!D60","v":"SITI RAHAYU"}]
[35,{"$f":"'Data '!D61","v":"STEVIANA PUSPITA SARI"}]
[36,{"$f":"'Data '!D62","v":"TAN LINGGAR PRAMUDITA"}]
[37,{"$f":"'Data '!D63","v":"TAUFIK NUR AZIZ DANUARTA"}]
[38,{"$f":"'Data '!D64","v":"TIARA PUTRI AYUNINGTIAS"}]
[39,{"$f":"'Data '!D65","v":"TITANIA GAYATRI PRIANJANI"}]
[40,{"$f":"'Data '!D66","v":"ULFATUN NI'MAH"}]
[41,{"$f":"'Data '!D67","v":0}]
[42,{"$f":"'Data '!D68","v":0}]
[43,{"$f":"'Data '!D69","v":0}]
[44,{"$f":"'Data '!D70","v":0}]
[45,{"$f":"'Data '!D71","v":0}]
[46,{"$f":"'Data '!D72","v":0}]
[47,{"$f":"'Data '!D73","v":0}]
[48,{"$f":"'Data '!D74","v":0}]
[49,{"$f":"'Data '!D75","v":0}]
[50,{"$f":"'Data '!D76","v":0}]
[null,"Nilai Rata-rata",{"$f":"IFERROR(AVERAGE(C25:C74),\"  \")","v":""},{"$f":"IFERROR(AVERAGE(D25:D74),\"  \")","v":""},"","","","",""]
[]
[null,"Mengetahui:",null,null,null,null,null,null,null,null,null,{"$f":"'Data '!D21","v":"Blora, 20 Desember 2014"}]
[null,{"$f":"\"Ka. \"&'Data '!D7","v":"Ka. SMP Negeri 6 Blora"},null,null,null,null,null,null,null,null,null,"Guru Mata Pelajaran"]
[]
[]
[]
[null,{"$f":"'Data '!D15","v":"Suparno, S.Pd.,M.Hum"},null,null,null,null,null,null,null,null,null,{"$f":"Home!E12","v":"Drs. Sarid Nugroho"}]
[null,{"$f":"'Data '!D16","v":"NIP. 19620712 198403 1 012"},null,null,null,null,null,null,null,null,null,{"$f":"Home!E14","v":"NIP. 19631223 198803 1 004"}]

{"sheet":"CT Pf","index":36,"n_rows":83,"n_cols":14,"rows_kept":83,"cut":false,"hidden":false,"merged":[[7,10,7,11],[7,12,7,13],[8,2,8,8],[0,1,0,13],[1,1,1,13],[2,1,2,13],[3,1,4,13],[6,2,6,5],[6,6,6,7],[6,8,6,9],[6,10,6,11],[16,2,16,9],[10,2,10,9],[11,2,11,9],[12,2,12,9],[7,2,7,3],[7,5,7,7],[7,8,7,9],[20,0,22,0],[20,2,21,2],[20,3,21,3],[20,4,21,4],[20,5,21,5],[20,13,21,13],[10,11,10,13],[20,7,21,7],[20,8,21,8],[20,9,21,9],[20,10,21,10],[20,11,21,11],[20,12,21,12],[17,2,17,9],[17,11,17,12],[18,2,18,9],[18,11,18,12],[20,6,21,6],[13,2,13,9],[14,2,14,9],[15,2,15,9]]}
[null,{"$f":"UPPER('Data '!D10)","v":"PEMERINTAH KABUPATEN BLORA"}]
[null,{"$f":"UPPER('Data '!D6)","v":"DINAS PENDIDIKAN PEMUDA DAN OLAHRAGA"}]
[null,{"$f":"UPPER('Data '!D7)","v":"SMP NEGERI 6 BLORA"}]
[null,"INSTRUMEN PENILAIAN PORTOFOLIO - 1"]
[]
[]
[null,"Mata Pelajaran :",{"$f":"Home!E16","v":"PJOK"},null,null,null,"Semester  :",null,{"$f":"'Data '!D14","v":"Ganjil"},null,"KKM  :",null,{"$f":"Home!E24","v":2.67}]
[null,"Kelas :",{"$f":"Home!E18","v":"VII-A"},null,null,"Tahun Pelajaran :",null,null,{"$f":"'Data '!D13","v":"2014/2015"},null,"Wali Kelas :",null,{"$f":"'Data '!D17","v":"Mundari, S.Pd."}]
[null,"Aspek :","Ketrampilan/Portofolio   1"]
[]
[null,null,"Kriteria/Aspek yang dinilai",null,null,null,null,null,null,null,null,"Keterangan/Rubrik Penilaian:"]
[null,"1 =",null,null,null,null,null,null,null,null,null,"1 ="]
[null,"2 =",null,null,null,null,null,null,null,null,null,"2 ="]
[null,"3 =",null,null,null,null,null,null,null,null,null,"3 ="]
[null,"4 =",null,null,null,null,null,null,null,null,null,"4 ="]
[null,"5 ="]
[null,"6 ="]
[null,"7 ="]
[]
[]
["No. ","Kriteria/Aspek yang dinilai:","Aspek 1","Aspek 2","Aspek 3","Aspek 4","Aspek 5","Aspek 6","Aspek 7","Jumlah","0-100","0-4","Konversi","Keterangan"]
[]
[null,"Skor Maks Kriteria ="]
[null,"Nama"]
[1,{"$f":"'Data '!D27","v":"AHMAD ALEK BRIYANSAPUTRA"}]
[2,{"$f":"'Data '!D28","v":"AULIA AYU FATINA"}]
[3,{"$f":"'Data '!D29","v":"BAGAS YULANDRA PUTRA"}]
[4,{"$f":"'Data '!D30","v":"CYNTIA AGUSTINA"}]
[5,{"$f":"'Data '!D31","v":"DAFFA KRISNA PRAMUDYA"}]
[6,{"$f":"'Data '!D32","v":"DANINDRA RAFIF IRAWAN"}]
[7,{"$f":"'Data '!D33","v":"DENI PRATAMA"}]
[8,{"$f":"'Data '!D34","v":"DIKA SUKMA AGUSTIN"}]
[9,{"$f":"'Data '!D35","v":"DIVA ADITYA"}]
[10,{"$f":"'Data '!D36","v":"EKO PRASTYO"}]
[11,{"$f":"'Data '!D37","v":"FAIQUR RIJAL HAMMAM"}]
[12,{"$f":"'Data '!D38","v":"FATESAR SARI PRASETYO"}]
[13,{"$f":"'Data '!D39","v":"FEBRI SULISTIYO"}]
[14,{"$f":"'Data '!D40","v":"FIONA NANDA FETRIAN"}]
[15,{"$f":"'Data '!D41","v":"GILANG SYAHRUL RAMADHAN"}]
[16,{"$f":"'Data '!D42","v":"IMAM AGUNG WAHYU PRATAMA"}]
[17,{"$f":"'Data '!D43","v":"JOHAN MAULANA"}]
[18,{"$f":"'Data '!D44","v":"JOKO SETIAWAN"}]
[19,{"$f":"'Data '!D45","v":"LISA OKTAVINASARI"}]
[20,{"$f":"'Data '!D46","v":"MARIA GILDA SIREGAR"}]
[21,{"$f":"'Data '!D47","v":"MOHAMMAD NURKHOLISH"}]
[22,{"$f":"'Data '!D48","v":"MUHAMAD FARIS ULIN NUHA"}]
[23,{"$f":"'Data '!D49","v":"MUHAMMAD MUSTOFA"}]
[24,{"$f":"'Data '!D50","v":"NANDA WINTYA PUTRI"}]
[25,{"$f":"'Data '!D51","v":"NI'MA NOVA NUR FADHILAH"}]
[26,{"$f":"'Data '!D52","v":"NITA ZUMROTUT TAQIYAH"}]
[27,{"$f":"'Data '!D53","v":"RACHMAT SAPUTRA ANDRIANSYAH"}]
[28,{"$f":"'Data '!D54","v":"RIZAL ANDRIYAN SAPUTRA"}]
[29,{"$f":"'Data '!D55","v":"SAIFUL ANNAS"}]
[30,{"$f":"'Data '!D56","v":"SELINA SEPTIANI"}]
[31,{"$f":"'Data '!D57","v":"SHALSABILA  SHINTA NIRMALA"}]
[32,{"$f":"'Data '!D58","v":"SITI CHOIRIATUS SA'ADAH"}]
[33,{"$f":"'Data '!D59","v":"SITI NURFAN AZIZAH"}]
[34,{"$f":"'Data '!D60","v":"SITI RAHAYU"}]
[35,{"$f":"'Data '!D61","v":"STEVIANA PUSPITA SARI"}]
[36,{"$f":"'Data '!D62","v":"TAN LINGGAR PRAMUDITA"}]
[37,{"$f":"'Data '!D63","v":"TAUFIK NUR AZIZ DANUARTA"}]
[38,{"$f":"'Data '!D64","v":"TIARA PUTRI AYUNINGTIAS"}]
[39,{"$f":"'Data '!D65","v":"TITANIA GAYATRI PRIANJANI"}]
[40,{"$f":"'Data '!D66","v":"ULFATUN NI'MAH"}]
[41,{"$f":"'Data '!D67","v":0}]
[42,{"$f":"'Data '!D68","v":0}]
[43,{"$f":"'Data '!D69","v":0}]
[44,{"$f":"'Data '!D70","v":0}]
[45,{"$f":"'Data '!D71","v":0}]
[46,{"$f":"'Data '!D72","v":0}]
[47,{"$f":"'Data '!D73","v":0}]
[48,{"$f":"'Data '!D74","v":0}]
[49,{"$f":"'Data '!D75","v":0}]
[50,{"$f":"'Data '!D76","v":0}]
[null,"Nilai Rata-rata",{"$f":"IFERROR(AVERAGE(C25:C74),\"  \")","v":""},{"$f":"IFERROR(AVERAGE(D25:D74),\"  \")","v":""},"","","","","","","",""]
[]
[null,"Mengetahui:",null,null,null,null,null,null,null,null,null,{"$f":"'Data '!D21","v":"Blora, 20 Desember 2014"}]
[null,{"$f":"\"Ka. \"&'Data '!D7","v":"Ka. SMP Negeri 6 Blora"},null,null,null,null,null,null,null,null,null,"Guru Mata Pelajaran"]
[]
[]
[]
[null,{"$f":"'Data '!D15","v":"Suparno, S.Pd.,M.Hum"},null,null,null,null,null,null,null,null,null,{"$f":"Home!E12","v":"Drs. Sarid Nugroho"}]
[null,{"$f":"'Data '!D16","v":"NIP. 19620712 198403 1 012"},null,null,null,null,null,null,null,null,null,{"$f":"Home!E14","v":"NIP. 19631223 198803 1 004"}]

{"sheet":"Spiritual","index":37,"n_rows":70,"n_cols":14,"rows_kept":70,"cut":false,"hidden":false,"merged":[[7,2,7,3],[7,10,7,11],[7,12,7,13],[0,1,0,13],[1,1,1,13],[2,1,2,13],[3,1,4,13],[6,2,6,5],[6,8,6,9],[6,10,6,11],[7,7,7,9],[17,0,19,0],[17,2,19,2],[17,3,19,3],[17,4,19,4],[17,5,19,5],[14,1,14,12],[15,1,15,12],[17,6,19,6],[10,1,10,12],[11,1,11,12],[12,1,12,12],[16,2,16,6],[16,9,16,13],[17,13,19,13],[17,7,19,7],[17,8,19,8],[17,9,19,9],[17,10,19,10],[17,11,19,11],[17,12,19,12]]}
[null,{"$f":"UPPER('Data '!D10)","v":"PEMERINTAH KABUPATEN BLORA"}]
[null,{"$f":"UPPER('Data '!D6)","v":"DINAS PENDIDIKAN PEMUDA DAN OLAHRAGA"}]
[null,{"$f":"UPPER('Data '!D7)","v":"SMP NEGERI 6 BLORA"}]
[null,"INSTRUMENS PENILAIAN OBSERVASI SIKAP SPIRITUAL"]
[]
[]
[null,"Mata Pelajaran :",{"$f":"Home!E16","v":"PJOK"},null,null,null,null,null,"Semester  :",null,{"$f":"'Data '!D14","v":"Ganjil"}]
[null,"Kelas :",{"$f":"Home!E18","v":"VII-A"},null,null,null,null,"Tahun Pelajaran :",null,null,{"$f":"'Data '!D13","v":"2014/2015"}]
[]
[null,"Aspek Pengamatan"]
[1,"Berdoa sebelum dan sesudah melakukan sesuatu"]
[2,"Mengucapkan rasa syukur atas karunia Tuhan"]
[3,"Memberi salam sebelum dan sesudah menyampaikan pendapat/presentasi"]
[4,"Mengungkapakan kekaguman secara lisan maupun tulisan terhadap Tuhan saat melihat kebesaran Tuhan"]
[5,"Merasakan keberadaan dan kebesaran Tuhan saat mempelajari ilmu pengetahuan"]
[]
[null,null,"OBSERVASI 1",null,null,null,null,null,null,"OBSERVASI 2"]
["No. ","Sikap","Aspek 1","Aspek 2","Aspek 3","Aspek 4","Aspek 5",null,null,"Aspek 1","Aspek 2","Aspek 3","Aspek 4","Aspek 5"]
[]
[null,"Nama"]
[1,{"$f":"'Data '!D27","v":"AHMAD ALEK BRIYANSAPUTRA"}]
[2,{"$f":"'Data '!D28","v":"AULIA AYU FATINA"}]
[3,{"$f":"'Data '!D29","v":"BAGAS YULANDRA PUTRA"}]
[4,{"$f":"'Data '!D30","v":"CYNTIA AGUSTINA"}]
[5,{"$f":"'Data '!D31","v":"DAFFA KRISNA PRAMUDYA"}]
[6,{"$f":"'Data '!D32","v":"DANINDRA RAFIF IRAWAN"}]
[7,{"$f":"'Data '!D33","v":"DENI PRATAMA"}]
[8,{"$f":"'Data '!D34","v":"DIKA SUKMA AGUSTIN"}]
[9,{"$f":"'Data '!D35","v":"DIVA ADITYA"}]
[10,{"$f":"'Data '!D36","v":"EKO PRASTYO"}]
[11,{"$f":"'Data '!D37","v":"FAIQUR RIJAL HAMMAM"}]
[12,{"$f":"'Data '!D38","v":"FATESAR SARI PRASETYO"}]
[13,{"$f":"'Data '!D39","v":"FEBRI SULISTIYO"}]
[14,{"$f":"'Data '!D40","v":"FIONA NANDA FETRIAN"}]
[15,{"$f":"'Data '!D41","v":"GILANG SYAHRUL RAMADHAN"}]
[16,{"$f":"'Data '!D42","v":"IMAM AGUNG WAHYU PRATAMA"}]
[17,{"$f":"'Data '!D43","v":"JOHAN MAULANA"}]
[18,{"$f":"'Data '!D44","v":"JOKO SETIAWAN"}]
[19,{"$f":"'Data '!D45","v":"LISA OKTAVINASARI"}]
[20,{"$f":"'Data '!D46","v":"MARIA GILDA SIREGAR"}]
[21,{"$f":"'Data '!D47","v":"MOHAMMAD NURKHOLISH"}]
[22,{"$f":"'Data '!D48","v":"MUHAMAD FARIS ULIN NUHA"}]
[23,{"$f":"'Data '!D49","v":"MUHAMMAD MUSTOFA"}]
[24,{"$f":"'Data '!D50","v":"NANDA WINTYA PUTRI"}]
[25,{"$f":"'Data '!D51","v":"NI'MA NOVA NUR FADHILAH"}]
[26,{"$f":"'Data '!D52","v":"NITA ZUMROTUT TAQIYAH"}]
[27,{"$f":"'Data '!D53","v":"RACHMAT SAPUTRA ANDRIANSYAH"}]
[28,{"$f":"'Data '!D54","v":"RIZAL ANDRIYAN SAPUTRA"}]
[29,{"$f":"'Data '!D55","v":"SAIFUL ANNAS"}]
[30,{"$f":"'Data '!D56","v":"SELINA SEPTIANI"}]
[31,{"$f":"'Data '!D57","v":"SHALSABILA  SHINTA NIRMALA"}]
[32,{"$f":"'Data '!D58","v":"SITI CHOIRIATUS SA'ADAH"}]
[33,{"$f":"'Data '!D59","v":"SITI NURFAN AZIZAH"}]
[34,{"$f":"'Data '!D60","v":"SITI RAHAYU"}]
[35,{"$f":"'Data '!D61","v":"STEVIANA PUSPITA SARI"}]
[36,{"$f":"'Data '!D62","v":"TAN LINGGAR PRAMUDITA"}]
[37,{"$f":"'Data '!D63","v":"TAUFIK NUR AZIZ DANUARTA"}]
[38,{"$f":"'Data '!D64","v":"TIARA PUTRI AYUNINGTIAS"}]
[39,{"$f":"'Data '!D65","v":"TITANIA GAYATRI PRIANJANI"}]
[40,{"$f":"'Data '!D66","v":"ULFATUN NI'MAH"}]
[41,{"$f":"'Data '!D67","v":0}]
[42,{"$f":"'Data '!D68","v":0}]
[43,{"$f":"'Data '!D69","v":0}]
[44,{"$f":"'Data '!D70","v":0}]
[45,{"$f":"'Data '!D71","v":0}]
[46,{"$f":"'Data '!D72","v":0}]
[47,{"$f":"'Data '!D73","v":0}]
[48,{"$f":"'Data '!D74","v":0}]
[49,{"$f":"'Data '!D75","v":0}]
[50,{"$f":"'Data '!D76","v":0}]

{"sheet":"Jujur","index":38,"n_rows":70,"n_cols":14,"rows_kept":70,"cut":false,"hidden":false,"merged":[[7,2,7,3],[7,10,7,11],[7,12,7,13],[0,1,0,13],[1,1,1,13],[2,1,2,13],[3,1,4,13],[6,2,6,5],[6,8,6,9],[6,10,6,11],[7,7,7,9],[17,0,19,0],[17,2,19,2],[17,3,19,3],[17,4,19,4],[17,5,19,5],[16,2,16,6],[16,9,16,13],[17,13,19,13],[17,7,19,7],[17,8,19,8],[17,9,19,9],[17,10,19,10],[17,11,19,11],[17,12,19,12],[17,6,19,6],[10,1,10,12],[11,1,11,13],[12,1,12,12],[13,1,13,12],[14,1,14,12]]}
[null,{"$f":"UPPER('Data '!D10)","v":"PEMERINTAH KABUPATEN BLORA"}]
[null,{"$f":"UPPER('Data '!D6)","v":"DINAS PENDIDIKAN PEMUDA DAN OLAHRAGA"}]
[null,{"$f":"UPPER('Data '!D7)","v":"SMP NEGERI 6 BLORA"}]
[null,"INSTRUMENS PENILAIAN OBSERVASI SIKAP JUJUR"]
[]
[]
[null,"Mata Pelajaran :",{"$f":"Home!E16","v":"PJOK"},null,null,null,null,null,"Semester  :",null,{"$f":"'Data '!D14","v":"Ganjil"}]
[null,"Kelas :",{"$f":"Home!E18","v":"VII-A"},null,null,null,null,"Tahun Pelajaran :",null,null,{"$f":"'Data '!D13","v":"2014/2015"}]
[]
[null,"Aspek Pengamatan"]
[1,"Tidak nyontek dalam mengerjakan ujian/ulangan/tugas"]
[2,"Tidak melakukan plagiat (mengambil/menyalin karya orang lain tanpa menyebutkan sumber) dalam mengerjakan setiap tugas"]
[3,"Mengungkapkan perasaan terhadap sesuatu apa adanya"]
[4,"Melaporkan data atau informasi apa adanya"]
[5,"Mengakui kesalahan atau kekurangan yang dimiliki"]
[]
[null,null,"OBSERVASI 1",null,null,null,null,null,null,"OBSERVASI 2"]
["No. ","Sikap","Aspek 1","Aspek 2","Aspek 3","Aspek 4","Aspek 5",null,null,"Aspek 1","Aspek 2","Aspek 3","Aspek 4","Aspek 5"]
[]
[null,"Nama"]
[1,{"$f":"'Data '!D27","v":"AHMAD ALEK BRIYANSAPUTRA"}]
[2,{"$f":"'Data '!D28","v":"AULIA AYU FATINA"}]
[3,{"$f":"'Data '!D29","v":"BAGAS YULANDRA PUTRA"}]
[4,{"$f":"'Data '!D30","v":"CYNTIA AGUSTINA"}]
[5,{"$f":"'Data '!D31","v":"DAFFA KRISNA PRAMUDYA"}]
[6,{"$f":"'Data '!D32","v":"DANINDRA RAFIF IRAWAN"}]
[7,{"$f":"'Data '!D33","v":"DENI PRATAMA"}]
[8,{"$f":"'Data '!D34","v":"DIKA SUKMA AGUSTIN"}]
[9,{"$f":"'Data '!D35","v":"DIVA ADITYA"}]
[10,{"$f":"'Data '!D36","v":"EKO PRASTYO"}]
[11,{"$f":"'Data '!D37","v":"FAIQUR RIJAL HAMMAM"}]
[12,{"$f":"'Data '!D38","v":"FATESAR SARI PRASETYO"}]
[13,{"$f":"'Data '!D39","v":"FEBRI SULISTIYO"}]
[14,{"$f":"'Data '!D40","v":"FIONA NANDA FETRIAN"}]
[15,{"$f":"'Data '!D41","v":"GILANG SYAHRUL RAMADHAN"}]
[16,{"$f":"'Data '!D42","v":"IMAM AGUNG WAHYU PRATAMA"}]
[17,{"$f":"'Data '!D43","v":"JOHAN MAULANA"}]
[18,{"$f":"'Data '!D44","v":"JOKO SETIAWAN"}]
[19,{"$f":"'Data '!D45","v":"LISA OKTAVINASARI"}]
[20,{"$f":"'Data '!D46","v":"MARIA GILDA SIREGAR"}]
[21,{"$f":"'Data '!D47","v":"MOHAMMAD NURKHOLISH"}]
[22,{"$f":"'Data '!D48","v":"MUHAMAD FARIS ULIN NUHA"}]
[23,{"$f":"'Data '!D49","v":"MUHAMMAD MUSTOFA"}]
[24,{"$f":"'Data '!D50","v":"NANDA WINTYA PUTRI"}]
[25,{"$f":"'Data '!D51","v":"NI'MA NOVA NUR FADHILAH"}]
[26,{"$f":"'Data '!D52","v":"NITA ZUMROTUT TAQIYAH"}]
[27,{"$f":"'Data '!D53","v":"RACHMAT SAPUTRA ANDRIANSYAH"}]
[28,{"$f":"'Data '!D54","v":"RIZAL ANDRIYAN SAPUTRA"}]
[29,{"$f":"'Data '!D55","v":"SAIFUL ANNAS"}]
[30,{"$f":"'Data '!D56","v":"SELINA SEPTIANI"}]
[31,{"$f":"'Data '!D57","v":"SHALSABILA  SHINTA NIRMALA"}]
[32,{"$f":"'Data '!D58","v":"SITI CHOIRIATUS SA'ADAH"}]
[33,{"$f":"'Data '!D59","v":"SITI NURFAN AZIZAH"}]
[34,{"$f":"'Data '!D60","v":"SITI RAHAYU"}]
[35,{"$f":"'Data '!D61","v":"STEVIANA PUSPITA SARI"}]
[36,{"$f":"'Data '!D62","v":"TAN LINGGAR PRAMUDITA"}]
[37,{"$f":"'Data '!D63","v":"TAUFIK NUR AZIZ DANUARTA"}]
[38,{"$f":"'Data '!D64","v":"TIARA PUTRI AYUNINGTIAS"}]
[39,{"$f":"'Data '!D65","v":"TITANIA GAYATRI PRIANJANI"}]
[40,{"$f":"'Data '!D66","v":"ULFATUN NI'MAH"}]
[41,{"$f":"'Data '!D67","v":0}]
[42,{"$f":"'Data '!D68","v":0}]
[43,{"$f":"'Data '!D69","v":0}]
[44,{"$f":"'Data '!D70","v":0}]
[45,{"$f":"'Data '!D71","v":0}]
[46,{"$f":"'Data '!D72","v":0}]
[47,{"$f":"'Data '!D73","v":0}]
[48,{"$f":"'Data '!D74","v":0}]
[49,{"$f":"'Data '!D75","v":0}]
[50,{"$f":"'Data '!D76","v":0}]

{"sheet":"Disiplin","index":39,"n_rows":71,"n_cols":14,"rows_kept":71,"cut":false,"hidden":false,"merged":[[7,10,7,11],[7,12,7,13],[0,1,0,13],[1,1,1,13],[2,1,2,13],[3,1,4,13],[6,2,6,5],[6,8,6,9],[6,10,6,11],[7,7,7,9],[7,2,7,3],[18,0,20,0],[18,2,20,2],[18,3,20,3],[18,4,20,4],[18,5,20,5],[15,1,15,12],[16,1,16,12],[17,1,17,12],[18,6,20,6],[10,1,10,12],[11,1,11,12],[12,1,12,12],[14,1,14,12],[18,12,18,13],[18,7,20,7],[18,8,20,8],[18,9,20,9],[18,10,20,10],[18,11,20,11]]}
[null,{"$f":"UPPER('Data '!D10)","v":"PEMERINTAH KABUPATEN BLORA"}]
[null,{"$f":"UPPER('Data '!D6)","v":"DINAS PENDIDIKAN PEMUDA DAN OLAHRAGA"}]
[null,{"$f":"UPPER('Data '!D7)","v":"SMP NEGERI 6 BLORA"}]
[null,"INSTRUMENS PENILAIAN OBSERVASI SIKAP DISIPLIN"]
[]
[]
[null,"Mata Pelajaran :",{"$f":"Home!E16","v":"PJOK"},null,null,null,null,null,"Semester  :",null,{"$f":"'Data '!D14","v":"Ganjil"}]
[null,"Kelas :",{"$f":"Home!E18","v":"VII-A"},null,null,null,null,"Tahun Pelajaran :",null,null,{"$f":"'Data '!D13","v":"2014/2015"}]
[]
[null,"Aspek Pengamatan"]
[1,"Masuk kelas tepat waktu"]
[2,"Mengumpulkan tugas tepat waktu"]
[3,"Memakai seragam sesuai tata tertib"]
[4,"Mengerjakan tugas yang diberikan"]
[5,"Tertib dalam mengikuti pembelajaran"]
[6,"Mengikuti praktikum sesuai dengan langkah yang ditetapkan"]
[7,"Membawa buku tulis sesuai mata pelajaran"]
[8,"Membawa buku teks mata pelajaran"]
["No. ","Sikap","Aspek 1","Aspek 2","Aspek 3","Aspek 4","Aspek 5","Aspek 6","Aspek 7","Aspek 8",null,null,"SKALA NILAI"]
[null,null,null,null,null,null,null,null,null,null,null,null,"1=","Tidak pernah"]
[null,"Nama",null,null,null,null,null,null,null,null,null,null,"2=","Kadang-kadang"]
[1,{"$f":"'Data '!D27","v":"AHMAD ALEK BRIYANSAPUTRA"},null,null,null,null,null,null,null,null,null,null,"3=","Sering"]
[2,{"$f":"'Data '!D28","v":"AULIA AYU FATINA"},null,null,null,null,null,null,null,null,null,null,"4=","Selalu"]
[3,{"$f":"'Data '!D29","v":"BAGAS YULANDRA PUTRA"}]
[4,{"$f":"'Data '!D30","v":"CYNTIA AGUSTINA"}]
[5,{"$f":"'Data '!D31","v":"DAFFA KRISNA PRAMUDYA"}]
[6,{"$f":"'Data '!D32","v":"DANINDRA RAFIF IRAWAN"}]
[7,{"$f":"'Data '!D33","v":"DENI PRATAMA"}]
[8,{"$f":"'Data '!D34","v":"DIKA SUKMA AGUSTIN"}]
[9,{"$f":"'Data '!D35","v":"DIVA ADITYA"}]
[10,{"$f":"'Data '!D36","v":"EKO PRASTYO"}]
[11,{"$f":"'Data '!D37","v":"FAIQUR RIJAL HAMMAM"}]
[12,{"$f":"'Data '!D38","v":"FATESAR SARI PRASETYO"}]
[13,{"$f":"'Data '!D39","v":"FEBRI SULISTIYO"}]
[14,{"$f":"'Data '!D40","v":"FIONA NANDA FETRIAN"}]
[15,{"$f":"'Data '!D41","v":"GILANG SYAHRUL RAMADHAN"}]
[16,{"$f":"'Data '!D42","v":"IMAM AGUNG WAHYU PRATAMA"}]
[17,{"$f":"'Data '!D43","v":"JOHAN MAULANA"}]
[18,{"$f":"'Data '!D44","v":"JOKO SETIAWAN"}]
[19,{"$f":"'Data '!D45","v":"LISA OKTAVINASARI"}]
[20,{"$f":"'Data '!D46","v":"MARIA GILDA SIREGAR"}]
[21,{"$f":"'Data '!D47","v":"MOHAMMAD NURKHOLISH"}]
[22,{"$f":"'Data '!D48","v":"MUHAMAD FARIS ULIN NUHA"}]
[23,{"$f":"'Data '!D49","v":"MUHAMMAD MUSTOFA"}]
[24,{"$f":"'Data '!D50","v":"NANDA WINTYA PUTRI"}]
[25,{"$f":"'Data '!D51","v":"NI'MA NOVA NUR FADHILAH"}]
[26,{"$f":"'Data '!D52","v":"NITA ZUMROTUT TAQIYAH"}]
[27,{"$f":"'Data '!D53","v":"RACHMAT SAPUTRA ANDRIANSYAH"}]
[28,{"$f":"'Data '!D54","v":"RIZAL ANDRIYAN SAPUTRA"}]
[29,{"$f":"'Data '!D55","v":"SAIFUL ANNAS"}]
[30,{"$f":"'Data '!D56","v":"SELINA SEPTIANI"}]
[31,{"$f":"'Data '!D57","v":"SHALSABILA  SHINTA NIRMALA"}]
[32,{"$f":"'Data '!D58","v":"SITI CHOIRIATUS SA'ADAH"}]
[33,{"$f":"'Data '!D59","v":"SITI NURFAN AZIZAH"}]
[34,{"$f":"'Data '!D60","v":"SITI RAHAYU"}]
[35,{"$f":"'Data '!D61","v":"STEVIANA PUSPITA SARI"}]
[36,{"$f":"'Data '!D62","v":"TAN LINGGAR PRAMUDITA"}]
[37,{"$f":"'Data '!D63","v":"TAUFIK NUR AZIZ DANUARTA"}]
[38,{"$f":"'Data '!D64","v":"TIARA PUTRI AYUNINGTIAS"}]
[39,{"$f":"'Data '!D65","v":"TITANIA GAYATRI PRIANJANI"}]
[40,{"$f":"'Data '!D66","v":"ULFATUN NI'MAH"}]
[41,{"$f":"'Data '!D67","v":0}]
[42,{"$f":"'Data '!D68","v":0}]
[43,{"$f":"'Data '!D69","v":0}]
[44,{"$f":"'Data '!D70","v":0}]
[45,{"$f":"'Data '!D71","v":0}]
[46,{"$f":"'Data '!D72","v":0}]
[47,{"$f":"'Data '!D73","v":0}]
[48,{"$f":"'Data '!D74","v":0}]
[49,{"$f":"'Data '!D75","v":0}]
[50,{"$f":"'Data '!D76","v":0}]

{"sheet":"TgJwb","index":40,"n_rows":70,"n_cols":15,"rows_kept":70,"cut":false,"hidden":false,"merged":[[7,2,7,3],[7,10,7,11],[7,12,7,13],[0,1,0,13],[1,1,1,13],[2,1,2,13],[3,1,4,13],[6,2,6,5],[6,8,6,9],[6,10,6,11],[7,7,7,9],[17,0,19,0],[17,2,19,2],[17,3,19,3],[17,4,19,4],[17,5,19,5],[16,2,16,6],[16,9,16,13],[9,13,9,14],[17,13,19,13],[17,7,19,7],[17,8,19,8],[17,9,19,9],[17,10,19,10],[17,11,19,11],[17,12,19,12],[10,1,10,12],[11,1,11,12],[12,1,12,12],[14,1,14,12],[17,6,19,6]]}
[null,{"$f":"UPPER('Data '!D10)","v":"PEMERINTAH KABUPATEN BLORA"}]
[null,{"$f":"UPPER('Data '!D6)","v":"DINAS PENDIDIKAN PEMUDA DAN OLAHRAGA"}]
[null,{"$f":"UPPER('Data '!D7)","v":"SMP NEGERI 6 BLORA"}]
[null,"INSTRUMENS PENILAIAN OBSERVASI SIKAP TANGGUNGJAWAB"]
[]
[]
[null,"Mata Pelajaran :",{"$f":"Home!E16","v":"PJOK"},null,null,null,null,null,"Semester  :",null,{"$f":"'Data '!D14","v":"Ganjil"}]
[null,"Kelas :",{"$f":"Home!E18","v":"VII-A"},null,null,null,null,"Tahun Pelajaran :",null,null,{"$f":"'Data '!D13","v":"2014/2015"}]
[]
[null,"Aspek Pengamatan",null,null,null,null,null,null,null,null,null,null,null,"SKALA NILAI"]
[1,"Melaksanakan tugas individu dengan baik",null,null,null,null,null,null,null,null,null,null,null,"1=","Tidak pernah"]
[2,"Menerima resiko dari tindakan yang dilakukan",null,null,null,null,null,null,null,null,null,null,null,"2=","Kadang-kadang"]
[3,"Tidak menuduh orang lain tanpa bukti yang akurat",null,null,null,null,null,null,null,null,null,null,null,"3=","Sering"]
[4,"Mengembalikan barang yang dipinjam",null,null,null,null,null,null,null,null,null,null,null,"4=","Selalu"]
[5,"Meminta maaf atas kesalahan yang dilakukan"]
[]
[null,null,"OBSERVASI 1",null,null,null,null,null,null,"OBSERVASI 2"]
["No. ","Sikap","Aspek 1","Aspek 2","Aspek 3","Aspek 4","Aspek 5",null,null,"Aspek 1","Aspek 2","Aspek 3","Aspek 4","Aspek 5"]
[]
[null,"Nama"]
[1,{"$f":"'Data '!D27","v":"AHMAD ALEK BRIYANSAPUTRA"}]
[2,{"$f":"'Data '!D28","v":"AULIA AYU FATINA"}]
[3,{"$f":"'Data '!D29","v":"BAGAS YULANDRA PUTRA"}]
[4,{"$f":"'Data '!D30","v":"CYNTIA AGUSTINA"}]
[5,{"$f":"'Data '!D31","v":"DAFFA KRISNA PRAMUDYA"}]
[6,{"$f":"'Data '!D32","v":"DANINDRA RAFIF IRAWAN"}]
[7,{"$f":"'Data '!D33","v":"DENI PRATAMA"}]
[8,{"$f":"'Data '!D34","v":"DIKA SUKMA AGUSTIN"}]
[9,{"$f":"'Data '!D35","v":"DIVA ADITYA"}]
[10,{"$f":"'Data '!D36","v":"EKO PRASTYO"}]
[11,{"$f":"'Data '!D37","v":"FAIQUR RIJAL HAMMAM"}]
[12,{"$f":"'Data '!D38","v":"FATESAR SARI PRASETYO"}]
[13,{"$f":"'Data '!D39","v":"FEBRI SULISTIYO"}]
[14,{"$f":"'Data '!D40","v":"FIONA NANDA FETRIAN"}]
[15,{"$f":"'Data '!D41","v":"GILANG SYAHRUL RAMADHAN"}]
[16,{"$f":"'Data '!D42","v":"IMAM AGUNG WAHYU PRATAMA"}]
[17,{"$f":"'Data '!D43","v":"JOHAN MAULANA"}]
[18,{"$f":"'Data '!D44","v":"JOKO SETIAWAN"}]
[19,{"$f":"'Data '!D45","v":"LISA OKTAVINASARI"}]
[20,{"$f":"'Data '!D46","v":"MARIA GILDA SIREGAR"}]
[21,{"$f":"'Data '!D47","v":"MOHAMMAD NURKHOLISH"}]
[22,{"$f":"'Data '!D48","v":"MUHAMAD FARIS ULIN NUHA"}]
[23,{"$f":"'Data '!D49","v":"MUHAMMAD MUSTOFA"}]
[24,{"$f":"'Data '!D50","v":"NANDA WINTYA PUTRI"}]
[25,{"$f":"'Data '!D51","v":"NI'MA NOVA NUR FADHILAH"}]
[26,{"$f":"'Data '!D52","v":"NITA ZUMROTUT TAQIYAH"}]
[27,{"$f":"'Data '!D53","v":"RACHMAT SAPUTRA ANDRIANSYAH"}]
[28,{"$f":"'Data '!D54","v":"RIZAL ANDRIYAN SAPUTRA"}]
[29,{"$f":"'Data '!D55","v":"SAIFUL ANNAS"}]
[30,{"$f":"'Data '!D56","v":"SELINA SEPTIANI"}]
[31,{"$f":"'Data '!D57","v":"SHALSABILA  SHINTA NIRMALA"}]
[32,{"$f":"'Data '!D58","v":"SITI CHOIRIATUS SA'ADAH"}]
[33,{"$f":"'Data '!D59","v":"SITI NURFAN AZIZAH"}]
[34,{"$f":"'Data '!D60","v":"SITI RAHAYU"}]
[35,{"$f":"'Data '!D61","v":"STEVIANA PUSPITA SARI"}]
[36,{"$f":"'Data '!D62","v":"TAN LINGGAR PRAMUDITA"}]
[37,{"$f":"'Data '!D63","v":"TAUFIK NUR AZIZ DANUARTA"}]
[38,{"$f":"'Data '!D64","v":"TIARA PUTRI AYUNINGTIAS"}]
[39,{"$f":"'Data '!D65","v":"TITANIA GAYATRI PRIANJANI"}]
[40,{"$f":"'Data '!D66","v":"ULFATUN NI'MAH"}]
[41,{"$f":"'Data '!D67","v":0}]
[42,{"$f":"'Data '!D68","v":0}]
[43,{"$f":"'Data '!D69","v":0}]
[44,{"$f":"'Data '!D70","v":0}]
[45,{"$f":"'Data '!D71","v":0}]
[46,{"$f":"'Data '!D72","v":0}]
[47,{"$f":"'Data '!D73","v":0}]
[48,{"$f":"'Data '!D74","v":0}]
[49,{"$f":"'Data '!D75","v":0}]
[50,{"$f":"'Data '!D76","v":0}]

{"sheet":"Toleran","index":41,"n_rows":70,"n_cols":15,"rows_kept":70,"cut":false,"hidden":false,"merged":[[7,2,7,3],[7,10,7,11],[7,12,7,13],[0,1,0,13],[1,1,1,13],[2,1,2,13],[3,1,4,13],[6,2,6,5],[6,8,6,9],[6,10,6,11],[7,7,7,9],[17,0,19,0],[17,2,19,2],[17,3,19,3],[17,4,19,4],[17,5,19,5],[16,2,16,6],[16,9,16,13],[9,13,9,14],[17,10,19,10],[17,11,19,11],[17,12,19,12],[17,13,19,13],[14,1,14,12],[17,6,19,6],[17,7,19,7],[17,8,19,8],[17,9,19,9],[10,1,10,12],[11,1,11,12],[12,1,12,12],[13,1,13,12]]}
[null,{"$f":"UPPER('Data '!D10)","v":"PEMERINTAH KABUPATEN BLORA"}]
[null,{"$f":"UPPER('Data '!D6)","v":"DINAS PENDIDIKAN PEMUDA DAN OLAHRAGA"}]
[null,{"$f":"UPPER('Data '!D7)","v":"SMP NEGERI 6 BLORA"}]
[null,"INSTRUMENS PENILAIAN OBSERVASI SIKAP TOLERANSI"]
[]
[]
[null,"Mata Pelajaran :",{"$f":"Home!E16","v":"PJOK"},null,null,null,null,null,"Semester  :",null,{"$f":"'Data '!D14","v":"Ganjil"}]
[null,"Kelas :",{"$f":"Home!E18","v":"VII-A"},null,null,null,null,"Tahun Pelajaran :",null,null,{"$f":"'Data '!D13","v":"2014/2015"}]
[]
[null,"Aspek Pengamatan",null,null,null,null,null,null,null,null,null,null,null,"SKALA NILAI"]
[1,"Menghormati pendapat teman",null,null,null,null,null,null,null,null,null,null,null,"1=","Tidak pernah"]
[2,"Menghormati teman yang berbeda suku, agama, ras, budaya, dan gender",null,null,null,null,null,null,null,null,null,null,null,"2=","Kadang-kadang"]
[3,"Menerima kesepakatan meskipun berbeda dengan pendapatnya",null,null,null,null,null,null,null,null,null,null,null,"3=","Sering"]
[4,"Menerima kekurangan orang lain",null,null,null,null,null,null,null,null,null,null,null,"4=","Selalu"]
[5,"Mememaafkan kesalahan orang lain"]
[]
[null,null,"OBSERVASI 1",null,null,null,null,null,null,"OBSERVASI 2"]
["No. ","Sikap","Aspek 1","Aspek 2","Aspek 3","Aspek 4","Aspek 5",null,null,"Aspek 1","Aspek 2","Aspek 3","Aspek 4","Aspek 5"]
[]
[null,"Nama"]
[1,{"$f":"'Data '!D27","v":"AHMAD ALEK BRIYANSAPUTRA"}]
[2,{"$f":"'Data '!D28","v":"AULIA AYU FATINA"}]
[3,{"$f":"'Data '!D29","v":"BAGAS YULANDRA PUTRA"}]
[4,{"$f":"'Data '!D30","v":"CYNTIA AGUSTINA"}]
[5,{"$f":"'Data '!D31","v":"DAFFA KRISNA PRAMUDYA"}]
[6,{"$f":"'Data '!D32","v":"DANINDRA RAFIF IRAWAN"}]
[7,{"$f":"'Data '!D33","v":"DENI PRATAMA"}]
[8,{"$f":"'Data '!D34","v":"DIKA SUKMA AGUSTIN"}]
[9,{"$f":"'Data '!D35","v":"DIVA ADITYA"}]
[10,{"$f":"'Data '!D36","v":"EKO PRASTYO"}]
[11,{"$f":"'Data '!D37","v":"FAIQUR RIJAL HAMMAM"}]
[12,{"$f":"'Data '!D38","v":"FATESAR SARI PRASETYO"}]
[13,{"$f":"'Data '!D39","v":"FEBRI SULISTIYO"}]
[14,{"$f":"'Data '!D40","v":"FIONA NANDA FETRIAN"}]
[15,{"$f":"'Data '!D41","v":"GILANG SYAHRUL RAMADHAN"}]
[16,{"$f":"'Data '!D42","v":"IMAM AGUNG WAHYU PRATAMA"}]
[17,{"$f":"'Data '!D43","v":"JOHAN MAULANA"}]
[18,{"$f":"'Data '!D44","v":"JOKO SETIAWAN"}]
[19,{"$f":"'Data '!D45","v":"LISA OKTAVINASARI"}]
[20,{"$f":"'Data '!D46","v":"MARIA GILDA SIREGAR"}]
[21,{"$f":"'Data '!D47","v":"MOHAMMAD NURKHOLISH"}]
[22,{"$f":"'Data '!D48","v":"MUHAMAD FARIS ULIN NUHA"}]
[23,{"$f":"'Data '!D49","v":"MUHAMMAD MUSTOFA"}]
[24,{"$f":"'Data '!D50","v":"NANDA WINTYA PUTRI"}]
[25,{"$f":"'Data '!D51","v":"NI'MA NOVA NUR FADHILAH"}]
[26,{"$f":"'Data '!D52","v":"NITA ZUMROTUT TAQIYAH"}]
[27,{"$f":"'Data '!D53","v":"RACHMAT SAPUTRA ANDRIANSYAH"}]
[28,{"$f":"'Data '!D54","v":"RIZAL ANDRIYAN SAPUTRA"}]
[29,{"$f":"'Data '!D55","v":"SAIFUL ANNAS"}]
[30,{"$f":"'Data '!D56","v":"SELINA SEPTIANI"}]
[31,{"$f":"'Data '!D57","v":"SHALSABILA  SHINTA NIRMALA"}]
[32,{"$f":"'Data '!D58","v":"SITI CHOIRIATUS SA'ADAH"}]
[33,{"$f":"'Data '!D59","v":"SITI NURFAN AZIZAH"}]
[34,{"$f":"'Data '!D60","v":"SITI RAHAYU"}]
[35,{"$f":"'Data '!D61","v":"STEVIANA PUSPITA SARI"}]
[36,{"$f":"'Data '!D62","v":"TAN LINGGAR PRAMUDITA"}]
[37,{"$f":"'Data '!D63","v":"TAUFIK NUR AZIZ DANUARTA"}]
[38,{"$f":"'Data '!D64","v":"TIARA PUTRI AYUNINGTIAS"}]
[39,{"$f":"'Data '!D65","v":"TITANIA GAYATRI PRIANJANI"}]
[40,{"$f":"'Data '!D66","v":"ULFATUN NI'MAH"}]
[41,{"$f":"'Data '!D67","v":0}]
[42,{"$f":"'Data '!D68","v":0}]
[43,{"$f":"'Data '!D69","v":0}]
[44,{"$f":"'Data '!D70","v":0}]
[45,{"$f":"'Data '!D71","v":0}]
[46,{"$f":"'Data '!D72","v":0}]
[47,{"$f":"'Data '!D73","v":0}]
[48,{"$f":"'Data '!D74","v":0}]
[49,{"$f":"'Data '!D75","v":0}]
[50,{"$f":"'Data '!D76","v":0}]

{"sheet":"GR","index":42,"n_rows":69,"n_cols":15,"rows_kept":69,"cut":false,"hidden":false,"merged":[[3,1,4,13],[2,1,2,13],[15,8,15,11],[7,2,7,3],[7,10,7,11],[6,2,6,5],[6,8,6,9],[6,10,6,11],[16,0,18,0],[16,2,18,2],[16,3,18,3],[16,4,18,4],[16,5,18,5],[1,1,1,13],[0,1,0,13],[9,13,9,14],[7,7,7,9],[16,9,18,9],[16,10,18,10],[16,11,18,11],[13,1,13,11],[14,1,14,11],[16,6,18,6],[16,7,18,7],[16,8,18,8],[10,1,10,11],[11,1,11,11],[12,1,12,11],[15,2,15,5]]}
[null,{"$f":"UPPER('Data '!D10)","v":"PEMERINTAH KABUPATEN BLORA"}]
[null,{"$f":"UPPER('Data '!D6)","v":"DINAS PENDIDIKAN PEMUDA DAN OLAHRAGA"}]
[null,{"$f":"UPPER('Data '!D7)","v":"SMP NEGERI 6 BLORA"}]
[null,"INSTRUMENS PENILAIAN OBSERVASI SIKAP GOTONG ROYONG"]
[]
[]
[null,"Mata Pelajaran :",{"$f":"Home!E16","v":"PJOK"},null,null,null,null,null,"Semester  :",null,{"$f":"'Data '!D14","v":"Ganjil"}]
[null,"Kelas :",{"$f":"Home!E18","v":"VII-A"},null,null,null,null,"Tahun Pelajaran :",null,null,{"$f":"'Data '!D13","v":"2014/2015"}]
[]
[null,"Aspek Pengamatan",null,null,null,null,null,null,null,null,null,null,null,"SKALA NILAI"]
[1,"Aktif dalam kerja kelompok",null,null,null,null,null,null,null,null,null,null,null,"1=","Tidak pernah"]
[2,"Suka menolong teman/orang lain",null,null,null,null,null,null,null,null,null,null,null,"2=","Kadang-kadang"]
[3,"Kesediaan melakukan tugas sesuai kesepakatan",null,null,null,null,null,null,null,null,null,null,null,"3=","Sering"]
[4,"Rela berkorban untuk orang lain",null,null,null,null,null,null,null,null,null,null,null,"4=","Selalu"]
[]
[null,null,"OBSERVASI 1",null,null,null,null,null,"OBSERVASI 2"]
["No. ","Sikap","Aspek 1","Aspek 2","Aspek 3","Aspek 4",null,null,"Aspek 1","Aspek 2","Aspek 3","Aspek 4"]
[]
[null,"Nama"]
[1,{"$f":"'Data '!D27","v":"AHMAD ALEK BRIYANSAPUTRA"},null,null,null,null,null,null,null,null,null,{"$f":"IFERROR(AVERAGE(C20:G20),\"  \")","v":""}]
[2,{"$f":"'Data '!D28","v":"AULIA AYU FATINA"},null,null,null,null,null,null,null,null,null,""]
[3,{"$f":"'Data '!D29","v":"BAGAS YULANDRA PUTRA"},null,null,null,null,null,null,null,null,null,""]
[4,{"$f":"'Data '!D30","v":"CYNTIA AGUSTINA"},null,null,null,null,null,null,null,null,null,""]
[5,{"$f":"'Data '!D31","v":"DAFFA KRISNA PRAMUDYA"},null,null,null,null,null,null,null,null,null,""]
[6,{"$f":"'Data '!D32","v":"DANINDRA RAFIF IRAWAN"},null,null,null,null,null,null,null,null,null,""]
[7,{"$f":"'Data '!D33","v":"DENI PRATAMA"},null,null,null,null,null,null,null,null,null,""]
[8,{"$f":"'Data '!D34","v":"DIKA SUKMA AGUSTIN"},null,null,null,null,null,null,null,null,null,""]
[9,{"$f":"'Data '!D35","v":"DIVA ADITYA"},null,null,null,null,null,null,null,null,null,""]
[10,{"$f":"'Data '!D36","v":"EKO PRASTYO"},null,null,null,null,null,null,null,null,null,""]
[11,{"$f":"'Data '!D37","v":"FAIQUR RIJAL HAMMAM"},null,null,null,null,null,null,null,null,null,""]
[12,{"$f":"'Data '!D38","v":"FATESAR SARI PRASETYO"},null,null,null,null,null,null,null,null,null,""]
[13,{"$f":"'Data '!D39","v":"FEBRI SULISTIYO"},null,null,null,null,null,null,null,null,null,""]
[14,{"$f":"'Data '!D40","v":"FIONA NANDA FETRIAN"},null,null,null,null,null,null,null,null,null,""]
[15,{"$f":"'Data '!D41","v":"GILANG SYAHRUL RAMADHAN"},null,null,null,null,null,null,null,null,null,""]
[16,{"$f":"'Data '!D42","v":"IMAM AGUNG WAHYU PRATAMA"},null,null,null,null,null,null,null,null,null,""]
[17,{"$f":"'Data '!D43","v":"JOHAN MAULANA"},null,null,null,null,null,null,null,null,null,""]
[18,{"$f":"'Data '!D44","v":"JOKO SETIAWAN"},null,null,null,null,null,null,null,null,null,""]
[19,{"$f":"'Data '!D45","v":"LISA OKTAVINASARI"},null,null,null,null,null,null,null,null,null,""]
[20,{"$f":"'Data '!D46","v":"MARIA GILDA SIREGAR"},null,null,null,null,null,null,null,null,null,""]
[21,{"$f":"'Data '!D47","v":"MOHAMMAD NURKHOLISH"},null,null,null,null,null,null,null,null,null,""]
[22,{"$f":"'Data '!D48","v":"MUHAMAD FARIS ULIN NUHA"},null,null,null,null,null,null,null,null,null,""]
[23,{"$f":"'Data '!D49","v":"MUHAMMAD MUSTOFA"},null,null,null,null,null,null,null,null,null,""]
[24,{"$f":"'Data '!D50","v":"NANDA WINTYA PUTRI"},null,null,null,null,null,null,null,null,null,""]
[25,{"$f":"'Data '!D51","v":"NI'MA NOVA NUR FADHILAH"},null,null,null,null,null,null,null,null,null,""]
[26,{"$f":"'Data '!D52","v":"NITA ZUMROTUT TAQIYAH"},null,null,null,null,null,null,null,null,null,""]
[27,{"$f":"'Data '!D53","v":"RACHMAT SAPUTRA ANDRIANSYAH"},null,null,null,null,null,null,null,null,null,""]
[28,{"$f":"'Data '!D54","v":"RIZAL ANDRIYAN SAPUTRA"},null,null,null,null,null,null,null,null,null,""]
[29,{"$f":"'Data '!D55","v":"SAIFUL ANNAS"},null,null,null,null,null,null,null,null,null,""]
[30,{"$f":"'Data '!D56","v":"SELINA SEPTIANI"},null,null,null,null,null,null,null,null,null,""]
[31,{"$f":"'Data '!D57","v":"SHALSABILA  SHINTA NIRMALA"},null,null,null,null,null,null,null,null,null,""]
[32,{"$f":"'Data '!D58","v":"SITI CHOIRIATUS SA'ADAH"},null,null,null,null,null,null,null,null,null,""]
[33,{"$f":"'Data '!D59","v":"SITI NURFAN AZIZAH"},null,null,null,null,null,null,null,null,null,""]
[34,{"$f":"'Data '!D60","v":"SITI RAHAYU"},null,null,null,null,null,null,null,null,null,""]
[35,{"$f":"'Data '!D61","v":"STEVIANA PUSPITA SARI"},null,null,null,null,null,null,null,null,null,""]
[36,{"$f":"'Data '!D62","v":"TAN LINGGAR PRAMUDITA"},null,null,null,null,null,null,null,null,null,""]
[37,{"$f":"'Data '!D63","v":"TAUFIK NUR AZIZ DANUARTA"},null,null,null,null,null,null,null,null,null,""]
[38,{"$f":"'Data '!D64","v":"TIARA PUTRI AYUNINGTIAS"},null,null,null,null,null,null,null,null,null,""]
[39,{"$f":"'Data '!D65","v":"TITANIA GAYATRI PRIANJANI"},null,null,null,null,null,null,null,null,null,""]
[40,{"$f":"'Data '!D66","v":"ULFATUN NI'MAH"},null,null,null,null,null,null,null,null,null,""]
[41,{"$f":"'Data '!D67","v":0},null,null,null,null,null,null,null,null,null,""]
[42,{"$f":"'Data '!D68","v":0},null,null,null,null,null,null,null,null,null,""]
[43,{"$f":"'Data '!D69","v":0},null,null,null,null,null,null,null,null,null,""]
[44,{"$f":"'Data '!D70","v":0},null,null,null,null,null,null,null,null,null,""]
[45,{"$f":"'Data '!D71","v":0},null,null,null,null,null,null,null,null,null,""]
[46,{"$f":"'Data '!D72","v":0},null,null,null,null,null,null,null,null,null,{"$f":"IFERROR(AVERAGE(C65:G65),\"  \")","v":""}]
[47,{"$f":"'Data '!D73","v":0},null,null,null,null,null,null,null,null,null,""]
[48,{"$f":"'Data '!D74","v":0},null,null,null,null,null,null,null,null,null,""]
[49,{"$f":"'Data '!D75","v":0},null,null,null,null,null,null,null,null,null,""]
[50,{"$f":"'Data '!D76","v":0},null,null,null,null,null,null,null,null,null,""]

{"sheet":"Santun","index":43,"n_rows":70,"n_cols":15,"rows_kept":70,"cut":false,"hidden":false,"merged":[[7,2,7,3],[7,10,7,11],[7,12,7,13],[7,6,7,9],[0,1,0,13],[1,1,1,13],[2,1,2,13],[3,1,4,13],[6,2,6,5],[6,10,6,11],[6,6,6,9],[17,0,19,0],[17,2,19,2],[17,3,19,3],[17,4,19,4],[17,5,19,5],[16,2,16,6],[16,9,16,13],[10,13,10,14],[17,9,19,9],[17,10,19,10],[17,11,19,11],[17,12,19,12],[17,13,19,13],[13,1,13,12],[14,1,14,12],[17,6,19,6],[17,7,19,7],[17,8,19,8],[10,1,10,12],[11,1,11,12],[12,1,12,12]]}
[null,{"$f":"UPPER('Data '!D10)","v":"PEMERINTAH KABUPATEN BLORA"}]
[null,{"$f":"UPPER('Data '!D6)","v":"DINAS PENDIDIKAN PEMUDA DAN OLAHRAGA"}]
[null,{"$f":"UPPER('Data '!D7)","v":"SMP NEGERI 6 BLORA"}]
[null,"INSTRUMENS PENILAIAN OBSERVASI SIKAP SANTUN"]
[]
[]
[null,"Mata Pelajaran :",{"$f":"Home!E16","v":"PJOK"},null,null,null,"Semester  :",null,null,null,{"$f":"'Data '!D14","v":"Ganjil"}]
[null,"Kelas :",{"$f":"Home!E18","v":"VII-A"},null,null,null,"Tahun Pelajaran :",null,null,null,{"$f":"'Data '!D13","v":"2014/2015"}]
[]
[null,"Aspek Pengamatan"]
[1,"Menghormati orang yang lebih tua",null,null,null,null,null,null,null,null,null,null,null,"SKALA NILAI"]
[2,"Mengucapkan terima kasih setelah menerima bantuan orang lain",null,null,null,null,null,null,null,null,null,null,null,"1=","Tidak pernah"]
[3,"Menggunakan bahasa santun saat menyampaikan pendapat",null,null,null,null,null,null,null,null,null,null,null,"2=","Kadang-kadang"]
[4,"Menggunakan bahasa santun saat mengkritik pendapat teman",null,null,null,null,null,null,null,null,null,null,null,"3=","Sering"]
[5,"Bersikap 3S (salam, senyum, sapa) saat bertemu orang lain",null,null,null,null,null,null,null,null,null,null,null,"4=","Selalu"]
[]
[null,null,"OBSERVASI 1",null,null,null,null,null,null,"OBSERVASI 2"]
["No. ","Sikap","Aspek 1","Aspek 2","Aspek 3","Aspek 4","Aspek 5",null,null,"Aspek 1","Aspek 2","Aspek 3","Aspek 4","Aspek 5"]
[]
[null,"Nama"]
[1,{"$f":"'Data '!D27","v":"AHMAD ALEK BRIYANSAPUTRA"}]
[2,{"$f":"'Data '!D28","v":"AULIA AYU FATINA"}]
[3,{"$f":"'Data '!D29","v":"BAGAS YULANDRA PUTRA"}]
[4,{"$f":"'Data '!D30","v":"CYNTIA AGUSTINA"}]
[5,{"$f":"'Data '!D31","v":"DAFFA KRISNA PRAMUDYA"}]
[6,{"$f":"'Data '!D32","v":"DANINDRA RAFIF IRAWAN"}]
[7,{"$f":"'Data '!D33","v":"DENI PRATAMA"}]
[8,{"$f":"'Data '!D34","v":"DIKA SUKMA AGUSTIN"}]
[9,{"$f":"'Data '!D35","v":"DIVA ADITYA"}]
[10,{"$f":"'Data '!D36","v":"EKO PRASTYO"}]
[11,{"$f":"'Data '!D37","v":"FAIQUR RIJAL HAMMAM"}]
[12,{"$f":"'Data '!D38","v":"FATESAR SARI PRASETYO"}]
[13,{"$f":"'Data '!D39","v":"FEBRI SULISTIYO"}]
[14,{"$f":"'Data '!D40","v":"FIONA NANDA FETRIAN"}]
[15,{"$f":"'Data '!D41","v":"GILANG SYAHRUL RAMADHAN"}]
[16,{"$f":"'Data '!D42","v":"IMAM AGUNG WAHYU PRATAMA"}]
[17,{"$f":"'Data '!D43","v":"JOHAN MAULANA"}]
[18,{"$f":"'Data '!D44","v":"JOKO SETIAWAN"}]
[19,{"$f":"'Data '!D45","v":"LISA OKTAVINASARI"}]
[20,{"$f":"'Data '!D46","v":"MARIA GILDA SIREGAR"}]
[21,{"$f":"'Data '!D47","v":"MOHAMMAD NURKHOLISH"}]
[22,{"$f":"'Data '!D48","v":"MUHAMAD FARIS ULIN NUHA"}]
[23,{"$f":"'Data '!D49","v":"MUHAMMAD MUSTOFA"}]
[24,{"$f":"'Data '!D50","v":"NANDA WINTYA PUTRI"}]
[25,{"$f":"'Data '!D51","v":"NI'MA NOVA NUR FADHILAH"}]
[26,{"$f":"'Data '!D52","v":"NITA ZUMROTUT TAQIYAH"}]
[27,{"$f":"'Data '!D53","v":"RACHMAT SAPUTRA ANDRIANSYAH"}]
[28,{"$f":"'Data '!D54","v":"RIZAL ANDRIYAN SAPUTRA"}]
[29,{"$f":"'Data '!D55","v":"SAIFUL ANNAS"}]
[30,{"$f":"'Data '!D56","v":"SELINA SEPTIANI"}]
[31,{"$f":"'Data '!D57","v":"SHALSABILA  SHINTA NIRMALA"}]
[32,{"$f":"'Data '!D58","v":"SITI CHOIRIATUS SA'ADAH"}]
[33,{"$f":"'Data '!D59","v":"SITI NURFAN AZIZAH"}]
[34,{"$f":"'Data '!D60","v":"SITI RAHAYU"}]
[35,{"$f":"'Data '!D61","v":"STEVIANA PUSPITA SARI"}]
[36,{"$f":"'Data '!D62","v":"TAN LINGGAR PRAMUDITA"}]
[37,{"$f":"'Data '!D63","v":"TAUFIK NUR AZIZ DANUARTA"}]
[38,{"$f":"'Data '!D64","v":"TIARA PUTRI AYUNINGTIAS"}]
[39,{"$f":"'Data '!D65","v":"TITANIA GAYATRI PRIANJANI"}]
[40,{"$f":"'Data '!D66","v":"ULFATUN NI'MAH"}]
[41,{"$f":"'Data '!D67","v":0}]
[42,{"$f":"'Data '!D68","v":0}]
[43,{"$f":"'Data '!D69","v":0}]
[44,{"$f":"'Data '!D70","v":0}]
[45,{"$f":"'Data '!D71","v":0}]
[46,{"$f":"'Data '!D72","v":0}]
[47,{"$f":"'Data '!D73","v":0}]
[48,{"$f":"'Data '!D74","v":0}]
[49,{"$f":"'Data '!D75","v":0}]
[50,{"$f":"'Data '!D76","v":0}]

{"sheet":"PD","index":44,"n_rows":70,"n_cols":15,"rows_kept":70,"cut":false,"hidden":false,"merged":[[0,1,0,13],[1,1,1,13],[2,1,2,13],[3,1,4,13],[6,2,6,5],[6,8,6,9],[6,10,6,11],[10,1,10,12],[11,1,11,12],[12,1,12,12],[10,13,10,14],[7,2,7,3],[7,10,7,11],[7,12,7,13],[7,7,7,9],[17,0,19,0],[17,2,19,2],[17,3,19,3],[17,4,19,4],[17,5,19,5],[17,13,19,13],[16,2,16,6],[16,9,16,13],[13,1,13,12],[14,1,14,12],[17,6,19,6],[17,7,19,7],[17,8,19,8],[17,9,19,9],[17,10,19,10],[17,11,19,11],[17,12,19,12]]}
[null,{"$f":"UPPER('Data '!D10)","v":"PEMERINTAH KABUPATEN BLORA"}]
[null,{"$f":"UPPER('Data '!D6)","v":"DINAS PENDIDIKAN PEMUDA DAN OLAHRAGA"}]
[null,{"$f":"UPPER('Data '!D7)","v":"SMP NEGERI 6 BLORA"}]
[null,"INSTRUMENS PENILAIAN OBSERVASI SIKAP PERCAYA DIRI"]
[]
[]
[null,"Mata Pelajaran :",{"$f":"Home!E16","v":"PJOK"},null,null,null,null,null,"Semester  :",null,{"$f":"'Data '!D14","v":"Ganjil"}]
[null,"Kelas :",{"$f":"Home!E18","v":"VII-A"},null,null,null,null,"Tahun Pelajaran :",null,null,{"$f":"'Data '!D13","v":"2014/2015"}]
[]
[null,"Aspek Pengamatan"]
[1,"Berani presentasi di depan kelas",null,null,null,null,null,null,null,null,null,null,null,"SKALA NILAI"]
[2,"Berani berpendapat, bertanya, atau menjawab pertanyaan",null,null,null,null,null,null,null,null,null,null,null,"1=","Tidak pernah"]
[3,"Berpendapat atau melakukan kegiatan tanpa ragu-ragu",null,null,null,null,null,null,null,null,null,null,null,"2=","Kadang-kadang"]
[4,"Mampu membuat keputusan dengan cepat",null,null,null,null,null,null,null,null,null,null,null,"3=","Sering"]
[5,"Tidak mudah putus asa/pantang menyerah",null,null,null,null,null,null,null,null,null,null,null,"4=","Selalu"]
[]
[null,null,"OBSERVASI 1",null,null,null,null,null,null,"OBSERVASI 2"]
["No. ","Sikap","Aspek 1","Aspek 2","Aspek 3","Aspek 4","Aspek 5",null,null,"Aspek 1","Aspek 2","Aspek 3","Aspek 4","Aspek 5"]
[]
[null,"Nama"]
[1,{"$f":"'Data '!D27","v":"AHMAD ALEK BRIYANSAPUTRA"}]
[2,{"$f":"'Data '!D28","v":"AULIA AYU FATINA"}]
[3,{"$f":"'Data '!D29","v":"BAGAS YULANDRA PUTRA"}]
[4,{"$f":"'Data '!D30","v":"CYNTIA AGUSTINA"}]
[5,{"$f":"'Data '!D31","v":"DAFFA KRISNA PRAMUDYA"}]
[6,{"$f":"'Data '!D32","v":"DANINDRA RAFIF IRAWAN"}]
[7,{"$f":"'Data '!D33","v":"DENI PRATAMA"}]
[8,{"$f":"'Data '!D34","v":"DIKA SUKMA AGUSTIN"}]
[9,{"$f":"'Data '!D35","v":"DIVA ADITYA"}]
[10,{"$f":"'Data '!D36","v":"EKO PRASTYO"}]
[11,{"$f":"'Data '!D37","v":"FAIQUR RIJAL HAMMAM"}]
[12,{"$f":"'Data '!D38","v":"FATESAR SARI PRASETYO"}]
[13,{"$f":"'Data '!D39","v":"FEBRI SULISTIYO"}]
[14,{"$f":"'Data '!D40","v":"FIONA NANDA FETRIAN"}]
[15,{"$f":"'Data '!D41","v":"GILANG SYAHRUL RAMADHAN"}]
[16,{"$f":"'Data '!D42","v":"IMAM AGUNG WAHYU PRATAMA"}]
[17,{"$f":"'Data '!D43","v":"JOHAN MAULANA"}]
[18,{"$f":"'Data '!D44","v":"JOKO SETIAWAN"}]
[19,{"$f":"'Data '!D45","v":"LISA OKTAVINASARI"}]
[20,{"$f":"'Data '!D46","v":"MARIA GILDA SIREGAR"}]
[21,{"$f":"'Data '!D47","v":"MOHAMMAD NURKHOLISH"}]
[22,{"$f":"'Data '!D48","v":"MUHAMAD FARIS ULIN NUHA"}]
[23,{"$f":"'Data '!D49","v":"MUHAMMAD MUSTOFA"}]
[24,{"$f":"'Data '!D50","v":"NANDA WINTYA PUTRI"}]
[25,{"$f":"'Data '!D51","v":"NI'MA NOVA NUR FADHILAH"}]
[26,{"$f":"'Data '!D52","v":"NITA ZUMROTUT TAQIYAH"}]
[27,{"$f":"'Data '!D53","v":"RACHMAT SAPUTRA ANDRIANSYAH"}]
[28,{"$f":"'Data '!D54","v":"RIZAL ANDRIYAN SAPUTRA"}]
[29,{"$f":"'Data '!D55","v":"SAIFUL ANNAS"}]
[30,{"$f":"'Data '!D56","v":"SELINA SEPTIANI"}]
[31,{"$f":"'Data '!D57","v":"SHALSABILA  SHINTA NIRMALA"}]
[32,{"$f":"'Data '!D58","v":"SITI CHOIRIATUS SA'ADAH"}]
[33,{"$f":"'Data '!D59","v":"SITI NURFAN AZIZAH"}]
[34,{"$f":"'Data '!D60","v":"SITI RAHAYU"}]
[35,{"$f":"'Data '!D61","v":"STEVIANA PUSPITA SARI"}]
[36,{"$f":"'Data '!D62","v":"TAN LINGGAR PRAMUDITA"}]
[37,{"$f":"'Data '!D63","v":"TAUFIK NUR AZIZ DANUARTA"}]
[38,{"$f":"'Data '!D64","v":"TIARA PUTRI AYUNINGTIAS"}]
[39,{"$f":"'Data '!D65","v":"TITANIA GAYATRI PRIANJANI"}]
[40,{"$f":"'Data '!D66","v":"ULFATUN NI'MAH"}]
[41,{"$f":"'Data '!D67","v":0}]
[42,{"$f":"'Data '!D68","v":0}]
[43,{"$f":"'Data '!D69","v":0}]
[44,{"$f":"'Data '!D70","v":0}]
[45,{"$f":"'Data '!D71","v":0}]
[46,{"$f":"'Data '!D72","v":0}]
[47,{"$f":"'Data '!D73","v":0}]
[48,{"$f":"'Data '!D74","v":0}]
[49,{"$f":"'Data '!D75","v":0}]
[50,{"$f":"'Data '!D76","v":0}]

{"sheet":"Ins Antar Teman","index":45,"n_rows":46,"n_cols":10,"rows_kept":46,"cut":false,"hidden":false,"merged":[[0,1,0,9],[1,1,1,9],[2,1,2,9],[3,1,4,9],[6,6,6,7],[10,0,11,0],[14,1,14,5],[15,1,15,5],[16,1,16,5],[7,2,7,3],[10,1,11,5],[22,1,22,5],[6,2,6,4],[7,5,7,7],[10,6,10,9],[12,1,12,5],[13,1,13,5],[17,1,17,5],[18,1,18,5],[19,1,19,5],[20,1,20,5],[21,1,21,5],[34,1,34,5],[23,1,23,5],[24,1,24,5],[25,1,25,5],[26,1,26,5],[27,1,27,5],[28,1,28,5],[29,1,29,5],[30,1,30,5],[31,1,31,5],[32,1,32,5],[33,1,33,5],[35,1,35,5],[36,1,36,5],[37,1,37,5],[38,1,38,5],[39,1,39,5],[41,3,41,6],[42,4,42,6],[43,4,43,6],[44,4,44,6],[45,4,45,6]]}
[null,{"$f":"UPPER('Data '!D10)","v":"PEMERINTAH KABUPATEN BLORA"}]
[null,{"$f":"UPPER('Data '!D6)","v":"DINAS PENDIDIKAN PEMUDA DAN OLAHRAGA"}]
[null,{"$f":"UPPER('Data '!D7)","v":"SMP NEGERI 6 BLORA"}]
[null,"INSTRUMENS PENILAIAN PENILAIAN ANTAR TEMAN"]
[]
[]
[null,"Mata Pelajaran :",null,null,null,null,"Semester  :",null,{"$f":"'Data '!D14","v":"Ganjil"}]
[null,"Kelas :",{"$f":"Home!E18","v":"VII-A"},null,null,"Tahun Pelajaran :",null,null,{"$f":"'Data '!D13","v":"2014/2015"}]
[null,"Nama Siswa: ______________________________________"]
[]
["No. ","Instrumen Penilaian Antar Teman",null,null,null,null,"Skor"]
[null,null,null,null,null,null,1,2,3,4]
[1,"Memberi salam kepada guru setiap bertemu dengannya dan menjabat tangannya serta menghadapinya dengan wajah yang tersenyum."]
[2,"Bersikap hormat dan sopan santun kepada guru"]
[3,"Menyenangkan dan tidak menyakiti perasaan / hati orang/siswa lain."]
[4,"Bertanya kepada guru bila ada sesuatu yang belum dia mengerti dengan cara baik"]
[5,"Menghindari pertanyaan-pertanyaan yang tidak ada faedahnya, sekedar mengolok-olok atau yang dilatarbelakangi oleh niat yang buruk"]
[6,"Berpakaian rapi dan bersih"]
[7,"Menjaga kebersihan kelas dan lingkungan."]
[8,"Datang lebih awal (tidak terlambat)"]
[9,"Mengerjakan Pekerjaan Rumah (PR)"]
[10,"Mengerjakan soal latihan ke depan (papan tulis)"]
[11,"Membuang sampah pada tempatnya."]
[12,"Menolong orang lain yang sedang dalam kesulitan/kesusahan."]
[13,"Aktif bertanya di dalam proses pembelajaran."]
[14,"Berdo’a di awal dan akhir pembelajaran"]
[15,"Masuk tepat waktu"]
[16,"Mengumpulkan tugas tepat waktu"]
[17,"Memakai seragam sesuai tata tertib"]
[18,"Mengerjakan tugas yang diberikan"]
[19,"Tertib dalam mengikuti pembelajaran"]
[20,"Mengikuti praktikum sesuai dengan langkah yang ditetapkan"]
[21,"Membawa buku tulis sesuai mata pelajaran"]
[22,"Membawa buku teks mata pelajaran"]
[23]
[24]
[25]
[26]
[27]
[28]
[]
[null,null,null,"SKALA NILAI"]
[null,null,null,"1=","Tidak pernah"]
[null,null,null,"2=","Kadang-kadang"]
[null,null,null,"3=","Sering"]
[null,null,null,"4=","Selalu"]

{"sheet":"Ins Diri","index":46,"n_rows":46,"n_cols":10,"rows_kept":46,"cut":false,"hidden":false,"merged":[[45,4,45,6],[10,1,11,5],[38,1,38,5],[39,1,39,5],[41,3,41,6],[42,4,42,6],[43,4,43,6],[44,4,44,6],[32,1,32,5],[33,1,33,5],[34,1,34,5],[35,1,35,5],[36,1,36,5],[37,1,37,5],[31,1,31,5],[20,1,20,5],[21,1,21,5],[22,1,22,5],[23,1,23,5],[24,1,24,5],[25,1,25,5],[26,1,26,5],[27,1,27,5],[28,1,28,5],[29,1,29,5],[30,1,30,5],[19,1,19,5],[7,2,7,3],[7,5,7,7],[10,0,11,0],[12,1,12,5],[13,1,13,5],[14,1,14,5],[15,1,15,5],[16,1,16,5],[17,1,17,5],[18,1,18,5],[10,6,10,9],[0,1,0,9],[1,1,1,9],[2,1,2,9],[3,1,4,9],[6,2,6,4],[6,6,6,7]]}
[null,{"$f":"UPPER('Data '!D10)","v":"PEMERINTAH KABUPATEN BLORA"}]
[null,{"$f":"UPPER('Data '!D6)","v":"DINAS PENDIDIKAN PEMUDA DAN OLAHRAGA"}]
[null,{"$f":"UPPER('Data '!D7)","v":"SMP NEGERI 6 BLORA"}]
[null,"INSTRUMENS PENILAIAN PENILAIAN DIRI SENDIRI"]
[]
[]
[null,"Mata Pelajaran :",null,null,null,null,"Semester  :",null,{"$f":"'Data '!D14","v":"Ganjil"}]
[null,"Kelas :",{"$f":"Home!E18","v":"VII-A"},null,null,"Tahun Pelajaran :",null,null,{"$f":"'Data '!D13","v":"2014/2015"}]
[null,"Nama Siswa: ______________________________________"]
[]
["No. ","Instrumen Capaian Hasil Belajar Siswa",null,null,null,null,"Skor"]
[null,null,null,null,null,null,1,2,3,4]
[1,{"$f":"'N Diri-1'!D77","v":"Saya senang belajar materi himpunan"}]
[2,{"$f":"'N Diri-1'!D78","v":"Ketika belajar materi himpunan, saya selalu bertanya kepada guru"}]
[3,{"$f":"'N Diri-1'!D79","v":"Ketika belajar materi himpunan, saya mengerjakan latihan ke papan tulis"}]
[4,{"$f":"'N Diri-1'!D80","v":"Saya sudah mampu menyajikan himpunan dalam bentuk tabulasi (mendaftar anggotanya)"}]
[5,{"$f":"'N Diri-1'!D81","v":"Saya sudah mampu menyajikan himpunan dalam bentuk deskripsi (kata-kata)"}]
[6,{"$f":"'N Diri-1'!D82","v":"Saya sudah mampu menyajikan himpunan dalam bentuk notasi pembentuk himpunan"}]
[7,{"$f":"'N Diri-1'!D83","v":"Saya sudah mampu menuliskan himpunan semesta dari sebuah himpunan"}]
[8,{"$f":"'N Diri-1'!D84","v":"Saya sudah mampu menggambarkan diagram Venn dari himpunan"}]
[9,{"$f":"'N Diri-1'!D85","v":"Saya sudah mampu menentukan kardinalitas suatu himpunan"}]
[10,{"$f":"'N Diri-1'!D86","v":"Saya sudah mampu menentukan suatu himpunan apakah himpunan tersebut kosong atau tidak"}]
[11,{"$f":"'N Diri-1'!D87","v":"Saya sudah mampu menentukan himpunan bagian dari suatu himpunan"}]
[12,{"$f":"'N Diri-1'!D88","v":"Saya sudah mampu menentukan himpunan kuasa dari suatu himpunan"}]
[13,{"$f":"'N Diri-1'!D89","v":"Saya sudah mampu menentukan dua himpunan yang sama"}]
[14,{"$f":"'N Diri-1'!D90","v":"Saya sudah mampu menentukan irisan dua himpunan"}]
[15,{"$f":"'N Diri-1'!D91","v":"Saya sudah mampu menentukan gabungan dua himpunan"}]
[16,{"$f":"'N Diri-1'!D92","v":"Saya sudah mampu menentukan komplemen dari suatu himpunan"}]
[17,{"$f":"'N Diri-1'!D93","v":"Saya sudah mampu menentukan hasil selisih dari dua himpunan atau lebih"}]
[18,{"$f":"'N Diri-1'!D94","v":"Saya sudah mampu mnyelesaikan soal cerita berkaitan dengan konsep himpunan"}]
[19,{"$f":"'N Diri-1'!D95","v":0}]
[20,{"$f":"'N Diri-1'!D96","v":0}]
[21,{"$f":"'N Diri-1'!D97","v":0}]
[22,{"$f":"'N Diri-1'!D98","v":0}]
[23,{"$f":"'N Diri-1'!D99","v":0}]
[24,{"$f":"'N Diri-1'!D100","v":0}]
[25,{"$f":"'N Diri-1'!D101","v":0}]
[26,{"$f":"'N Diri-1'!D102","v":0}]
[27,{"$f":"'N Diri-1'!D103","v":0}]
[28,{"$f":"'N Diri-1'!D104","v":0}]
[]
[null,null,null,"SKALA NILAI"]
[null,null,null,"1=","Tidak pernah"]
[null,null,null,"2=","Kadang-kadang"]
[null,null,null,"3=","Sering"]
[null,null,null,"4=","Selalu"]

{"sheet":"Ins Jurnal","index":47,"n_rows":73,"n_cols":8,"rows_kept":73,"cut":false,"hidden":false,"merged":[[64,2,64,6],[0,1,0,7],[1,1,1,7],[2,1,2,7],[3,1,4,7],[11,0,12,0],[11,3,12,3],[11,5,12,5],[11,7,12,7]]}
[null,{"$f":"UPPER('Data '!D10)","v":"PEMERINTAH KABUPATEN BLORA"}]
[null,{"$f":"UPPER('Data '!D6)","v":"DINAS PENDIDIKAN PEMUDA DAN OLAHRAGA"}]
[null,{"$f":"UPPER('Data '!D7)","v":"SMP NEGERI 6 BLORA"}]
[null,"INSTRUMEN PENILAIAN JURNAL"]
[]
[]
[null,"Mata Pelajaran :",{"$f":"Home!E16","v":"PJOK"}]
[null,"Kelas :",{"$f":"Home!E18","v":"VII-A"},null,"Semester  :",null,{"$f":"'Data '!D14","v":"Ganjil"}]
[null,"Aspek :","Sikap/Jurnal",null,"Tahun Pelajaran :",null,{"$f":"'Data '!D13","v":"2014/2015"}]
[]
[]
["No. ","Catatan Peristiwa:","Tanggal","Nilai","Tanggal","Nilai","Tanggal","Nilai"]
[null,"Nama","Catatan Jurnal",null,"Catatan Jurnal",null,"Catatan Jurnal"]
[1,{"$f":"'Data '!D27","v":"AHMAD ALEK BRIYANSAPUTRA"}]
[2,{"$f":"'Data '!D28","v":"AULIA AYU FATINA"}]
[3,{"$f":"'Data '!D29","v":"BAGAS YULANDRA PUTRA"}]
[4,{"$f":"'Data '!D30","v":"CYNTIA AGUSTINA"}]
[5,{"$f":"'Data '!D31","v":"DAFFA KRISNA PRAMUDYA"}]
[6,{"$f":"'Data '!D32","v":"DANINDRA RAFIF IRAWAN"}]
[7,{"$f":"'Data '!D33","v":"DENI PRATAMA"}]
[8,{"$f":"'Data '!D34","v":"DIKA SUKMA AGUSTIN"}]
[9,{"$f":"'Data '!D35","v":"DIVA ADITYA"}]
[10,{"$f":"'Data '!D36","v":"EKO PRASTYO"}]
[11,{"$f":"'Data '!D37","v":"FAIQUR RIJAL HAMMAM"}]
[12,{"$f":"'Data '!D38","v":"FATESAR SARI PRASETYO"}]
[13,{"$f":"'Data '!D39","v":"FEBRI SULISTIYO"}]
[14,{"$f":"'Data '!D40","v":"FIONA NANDA FETRIAN"}]
[15,{"$f":"'Data '!D41","v":"GILANG SYAHRUL RAMADHAN"}]
[16,{"$f":"'Data '!D42","v":"IMAM AGUNG WAHYU PRATAMA"}]
[17,{"$f":"'Data '!D43","v":"JOHAN MAULANA"}]
[18,{"$f":"'Data '!D44","v":"JOKO SETIAWAN"}]
[19,{"$f":"'Data '!D45","v":"LISA OKTAVINASARI"}]
[20,{"$f":"'Data '!D46","v":"MARIA GILDA SIREGAR"}]
[21,{"$f":"'Data '!D47","v":"MOHAMMAD NURKHOLISH"}]
[22,{"$f":"'Data '!D48","v":"MUHAMAD FARIS ULIN NUHA"}]
[23,{"$f":"'Data '!D49","v":"MUHAMMAD MUSTOFA"}]
[24,{"$f":"'Data '!D50","v":"NANDA WINTYA PUTRI"}]
[25,{"$f":"'Data '!D51","v":"NI'MA NOVA NUR FADHILAH"}]
[26,{"$f":"'Data '!D52","v":"NITA ZUMROTUT TAQIYAH"}]
[27,{"$f":"'Data '!D53","v":"RACHMAT SAPUTRA ANDRIANSYAH"}]
[28,{"$f":"'Data '!D54","v":"RIZAL ANDRIYAN SAPUTRA"}]
[29,{"$f":"'Data '!D55","v":"SAIFUL ANNAS"}]
[30,{"$f":"'Data '!D56","v":"SELINA SEPTIANI"}]
[31,{"$f":"'Data '!D57","v":"SHALSABILA  SHINTA NIRMALA"}]
[32,{"$f":"'Data '!D58","v":"SITI CHOIRIATUS SA'ADAH"}]
[33,{"$f":"'Data '!D59","v":"SITI NURFAN AZIZAH"}]
[34,{"$f":"'Data '!D60","v":"SITI RAHAYU"}]
[35,{"$f":"'Data '!D61","v":"STEVIANA PUSPITA SARI"}]
[36,{"$f":"'Data '!D62","v":"TAN LINGGAR PRAMUDITA"}]
[37,{"$f":"'Data '!D63","v":"TAUFIK NUR AZIZ DANUARTA"}]
[38,{"$f":"'Data '!D64","v":"TIARA PUTRI AYUNINGTIAS"}]
[39,{"$f":"'Data '!D65","v":"TITANIA GAYATRI PRIANJANI"}]
[40,{"$f":"'Data '!D66","v":"ULFATUN NI'MAH"}]
[41,{"$f":"'Data '!D67","v":0}]
[42,{"$f":"'Data '!D68","v":0}]
[43,{"$f":"'Data '!D69","v":0}]
[44,{"$f":"'Data '!D70","v":0}]
[45,{"$f":"'Data '!D71","v":0}]
[46,{"$f":"'Data '!D72","v":0}]
[47,{"$f":"'Data '!D73","v":0}]
[48,{"$f":"'Data '!D74","v":0}]
[49,{"$f":"'Data '!D75","v":0}]
[50,{"$f":"'Data '!D76","v":0}]
[]
[null,null,"Skala penilaian sikap dibuat dengan rentang antara 1 s.d 4."]
[null,"Mengetahui:","1 =",null,"Tidak Pernah"]
[null,{"$f":"\"Ka. \"&'Data '!D7","v":"Ka. SMP Negeri 6 Blora"},"2 =",null,"Kadang-kadang",null,{"$f":"'Data '!D21","v":"Blora, 20 Desember 2014"}]
[null,null,"3 =",null,"Sering",null,"Guru Mata Pelajaran"]
[null,null,"4 =",null,"Selalu"]
[]
[null,{"$f":"'Data '!D15","v":"Suparno, S.Pd.,M.Hum"}]
[null,{"$f":"'Data '!D16","v":"NIP. 19620712 198403 1 012"},null,null,null,null,{"$f":"Home!E12","v":"Drs. Sarid Nugroho"}]
[null,null,null,null,null,null,{"$f":"Home!E14","v":"NIP. 19631223 198803 1 004"}]

{"sheet":"Cetak","index":48,"n_rows":38,"n_cols":6,"rows_kept":38,"cut":false,"hidden":false,"merged":[[0,0,2,7],[37,0,45,6],[3,5,16,7]]}
["CETAK (PRINT OUT DOKUMEN)"]
[]
[]
[null,null,null,null,null,"PETUNJUK UN-PROTECK\n- Klik Tab Menu REVIEW\n- Klik UnProtect Sheet\n- Masukkan Password\n- Enter (Klik OK)\n- Edit Sheet (seperlunya)\n- Silahkan Mencetak/lainnya\n- Klik Protect Sheet\n- Masukkan Paswword\n- Tekan Enter\n- Masukkan Password Kembali\n- Klik Oke\n"]
[]
[]
[]
[]
[]
[]
[]
[]
[]
[]
[]
[]
[]
[]
[]
[]
[]
[]
[]
[]
[]
[]
[]
[]
[]
[]
[]
[]
[]
[]
[]
[]
[]
["Aplikasi Daftar Nilai berikut, kami persembahkan bagi Guru-Guru Republik ini untuk membantu kerja-kerja dalam melaksanakan \npenilaian Kurikulum 2013.\nKritik dan saran sangat diperlukan bagi penyempurnaan aplikasi ini. Semoga Bermanfaat.\nTerima Kasih.\nPurnawanto, S.Pd, M.Si\nGuru Matematika SMPN 1 Tebing Tinggi Sumatera Utara"]